{"text_format":"1","workbook":"xlsx","n_sheets":19,"sheets":["Instructions","Preferences","Scores","Results","Itinerary Chart","Program Chart","Itinerary Details","Itinerary Xref Chart","Tables","Detail Informaton","itineraryCamps","ItineraryPrograms","Descriptions","Calculator","Itineraries","Programs","Camp Programs","Camp Elevations","UteParkPassAlternatives"],"not_rendered":{"charts":8,"images":4,"macros":1,"external_links":0,"defined_names":166,"comments":2,"pivot_tables":0},"unopened":[{"sheet":"Itinerary Chart","index":4,"reason":"not_a_worksheet"},{"sheet":"Program Chart","index":5,"reason":"not_a_worksheet"}],"bounds":{"document_bytes":16777216,"sheet_cells":100000,"rows_first":2000,"rows_last":500,"rows_between":2000,"halvings":0,"cell_chars":16384,"cell_head_chars":4096},"cells_cut":0,"cells_raw":0,"read":"whole","date_system":"1900"}

{"sheet":"Instructions","index":0,"n_rows":11,"n_cols":6,"rows_kept":11,"cut":false,"hidden":false,"merged":[[5,1,5,16],[0,2,0,15],[3,1,3,15]]}
[null,null,"Philmont 2024 Itineraries - 12 Day Treks"]
[]
[]
[null,"Questions or suggestions regarding this spreadsheet may be e-mailed to the author Sid Covington at sid_c@swbell.net"]
[]
[null,{"$f":"\"Updated \"&getlastsavedate()&\" - Revision \" & getSpreadsheetProperty(\"Revision\")","v":"Updated 2/11/2024 12:28PM - Revision 2024_2-1"}]
[null,"     Revision History:",null,null,null,"Note:  Use Ctrl-F1 to show/hide the Excel ribbon"]
[null,null,"2024_1-0","Original 2024 Update"]
[null,null,"2024_1-1","Correct Tables calculation (was off by 1)"]
[null,null,"2024_2-0","Correct Tables program number (only showed Archaeology)"]
[null,null,"2024_2-1","Correct Itinerary 35 to SS"]

{"sheet":"Preferences","index":1,"n_rows":36,"n_cols":7,"rows_kept":36,"cut":false,"hidden":false,"merged":[[29,0,30,2],[24,0,25,2],[26,0,26,2],[17,0,17,2],[10,0,10,2],[21,0,21,2],[19,0,20,2],[0,0,0,7],[3,4,5,7],[12,4,16,7],[9,6,9,7],[8,6,8,7],[7,6,7,7]]}
["Set Crew preferences below"]
[]
["Philmont is divided into four areas.  Is it important to you",null,null,null,"Altitude Factors:"]
["which area you go to?","n",{"$f":"IF(UPPER(B4)=\"Y\",\"\",IF(UPPER(B4)=\"N\",\"\",\"ERROR-Must be Y or N\"))","v":""},null,"Altitude factors may be included or excluded from the calculations.  There are three different factors in the calculation that relate to altitude."]
["If it is important, rank your preference in 1, 2, 3, 4 order with"]
["  1 being the most preferred, 4 being least."]
["    South Country",3,{"$f":"IF(B7<1,\"ERROR-Must be in 1-4 range\",IF(B7>4,\"ERROR-Must be in 1-4 range\",\"\"))","v":""},null,"   Factor:","Include?"]
["    Central Country",4,{"$f":"IF(B8<1,\"ERROR-Must be in 1-4 range\",IF(B8>4,\"ERROR-Must be in 1-4 range\",\"\"))","v":""},null,"     Highest camp elevation:","n",{"$f":"IF(UPPER(F8)=\"Y\",\"\",IF(UPPER(F8)=\"N\",\"\",\"ERROR-enter a 'y' or 'n'\"))","v":""}]
["    North Country",1,{"$f":"IF(B9<1,\"ERROR-Must be in 1-4 range\",IF(B9>4,\"ERROR-Must be in 1-4 range\",\"\"))","v":""},null,"     Trek camp elevation change:","n",{"$f":"IF(UPPER(F9)=\"Y\",\"\",IF(UPPER(F9)=\"N\",\"\",\"ERROR-enter a 'y' or 'n'\"))","v":""}]
["    Valle Vidal",2,{"$f":"IF(B10<1,\"ERROR-Must be in 1-4 range\",IF(B10>4,\"ERROR-Must be in 1-4 range\",\"\"))","v":""},null,"     Average daily change:","y",{"$f":"IF(UPPER(F10)=\"Y\",\"\",IF(UPPER(F10)=\"N\",\"\",\"ERROR-enter a 'y' or 'n'\"))","v":""}]
[{"$f":"IF(LOWER(areaImportant)=\"y\",(IF(validAreaRanking(),\"\",\"ERROR—rank preferences 1 to 4\")),\"\")","v":""}]
[]
["Rate the capability of your crew on a scale of 1 to 10 with",null,null,null,"How much more important are programs than the other factors such as distance, country, altitude, Tooth of Time, etc. in your selection of an itinerary?  Enter y if programs are more important, n if should be treated as lower priority than other factors."]
["1 indicating a young crew with little backpacking experience"]
["and 10 indicating an older crew with a lot of experience."]
[]
["    Capability",3]
[{"$f":"IF(B17>0,IF(B17<11,\"\",\"ERROR-must be less than 10\"),\"ERROR-must be greater than 0\")","v":""},null,null,null,"  Programs more important?","y"]
[]
["Many itineraries return to Base Camp via bus but some hike in (not necessarily over the Tooth of Time)."]
[null,null,null,null,"Include Itineraries with an Itinerary Rating of:"]
["Is it important to hike into Base Camp?",null,null,null,null,null,"Include?"]
[null,"n",null,null,"Challenging","C","y"]
[null,null,null,null,"Rugged","R","y"]
["Most itineraries depart Base Camp to the trailhead by bus.  There are some that hike out of Base Camp to the first camp.",null,null,null,"Strenuous","S","y"]
[null,null,null,null,"Super Strenuous","SS","y"]
["Is it important to hike out of Base Camp?"]
[null,"n"]
[]
["A key part of a Philmont Trek is climbing peaks.  Is it important to you to climb the following peaks?"]
[]
["Baldy Peak","y"]
["Mount Phillips","y"]
["Tooth of Time","y"]
["Trail Peak","n"]
["Others (Mountaineering)","n"]

{"sheet":"Scores","index":2,"n_rows":51,"n_cols":13,"rows_kept":51,"cut":false,"hidden":false,"merged":[]}
["Program:","Crewmember 1","Crewmember 2","Crewmember 3","Crewmember 4","Crewmember 5","Crewmember 6","Crewmember 7","Crewmember 8","Crewmember 9","Crewmember 10","Crewmember 11","Crewmember 12"]
[{"$f":"INDEX(program_table,ROW()-1)","v":"Archaeology"},15,15,15,15,15,15,15,15,15,15,2,0]
[{"$f":"INDEX(program_table,ROW()-1)","v":"Archery - 3 Dimensional"},20,20,20,20,20,20,20,19,18,17,16,15]
[{"$f":"INDEX(program_table,ROW()-1)","v":"Astronomy"},2,13,10,2,0,7,13,10,2,0,7,10]
[{"$f":"INDEX(program_table,ROW()-1)","v":"Atlatl (Dart-throwing)"},18,18,18,18,18,18,18,18,18,18,5,3]
[{"$f":"INDEX(program_table,ROW()-1)","v":"Baldy Mountain"},2,0,15,0,18,20,0,15,0,18,20,0]
[{"$f":"INDEX(program_table,ROW()-1)","v":"Blacksmithing"},2,20,0,14,6,10,20,0,14,6,10,9]
[{"$f":"INDEX(program_table,ROW()-1)","v":"Bouldering"},2,20,0,14,6,10,20,0,14,6,10,9]
[{"$f":"INDEX(program_table,ROW()-1)","v":"Burro Packing"},2,5,15,0,20,7,5,15,0,0,7,8]
[{"$f":"INDEX(program_table,ROW()-1)","v":"Campfire (evening)"},2,19,0,0,9,9,19,0,0,9,9,11]
[{"$f":"INDEX(program_table,ROW()-1)","v":"Cantina"},2,10,5,0,0,7,10,5,0,null,7,15]
[{"$f":"INDEX(program_table,ROW()-1)","v":"Challenge Events"},2,20,5,0,0,5,20,5,0,null,5,11]
[{"$f":"INDEX(program_table,ROW()-1)","v":"Chuckwagon Dinner"},2,11,null,13,null,4,10,null,15,0,null,18]
[{"$f":"INDEX(program_table,ROW()-1)","v":"Cowboy Action Shooting"},2,10,0,13,0,4,10,0,13,0,4,18]
[{"$f":"INDEX(program_table,ROW()-1)","v":"Demonstration Forest"},2,13,10,2,null,7,13,10,2,0,7,10]
[{"$f":"INDEX(program_table,ROW()-1)","v":"Fishing"},2,12,5,3,null,10,12,5,3,0,10,20]
[{"$f":"INDEX(program_table,ROW()-1)","v":"Fly Tying"},2,8,0,16,5,8,0,8,16,8,3,10]
[{"$f":"INDEX(program_table,ROW()-1)","v":"Fur Trapper Rendezvous"},2,1,1,17,6,4,1,1,17,6,4,11]
[{"$f":"INDEX(program_table,ROW()-1)","v":"Gold Mining & Panning"},2,10,6,15,10,5,10,0,null,1,20,18]
[{"$f":"INDEX(program_table,ROW()-1)","v":"High Ropes & Climbing Tower"},2,3,5,0,0,5,20,5,0,0,7,15]
[{"$f":"INDEX(program_table,ROW()-1)","v":"Historic Chase Ranch"},2,2,15,18,0,10,2,15,18,0,10,12]
[{"$f":"INDEX(program_table,ROW()-1)","v":"Homesteading"},2,19,0,6,0,12,19,0,6,0,12,0]
[{"$f":"INDEX(program_table,ROW()-1)","v":"Horse Rides"},15,2,0,12,0,12,2,10,8,0,20,5]
[{"$f":"INDEX(program_table,ROW()-1)","v":"Hunter Safety"},2,6,5,8,9,10,7,7,3,2,1,9]
[{"$f":"INDEX(program_table,ROW()-1)","v":"Inspiration Point Hike"},2,null,15,null,18,20,0,15,0,18,20]
[{"$f":"INDEX(program_table,ROW()-1)","v":"Jicarilla Apache Life"},2,16,10,15,0,20,16,10,15,0,20,10]
[{"$f":"INDEX(program_table,ROW()-1)","v":"Kit Carson/Rayado Rancho"},2,null,10,5,10,null,10,20,5,15,2,18]
[{"$f":"INDEX(program_table,ROW()-1)","v":"Laser Shot Shooting Range"},2,0,15,null,17,12,0,15,0,17,12,10]
[{"$f":"INDEX(program_table,ROW()-1)","v":"Lodge/Cabin Tours"},15,0,15,null,19,12,0,15,0,19,12,10]
[{"$f":"INDEX(program_table,ROW()-1)","v":"Low Impact Camping"},15,0,15,null,12,12,0,15,null,12,12,10]
[{"$f":"INDEX(program_table,ROW()-1)","v":"Mexican Dinner"},15,0,15,null,11,12,10,15,15,11,12,10]
[{"$f":"INDEX(program_table,ROW()-1)","v":"Mine Tour"},18,17,6,null,12,13,5,16,3,13,14,18]
[{"$f":"INDEX(program_table,ROW()-1)","v":"Mount Phillips"},10,0,5,null,16,9,0,5,0,16,null,0]
[{"$f":"INDEX(program_table,ROW()-1)","v":"Mountain Biking"},19,20,null,14,7,10,20,null,14,7,2,8]
[{"$f":"INDEX(program_table,ROW()-1)","v":"Mountaineering"},19,20,0,14,7,10,20,18,14,7,10,8]
[{"$f":"INDEX(program_table,ROW()-1)","v":"Muzzle Loading Rifle"},18,5,10,5,19,20,null,10,15,5,14,19]
[{"$f":"INDEX(program_table,ROW()-1)","v":"New Mexico Homestead"},20,5,16,20,20,1,15,15,null,18,20,20]
[{"$f":"INDEX(program_table,ROW()-1)","v":"Petroglyph Tour"},14,15,10,17,20,4,20,15,17,null,5,20]
[{"$f":"INDEX(program_table,ROW()-1)","v":"Post Civil War Encampment"},19,20,null,14,7,10,20,null,14,7,10,8]
[{"$f":"INDEX(program_table,ROW()-1)","v":"Railroading"},8,2,10,20,0,12,2,10,15,0,12,10]
[{"$f":"INDEX(program_table,ROW()-1)","v":"Rock Climbing & Rappelling"},10,5,5,7,4,12,5,5,7,4,12,15]
[{"$f":"INDEX(program_table,ROW()-1)","v":"Rocky Mountain Fur Co."},18,17,6,null,12,13,5,16,3,13,14,18]
[{"$f":"INDEX(program_table,ROW()-1)","v":"Search & Rescue/Wild. Medicine"},15,10,20,15,12,20,10,6,10,5," ",15]
[{"$f":"INDEX(program_table,ROW()-1)","v":"Shooting/Reloading - .30-06"},15,10,20,15,12,20,10,6,10,5," ",15]
[{"$f":"INDEX(program_table,ROW()-1)","v":"Shotgun Shooting/Reloading - 12 Gauge"},15,10,20,15,12,20,10,6,10,5," ",15]
[{"$f":"INDEX(program_table,ROW()-1)","v":"Spar Pole Climbing"},10,0,5,null,16,9,0,5,0,16,null,0]
[{"$f":"INDEX(program_table,ROW()-1)","v":"Tie Making & Crosscut Saws"},11,18,20,15,null,10,20,null,15,18,10,20]
[{"$f":"INDEX(program_table,ROW()-1)","v":"Tomahawk Throwing"},11,18,null,0,null,10,20,null,0,null,10,20]
[{"$f":"INDEX(program_table,ROW()-1)","v":"Tooth of Time"},20,14,16,20,20,null,15,15,12,18,20,20]
[{"$f":"INDEX(program_table,ROW()-1)","v":"Trail Peak"},11,5,null,null,null,10,20,null,null,0,10,20]
[{"$f":"INDEX(program_table,ROW()-1)","v":"Western Lore/Branding"},15,10," ",10,8,5,8," ",14,8,5,10]

{"sheet":"Results","index":3,"n_rows":55,"n_cols":16,"rows_kept":55,"cut":false,"hidden":false,"merged":[[16,4,16,5],[1,10,1,15],[0,0,0,15],[1,8,2,8],[1,9,2,9],[1,4,2,4],[1,5,2,5]]}
["Philmont Trek Itinerary Selection"]
[null,null,null,null,"Choice",null,null,null,"# X's","Pgm Index","Top Itinerary/Program Cross Reference"]
["Itinerary","Classification","Distance",{"$f":"IF(meanMedian=\"Mean\",\"Average\",meanMedian) & \" Score\"","v":"Median Score"},null,null,"Program","Value",null,null,"12-34","12-31","12-17","12-24","12-22","12-33"]
["12-34","Strenuous",90,12567.1,"#1",null,"Archery - 3 Dimensional",225,{"$f":"COUNTIF(K4:P4,\"X\")","v":4},2,{"$f":"IF($G4=0,\"\",IF(INDEX(itineraryPrograms,numericItinerary(K$3),$J4)=\"y\",\"X\",\"\"))","v":""},{"$f":"IF($G4=0,\"\",IF(INDEX(itineraryPrograms,numericItinerary(L$3),$J4)=\"y\",\"X\",\"\"))","v":"X"},{"$f":"IF($G4=0,\"\",IF(INDEX(itineraryPrograms,numericItinerary(M$3),$J4)=\"y\",\"X\",\"\"))","v":"X"},{"$f":"IF($G4=0,\"\",IF(INDEX(itineraryPrograms,numericItinerary(N$3),$J4)=\"y\",\"X\",\"\"))","v":""},{"$f":"IF($G4=0,\"\",IF(INDEX(itineraryPrograms,numericItinerary(O$3),$J4)=\"y\",\"X\",\"\"))","v":"X"},{"$f":"IF($G4=0,\"\",IF(INDEX(itineraryPrograms,numericItinerary(P$3),$J4)=\"y\",\"X\",\"\"))","v":"X"}]
["12-31","Super Strenuous",84,12097.8,"#2",null,"Tomahawk Throwing",190,3,47,{"$f":"IF($G5=0,\"\",IF(INDEX(itineraryPrograms,numericItinerary(K$3),$J5)=\"y\",\"X\",\"\"))","v":""},{"$f":"IF($G5=0,\"\",IF(INDEX(itineraryPrograms,numericItinerary(L$3),$J5)=\"y\",\"X\",\"\"))","v":""},{"$f":"IF($G5=0,\"\",IF(INDEX(itineraryPrograms,numericItinerary(M$3),$J5)=\"y\",\"X\",\"\"))","v":"X"},{"$f":"IF($G5=0,\"\",IF(INDEX(itineraryPrograms,numericItinerary(N$3),$J5)=\"y\",\"X\",\"\"))","v":"X"},{"$f":"IF($G5=0,\"\",IF(INDEX(itineraryPrograms,numericItinerary(O$3),$J5)=\"y\",\"X\",\"\"))","v":"X"},{"$f":"IF($G5=0,\"\",IF(INDEX(itineraryPrograms,numericItinerary(P$3),$J5)=\"y\",\"X\",\"\"))","v":""}]
["12-17","Rugged",65,11934.4,"#3",null,"Atlatl (Dart-throwing)",188,0,4,{"$f":"IF($G6=0,\"\",IF(INDEX(itineraryPrograms,numericItinerary(K$3),$J6)=\"y\",\"X\",\"\"))","v":""},{"$f":"IF($G6=0,\"\",IF(INDEX(itineraryPrograms,numericItinerary(L$3),$J6)=\"y\",\"X\",\"\"))","v":""},{"$f":"IF($G6=0,\"\",IF(INDEX(itineraryPrograms,numericItinerary(M$3),$J6)=\"y\",\"X\",\"\"))","v":""},{"$f":"IF($G6=0,\"\",IF(INDEX(itineraryPrograms,numericItinerary(N$3),$J6)=\"y\",\"X\",\"\"))","v":""},{"$f":"IF($G6=0,\"\",IF(INDEX(itineraryPrograms,numericItinerary(O$3),$J6)=\"y\",\"X\",\"\"))","v":""},{"$f":"IF($G6=0,\"\",IF(INDEX(itineraryPrograms,numericItinerary(P$3),$J6)=\"y\",\"X\",\"\"))","v":""}]
["12-24","Strenuous",70,11626.6,"#4",null,"New Mexico Homestead",170,2,36,{"$f":"IF($G7=0,\"\",IF(INDEX(itineraryPrograms,numericItinerary(K$3),$J7)=\"y\",\"X\",\"\"))","v":""},{"$f":"IF($G7=0,\"\",IF(INDEX(itineraryPrograms,numericItinerary(L$3),$J7)=\"y\",\"X\",\"\"))","v":""},{"$f":"IF($G7=0,\"\",IF(INDEX(itineraryPrograms,numericItinerary(M$3),$J7)=\"y\",\"X\",\"\"))","v":""},{"$f":"IF($G7=0,\"\",IF(INDEX(itineraryPrograms,numericItinerary(N$3),$J7)=\"y\",\"X\",\"\"))","v":"X"},{"$f":"IF($G7=0,\"\",IF(INDEX(itineraryPrograms,numericItinerary(O$3),$J7)=\"y\",\"X\",\"\"))","v":"X"},{"$f":"IF($G7=0,\"\",IF(INDEX(itineraryPrograms,numericItinerary(P$3),$J7)=\"y\",\"X\",\"\"))","v":""}]
["12-22","Strenuous",68,11513.6,"#5",null,"Spar Pole Climbing",157,1,45,{"$f":"IF($G8=0,\"\",IF(INDEX(itineraryPrograms,numericItinerary(K$3),$J8)=\"y\",\"X\",\"\"))","v":""},{"$f":"IF($G8=0,\"\",IF(INDEX(itineraryPrograms,numericItinerary(L$3),$J8)=\"y\",\"X\",\"\"))","v":""},{"$f":"IF($G8=0,\"\",IF(INDEX(itineraryPrograms,numericItinerary(M$3),$J8)=\"y\",\"X\",\"\"))","v":"X"},{"$f":"IF($G8=0,\"\",IF(INDEX(itineraryPrograms,numericItinerary(N$3),$J8)=\"y\",\"X\",\"\"))","v":""},{"$f":"IF($G8=0,\"\",IF(INDEX(itineraryPrograms,numericItinerary(O$3),$J8)=\"y\",\"X\",\"\"))","v":""},{"$f":"IF($G8=0,\"\",IF(INDEX(itineraryPrograms,numericItinerary(P$3),$J8)=\"y\",\"X\",\"\"))","v":""}]
["12-33","Super Strenuous",88,11295,"#6",null,"Petroglyph Tour",157,0,37,{"$f":"IF($G9=0,\"\",IF(INDEX(itineraryPrograms,numericItinerary(K$3),$J9)=\"y\",\"X\",\"\"))","v":""},{"$f":"IF($G9=0,\"\",IF(INDEX(itineraryPrograms,numericItinerary(L$3),$J9)=\"y\",\"X\",\"\"))","v":""},{"$f":"IF($G9=0,\"\",IF(INDEX(itineraryPrograms,numericItinerary(M$3),$J9)=\"y\",\"X\",\"\"))","v":""},{"$f":"IF($G9=0,\"\",IF(INDEX(itineraryPrograms,numericItinerary(N$3),$J9)=\"y\",\"X\",\"\"))","v":""},{"$f":"IF($G9=0,\"\",IF(INDEX(itineraryPrograms,numericItinerary(O$3),$J9)=\"y\",\"X\",\"\"))","v":""},{"$f":"IF($G9=0,\"\",IF(INDEX(itineraryPrograms,numericItinerary(P$3),$J9)=\"y\",\"X\",\"\"))","v":""}]
["12-27","Strenuous",76,11263.6,null,null,"Archaeology",152,0,1,{"$f":"IF($G10=0,\"\",IF(INDEX(itineraryPrograms,numericItinerary(K$3),$J10)=\"y\",\"X\",\"\"))","v":""},{"$f":"IF($G10=0,\"\",IF(INDEX(itineraryPrograms,numericItinerary(L$3),$J10)=\"y\",\"X\",\"\"))","v":""},{"$f":"IF($G10=0,\"\",IF(INDEX(itineraryPrograms,numericItinerary(M$3),$J10)=\"y\",\"X\",\"\"))","v":""},{"$f":"IF($G10=0,\"\",IF(INDEX(itineraryPrograms,numericItinerary(N$3),$J10)=\"y\",\"X\",\"\"))","v":""},{"$f":"IF($G10=0,\"\",IF(INDEX(itineraryPrograms,numericItinerary(O$3),$J10)=\"y\",\"X\",\"\"))","v":""},{"$f":"IF($G10=0,\"\",IF(INDEX(itineraryPrograms,numericItinerary(P$3),$J10)=\"y\",\"X\",\"\"))","v":""}]
["12-9","Challenging",59,11185.8,null,null,"Mountaineering",147,4,34,{"$f":"IF($G11=0,\"\",IF(INDEX(itineraryPrograms,numericItinerary(K$3),$J11)=\"y\",\"X\",\"\"))","v":""},{"$f":"IF($G11=0,\"\",IF(INDEX(itineraryPrograms,numericItinerary(L$3),$J11)=\"y\",\"X\",\"\"))","v":"X"},{"$f":"IF($G11=0,\"\",IF(INDEX(itineraryPrograms,numericItinerary(M$3),$J11)=\"y\",\"X\",\"\"))","v":"X"},{"$f":"IF($G11=0,\"\",IF(INDEX(itineraryPrograms,numericItinerary(N$3),$J11)=\"y\",\"X\",\"\"))","v":""},{"$f":"IF($G11=0,\"\",IF(INDEX(itineraryPrograms,numericItinerary(O$3),$J11)=\"y\",\"X\",\"\"))","v":"X"},{"$f":"IF($G11=0,\"\",IF(INDEX(itineraryPrograms,numericItinerary(P$3),$J11)=\"y\",\"X\",\"\"))","v":"X"}]
["12-32","Super Strenuous",87,11176,null,null,"Muzzle Loading Rifle",140,2,35,{"$f":"IF($G12=0,\"\",IF(INDEX(itineraryPrograms,numericItinerary(K$3),$J12)=\"y\",\"X\",\"\"))","v":""},{"$f":"IF($G12=0,\"\",IF(INDEX(itineraryPrograms,numericItinerary(L$3),$J12)=\"y\",\"X\",\"\"))","v":"X"},{"$f":"IF($G12=0,\"\",IF(INDEX(itineraryPrograms,numericItinerary(M$3),$J12)=\"y\",\"X\",\"\"))","v":""},{"$f":"IF($G12=0,\"\",IF(INDEX(itineraryPrograms,numericItinerary(N$3),$J12)=\"y\",\"X\",\"\"))","v":"X"},{"$f":"IF($G12=0,\"\",IF(INDEX(itineraryPrograms,numericItinerary(O$3),$J12)=\"y\",\"X\",\"\"))","v":""},{"$f":"IF($G12=0,\"\",IF(INDEX(itineraryPrograms,numericItinerary(P$3),$J12)=\"y\",\"X\",\"\"))","v":""}]
["12-19","Strenuous",66,11116.6,null,null,"Shooting/Reloading - .30-06",138,4,43,{"$f":"IF($G13=0,\"\",IF(INDEX(itineraryPrograms,numericItinerary(K$3),$J13)=\"y\",\"X\",\"\"))","v":""},{"$f":"IF($G13=0,\"\",IF(INDEX(itineraryPrograms,numericItinerary(L$3),$J13)=\"y\",\"X\",\"\"))","v":"X"},{"$f":"IF($G13=0,\"\",IF(INDEX(itineraryPrograms,numericItinerary(M$3),$J13)=\"y\",\"X\",\"\"))","v":"X"},{"$f":"IF($G13=0,\"\",IF(INDEX(itineraryPrograms,numericItinerary(N$3),$J13)=\"y\",\"X\",\"\"))","v":""},{"$f":"IF($G13=0,\"\",IF(INDEX(itineraryPrograms,numericItinerary(O$3),$J13)=\"y\",\"X\",\"\"))","v":"X"},{"$f":"IF($G13=0,\"\",IF(INDEX(itineraryPrograms,numericItinerary(P$3),$J13)=\"y\",\"X\",\"\"))","v":"X"}]
["12-8","Challenging",59,11099.3,null,null,"Rocky Mountain Fur Co.",138,null,41]
["12-7","Challenging",59,11082.8,null,null,"Search & Rescue/Wild. Medicine",138,null,42]
["12-16","Rugged",65,11020.7,null,null,"Mine Tour",135,4,31,{"$f":"IF($G16=0,\"\",IF(INDEX(itineraryPrograms,numericItinerary(K$3),$J16)=\"y\",\"X\",\"\"))","v":"X"},{"$f":"IF($G16=0,\"\",IF(INDEX(itineraryPrograms,numericItinerary(L$3),$J16)=\"y\",\"X\",\"\"))","v":""},{"$f":"IF($G16=0,\"\",IF(INDEX(itineraryPrograms,numericItinerary(M$3),$J16)=\"y\",\"X\",\"\"))","v":"X"},{"$f":"IF($G16=0,\"\",IF(INDEX(itineraryPrograms,numericItinerary(N$3),$J16)=\"y\",\"X\",\"\"))","v":""},{"$f":"IF($G16=0,\"\",IF(INDEX(itineraryPrograms,numericItinerary(O$3),$J16)=\"y\",\"X\",\"\"))","v":"X"},{"$f":"IF($G16=0,\"\",IF(INDEX(itineraryPrograms,numericItinerary(P$3),$J16)=\"y\",\"X\",\"\"))","v":"X"}]
["12-30","Super Strenuous",84,11018.8,{"$f":"meanMedian & \" Score Selected\"","v":"Median Score Selected"},null,"Jicarilla Apache Life",134,3,25,{"$f":"IF($G17=0,\"\",IF(INDEX(itineraryPrograms,numericItinerary(K$3),$J17)=\"y\",\"X\",\"\"))","v":""},{"$f":"IF($G17=0,\"\",IF(INDEX(itineraryPrograms,numericItinerary(L$3),$J17)=\"y\",\"X\",\"\"))","v":""},{"$f":"IF($G17=0,\"\",IF(INDEX(itineraryPrograms,numericItinerary(M$3),$J17)=\"y\",\"X\",\"\"))","v":"X"},{"$f":"IF($G17=0,\"\",IF(INDEX(itineraryPrograms,numericItinerary(N$3),$J17)=\"y\",\"X\",\"\"))","v":"X"},{"$f":"IF($G17=0,\"\",IF(INDEX(itineraryPrograms,numericItinerary(O$3),$J17)=\"y\",\"X\",\"\"))","v":"X"},{"$f":"IF($G17=0,\"\",IF(INDEX(itineraryPrograms,numericItinerary(P$3),$J17)=\"y\",\"X\",\"\"))","v":""}]
["12-5","Challenging",56,10923.3,null,null,"Post Civil War Encampment",129,1,38,{"$f":"IF($G18=0,\"\",IF(INDEX(itineraryPrograms,numericItinerary(K$3),$J18)=\"y\",\"X\",\"\"))","v":""},{"$f":"IF($G18=0,\"\",IF(INDEX(itineraryPrograms,numericItinerary(L$3),$J18)=\"y\",\"X\",\"\"))","v":""},{"$f":"IF($G18=0,\"\",IF(INDEX(itineraryPrograms,numericItinerary(M$3),$J18)=\"y\",\"X\",\"\"))","v":""},{"$f":"IF($G18=0,\"\",IF(INDEX(itineraryPrograms,numericItinerary(N$3),$J18)=\"y\",\"X\",\"\"))","v":"X"},{"$f":"IF($G18=0,\"\",IF(INDEX(itineraryPrograms,numericItinerary(O$3),$J18)=\"y\",\"X\",\"\"))","v":""},{"$f":"IF($G18=0,\"\",IF(INDEX(itineraryPrograms,numericItinerary(P$3),$J18)=\"y\",\"X\",\"\"))","v":""}]
["12-29","Super Strenuous",83,10917.5,null,null,"Mexican Dinner",126,1,30,{"$f":"IF($G19=0,\"\",IF(INDEX(itineraryPrograms,numericItinerary(K$3),$J19)=\"y\",\"X\",\"\"))","v":""},{"$f":"IF($G19=0,\"\",IF(INDEX(itineraryPrograms,numericItinerary(L$3),$J19)=\"y\",\"X\",\"\"))","v":""},{"$f":"IF($G19=0,\"\",IF(INDEX(itineraryPrograms,numericItinerary(M$3),$J19)=\"y\",\"X\",\"\"))","v":""},{"$f":"IF($G19=0,\"\",IF(INDEX(itineraryPrograms,numericItinerary(N$3),$J19)=\"y\",\"X\",\"\"))","v":""},{"$f":"IF($G19=0,\"\",IF(INDEX(itineraryPrograms,numericItinerary(O$3),$J19)=\"y\",\"X\",\"\"))","v":"X"},{"$f":"IF($G19=0,\"\",IF(INDEX(itineraryPrograms,numericItinerary(P$3),$J19)=\"y\",\"X\",\"\"))","v":""}]
["12-26","Strenuous",75,10909.3,null,null,"Mountain Biking",121,0,33,{"$f":"IF($G20=0,\"\",IF(INDEX(itineraryPrograms,numericItinerary(K$3),$J20)=\"y\",\"X\",\"\"))","v":""},{"$f":"IF($G20=0,\"\",IF(INDEX(itineraryPrograms,numericItinerary(L$3),$J20)=\"y\",\"X\",\"\"))","v":""},{"$f":"IF($G20=0,\"\",IF(INDEX(itineraryPrograms,numericItinerary(M$3),$J20)=\"y\",\"X\",\"\"))","v":""},{"$f":"IF($G20=0,\"\",IF(INDEX(itineraryPrograms,numericItinerary(N$3),$J20)=\"y\",\"X\",\"\"))","v":""},{"$f":"IF($G20=0,\"\",IF(INDEX(itineraryPrograms,numericItinerary(O$3),$J20)=\"y\",\"X\",\"\"))","v":""},{"$f":"IF($G20=0,\"\",IF(INDEX(itineraryPrograms,numericItinerary(P$3),$J20)=\"y\",\"X\",\"\"))","v":""}]
["12-6","Challenging",56,10860,null,null,"Lodge/Cabin Tours",117,4,28,{"$f":"IF($G21=0,\"\",IF(INDEX(itineraryPrograms,numericItinerary(K$3),$J21)=\"y\",\"X\",\"\"))","v":"X"},{"$f":"IF($G21=0,\"\",IF(INDEX(itineraryPrograms,numericItinerary(L$3),$J21)=\"y\",\"X\",\"\"))","v":""},{"$f":"IF($G21=0,\"\",IF(INDEX(itineraryPrograms,numericItinerary(M$3),$J21)=\"y\",\"X\",\"\"))","v":"X"},{"$f":"IF($G21=0,\"\",IF(INDEX(itineraryPrograms,numericItinerary(N$3),$J21)=\"y\",\"X\",\"\"))","v":""},{"$f":"IF($G21=0,\"\",IF(INDEX(itineraryPrograms,numericItinerary(O$3),$J21)=\"y\",\"X\",\"\"))","v":"X"},{"$f":"IF($G21=0,\"\",IF(INDEX(itineraryPrograms,numericItinerary(P$3),$J21)=\"y\",\"X\",\"\"))","v":"X"}]
["12-14","Rugged",63,10858.9,null,null,"Bouldering",111,0,7,{"$f":"IF($G22=0,\"\",IF(INDEX(itineraryPrograms,numericItinerary(K$3),$J22)=\"y\",\"X\",\"\"))","v":""},{"$f":"IF($G22=0,\"\",IF(INDEX(itineraryPrograms,numericItinerary(L$3),$J22)=\"y\",\"X\",\"\"))","v":""},{"$f":"IF($G22=0,\"\",IF(INDEX(itineraryPrograms,numericItinerary(M$3),$J22)=\"y\",\"X\",\"\"))","v":""},{"$f":"IF($G22=0,\"\",IF(INDEX(itineraryPrograms,numericItinerary(N$3),$J22)=\"y\",\"X\",\"\"))","v":""},{"$f":"IF($G22=0,\"\",IF(INDEX(itineraryPrograms,numericItinerary(O$3),$J22)=\"y\",\"X\",\"\"))","v":""},{"$f":"IF($G22=0,\"\",IF(INDEX(itineraryPrograms,numericItinerary(P$3),$J22)=\"y\",\"X\",\"\"))","v":""}]
["12-28","Super Strenuous",80,10844,null,null,"Blacksmithing",111,5,6,{"$f":"IF($G23=0,\"\",IF(INDEX(itineraryPrograms,numericItinerary(K$3),$J23)=\"y\",\"X\",\"\"))","v":"X"},{"$f":"IF($G23=0,\"\",IF(INDEX(itineraryPrograms,numericItinerary(L$3),$J23)=\"y\",\"X\",\"\"))","v":""},{"$f":"IF($G23=0,\"\",IF(INDEX(itineraryPrograms,numericItinerary(M$3),$J23)=\"y\",\"X\",\"\"))","v":"X"},{"$f":"IF($G23=0,\"\",IF(INDEX(itineraryPrograms,numericItinerary(N$3),$J23)=\"y\",\"X\",\"\"))","v":"X"},{"$f":"IF($G23=0,\"\",IF(INDEX(itineraryPrograms,numericItinerary(O$3),$J23)=\"y\",\"X\",\"\"))","v":"X"},{"$f":"IF($G23=0,\"\",IF(INDEX(itineraryPrograms,numericItinerary(P$3),$J23)=\"y\",\"X\",\"\"))","v":"X"}]
["12-4","Challenging",55,10831,null,null,"Inspiration Point Hike",108,2,24,{"$f":"IF($G24=0,\"\",IF(INDEX(itineraryPrograms,numericItinerary(K$3),$J24)=\"y\",\"X\",\"\"))","v":""},{"$f":"IF($G24=0,\"\",IF(INDEX(itineraryPrograms,numericItinerary(L$3),$J24)=\"y\",\"X\",\"\"))","v":""},{"$f":"IF($G24=0,\"\",IF(INDEX(itineraryPrograms,numericItinerary(M$3),$J24)=\"y\",\"X\",\"\"))","v":"X"},{"$f":"IF($G24=0,\"\",IF(INDEX(itineraryPrograms,numericItinerary(N$3),$J24)=\"y\",\"X\",\"\"))","v":"X"},{"$f":"IF($G24=0,\"\",IF(INDEX(itineraryPrograms,numericItinerary(O$3),$J24)=\"y\",\"X\",\"\"))","v":""},{"$f":"IF($G24=0,\"\",IF(INDEX(itineraryPrograms,numericItinerary(P$3),$J24)=\"y\",\"X\",\"\"))","v":""}]
["12-15","Rugged",64,10830.4,null,null,"Baldy Mountain",108,3,5,{"$f":"IF($G25=0,\"\",IF(INDEX(itineraryPrograms,numericItinerary(K$3),$J25)=\"y\",\"X\",\"\"))","v":"X"},{"$f":"IF($G25=0,\"\",IF(INDEX(itineraryPrograms,numericItinerary(L$3),$J25)=\"y\",\"X\",\"\"))","v":"X"},{"$f":"IF($G25=0,\"\",IF(INDEX(itineraryPrograms,numericItinerary(M$3),$J25)=\"y\",\"X\",\"\"))","v":""},{"$f":"IF($G25=0,\"\",IF(INDEX(itineraryPrograms,numericItinerary(N$3),$J25)=\"y\",\"X\",\"\"))","v":""},{"$f":"IF($G25=0,\"\",IF(INDEX(itineraryPrograms,numericItinerary(O$3),$J25)=\"y\",\"X\",\"\"))","v":""},{"$f":"IF($G25=0,\"\",IF(INDEX(itineraryPrograms,numericItinerary(P$3),$J25)=\"y\",\"X\",\"\"))","v":"X"}]
["12-25","Strenuous",75,10715.3,null,null,"Historic Chase Ranch",104,0,20,{"$f":"IF($G26=0,\"\",IF(INDEX(itineraryPrograms,numericItinerary(K$3),$J26)=\"y\",\"X\",\"\"))","v":""},{"$f":"IF($G26=0,\"\",IF(INDEX(itineraryPrograms,numericItinerary(L$3),$J26)=\"y\",\"X\",\"\"))","v":""},{"$f":"IF($G26=0,\"\",IF(INDEX(itineraryPrograms,numericItinerary(M$3),$J26)=\"y\",\"X\",\"\"))","v":""},{"$f":"IF($G26=0,\"\",IF(INDEX(itineraryPrograms,numericItinerary(N$3),$J26)=\"y\",\"X\",\"\"))","v":""},{"$f":"IF($G26=0,\"\",IF(INDEX(itineraryPrograms,numericItinerary(O$3),$J26)=\"y\",\"X\",\"\"))","v":""},{"$f":"IF($G26=0,\"\",IF(INDEX(itineraryPrograms,numericItinerary(P$3),$J26)=\"y\",\"X\",\"\"))","v":""}]
["12-13","Rugged",63,10681.4,null,null,"Low Impact Camping",103,2,29,{"$f":"IF($G27=0,\"\",IF(INDEX(itineraryPrograms,numericItinerary(K$3),$J27)=\"y\",\"X\",\"\"))","v":"X"},{"$f":"IF($G27=0,\"\",IF(INDEX(itineraryPrograms,numericItinerary(L$3),$J27)=\"y\",\"X\",\"\"))","v":""},{"$f":"IF($G27=0,\"\",IF(INDEX(itineraryPrograms,numericItinerary(M$3),$J27)=\"y\",\"X\",\"\"))","v":""},{"$f":"IF($G27=0,\"\",IF(INDEX(itineraryPrograms,numericItinerary(N$3),$J27)=\"y\",\"X\",\"\"))","v":""},{"$f":"IF($G27=0,\"\",IF(INDEX(itineraryPrograms,numericItinerary(O$3),$J27)=\"y\",\"X\",\"\"))","v":""},{"$f":"IF($G27=0,\"\",IF(INDEX(itineraryPrograms,numericItinerary(P$3),$J27)=\"y\",\"X\",\"\"))","v":"X"}]
["12-3","Challenging",54,10635,null,null,"Railroading",101,0,39,{"$f":"IF($G28=0,\"\",IF(INDEX(itineraryPrograms,numericItinerary(K$3),$J28)=\"y\",\"X\",\"\"))","v":""},{"$f":"IF($G28=0,\"\",IF(INDEX(itineraryPrograms,numericItinerary(L$3),$J28)=\"y\",\"X\",\"\"))","v":""},{"$f":"IF($G28=0,\"\",IF(INDEX(itineraryPrograms,numericItinerary(M$3),$J28)=\"y\",\"X\",\"\"))","v":""},{"$f":"IF($G28=0,\"\",IF(INDEX(itineraryPrograms,numericItinerary(N$3),$J28)=\"y\",\"X\",\"\"))","v":""},{"$f":"IF($G28=0,\"\",IF(INDEX(itineraryPrograms,numericItinerary(O$3),$J28)=\"y\",\"X\",\"\"))","v":""},{"$f":"IF($G28=0,\"\",IF(INDEX(itineraryPrograms,numericItinerary(P$3),$J28)=\"y\",\"X\",\"\"))","v":""}]
["12-23","Strenuous",69,10537.3,null,null,"Laser Shot Shooting Range",100,2,27,{"$f":"IF($G29=0,\"\",IF(INDEX(itineraryPrograms,numericItinerary(K$3),$J29)=\"y\",\"X\",\"\"))","v":""},{"$f":"IF($G29=0,\"\",IF(INDEX(itineraryPrograms,numericItinerary(L$3),$J29)=\"y\",\"X\",\"\"))","v":"X"},{"$f":"IF($G29=0,\"\",IF(INDEX(itineraryPrograms,numericItinerary(M$3),$J29)=\"y\",\"X\",\"\"))","v":""},{"$f":"IF($G29=0,\"\",IF(INDEX(itineraryPrograms,numericItinerary(N$3),$J29)=\"y\",\"X\",\"\"))","v":""},{"$f":"IF($G29=0,\"\",IF(INDEX(itineraryPrograms,numericItinerary(O$3),$J29)=\"y\",\"X\",\"\"))","v":""},{"$f":"IF($G29=0,\"\",IF(INDEX(itineraryPrograms,numericItinerary(P$3),$J29)=\"y\",\"X\",\"\"))","v":"X"}]
["12-11","Rugged",60,10454.9,null,null,"Kit Carson/Rayado Rancho",97,0,26,{"$f":"IF($G30=0,\"\",IF(INDEX(itineraryPrograms,numericItinerary(K$3),$J30)=\"y\",\"X\",\"\"))","v":""},{"$f":"IF($G30=0,\"\",IF(INDEX(itineraryPrograms,numericItinerary(L$3),$J30)=\"y\",\"X\",\"\"))","v":""},{"$f":"IF($G30=0,\"\",IF(INDEX(itineraryPrograms,numericItinerary(M$3),$J30)=\"y\",\"X\",\"\"))","v":""},{"$f":"IF($G30=0,\"\",IF(INDEX(itineraryPrograms,numericItinerary(N$3),$J30)=\"y\",\"X\",\"\"))","v":""},{"$f":"IF($G30=0,\"\",IF(INDEX(itineraryPrograms,numericItinerary(O$3),$J30)=\"y\",\"X\",\"\"))","v":""},{"$f":"IF($G30=0,\"\",IF(INDEX(itineraryPrograms,numericItinerary(P$3),$J30)=\"y\",\"X\",\"\"))","v":""}]
["12-12","Rugged",60,10441.700000000001,null,null,"Gold Mining & Panning",97,5,18,{"$f":"IF($G31=0,\"\",IF(INDEX(itineraryPrograms,numericItinerary(K$3),$J31)=\"y\",\"X\",\"\"))","v":""},{"$f":"IF($G31=0,\"\",IF(INDEX(itineraryPrograms,numericItinerary(L$3),$J31)=\"y\",\"X\",\"\"))","v":"X"},{"$f":"IF($G31=0,\"\",IF(INDEX(itineraryPrograms,numericItinerary(M$3),$J31)=\"y\",\"X\",\"\"))","v":"X"},{"$f":"IF($G31=0,\"\",IF(INDEX(itineraryPrograms,numericItinerary(N$3),$J31)=\"y\",\"X\",\"\"))","v":"X"},{"$f":"IF($G31=0,\"\",IF(INDEX(itineraryPrograms,numericItinerary(O$3),$J31)=\"y\",\"X\",\"\"))","v":"X"},{"$f":"IF($G31=0,\"\",IF(INDEX(itineraryPrograms,numericItinerary(P$3),$J31)=\"y\",\"X\",\"\"))","v":"X"}]
["12-2","Challenging",52,10420.5,null,null,"Rock Climbing & Rappelling",91,5,40,{"$f":"IF($G32=0,\"\",IF(INDEX(itineraryPrograms,numericItinerary(K$3),$J32)=\"y\",\"X\",\"\"))","v":"X"},{"$f":"IF($G32=0,\"\",IF(INDEX(itineraryPrograms,numericItinerary(L$3),$J32)=\"y\",\"X\",\"\"))","v":""},{"$f":"IF($G32=0,\"\",IF(INDEX(itineraryPrograms,numericItinerary(M$3),$J32)=\"y\",\"X\",\"\"))","v":"X"},{"$f":"IF($G32=0,\"\",IF(INDEX(itineraryPrograms,numericItinerary(N$3),$J32)=\"y\",\"X\",\"\"))","v":"X"},{"$f":"IF($G32=0,\"\",IF(INDEX(itineraryPrograms,numericItinerary(O$3),$J32)=\"y\",\"X\",\"\"))","v":"X"},{"$f":"IF($G32=0,\"\",IF(INDEX(itineraryPrograms,numericItinerary(P$3),$J32)=\"y\",\"X\",\"\"))","v":"X"}]
["12-21","Strenuous",68,10358.1,null,null,"Tie Making & Crosscut Saws",89,4,46,{"$f":"IF($G33=0,\"\",IF(INDEX(itineraryPrograms,numericItinerary(K$3),$J33)=\"y\",\"X\",\"\"))","v":"X"},{"$f":"IF($G33=0,\"\",IF(INDEX(itineraryPrograms,numericItinerary(L$3),$J33)=\"y\",\"X\",\"\"))","v":""},{"$f":"IF($G33=0,\"\",IF(INDEX(itineraryPrograms,numericItinerary(M$3),$J33)=\"y\",\"X\",\"\"))","v":"X"},{"$f":"IF($G33=0,\"\",IF(INDEX(itineraryPrograms,numericItinerary(N$3),$J33)=\"y\",\"X\",\"\"))","v":"X"},{"$f":"IF($G33=0,\"\",IF(INDEX(itineraryPrograms,numericItinerary(O$3),$J33)=\"y\",\"X\",\"\"))","v":""},{"$f":"IF($G33=0,\"\",IF(INDEX(itineraryPrograms,numericItinerary(P$3),$J33)=\"y\",\"X\",\"\"))","v":"X"}]
["12-10","Rugged",60,10281.4,null,null,"Campfire (evening)",87,6,9,{"$f":"IF($G34=0,\"\",IF(INDEX(itineraryPrograms,numericItinerary(K$3),$J34)=\"y\",\"X\",\"\"))","v":"X"},{"$f":"IF($G34=0,\"\",IF(INDEX(itineraryPrograms,numericItinerary(L$3),$J34)=\"y\",\"X\",\"\"))","v":"X"},{"$f":"IF($G34=0,\"\",IF(INDEX(itineraryPrograms,numericItinerary(M$3),$J34)=\"y\",\"X\",\"\"))","v":"X"},{"$f":"IF($G34=0,\"\",IF(INDEX(itineraryPrograms,numericItinerary(N$3),$J34)=\"y\",\"X\",\"\"))","v":"X"},{"$f":"IF($G34=0,\"\",IF(INDEX(itineraryPrograms,numericItinerary(O$3),$J34)=\"y\",\"X\",\"\"))","v":"X"},{"$f":"IF($G34=0,\"\",IF(INDEX(itineraryPrograms,numericItinerary(P$3),$J34)=\"y\",\"X\",\"\"))","v":"X"}]
["12-20","Strenuous",66,10072.6,null,null,"Horse Rides",86,6,22,{"$f":"IF($G35=0,\"\",IF(INDEX(itineraryPrograms,numericItinerary(K$3),$J35)=\"y\",\"X\",\"\"))","v":"X"},{"$f":"IF($G35=0,\"\",IF(INDEX(itineraryPrograms,numericItinerary(L$3),$J35)=\"y\",\"X\",\"\"))","v":"X"},{"$f":"IF($G35=0,\"\",IF(INDEX(itineraryPrograms,numericItinerary(M$3),$J35)=\"y\",\"X\",\"\"))","v":"X"},{"$f":"IF($G35=0,\"\",IF(INDEX(itineraryPrograms,numericItinerary(N$3),$J35)=\"y\",\"X\",\"\"))","v":"X"},{"$f":"IF($G35=0,\"\",IF(INDEX(itineraryPrograms,numericItinerary(O$3),$J35)=\"y\",\"X\",\"\"))","v":"X"},{"$f":"IF($G35=0,\"\",IF(INDEX(itineraryPrograms,numericItinerary(P$3),$J35)=\"y\",\"X\",\"\"))","v":"X"}]
["12-18","Strenuous",66,10026.799999999999,null,null,"Fly Tying",84,null,16,{"$f":"IF($G36=0,\"\",IF(INDEX(itineraryPrograms,numericItinerary(K$3),$J36)=\"y\",\"X\",\"\"))","v":""},{"$f":"IF($G36=0,\"\",IF(INDEX(itineraryPrograms,numericItinerary(L$3),$J36)=\"y\",\"X\",\"\"))","v":""},{"$f":"IF($G36=0,\"\",IF(INDEX(itineraryPrograms,numericItinerary(M$3),$J36)=\"y\",\"X\",\"\"))","v":"X"},{"$f":"IF($G36=0,\"\",IF(INDEX(itineraryPrograms,numericItinerary(N$3),$J36)=\"y\",\"X\",\"\"))","v":""},{"$f":"IF($G36=0,\"\",IF(INDEX(itineraryPrograms,numericItinerary(O$3),$J36)=\"y\",\"X\",\"\"))","v":"X"},{"$f":"IF($G36=0,\"\",IF(INDEX(itineraryPrograms,numericItinerary(P$3),$J36)=\"y\",\"X\",\"\"))","v":""}]
["12-1","Challenging",50,10012,null,null,"Burro Packing",84,null,8,{"$f":"IF($G37=0,\"\",IF(INDEX(itineraryPrograms,numericItinerary(K$3),$J37)=\"y\",\"X\",\"\"))","v":""},{"$f":"IF($G37=0,\"\",IF(INDEX(itineraryPrograms,numericItinerary(L$3),$J37)=\"y\",\"X\",\"\"))","v":""},{"$f":"IF($G37=0,\"\",IF(INDEX(itineraryPrograms,numericItinerary(M$3),$J37)=\"y\",\"X\",\"\"))","v":""},{"$f":"IF($G37=0,\"\",IF(INDEX(itineraryPrograms,numericItinerary(N$3),$J37)=\"y\",\"X\",\"\"))","v":""},{"$f":"IF($G37=0,\"\",IF(INDEX(itineraryPrograms,numericItinerary(O$3),$J37)=\"y\",\"X\",\"\"))","v":""},{"$f":"IF($G37=0,\"\",IF(INDEX(itineraryPrograms,numericItinerary(P$3),$J37)=\"y\",\"X\",\"\"))","v":""}]
["PREFERENCES:",null,null,null,null,null,"Fishing",82,null,15,{"$f":"IF($G38=0,\"\",IF(INDEX(itineraryPrograms,numericItinerary(K$3),$J38)=\"y\",\"X\",\"\"))","v":""},{"$f":"IF($G38=0,\"\",IF(INDEX(itineraryPrograms,numericItinerary(L$3),$J38)=\"y\",\"X\",\"\"))","v":""},{"$f":"IF($G38=0,\"\",IF(INDEX(itineraryPrograms,numericItinerary(M$3),$J38)=\"y\",\"X\",\"\"))","v":"X"},{"$f":"IF($G38=0,\"\",IF(INDEX(itineraryPrograms,numericItinerary(N$3),$J38)=\"y\",\"X\",\"\"))","v":""},{"$f":"IF($G38=0,\"\",IF(INDEX(itineraryPrograms,numericItinerary(O$3),$J38)=\"y\",\"X\",\"\"))","v":"X"},{"$f":"IF($G38=0,\"\",IF(INDEX(itineraryPrograms,numericItinerary(P$3),$J38)=\"y\",\"X\",\"\"))","v":""}]
["Area Important?",{"$f":"UPPER(areaImportant)","v":"N"},null,null,null,null,"Homesteading",76,null,21,{"$f":"IF($G39=0,\"\",IF(INDEX(itineraryPrograms,numericItinerary(K$3),$J39)=\"y\",\"X\",\"\"))","v":"X"},{"$f":"IF($G39=0,\"\",IF(INDEX(itineraryPrograms,numericItinerary(L$3),$J39)=\"y\",\"X\",\"\"))","v":""},{"$f":"IF($G39=0,\"\",IF(INDEX(itineraryPrograms,numericItinerary(M$3),$J39)=\"y\",\"X\",\"\"))","v":"X"},{"$f":"IF($G39=0,\"\",IF(INDEX(itineraryPrograms,numericItinerary(N$3),$J39)=\"y\",\"X\",\"\"))","v":"X"},{"$f":"IF($G39=0,\"\",IF(INDEX(itineraryPrograms,numericItinerary(O$3),$J39)=\"y\",\"X\",\"\"))","v":"X"},{"$f":"IF($G39=0,\"\",IF(INDEX(itineraryPrograms,numericItinerary(P$3),$J39)=\"y\",\"X\",\"\"))","v":"X"}]
["      South:",{"$f":"IF(UPPER(areaImportant)=\"Y\",Preferences!B7,\"\")","v":""},null,null,null,null,"Astronomy",76,null,3,{"$f":"IF($G40=0,\"\",IF(INDEX(itineraryPrograms,numericItinerary(K$3),$J40)=\"y\",\"X\",\"\"))","v":""},{"$f":"IF($G40=0,\"\",IF(INDEX(itineraryPrograms,numericItinerary(L$3),$J40)=\"y\",\"X\",\"\"))","v":""},{"$f":"IF($G40=0,\"\",IF(INDEX(itineraryPrograms,numericItinerary(M$3),$J40)=\"y\",\"X\",\"\"))","v":""},{"$f":"IF($G40=0,\"\",IF(INDEX(itineraryPrograms,numericItinerary(N$3),$J40)=\"y\",\"X\",\"\"))","v":""},{"$f":"IF($G40=0,\"\",IF(INDEX(itineraryPrograms,numericItinerary(O$3),$J40)=\"y\",\"X\",\"\"))","v":""},{"$f":"IF($G40=0,\"\",IF(INDEX(itineraryPrograms,numericItinerary(P$3),$J40)=\"y\",\"X\",\"\"))","v":""}]
["      Central:",{"$f":"IF(UPPER(areaImportant)=\"Y\",Preferences!B8,\"\")","v":""},null,null,null,null,"Demonstration Forest",76,null,14,{"$f":"IF($G41=0,\"\",IF(INDEX(itineraryPrograms,numericItinerary(K$3),$J41)=\"y\",\"X\",\"\"))","v":"X"},{"$f":"IF($G41=0,\"\",IF(INDEX(itineraryPrograms,numericItinerary(L$3),$J41)=\"y\",\"X\",\"\"))","v":""},{"$f":"IF($G41=0,\"\",IF(INDEX(itineraryPrograms,numericItinerary(M$3),$J41)=\"y\",\"X\",\"\"))","v":"X"},{"$f":"IF($G41=0,\"\",IF(INDEX(itineraryPrograms,numericItinerary(N$3),$J41)=\"y\",\"X\",\"\"))","v":"X"},{"$f":"IF($G41=0,\"\",IF(INDEX(itineraryPrograms,numericItinerary(O$3),$J41)=\"y\",\"X\",\"\"))","v":"X"},{"$f":"IF($G41=0,\"\",IF(INDEX(itineraryPrograms,numericItinerary(P$3),$J41)=\"y\",\"X\",\"\"))","v":"X"}]
["      North:",{"$f":"IF(UPPER(areaImportant)=\"Y\",Preferences!B9,\"\")","v":""},null,null,null,null,"Tooth of Time",76,null,48]
["      Valle Vidal:",{"$f":"IF(UPPER(areaImportant)=\"Y\",Preferences!B10,\"\")","v":""},null,null,null,null,"Cowboy Action Shooting",74,null,13]
["Capability:",{"$f":"skillLevel","v":3},null,null,null,null,"Chuckwagon Dinner",73,null,12,{"$f":"IF($G44=0,\"\",IF(INDEX(itineraryPrograms,numericItinerary(K$3),$J44)=\"y\",\"X\",\"\"))","v":"X"},{"$f":"IF($G44=0,\"\",IF(INDEX(itineraryPrograms,numericItinerary(L$3),$J44)=\"y\",\"X\",\"\"))","v":"X"},{"$f":"IF($G44=0,\"\",IF(INDEX(itineraryPrograms,numericItinerary(M$3),$J44)=\"y\",\"X\",\"\"))","v":"X"},{"$f":"IF($G44=0,\"\",IF(INDEX(itineraryPrograms,numericItinerary(N$3),$J44)=\"y\",\"X\",\"\"))","v":"X"},{"$f":"IF($G44=0,\"\",IF(INDEX(itineraryPrograms,numericItinerary(O$3),$J44)=\"y\",\"X\",\"\"))","v":"X"},{"$f":"IF($G44=0,\"\",IF(INDEX(itineraryPrograms,numericItinerary(P$3),$J44)=\"y\",\"X\",\"\"))","v":""}]
["Hike Out?",{"$f":"UPPER(hikeOut)","v":"N"},null,null,null,null,"Challenge Events",73,null,11,{"$f":"IF($G45=0,\"\",IF(INDEX(itineraryPrograms,numericItinerary(K$3),$J45)=\"y\",\"X\",\"\"))","v":"X"},{"$f":"IF($G45=0,\"\",IF(INDEX(itineraryPrograms,numericItinerary(L$3),$J45)=\"y\",\"X\",\"\"))","v":"X"},{"$f":"IF($G45=0,\"\",IF(INDEX(itineraryPrograms,numericItinerary(M$3),$J45)=\"y\",\"X\",\"\"))","v":"X"},{"$f":"IF($G45=0,\"\",IF(INDEX(itineraryPrograms,numericItinerary(N$3),$J45)=\"y\",\"X\",\"\"))","v":"X"},{"$f":"IF($G45=0,\"\",IF(INDEX(itineraryPrograms,numericItinerary(O$3),$J45)=\"y\",\"X\",\"\"))","v":"X"},{"$f":"IF($G45=0,\"\",IF(INDEX(itineraryPrograms,numericItinerary(P$3),$J45)=\"y\",\"X\",\"\"))","v":"X"}]
["Hike In/Tooth?",{"$f":"UPPER(hikeIn)","v":"N"},null,null,null,null,"Fur Trapper Rendezvous",71,null,17,{"$f":"IF($G46=0,\"\",IF(INDEX(itineraryPrograms,numericItinerary(K$3),$J46)=\"y\",\"X\",\"\"))","v":""},{"$f":"IF($G46=0,\"\",IF(INDEX(itineraryPrograms,numericItinerary(L$3),$J46)=\"y\",\"X\",\"\"))","v":""},{"$f":"IF($G46=0,\"\",IF(INDEX(itineraryPrograms,numericItinerary(M$3),$J46)=\"y\",\"X\",\"\"))","v":""},{"$f":"IF($G46=0,\"\",IF(INDEX(itineraryPrograms,numericItinerary(N$3),$J46)=\"y\",\"X\",\"\"))","v":""},{"$f":"IF($G46=0,\"\",IF(INDEX(itineraryPrograms,numericItinerary(O$3),$J46)=\"y\",\"X\",\"\"))","v":""},{"$f":"IF($G46=0,\"\",IF(INDEX(itineraryPrograms,numericItinerary(P$3),$J46)=\"y\",\"X\",\"\"))","v":"X"}]
["Max Altitude?",{"$f":"UPPER(altitudeMax)","v":"N"},null,null,null,null,"Hunter Safety",69,null,23,{"$f":"IF($G47=0,\"\",IF(INDEX(itineraryPrograms,numericItinerary(K$3),$J47)=\"y\",\"X\",\"\"))","v":""},{"$f":"IF($G47=0,\"\",IF(INDEX(itineraryPrograms,numericItinerary(L$3),$J47)=\"y\",\"X\",\"\"))","v":"X"},{"$f":"IF($G47=0,\"\",IF(INDEX(itineraryPrograms,numericItinerary(M$3),$J47)=\"y\",\"X\",\"\"))","v":""},{"$f":"IF($G47=0,\"\",IF(INDEX(itineraryPrograms,numericItinerary(N$3),$J47)=\"y\",\"X\",\"\"))","v":""},{"$f":"IF($G47=0,\"\",IF(INDEX(itineraryPrograms,numericItinerary(O$3),$J47)=\"y\",\"X\",\"\"))","v":""},{"$f":"IF($G47=0,\"\",IF(INDEX(itineraryPrograms,numericItinerary(P$3),$J47)=\"y\",\"X\",\"\"))","v":""}]
["Total elevation?",{"$f":"UPPER(altitudeChange)","v":"N"},null,null,null,null,"High Ropes & Climbing Tower",62,null,19,{"$f":"IF($G48=0,\"\",IF(INDEX(itineraryPrograms,numericItinerary(K$3),$J48)=\"y\",\"X\",\"\"))","v":""},{"$f":"IF($G48=0,\"\",IF(INDEX(itineraryPrograms,numericItinerary(L$3),$J48)=\"y\",\"X\",\"\"))","v":""},{"$f":"IF($G48=0,\"\",IF(INDEX(itineraryPrograms,numericItinerary(M$3),$J48)=\"y\",\"X\",\"\"))","v":""},{"$f":"IF($G48=0,\"\",IF(INDEX(itineraryPrograms,numericItinerary(N$3),$J48)=\"y\",\"X\",\"\"))","v":""},{"$f":"IF($G48=0,\"\",IF(INDEX(itineraryPrograms,numericItinerary(O$3),$J48)=\"y\",\"X\",\"\"))","v":""},{"$f":"IF($G48=0,\"\",IF(INDEX(itineraryPrograms,numericItinerary(P$3),$J48)=\"y\",\"X\",\"\"))","v":""}]
["Daily change?",{"$f":"UPPER(altitudeDaily)","v":"Y"},null,null,null,null,"Cantina",61,null,10,{"$f":"IF($G49=0,\"\",IF(INDEX(itineraryPrograms,numericItinerary(K$3),$J49)=\"y\",\"X\",\"\"))","v":""},{"$f":"IF($G49=0,\"\",IF(INDEX(itineraryPrograms,numericItinerary(L$3),$J49)=\"y\",\"X\",\"\"))","v":""},{"$f":"IF($G49=0,\"\",IF(INDEX(itineraryPrograms,numericItinerary(M$3),$J49)=\"y\",\"X\",\"\"))","v":""},{"$f":"IF($G49=0,\"\",IF(INDEX(itineraryPrograms,numericItinerary(N$3),$J49)=\"y\",\"X\",\"\"))","v":"X"},{"$f":"IF($G49=0,\"\",IF(INDEX(itineraryPrograms,numericItinerary(O$3),$J49)=\"y\",\"X\",\"\"))","v":"X"},{"$f":"IF($G49=0,\"\",IF(INDEX(itineraryPrograms,numericItinerary(P$3),$J49)=\"y\",\"X\",\"\"))","v":""}]
["Programs?",{"$f":"UPPER(programsImportant)","v":"Y"},null,null,null,null,"Shotgun Shooting/Reloading - 12 Gauge",61,{"$f":"COUNTIF(K50:P50,\"X\")","v":1},44,{"$f":"IF($G50=0,\"\",IF(INDEX(itineraryPrograms,numericItinerary(K$3),$J50)=\"y\",\"X\",\"\"))","v":"X"},{"$f":"IF($G50=0,\"\",IF(INDEX(itineraryPrograms,numericItinerary(L$3),$J50)=\"y\",\"X\",\"\"))","v":""},{"$f":"IF($G50=0,\"\",IF(INDEX(itineraryPrograms,numericItinerary(M$3),$J50)=\"y\",\"X\",\"\"))","v":""},{"$f":"IF($G50=0,\"\",IF(INDEX(itineraryPrograms,numericItinerary(N$3),$J50)=\"y\",\"X\",\"\"))","v":""},{"$f":"IF($G50=0,\"\",IF(INDEX(itineraryPrograms,numericItinerary(O$3),$J50)=\"y\",\"X\",\"\"))","v":""},{"$f":"IF($G50=0,\"\",IF(INDEX(itineraryPrograms,numericItinerary(P$3),$J50)=\"y\",\"X\",\"\"))","v":""}]
[null,null,null,null,null,null,"Mount Phillips",61,{"$f":"COUNTIF(K51:P51,\"X\")","v":3},32,{"$f":"IF($G51=0,\"\",IF(INDEX(itineraryPrograms,numericItinerary(K$3),$J51)=\"y\",\"X\",\"\"))","v":""},{"$f":"IF($G51=0,\"\",IF(INDEX(itineraryPrograms,numericItinerary(L$3),$J51)=\"y\",\"X\",\"\"))","v":""},{"$f":"IF($G51=0,\"\",IF(INDEX(itineraryPrograms,numericItinerary(M$3),$J51)=\"y\",\"X\",\"\"))","v":"X"},{"$f":"IF($G51=0,\"\",IF(INDEX(itineraryPrograms,numericItinerary(N$3),$J51)=\"y\",\"X\",\"\"))","v":"X"},{"$f":"IF($G51=0,\"\",IF(INDEX(itineraryPrograms,numericItinerary(O$3),$J51)=\"y\",\"X\",\"\"))","v":"X"},{"$f":"IF($G51=0,\"\",IF(INDEX(itineraryPrograms,numericItinerary(P$3),$J51)=\"y\",\"X\",\"\"))","v":""}]
[null,null,null,null,null,null,"Trail Peak",93,null,49,{"$f":"COUNTIF(K3:K50,\"X\")","v":14},12,21,17,21,18]
[null,null,null,{"$f":"MIN(rankedScore)","v":10012},null,null,"Western Lore/Branding",0,null,50,{"$f":"K3","v":"12-34"},"12-31","12-17","12-24","12-22","12-33"]
[null,null,null,{"$f":"MAX(rankedScore)","v":12567.1},null,null,null,{"$f":"MIN(H4:H51)","v":61},"Min"]
[null,null,null,null,null,null,null,{"$f":"MAX(H4:H51)","v":225},"Max"]

{"sheet":"Itinerary Details","index":6,"n_rows":29,"n_cols":34,"rows_kept":29,"cut":false,"hidden":false,"merged":[[20,12,20,13],[20,15,20,17],[19,1,19,2],[19,4,19,9],[19,12,19,13],[19,15,19,17],[23,15,23,17],[24,15,24,17],[25,15,25,17],[26,15,26,17],[15,15,15,17],[16,15,16,17],[22,15,22,17],[17,15,17,17],[18,15,18,17],[5,10,5,11],[4,14,4,16],[5,14,5,16],[14,15,14,17],[11,1,11,18],[12,1,12,18],[7,4,7,5],[8,4,8,5],[14,12,14,13],[13,10,13,13],[7,10,7,14],[22,4,22,9],[23,4,23,9],[15,1,15,2],[16,1,16,2],[16,12,16,13],[22,1,22,2],[23,1,23,2],[15,12,15,13],[17,1,17,2],[17,4,17,9],[17,12,17,13],[18,1,18,2],[18,4,18,9],[18,12,18,13],[20,1,20,2],[20,4,20,9],[0,0,0,18],[15,4,15,9],[16,4,16,9],[5,0,5,1],[6,0,6,1],[7,0,7,1],[8,0,8,1],[9,0,9,1],[10,0,10,1],[4,4,4,5],[5,4,5,5],[14,4,14,8],[1,3,1,18],[6,4,6,5],[9,3,10,6],[4,10,4,11],[21,1,21,2],[21,4,21,9],[21,12,21,13],[21,15,21,17],[27,11,27,13],[24,12,24,13],[25,12,25,13],[26,12,26,13],[26,1,26,2],[26,4,26,9],[24,4,24,9],[25,4,25,9],[24,1,24,2],[25,1,25,2],[22,12,22,13],[23,12,23,13]]}
["Itinerary Information"]
["Itinerary Number:",null,"12-1"]
["Expedition Number:",null,"608-A"]
[null,null," "]
["Classification:",null,{"$f":"VLOOKUP(INDEX(classification,numericItinerary(itineraryNumber)),difficultyTable,2)","v":"Challenging"},null,"Staffed Camps:",null,{"$f":"getNcamps(\"Staff\",itineraryNumber)","v":"5"},null,null,"Area(s):",{"$f":"getCountry(numericItinerary(itineraryNumber))","v":"South, Central"},null,null,"Starting:",{"$f":"AA28","v":"Zastrow Trailhead"}]
["Distance:",null,{"$f":"INDEX(distance,numericItinerary(itineraryNumber))","v":50},null,"Trail Camps:",null,{"$f":"getNcamps(\"Trail\",itineraryNumber)","v":"5"},null,null,"Map(s):",{"$f":"getMaps(numericItinerary(itineraryNumber))","v":"South"},null,null,"Ending:",{"$f":"AB28","v":"Hike In"}]
["Initial/Max Days Food:",null,{"$f":"getFoodDays(itineraryNumber)","v":"3/3"},null,"Layovers:",null,{"$f":"getNcamps(\"Layover\",itineraryNumber)","v":"0"}]
["Return via Tooth:",null,{"$f":"IF(INDEX(viaTooth,numericItinerary(itineraryNumber))=\"y\",\"Yes\",\"No\")","v":"No"},null,"Dry Camps",null,{"$f":"getNcamps(\"Dry\",itineraryNumber)","v":"2"},null,null,"Peaks:",{"$f":"getPeakS(numericItinerary(itineraryNumber))","v":"Mt. Phillips, Trail Peak, Others"}]
["Min/Max Altitude:",null,{"$f":"getAltitude(\"Min\",itineraryNumber) & \"/\" & getAltitude(\"Max\",itineraryNumber)","v":"7,519/10,509"},null,"Showers",null,{"$f":"COUNTIF(nShowers,\"y\")","v":2}]
["Total Altitude Change:",null,{"$f":"getAltitude(\"Chg\",itineraryNumber)","v":"2,990"},"Elevation information shown here is based on beginning/ending campsite altitudes, not any peaks or side hikes."]
["Daily Altitude Change:",null,{"$f":"getAltitude(\"Avg\",itineraryNumber)","v":"576"}]
["Description:",{"$f":"INDEX(descriptions,numericItinerary(itineraryNumber))","v":"This peaks filled trek will give you and your crew the opportunity to conquer 5 different peaks in one journey! Start this South Country traverse with a night at scenic Toothache Springs to train with your Ranger. Head to Urraca where you will participate in challenge events that will help your crew work together for the duration of your trek. Get an early start the next morning to enjoy the sunrise at Inspiration Point, then make your way to the High Ropes Course & Climbing Tower at Rocky Mountain Scout Camp for some high COPE program. You will then make your way to Stockade Ridge Camp to prepare for your first two summits. You’ll top the Tooth of Time and Shaefers Peak on the way to Miners Park Camp. The next morning take the beautiful hike up the North Fork Urraca Creek to Black Mountain's Post Civil War encampment. Work in the forge and shoot muzzle loading rifles while you are there. Visit the cowboys at Beaubien for a little branding and enjoy the Chuckwagon Dinner and Cowboy Campfire to top off the day. The next day you are waking up for horse rides and a quick hike for resupply at Phillips Junction and resting up at Porcupine for the night. The next day, make your way down to visit the homesteaders at Crooked Creek. Help them tend the chickens, goats, and cows, then check out their rustic cabin, then make your way to your next peak: Big Red. You’ll camp at Divide for the night to prepare to knock out two more peaks the next day. Enjoy the sweeping views from Comanche Peak and Mt. Phillips and then stay the night with the Rocky Mountain Fur Co. at Clear Creek. Participate in a friendly tomahawk throwing competition while you are there. Your next day will take you through part of the historic CS Ranch before hiking out the Colin Neblett Wildlife Area to the Tolby Trailhead. Next stop… Base Camp!"}]
["Programs:",{"$f":"getPrograms(numericItinerary(itineraryNumber))","v":"Blacksmithing, Campfire (evening), Challenge Events, Chuckwagon Dinner, High Ropes & Climbing Tower, Homesteading, Horse Rides, Inspiration Point Hike, Mount Phillips, Mountaineering, Muzzle Loading Rifle, Post Civil War Encampment, Rocky Mountain Fur Co., Tomahawk Throwing, Tooth of Time, Western Lore/Branding"}]
[null,null,null,null,null,null,null,null,null,null,"UTM Coordinates"]
[null,"Date:",null,"Day","Campsite",null,null,null,null,null,"Elevation","Easting","Northing",null,"Food Pickup","Cross US-64",null,null,null,null,null,null,null,"Elevation","Change","Date","Day","CAMP","Type","Dry","Showers","Commissary","Trading Post","Map"]
[null,{"$f":"AA16 & \" (\" & TEXT(Z16,\"m/d/yyyy\") & \")\"","v":"Saturday (6/8/2024)"},null,1,"Camping HQ",null,null,null,null,null,{"$f":"TEXT(INDEX(campLocation,MATCH(AB16,camps,0),5),\"##,##0\")","v":"6,696"},{"$f":"INDEX(campInfo,MATCH(AB16,camps),3)","v":503848},{"$f":"INDEX(campInfo,MATCH(AB16,camps),4)","v":4034364},null,null,{"$f":"getUS64crossingdirection(itineraryNumber,D16)","v":""},null,null,null,null,null,null,null,{"$f":"INT(K16)","v":6696},0,{"$f":"expeditionStartDate(itinExpeditionNo)","v":"2024-06-08"},{"$f":"INDEX({\"Sunday\",\"Monday\",\"Tuesday\",\"Wednesday\",\"Thursday\",\"Friday\",\"Saturday\"},WEEKDAY(Z16))","v":"Saturday"},"Camping HQ",null,{"$f":"INDEX(campInfo,MATCH($AB16,camps),10)","v":""},{"$f":"INDEX(campInfo,MATCH($AB16,camps),11)","v":""},{"$f":"INDEX(campInfo,MATCH($AB16,camps),6)","v":""},{"$f":"INDEX(campInfo,MATCH($AB16,camps),7)","v":""},{"$f":"VLOOKUP($AB16,campInfo,12)","v":"South"}]
[null,{"$f":"AA17 & \" (\" & TEXT(Z17,\"m/d/yyyy\") & \")\"","v":"Sunday (6/9/2024)"},null,{"$f":"D16+1","v":2},{"$f":"getCampWithInfo(AB17,AC17,AD17,AE17,AF17,AG17)","v":"Lovers Leap"},null,null,null,null,null,"7,469",498474,4030533,null,{"$f":"INDEX(foodPickups,numericItinerary(itineraryNumber),D17-1)","v":"Camping HQ"},{"$f":"getUS64crossingdirection(itineraryNumber,D17)","v":""},null,null,null,null,null,null,null,7469,{"$f":"X17-X16","v":773},{"$f":"Z16+1","v":"2024-06-09"},{"$f":"INDEX({\"Sunday\",\"Monday\",\"Tuesday\",\"Wednesday\",\"Thursday\",\"Friday\",\"Saturday\"},WEEKDAY(Z17))","v":"Sunday"},"Lovers Leap",{"$f":"IF(VLOOKUP($AB17,campInfo,8)=\"Y\",\"Staff\",\"Trail\")","v":"Trail"},{"$f":"VLOOKUP($AB17,campInfo,10)","v":""},{"$f":"VLOOKUP($AB17,campInfo,11)","v":""},{"$f":"VLOOKUP($AB17,campInfo,6)","v":""},{"$f":"VLOOKUP($AB17,campInfo,7)","v":""},"South"]
[null,{"$f":"AA18 & \" (\" & TEXT(Z18,\"m/d/yyyy\") & \")\"","v":"Monday (6/10/2024)"},null,{"$f":"D17+1","v":3},{"$f":"getCampWithInfo(AB18,AC18,AD18,AE18,AF18,AG18)","v":"URRACA"},null,null,null,null,null,{"$f":"TEXT(INDEX(campLocation,MATCH(AB18,camps,0),5),\"##,##0\")","v":"7,968"},500851,4029314,null,{"$f":"INDEX(foodPickups,numericItinerary(itineraryNumber),D18-1)","v":0},{"$f":"getUS64crossingdirection(itineraryNumber,D18)","v":""},null,null,null,null,null,null,null,{"$f":"INT(K18)","v":7968},{"$f":"X18-X17","v":499},{"$f":"Z17+1","v":"2024-06-10"},{"$f":"INDEX({\"Sunday\",\"Monday\",\"Tuesday\",\"Wednesday\",\"Thursday\",\"Friday\",\"Saturday\"},WEEKDAY(Z18))","v":"Monday"},"Urraca","Staff","","","","","South"]
[null,{"$f":"AA19 & \" (\" & TEXT(Z19,\"m/d/yyyy\") & \")\"","v":"Tuesday (6/11/2024)"},null,4,{"$f":"getCampWithInfo(AB19,AC19,AD19,AE19,AF19,AG19)","v":"ABREU (Showers)"},null,null,null,null,null,{"$f":"TEXT(INDEX(campLocation,MATCH(AB19,camps,0),5),\"##,##0\")","v":"7,217"},498586,4025999,null,{"$f":"INDEX(foodPickups,numericItinerary(itineraryNumber),D19-1)","v":0},{"$f":"getUS64crossingdirection(itineraryNumber,D19)","v":""},null,null,null,null,null,null,null,{"$f":"INT(K19)","v":7217},-751,"2024-06-11",{"$f":"INDEX({\"Sunday\",\"Monday\",\"Tuesday\",\"Wednesday\",\"Thursday\",\"Friday\",\"Saturday\"},WEEKDAY(Z19))","v":"Tuesday"},"Abreu","Staff","","Y","","","South"]
[null,{"$f":"AA20 & \" (\" & TEXT(Z20,\"m/d/yyyy\") & \")\"","v":"Wednesday (6/12/2024)"},null,5,{"$f":"getCampWithInfo(AB20,AC20,AD20,AE20,AF20,AG20)","v":"Lower Bonito"},null,null,null,null,null,{"$f":"TEXT(INDEX(campLocation,MATCH(AB20,camps,0),5),\"##,##0\")","v":"8,962"},493583,4027520,null,{"$f":"INDEX(foodPickups,numericItinerary(itineraryNumber),D20-1)","v":"Miners Park"},{"$f":"getUS64crossingdirection(itineraryNumber,D20)","v":""},null,null,null,null,null,null,null,{"$f":"INT(K20)","v":8962},1745,"2024-06-12",{"$f":"INDEX({\"Sunday\",\"Monday\",\"Tuesday\",\"Wednesday\",\"Thursday\",\"Friday\",\"Saturday\"},WEEKDAY(Z20))","v":"Wednesday"},"Lower Bonito","Trail","","","","","South"]
[null,{"$f":"AA21 & \" (\" & TEXT(Z21,\"m/d/yyyy\") & \")\"","v":"Thursday (6/13/2024)"},null,6,{"$f":"getCampWithInfo(AB21,AC21,AD21,AE21,AF21,AG21)","v":"PHILLIPS JUNCTION (Showers, Commissary, Trading Post)"},null,null,null,null,null,{"$f":"TEXT(INDEX(campLocation,MATCH(AB21,camps,0),5),\"##,##0\")","v":"8,921"},489389,4030051,null,{"$f":"INDEX(foodPickups,numericItinerary(itineraryNumber),D21-1)","v":0},{"$f":"getUS64crossingdirection(itineraryNumber,D21)","v":""},null,null,null,null,null,null,null,{"$f":"INT(K21)","v":8921},-41,"2024-06-13",{"$f":"INDEX({\"Sunday\",\"Monday\",\"Tuesday\",\"Wednesday\",\"Thursday\",\"Friday\",\"Saturday\"},WEEKDAY(Z21))","v":"Thursday"},"Phillips Junction","Staff","","Y","Y","Y","South"]
[null,{"$f":"AA22 & \" (\" & TEXT(Z22,\"m/d/yyyy\") & \")\"","v":"Friday (6/14/2024)"},null,7,{"$f":"getCampWithInfo(AB22,AC22,AD22,AE22,AF22,AG22)","v":"Bear Creek"},null,null,null,null,null,{"$f":"TEXT(INDEX(campLocation,MATCH(AB22,camps,0),5),\"##,##0\")","v":"9,288"},487881,4028169,null,{"$f":"INDEX(foodPickups,numericItinerary(itineraryNumber),D22-1)","v":0},{"$f":"getUS64crossingdirection(itineraryNumber,D22)","v":""},null,null,null,null,null,null,null,{"$f":"INT(K22)","v":9288},367,"2024-06-14",{"$f":"INDEX({\"Sunday\",\"Monday\",\"Tuesday\",\"Wednesday\",\"Thursday\",\"Friday\",\"Saturday\"},WEEKDAY(Z22))","v":"Friday"},"Bear Creek","Trail","","","","","South"]
[null,"Saturday (6/15/2024)",null,8,{"$f":"getCampWithInfo(AB23,AC23,AD23,AE23,AF23,AG23)","v":"CROOKED CREEK"},null,null,null,null,null,"9,360",486794,4031067,null,{"$f":"INDEX(foodPickups,numericItinerary(itineraryNumber),D23-1)","v":"Phillips Junction"},{"$f":"getUS64crossingdirection(itineraryNumber,D23)","v":""},null,null,null,null,null,null,null,9360,72,"2024-06-15",{"$f":"INDEX({\"Sunday\",\"Monday\",\"Tuesday\",\"Wednesday\",\"Thursday\",\"Friday\",\"Saturday\"},WEEKDAY(Z23))","v":"Saturday"},"Crooked Creek","Staff","","","","","South"]
[null,"Sunday (6/16/2024)",null,9,{"$f":"getCampWithInfo(AB24,AC24,AD24,AE24,AF24,AG24)","v":"CLEAR CREEK"},null,null,null,null,null,"10,240",483477,4036332,null,{"$f":"INDEX(foodPickups,numericItinerary(itineraryNumber),D24-1)","v":0},{"$f":"getUS64crossingdirection(itineraryNumber,D24)","v":""},null,null,null,null,null,null,null,10240,880,"2024-06-16",{"$f":"INDEX({\"Sunday\",\"Monday\",\"Tuesday\",\"Wednesday\",\"Thursday\",\"Friday\",\"Saturday\"},WEEKDAY(Z24))","v":"Sunday"},"Clear Creek","Staff","","","","","South"]
[null,"Monday (6/17/2024)",null,10,{"$f":"getCampWithInfo(AB25,AC25,AD25,AE25,AF25,AG25)","v":"Comanche Peak (Dry)"},null,null,null,null,null,"11,070",487608,4037237,null,{"$f":"INDEX(foodPickups,numericItinerary(itineraryNumber),D25-1)","v":0},{"$f":"getUS64crossingdirection(itineraryNumber,D25)","v":""},null,null,null,null,null,null,null,11070,830,"2024-06-17",{"$f":"INDEX({\"Sunday\",\"Monday\",\"Tuesday\",\"Wednesday\",\"Thursday\",\"Friday\",\"Saturday\"},WEEKDAY(Z25))","v":"Monday"},"Comanche Peak","Trail","Y","","","","South"]
[null,"Tuesday (6/18/2024)",null,11,{"$f":"getCampWithInfo(AB26,AC26,AD26,AE26,AF26,AG26)","v":"Hunting Lodge"},null,null,null,null,null,"7,776",494338,4037841,null,{"$f":"INDEX(foodPickups,numericItinerary(itineraryNumber),D26-1)","v":0},{"$f":"getUS64crossingdirection(itineraryNumber,D26)","v":""},null,null,null,null,null,null,null,7776,-3294,"2024-06-18",{"$f":"INDEX({\"Sunday\",\"Monday\",\"Tuesday\",\"Wednesday\",\"Thursday\",\"Friday\",\"Saturday\"},WEEKDAY(Z26))","v":"Tuesday"},"Hunting Lodge","Trail","","","","","South"]
[null,"Wednesday (6/19/2024)",null,12,"Camping HQ",null,null,null,null,null,"6,696",503848,4034364,null,null,{"$f":"getUS64crossingdirection(itineraryNumber,D27)","v":""},null,null,null,null,null,null,null,6696,-1080,"2024-06-19",{"$f":"INDEX({\"Sunday\",\"Monday\",\"Tuesday\",\"Wednesday\",\"Thursday\",\"Friday\",\"Saturday\"},WEEKDAY(Z27))","v":"Wednesday"},"Camping HQ",null,{"$f":"INDEX(campInfo,MATCH($AB27,camps),10)","v":""},{"$f":"INDEX(campInfo,MATCH($AB27,camps),11)","v":""},{"$f":"INDEX(campInfo,MATCH($AB27,camps),6)","v":""},{"$f":"INDEX(campInfo,MATCH($AB27,camps),7)","v":""},"South"]
[null,null,null,null,null,null,null,null,null,null,null,"NAD 3/Zone 13\n* Estimated coordinates",null,null,null,null,null,null,null,null,null,null,null,null,null,null,{"$f":"getstartendinfo(\"S\",itineraryNumber)","v":"Zastrow Trailhead"},"Hike In"]
[null,null,null,null,null,null,null,null,null,null,null,null,null,null,null,null,null,null,null,null,null,null,null,null,null,null,null,"BASE"]

{"sheet":"Itinerary Xref Chart","index":7,"n_rows":59,"n_cols":38,"rows_kept":59,"cut":false,"hidden":false,"merged":[[0,1,4,1],[55,0,55,1]]}
["ITINERARY NUMBERS:","# times in \nItineraries",{"$f":"INDEX(itineraryNumbers,COLUMN()-2)","v":"12-1"},{"$f":"INDEX(itineraryNumbers,COLUMN()-2)","v":"12-2"},{"$f":"INDEX(itineraryNumbers,COLUMN()-2)","v":"12-3"},{"$f":"INDEX(itineraryNumbers,COLUMN()-2)","v":"12-4"},{"$f":"INDEX(itineraryNumbers,COLUMN()-2)","v":"12-5"},{"$f":"INDEX(itineraryNumbers,COLUMN()-2)","v":"12-6"},{"$f":"INDEX(itineraryNumbers,COLUMN()-2)","v":"12-7"},{"$f":"INDEX(itineraryNumbers,COLUMN()-2)","v":"12-8"},{"$f":"INDEX(itineraryNumbers,COLUMN()-2)","v":"12-9"},{"$f":"INDEX(itineraryNumbers,COLUMN()-2)","v":"12-10"},{"$f":"INDEX(itineraryNumbers,COLUMN()-2)","v":"12-11"},{"$f":"INDEX(itineraryNumbers,COLUMN()-2)","v":"12-12"},{"$f":"INDEX(itineraryNumbers,COLUMN()-2)","v":"12-13"},{"$f":"INDEX(itineraryNumbers,COLUMN()-2)","v":"12-14"},{"$f":"INDEX(itineraryNumbers,COLUMN()-2)","v":"12-15"},{"$f":"INDEX(itineraryNumbers,COLUMN()-2)","v":"12-16"},{"$f":"INDEX(itineraryNumbers,COLUMN()-2)","v":"12-17"},{"$f":"INDEX(itineraryNumbers,COLUMN()-2)","v":"12-18"},{"$f":"INDEX(itineraryNumbers,COLUMN()-2)","v":"12-19"},{"$f":"INDEX(itineraryNumbers,COLUMN()-2)","v":"12-20"},{"$f":"INDEX(itineraryNumbers,COLUMN()-2)","v":"12-21"},{"$f":"INDEX(itineraryNumbers,COLUMN()-2)","v":"12-22"},{"$f":"INDEX(itineraryNumbers,COLUMN()-2)","v":"12-23"},{"$f":"INDEX(itineraryNumbers,COLUMN()-2)","v":"12-24"},{"$f":"INDEX(itineraryNumbers,COLUMN()-2)","v":"12-25"},{"$f":"INDEX(itineraryNumbers,COLUMN()-2)","v":"12-26"},{"$f":"INDEX(itineraryNumbers,COLUMN()-2)","v":"12-27"},{"$f":"INDEX(itineraryNumbers,COLUMN()-2)","v":"12-28"},{"$f":"INDEX(itineraryNumbers,COLUMN()-2)","v":"12-29"},{"$f":"INDEX(itineraryNumbers,COLUMN()-2)","v":"12-30"},{"$f":"INDEX(itineraryNumbers,COLUMN()-2)","v":"12-31"},{"$f":"INDEX(itineraryNumbers,COLUMN()-2)","v":"12-32"},{"$f":"INDEX(itineraryNumbers,COLUMN()-2)","v":"12-33"},{"$f":"INDEX(itineraryNumbers,COLUMN()-2)","v":"12-34"},null,"Check"]
["Hiking Difficulty",null,{"$f":"INDEX(classification,numericItinerary(C1))","v":"C"},{"$f":"INDEX(classification,numericItinerary(D1))","v":"C"},{"$f":"INDEX(classification,numericItinerary(E1))","v":"C"},{"$f":"INDEX(classification,numericItinerary(F1))","v":"C"},{"$f":"INDEX(classification,numericItinerary(G1))","v":"C"},{"$f":"INDEX(classification,numericItinerary(H1))","v":"C"},{"$f":"INDEX(classification,numericItinerary(I1))","v":"C"},{"$f":"INDEX(classification,numericItinerary(J1))","v":"C"},{"$f":"INDEX(classification,numericItinerary(K1))","v":"C"},{"$f":"INDEX(classification,numericItinerary(L1))","v":"R"},{"$f":"INDEX(classification,numericItinerary(M1))","v":"R"},{"$f":"INDEX(classification,numericItinerary(N1))","v":"R"},{"$f":"INDEX(classification,numericItinerary(O1))","v":"R"},{"$f":"INDEX(classification,numericItinerary(P1))","v":"R"},{"$f":"INDEX(classification,numericItinerary(Q1))","v":"R"},{"$f":"INDEX(classification,numericItinerary(R1))","v":"R"},{"$f":"INDEX(classification,numericItinerary(S1))","v":"R"},{"$f":"INDEX(classification,numericItinerary(T1))","v":"S"},{"$f":"INDEX(classification,numericItinerary(U1))","v":"S"},{"$f":"INDEX(classification,numericItinerary(V1))","v":"S"},{"$f":"INDEX(classification,numericItinerary(W1))","v":"S"},{"$f":"INDEX(classification,numericItinerary(X1))","v":"S"},{"$f":"INDEX(classification,numericItinerary(Y1))","v":"S"},{"$f":"INDEX(classification,numericItinerary(Z1))","v":"S"},{"$f":"INDEX(classification,numericItinerary(AA1))","v":"S"},{"$f":"INDEX(classification,numericItinerary(AB1))","v":"S"},{"$f":"INDEX(classification,numericItinerary(AC1))","v":"S"},{"$f":"INDEX(classification,numericItinerary(AD1))","v":"SS"},{"$f":"INDEX(classification,numericItinerary(AE1))","v":"SS"},{"$f":"INDEX(classification,numericItinerary(AF1))","v":"SS"},{"$f":"INDEX(classification,numericItinerary(AG1))","v":"SS"},{"$f":"INDEX(classification,numericItinerary(AH1))","v":"SS"},{"$f":"INDEX(classification,numericItinerary(AI1))","v":"SS"},{"$f":"INDEX(classification,numericItinerary(AJ1))","v":"SS"}]
["Distance (Approximately)",null,{"$f":"INDEX(distance,numericItinerary(C1))","v":50},{"$f":"INDEX(distance,numericItinerary(D1))","v":52},{"$f":"INDEX(distance,numericItinerary(E1))","v":54},{"$f":"INDEX(distance,numericItinerary(F1))","v":55},{"$f":"INDEX(distance,numericItinerary(G1))","v":56},{"$f":"INDEX(distance,numericItinerary(H1))","v":56},{"$f":"INDEX(distance,numericItinerary(I1))","v":59},{"$f":"INDEX(distance,numericItinerary(J1))","v":59},{"$f":"INDEX(distance,numericItinerary(K1))","v":59},{"$f":"INDEX(distance,numericItinerary(L1))","v":60},{"$f":"INDEX(distance,numericItinerary(M1))","v":60},{"$f":"INDEX(distance,numericItinerary(N1))","v":60},{"$f":"INDEX(distance,numericItinerary(O1))","v":63},{"$f":"INDEX(distance,numericItinerary(P1))","v":63},{"$f":"INDEX(distance,numericItinerary(Q1))","v":64},{"$f":"INDEX(distance,numericItinerary(R1))","v":65},{"$f":"INDEX(distance,numericItinerary(S1))","v":65},{"$f":"INDEX(distance,numericItinerary(T1))","v":66},{"$f":"INDEX(distance,numericItinerary(U1))","v":66},{"$f":"INDEX(distance,numericItinerary(V1))","v":66},{"$f":"INDEX(distance,numericItinerary(W1))","v":68},{"$f":"INDEX(distance,numericItinerary(X1))","v":68},{"$f":"INDEX(distance,numericItinerary(Y1))","v":69},{"$f":"INDEX(distance,numericItinerary(Z1))","v":70},{"$f":"INDEX(distance,numericItinerary(AA1))","v":75},{"$f":"INDEX(distance,numericItinerary(AB1))","v":75},{"$f":"INDEX(distance,numericItinerary(AC1))","v":76},{"$f":"INDEX(distance,numericItinerary(AD1))","v":80},{"$f":"INDEX(distance,numericItinerary(AE1))","v":83},{"$f":"INDEX(distance,numericItinerary(AF1))","v":84},{"$f":"INDEX(distance,numericItinerary(AG1))","v":84},{"$f":"INDEX(distance,numericItinerary(AH1))","v":87},{"$f":"INDEX(distance,numericItinerary(AI1))","v":88},{"$f":"INDEX(distance,numericItinerary(AJ1))","v":90},null,{"$f":"SUM(C3:AJ3)","v":2295}]
["Trail Camps",null,{"$f":"countcamps(itineraryTrail,numericItinerary(C$1))","v":5},{"$f":"countcamps(itineraryTrail,numericItinerary(D$1))","v":6},{"$f":"countcamps(itineraryTrail,numericItinerary(E$1))","v":4},{"$f":"countcamps(itineraryTrail,numericItinerary(F$1))","v":4},{"$f":"countcamps(itineraryTrail,numericItinerary(G$1))","v":5},{"$f":"countcamps(itineraryTrail,numericItinerary(H$1))","v":5},{"$f":"countcamps(itineraryTrail,numericItinerary(I$1))","v":6},{"$f":"countcamps(itineraryTrail,numericItinerary(J$1))","v":5},{"$f":"countcamps(itineraryTrail,numericItinerary(K$1))","v":6},{"$f":"countcamps(itineraryTrail,numericItinerary(L$1))","v":5},{"$f":"countcamps(itineraryTrail,numericItinerary(M$1))","v":5},{"$f":"countcamps(itineraryTrail,numericItinerary(N$1))","v":5},{"$f":"countcamps(itineraryTrail,numericItinerary(O$1))","v":6},{"$f":"countcamps(itineraryTrail,numericItinerary(P$1))","v":4},{"$f":"countcamps(itineraryTrail,numericItinerary(Q$1))","v":4},{"$f":"countcamps(itineraryTrail,numericItinerary(R$1))","v":4},{"$f":"countcamps(itineraryTrail,numericItinerary(S$1))","v":5},{"$f":"countcamps(itineraryTrail,numericItinerary(T$1))","v":6},{"$f":"countcamps(itineraryTrail,numericItinerary(U$1))","v":6},{"$f":"countcamps(itineraryTrail,numericItinerary(V$1))","v":6},{"$f":"countcamps(itineraryTrail,numericItinerary(W$1))","v":5},{"$f":"countcamps(itineraryTrail,numericItinerary(X$1))","v":5},{"$f":"countcamps(itineraryTrail,numericItinerary(Y$1))","v":5},{"$f":"countcamps(itineraryTrail,numericItinerary(Z$1))","v":5},{"$f":"countcamps(itineraryTrail,numericItinerary(AA$1))","v":5},{"$f":"countcamps(itineraryTrail,numericItinerary(AB$1))","v":6},{"$f":"countcamps(itineraryTrail,numericItinerary(AC$1))","v":6},{"$f":"countcamps(itineraryTrail,numericItinerary(AD$1))","v":5},{"$f":"countcamps(itineraryTrail,numericItinerary(AE$1))","v":6},{"$f":"countcamps(itineraryTrail,numericItinerary(AF$1))","v":6},{"$f":"countcamps(itineraryTrail,numericItinerary(AG$1))","v":6},{"$f":"countcamps(itineraryTrail,numericItinerary(AH$1))","v":7},{"$f":"countcamps(itineraryTrail,numericItinerary(AI$1))","v":6},{"$f":"countcamps(itineraryTrail,numericItinerary(AJ$1))","v":4},null,{"$f":"SUM(C4:AJ4)","v":179}]
["Dry Camps",null,{"$f":"countcamps(itineraryStaff,numericItinerary(C$1))","v":5},{"$f":"countcamps(itineraryStaff,numericItinerary(D$1))","v":4},{"$f":"countcamps(itineraryStaff,numericItinerary(E$1))","v":6},{"$f":"countcamps(itineraryStaff,numericItinerary(F$1))","v":6},{"$f":"countcamps(itineraryStaff,numericItinerary(G$1))","v":5},{"$f":"countcamps(itineraryStaff,numericItinerary(H$1))","v":5},{"$f":"countcamps(itineraryStaff,numericItinerary(I$1))","v":4},{"$f":"countcamps(itineraryStaff,numericItinerary(J$1))","v":5},{"$f":"countcamps(itineraryStaff,numericItinerary(K$1))","v":4},{"$f":"countcamps(itineraryStaff,numericItinerary(L$1))","v":5},{"$f":"countcamps(itineraryStaff,numericItinerary(M$1))","v":5},{"$f":"countcamps(itineraryStaff,numericItinerary(N$1))","v":5},{"$f":"countcamps(itineraryStaff,numericItinerary(O$1))","v":4},{"$f":"countcamps(itineraryStaff,numericItinerary(P$1))","v":6},{"$f":"countcamps(itineraryStaff,numericItinerary(Q$1))","v":6},{"$f":"countcamps(itineraryStaff,numericItinerary(R$1))","v":6},{"$f":"countcamps(itineraryStaff,numericItinerary(S$1))","v":5},{"$f":"countcamps(itineraryStaff,numericItinerary(T$1))","v":4},{"$f":"countcamps(itineraryStaff,numericItinerary(U$1))","v":4},{"$f":"countcamps(itineraryStaff,numericItinerary(V$1))","v":4},{"$f":"countcamps(itineraryStaff,numericItinerary(W$1))","v":5},{"$f":"countcamps(itineraryStaff,numericItinerary(X$1))","v":5},{"$f":"countcamps(itineraryStaff,numericItinerary(Y$1))","v":5},{"$f":"countcamps(itineraryStaff,numericItinerary(Z$1))","v":5},{"$f":"countcamps(itineraryStaff,numericItinerary(AA$1))","v":5},{"$f":"countcamps(itineraryStaff,numericItinerary(AB$1))","v":4},{"$f":"countcamps(itineraryStaff,numericItinerary(AC$1))","v":4},{"$f":"countcamps(itineraryStaff,numericItinerary(AD$1))","v":5},{"$f":"countcamps(itineraryStaff,numericItinerary(AE$1))","v":4},{"$f":"countcamps(itineraryStaff,numericItinerary(AF$1))","v":4},{"$f":"countcamps(itineraryStaff,numericItinerary(AG$1))","v":4},{"$f":"countcamps(itineraryStaff,numericItinerary(AH$1))","v":3},{"$f":"countcamps(itineraryStaff,numericItinerary(AI$1))","v":4},{"$f":"countcamps(itineraryStaff,numericItinerary(AJ$1))","v":6},null,{"$f":"SUM(C5:AJ5)","v":161}]
[{"$f":"INDEX(program_table,ROW()-5)","v":"Archaeology"},{"$f":"COUNTIF(C6:AJ6,\"X\")","v":8},{"$f":"getProgramXref($A6,numericItinerary(C$1))","v":""},{"$f":"getProgramXref($A6,numericItinerary(D$1))","v":""},{"$f":"getProgramXref($A6,numericItinerary(E$1))","v":""},{"$f":"getProgramXref($A6,numericItinerary(F$1))","v":""},{"$f":"getProgramXref($A6,numericItinerary(G$1))","v":"x"},{"$f":"getProgramXref($A6,numericItinerary(H$1))","v":""},{"$f":"getProgramXref($A6,numericItinerary(I$1))","v":""},{"$f":"getProgramXref($A6,numericItinerary(J$1))","v":""},{"$f":"getProgramXref($A6,numericItinerary(K$1))","v":""},{"$f":"getProgramXref($A6,numericItinerary(L$1))","v":"x"},{"$f":"getProgramXref($A6,numericItinerary(M$1))","v":""},{"$f":"getProgramXref($A6,numericItinerary(N$1))","v":""},{"$f":"getProgramXref($A6,numericItinerary(O$1))","v":""},{"$f":"getProgramXref($A6,numericItinerary(P$1))","v":""},{"$f":"getProgramXref($A6,numericItinerary(Q$1))","v":""},{"$f":"getProgramXref($A6,numericItinerary(R$1))","v":"x"},{"$f":"getProgramXref($A6,numericItinerary(S$1))","v":""},{"$f":"getProgramXref($A6,numericItinerary(T$1))","v":"x"},{"$f":"getProgramXref($A6,numericItinerary(U$1))","v":""},{"$f":"getProgramXref($A6,numericItinerary(V$1))","v":""},{"$f":"getProgramXref($A6,numericItinerary(W$1))","v":""},{"$f":"getProgramXref($A6,numericItinerary(X$1))","v":""},{"$f":"getProgramXref($A6,numericItinerary(Y$1))","v":"x"},{"$f":"getProgramXref($A6,numericItinerary(Z$1))","v":""},{"$f":"getProgramXref($A6,numericItinerary(AA$1))","v":""},{"$f":"getProgramXref($A6,numericItinerary(AB$1))","v":""},{"$f":"getProgramXref($A6,numericItinerary(AC$1))","v":"x"},{"$f":"getProgramXref($A6,numericItinerary(AD$1))","v":"x"},{"$f":"getProgramXref($A6,numericItinerary(AE$1))","v":""},{"$f":"getProgramXref($A6,numericItinerary(AF$1))","v":"x"},{"$f":"getProgramXref($A6,numericItinerary(AG$1))","v":""},{"$f":"getProgramXref($A6,numericItinerary(AH$1))","v":""},{"$f":"getProgramXref($A6,numericItinerary(AI$1))","v":""},{"$f":"getProgramXref($A6,numericItinerary(AJ$1))","v":""},null,{"$f":"COUNTIF(C6:AJ6,\"X\")","v":8}]
[{"$f":"INDEX(program_table,ROW()-5)","v":"Archery - 3 Dimensional"},17,{"$f":"getProgramXref($A7,numericItinerary(C$1))","v":""},{"$f":"getProgramXref($A7,numericItinerary(D$1))","v":"x"},{"$f":"getProgramXref($A7,numericItinerary(E$1))","v":""},{"$f":"getProgramXref($A7,numericItinerary(F$1))","v":""},{"$f":"getProgramXref($A7,numericItinerary(G$1))","v":"x"},{"$f":"getProgramXref($A7,numericItinerary(H$1))","v":"x"},{"$f":"getProgramXref($A7,numericItinerary(I$1))","v":"x"},{"$f":"getProgramXref($A7,numericItinerary(J$1))","v":""},{"$f":"getProgramXref($A7,numericItinerary(K$1))","v":"x"},{"$f":"getProgramXref($A7,numericItinerary(L$1))","v":""},{"$f":"getProgramXref($A7,numericItinerary(M$1))","v":""},{"$f":"getProgramXref($A7,numericItinerary(N$1))","v":"x"},{"$f":"getProgramXref($A7,numericItinerary(O$1))","v":"x"},{"$f":"getProgramXref($A7,numericItinerary(P$1))","v":"x"},{"$f":"getProgramXref($A7,numericItinerary(Q$1))","v":"x"},{"$f":"getProgramXref($A7,numericItinerary(R$1))","v":""},{"$f":"getProgramXref($A7,numericItinerary(S$1))","v":"x"},{"$f":"getProgramXref($A7,numericItinerary(T$1))","v":""},{"$f":"getProgramXref($A7,numericItinerary(U$1))","v":"x"},{"$f":"getProgramXref($A7,numericItinerary(V$1))","v":"x"},{"$f":"getProgramXref($A7,numericItinerary(W$1))","v":"x"},{"$f":"getProgramXref($A7,numericItinerary(X$1))","v":"x"},{"$f":"getProgramXref($A7,numericItinerary(Y$1))","v":""},{"$f":"getProgramXref($A7,numericItinerary(Z$1))","v":""},{"$f":"getProgramXref($A7,numericItinerary(AA$1))","v":""},{"$f":"getProgramXref($A7,numericItinerary(AB$1))","v":""},{"$f":"getProgramXref($A7,numericItinerary(AC$1))","v":""},{"$f":"getProgramXref($A7,numericItinerary(AD$1))","v":""},{"$f":"getProgramXref($A7,numericItinerary(AE$1))","v":"x"},{"$f":"getProgramXref($A7,numericItinerary(AF$1))","v":""},{"$f":"getProgramXref($A7,numericItinerary(AG$1))","v":"x"},{"$f":"getProgramXref($A7,numericItinerary(AH$1))","v":""},{"$f":"getProgramXref($A7,numericItinerary(AI$1))","v":"x"},{"$f":"getProgramXref($A7,numericItinerary(AJ$1))","v":""},null,17]
[{"$f":"INDEX(program_table,ROW()-5)","v":"Astronomy"},7,{"$f":"getProgramXref($A8,numericItinerary(C$1))","v":""},{"$f":"getProgramXref($A8,numericItinerary(D$1))","v":""},{"$f":"getProgramXref($A8,numericItinerary(E$1))","v":""},{"$f":"getProgramXref($A8,numericItinerary(F$1))","v":""},{"$f":"getProgramXref($A8,numericItinerary(G$1))","v":""},{"$f":"getProgramXref($A8,numericItinerary(H$1))","v":""},{"$f":"getProgramXref($A8,numericItinerary(I$1))","v":""},{"$f":"getProgramXref($A8,numericItinerary(J$1))","v":""},{"$f":"getProgramXref($A8,numericItinerary(K$1))","v":""},{"$f":"getProgramXref($A8,numericItinerary(L$1))","v":""},{"$f":"getProgramXref($A8,numericItinerary(M$1))","v":""},{"$f":"getProgramXref($A8,numericItinerary(N$1))","v":""},{"$f":"getProgramXref($A8,numericItinerary(O$1))","v":""},{"$f":"getProgramXref($A8,numericItinerary(P$1))","v":""},{"$f":"getProgramXref($A8,numericItinerary(Q$1))","v":""},{"$f":"getProgramXref($A8,numericItinerary(R$1))","v":"x"},{"$f":"getProgramXref($A8,numericItinerary(S$1))","v":""},{"$f":"getProgramXref($A8,numericItinerary(T$1))","v":"x"},{"$f":"getProgramXref($A8,numericItinerary(U$1))","v":""},{"$f":"getProgramXref($A8,numericItinerary(V$1))","v":""},{"$f":"getProgramXref($A8,numericItinerary(W$1))","v":""},{"$f":"getProgramXref($A8,numericItinerary(X$1))","v":""},{"$f":"getProgramXref($A8,numericItinerary(Y$1))","v":"x"},{"$f":"getProgramXref($A8,numericItinerary(Z$1))","v":""},{"$f":"getProgramXref($A8,numericItinerary(AA$1))","v":"x"},{"$f":"getProgramXref($A8,numericItinerary(AB$1))","v":"x"},{"$f":"getProgramXref($A8,numericItinerary(AC$1))","v":"x"},{"$f":"getProgramXref($A8,numericItinerary(AD$1))","v":""},{"$f":"getProgramXref($A8,numericItinerary(AE$1))","v":""},{"$f":"getProgramXref($A8,numericItinerary(AF$1))","v":"x"},{"$f":"getProgramXref($A8,numericItinerary(AG$1))","v":""},{"$f":"getProgramXref($A8,numericItinerary(AH$1))","v":""},{"$f":"getProgramXref($A8,numericItinerary(AI$1))","v":""},{"$f":"getProgramXref($A8,numericItinerary(AJ$1))","v":""},null,7]
[{"$f":"INDEX(program_table,ROW()-5)","v":"Atlatl (Dart-throwing)"},6,{"$f":"getProgramXref($A9,numericItinerary(C$1))","v":""},{"$f":"getProgramXref($A9,numericItinerary(D$1))","v":""},{"$f":"getProgramXref($A9,numericItinerary(E$1))","v":""},{"$f":"getProgramXref($A9,numericItinerary(F$1))","v":""},{"$f":"getProgramXref($A9,numericItinerary(G$1))","v":"x"},{"$f":"getProgramXref($A9,numericItinerary(H$1))","v":""},{"$f":"getProgramXref($A9,numericItinerary(I$1))","v":""},{"$f":"getProgramXref($A9,numericItinerary(J$1))","v":""},{"$f":"getProgramXref($A9,numericItinerary(K$1))","v":""},{"$f":"getProgramXref($A9,numericItinerary(L$1))","v":"x"},{"$f":"getProgramXref($A9,numericItinerary(M$1))","v":""},{"$f":"getProgramXref($A9,numericItinerary(N$1))","v":""},{"$f":"getProgramXref($A9,numericItinerary(O$1))","v":""},{"$f":"getProgramXref($A9,numericItinerary(P$1))","v":""},{"$f":"getProgramXref($A9,numericItinerary(Q$1))","v":""},{"$f":"getProgramXref($A9,numericItinerary(R$1))","v":""},{"$f":"getProgramXref($A9,numericItinerary(S$1))","v":""},{"$f":"getProgramXref($A9,numericItinerary(T$1))","v":"x"},{"$f":"getProgramXref($A9,numericItinerary(U$1))","v":""},{"$f":"getProgramXref($A9,numericItinerary(V$1))","v":""},{"$f":"getProgramXref($A9,numericItinerary(W$1))","v":""},{"$f":"getProgramXref($A9,numericItinerary(X$1))","v":""},{"$f":"getProgramXref($A9,numericItinerary(Y$1))","v":"x"},{"$f":"getProgramXref($A9,numericItinerary(Z$1))","v":""},{"$f":"getProgramXref($A9,numericItinerary(AA$1))","v":""},{"$f":"getProgramXref($A9,numericItinerary(AB$1))","v":""},{"$f":"getProgramXref($A9,numericItinerary(AC$1))","v":"x"},{"$f":"getProgramXref($A9,numericItinerary(AD$1))","v":"x"},{"$f":"getProgramXref($A9,numericItinerary(AE$1))","v":""},{"$f":"getProgramXref($A9,numericItinerary(AF$1))","v":""},{"$f":"getProgramXref($A9,numericItinerary(AG$1))","v":""},{"$f":"getProgramXref($A9,numericItinerary(AH$1))","v":""},{"$f":"getProgramXref($A9,numericItinerary(AI$1))","v":""},{"$f":"getProgramXref($A9,numericItinerary(AJ$1))","v":""},null,6]
[{"$f":"INDEX(program_table,ROW()-5)","v":"Baldy Mountain"},15,{"$f":"getProgramXref($A10,numericItinerary(C$1))","v":""},{"$f":"getProgramXref($A10,numericItinerary(D$1))","v":""},{"$f":"getProgramXref($A10,numericItinerary(E$1))","v":""},{"$f":"getProgramXref($A10,numericItinerary(F$1))","v":""},{"$f":"getProgramXref($A10,numericItinerary(G$1))","v":"x"},{"$f":"getProgramXref($A10,numericItinerary(H$1))","v":""},{"$f":"getProgramXref($A10,numericItinerary(I$1))","v":""},{"$f":"getProgramXref($A10,numericItinerary(J$1))","v":""},{"$f":"getProgramXref($A10,numericItinerary(K$1))","v":"x"},{"$f":"getProgramXref($A10,numericItinerary(L$1))","v":"x"},{"$f":"getProgramXref($A10,numericItinerary(M$1))","v":""},{"$f":"getProgramXref($A10,numericItinerary(N$1))","v":""},{"$f":"getProgramXref($A10,numericItinerary(O$1))","v":""},{"$f":"getProgramXref($A10,numericItinerary(P$1))","v":""},{"$f":"getProgramXref($A10,numericItinerary(Q$1))","v":""},{"$f":"getProgramXref($A10,numericItinerary(R$1))","v":"x"},{"$f":"getProgramXref($A10,numericItinerary(S$1))","v":""},{"$f":"getProgramXref($A10,numericItinerary(T$1))","v":"x"},{"$f":"getProgramXref($A10,numericItinerary(U$1))","v":""},{"$f":"getProgramXref($A10,numericItinerary(V$1))","v":"x"},{"$f":"getProgramXref($A10,numericItinerary(W$1))","v":""},{"$f":"getProgramXref($A10,numericItinerary(X$1))","v":""},{"$f":"getProgramXref($A10,numericItinerary(Y$1))","v":"x"},{"$f":"getProgramXref($A10,numericItinerary(Z$1))","v":""},{"$f":"getProgramXref($A10,numericItinerary(AA$1))","v":""},{"$f":"getProgramXref($A10,numericItinerary(AB$1))","v":"x"},{"$f":"getProgramXref($A10,numericItinerary(AC$1))","v":"x"},{"$f":"getProgramXref($A10,numericItinerary(AD$1))","v":""},{"$f":"getProgramXref($A10,numericItinerary(AE$1))","v":"x"},{"$f":"getProgramXref($A10,numericItinerary(AF$1))","v":"x"},{"$f":"getProgramXref($A10,numericItinerary(AG$1))","v":"x"},{"$f":"getProgramXref($A10,numericItinerary(AH$1))","v":"x"},{"$f":"getProgramXref($A10,numericItinerary(AI$1))","v":"x"},{"$f":"getProgramXref($A10,numericItinerary(AJ$1))","v":"x"},null,15]
[{"$f":"INDEX(program_table,ROW()-5)","v":"Blacksmithing"},26,{"$f":"getProgramXref($A11,numericItinerary(C$1))","v":"x"},{"$f":"getProgramXref($A11,numericItinerary(D$1))","v":"x"},{"$f":"getProgramXref($A11,numericItinerary(E$1))","v":"x"},{"$f":"getProgramXref($A11,numericItinerary(F$1))","v":"x"},{"$f":"getProgramXref($A11,numericItinerary(G$1))","v":"x"},{"$f":"getProgramXref($A11,numericItinerary(H$1))","v":""},{"$f":"getProgramXref($A11,numericItinerary(I$1))","v":""},{"$f":"getProgramXref($A11,numericItinerary(J$1))","v":""},{"$f":"getProgramXref($A11,numericItinerary(K$1))","v":"x"},{"$f":"getProgramXref($A11,numericItinerary(L$1))","v":"x"},{"$f":"getProgramXref($A11,numericItinerary(M$1))","v":"x"},{"$f":"getProgramXref($A11,numericItinerary(N$1))","v":""},{"$f":"getProgramXref($A11,numericItinerary(O$1))","v":"x"},{"$f":"getProgramXref($A11,numericItinerary(P$1))","v":"x"},{"$f":"getProgramXref($A11,numericItinerary(Q$1))","v":"x"},{"$f":"getProgramXref($A11,numericItinerary(R$1))","v":"x"},{"$f":"getProgramXref($A11,numericItinerary(S$1))","v":"x"},{"$f":"getProgramXref($A11,numericItinerary(T$1))","v":"x"},{"$f":"getProgramXref($A11,numericItinerary(U$1))","v":"x"},{"$f":"getProgramXref($A11,numericItinerary(V$1))","v":"x"},{"$f":"getProgramXref($A11,numericItinerary(W$1))","v":"x"},{"$f":"getProgramXref($A11,numericItinerary(X$1))","v":"x"},{"$f":"getProgramXref($A11,numericItinerary(Y$1))","v":"x"},{"$f":"getProgramXref($A11,numericItinerary(Z$1))","v":"x"},{"$f":"getProgramXref($A11,numericItinerary(AA$1))","v":"x"},{"$f":"getProgramXref($A11,numericItinerary(AB$1))","v":""},{"$f":"getProgramXref($A11,numericItinerary(AC$1))","v":""},{"$f":"getProgramXref($A11,numericItinerary(AD$1))","v":""},{"$f":"getProgramXref($A11,numericItinerary(AE$1))","v":"x"},{"$f":"getProgramXref($A11,numericItinerary(AF$1))","v":"x"},{"$f":"getProgramXref($A11,numericItinerary(AG$1))","v":""},{"$f":"getProgramXref($A11,numericItinerary(AH$1))","v":"x"},{"$f":"getProgramXref($A11,numericItinerary(AI$1))","v":"x"},{"$f":"getProgramXref($A11,numericItinerary(AJ$1))","v":"x"},null,26]
[{"$f":"INDEX(program_table,ROW()-5)","v":"Bouldering"},7,{"$f":"getProgramXref($A12,numericItinerary(C$1))","v":""},{"$f":"getProgramXref($A12,numericItinerary(D$1))","v":""},{"$f":"getProgramXref($A12,numericItinerary(E$1))","v":""},{"$f":"getProgramXref($A12,numericItinerary(F$1))","v":""},{"$f":"getProgramXref($A12,numericItinerary(G$1))","v":""},{"$f":"getProgramXref($A12,numericItinerary(H$1))","v":""},{"$f":"getProgramXref($A12,numericItinerary(I$1))","v":""},{"$f":"getProgramXref($A12,numericItinerary(J$1))","v":""},{"$f":"getProgramXref($A12,numericItinerary(K$1))","v":""},{"$f":"getProgramXref($A12,numericItinerary(L$1))","v":"x"},{"$f":"getProgramXref($A12,numericItinerary(M$1))","v":""},{"$f":"getProgramXref($A12,numericItinerary(N$1))","v":""},{"$f":"getProgramXref($A12,numericItinerary(O$1))","v":""},{"$f":"getProgramXref($A12,numericItinerary(P$1))","v":""},{"$f":"getProgramXref($A12,numericItinerary(Q$1))","v":""},{"$f":"getProgramXref($A12,numericItinerary(R$1))","v":""},{"$f":"getProgramXref($A12,numericItinerary(S$1))","v":""},{"$f":"getProgramXref($A12,numericItinerary(T$1))","v":"x"},{"$f":"getProgramXref($A12,numericItinerary(U$1))","v":""},{"$f":"getProgramXref($A12,numericItinerary(V$1))","v":""},{"$f":"getProgramXref($A12,numericItinerary(W$1))","v":""},{"$f":"getProgramXref($A12,numericItinerary(X$1))","v":""},{"$f":"getProgramXref($A12,numericItinerary(Y$1))","v":"x"},{"$f":"getProgramXref($A12,numericItinerary(Z$1))","v":""},{"$f":"getProgramXref($A12,numericItinerary(AA$1))","v":"x"},{"$f":"getProgramXref($A12,numericItinerary(AB$1))","v":""},{"$f":"getProgramXref($A12,numericItinerary(AC$1))","v":"x"},{"$f":"getProgramXref($A12,numericItinerary(AD$1))","v":"x"},{"$f":"getProgramXref($A12,numericItinerary(AE$1))","v":""},{"$f":"getProgramXref($A12,numericItinerary(AF$1))","v":"x"},{"$f":"getProgramXref($A12,numericItinerary(AG$1))","v":""},{"$f":"getProgramXref($A12,numericItinerary(AH$1))","v":""},{"$f":"getProgramXref($A12,numericItinerary(AI$1))","v":""},{"$f":"getProgramXref($A12,numericItinerary(AJ$1))","v":""},null,7]
[{"$f":"INDEX(program_table,ROW()-5)","v":"Burro Packing"},4,{"$f":"getProgramXref($A13,numericItinerary(C$1))","v":""},{"$f":"getProgramXref($A13,numericItinerary(D$1))","v":""},{"$f":"getProgramXref($A13,numericItinerary(E$1))","v":""},{"$f":"getProgramXref($A13,numericItinerary(F$1))","v":""},{"$f":"getProgramXref($A13,numericItinerary(G$1))","v":"x"},{"$f":"getProgramXref($A13,numericItinerary(H$1))","v":""},{"$f":"getProgramXref($A13,numericItinerary(I$1))","v":""},{"$f":"getProgramXref($A13,numericItinerary(J$1))","v":""},{"$f":"getProgramXref($A13,numericItinerary(K$1))","v":""},{"$f":"getProgramXref($A13,numericItinerary(L$1))","v":""},{"$f":"getProgramXref($A13,numericItinerary(M$1))","v":""},{"$f":"getProgramXref($A13,numericItinerary(N$1))","v":""},{"$f":"getProgramXref($A13,numericItinerary(O$1))","v":""},{"$f":"getProgramXref($A13,numericItinerary(P$1))","v":""},{"$f":"getProgramXref($A13,numericItinerary(Q$1))","v":""},{"$f":"getProgramXref($A13,numericItinerary(R$1))","v":"x"},{"$f":"getProgramXref($A13,numericItinerary(S$1))","v":""},{"$f":"getProgramXref($A13,numericItinerary(T$1))","v":""},{"$f":"getProgramXref($A13,numericItinerary(U$1))","v":""},{"$f":"getProgramXref($A13,numericItinerary(V$1))","v":""},{"$f":"getProgramXref($A13,numericItinerary(W$1))","v":""},{"$f":"getProgramXref($A13,numericItinerary(X$1))","v":""},{"$f":"getProgramXref($A13,numericItinerary(Y$1))","v":""},{"$f":"getProgramXref($A13,numericItinerary(Z$1))","v":""},{"$f":"getProgramXref($A13,numericItinerary(AA$1))","v":""},{"$f":"getProgramXref($A13,numericItinerary(AB$1))","v":""},{"$f":"getProgramXref($A13,numericItinerary(AC$1))","v":"x"},{"$f":"getProgramXref($A13,numericItinerary(AD$1))","v":""},{"$f":"getProgramXref($A13,numericItinerary(AE$1))","v":""},{"$f":"getProgramXref($A13,numericItinerary(AF$1))","v":""},{"$f":"getProgramXref($A13,numericItinerary(AG$1))","v":""},{"$f":"getProgramXref($A13,numericItinerary(AH$1))","v":"x"},{"$f":"getProgramXref($A13,numericItinerary(AI$1))","v":""},{"$f":"getProgramXref($A13,numericItinerary(AJ$1))","v":""},null,4]
[{"$f":"INDEX(program_table,ROW()-5)","v":"Campfire (evening)"},34,{"$f":"getProgramXref($A14,numericItinerary(C$1))","v":"x"},{"$f":"getProgramXref($A14,numericItinerary(D$1))","v":"x"},{"$f":"getProgramXref($A14,numericItinerary(E$1))","v":"x"},{"$f":"getProgramXref($A14,numericItinerary(F$1))","v":"x"},{"$f":"getProgramXref($A14,numericItinerary(G$1))","v":"x"},{"$f":"getProgramXref($A14,numericItinerary(H$1))","v":"x"},{"$f":"getProgramXref($A14,numericItinerary(I$1))","v":"x"},{"$f":"getProgramXref($A14,numericItinerary(J$1))","v":"x"},{"$f":"getProgramXref($A14,numericItinerary(K$1))","v":"x"},{"$f":"getProgramXref($A14,numericItinerary(L$1))","v":"x"},{"$f":"getProgramXref($A14,numericItinerary(M$1))","v":"x"},{"$f":"getProgramXref($A14,numericItinerary(N$1))","v":"x"},{"$f":"getProgramXref($A14,numericItinerary(O$1))","v":"x"},{"$f":"getProgramXref($A14,numericItinerary(P$1))","v":"x"},{"$f":"getProgramXref($A14,numericItinerary(Q$1))","v":"x"},{"$f":"getProgramXref($A14,numericItinerary(R$1))","v":"x"},{"$f":"getProgramXref($A14,numericItinerary(S$1))","v":"x"},{"$f":"getProgramXref($A14,numericItinerary(T$1))","v":"x"},{"$f":"getProgramXref($A14,numericItinerary(U$1))","v":"x"},{"$f":"getProgramXref($A14,numericItinerary(V$1))","v":"x"},{"$f":"getProgramXref($A14,numericItinerary(W$1))","v":"x"},{"$f":"getProgramXref($A14,numericItinerary(X$1))","v":"x"},{"$f":"getProgramXref($A14,numericItinerary(Y$1))","v":"x"},{"$f":"getProgramXref($A14,numericItinerary(Z$1))","v":"x"},{"$f":"getProgramXref($A14,numericItinerary(AA$1))","v":"x"},{"$f":"getProgramXref($A14,numericItinerary(AB$1))","v":"x"},{"$f":"getProgramXref($A14,numericItinerary(AC$1))","v":"x"},{"$f":"getProgramXref($A14,numericItinerary(AD$1))","v":"x"},{"$f":"getProgramXref($A14,numericItinerary(AE$1))","v":"x"},{"$f":"getProgramXref($A14,numericItinerary(AF$1))","v":"x"},{"$f":"getProgramXref($A14,numericItinerary(AG$1))","v":"x"},{"$f":"getProgramXref($A14,numericItinerary(AH$1))","v":"x"},{"$f":"getProgramXref($A14,numericItinerary(AI$1))","v":"x"},{"$f":"getProgramXref($A14,numericItinerary(AJ$1))","v":"x"},null,34]
[{"$f":"INDEX(program_table,ROW()-5)","v":"Cantina"},20,{"$f":"getProgramXref($A15,numericItinerary(C$1))","v":""},{"$f":"getProgramXref($A15,numericItinerary(D$1))","v":""},{"$f":"getProgramXref($A15,numericItinerary(E$1))","v":""},{"$f":"getProgramXref($A15,numericItinerary(F$1))","v":""},{"$f":"getProgramXref($A15,numericItinerary(G$1))","v":"x"},{"$f":"getProgramXref($A15,numericItinerary(H$1))","v":"x"},{"$f":"getProgramXref($A15,numericItinerary(I$1))","v":"x"},{"$f":"getProgramXref($A15,numericItinerary(J$1))","v":""},{"$f":"getProgramXref($A15,numericItinerary(K$1))","v":"x"},{"$f":"getProgramXref($A15,numericItinerary(L$1))","v":"x"},{"$f":"getProgramXref($A15,numericItinerary(M$1))","v":"x"},{"$f":"getProgramXref($A15,numericItinerary(N$1))","v":"x"},{"$f":"getProgramXref($A15,numericItinerary(O$1))","v":"x"},{"$f":"getProgramXref($A15,numericItinerary(P$1))","v":"x"},{"$f":"getProgramXref($A15,numericItinerary(Q$1))","v":""},{"$f":"getProgramXref($A15,numericItinerary(R$1))","v":"x"},{"$f":"getProgramXref($A15,numericItinerary(S$1))","v":""},{"$f":"getProgramXref($A15,numericItinerary(T$1))","v":""},{"$f":"getProgramXref($A15,numericItinerary(U$1))","v":"x"},{"$f":"getProgramXref($A15,numericItinerary(V$1))","v":"x"},{"$f":"getProgramXref($A15,numericItinerary(W$1))","v":"x"},{"$f":"getProgramXref($A15,numericItinerary(X$1))","v":"x"},{"$f":"getProgramXref($A15,numericItinerary(Y$1))","v":""},{"$f":"getProgramXref($A15,numericItinerary(Z$1))","v":"x"},{"$f":"getProgramXref($A15,numericItinerary(AA$1))","v":""},{"$f":"getProgramXref($A15,numericItinerary(AB$1))","v":"x"},{"$f":"getProgramXref($A15,numericItinerary(AC$1))","v":"x"},{"$f":"getProgramXref($A15,numericItinerary(AD$1))","v":"x"},{"$f":"getProgramXref($A15,numericItinerary(AE$1))","v":"x"},{"$f":"getProgramXref($A15,numericItinerary(AF$1))","v":""},{"$f":"getProgramXref($A15,numericItinerary(AG$1))","v":""},{"$f":"getProgramXref($A15,numericItinerary(AH$1))","v":"x"},{"$f":"getProgramXref($A15,numericItinerary(AI$1))","v":""},{"$f":"getProgramXref($A15,numericItinerary(AJ$1))","v":""},null,20]
[{"$f":"INDEX(program_table,ROW()-5)","v":"Challenge Events"},22,{"$f":"getProgramXref($A16,numericItinerary(C$1))","v":"x"},{"$f":"getProgramXref($A16,numericItinerary(D$1))","v":""},{"$f":"getProgramXref($A16,numericItinerary(E$1))","v":"x"},{"$f":"getProgramXref($A16,numericItinerary(F$1))","v":""},{"$f":"getProgramXref($A16,numericItinerary(G$1))","v":"x"},{"$f":"getProgramXref($A16,numericItinerary(H$1))","v":""},{"$f":"getProgramXref($A16,numericItinerary(I$1))","v":""},{"$f":"getProgramXref($A16,numericItinerary(J$1))","v":"x"},{"$f":"getProgramXref($A16,numericItinerary(K$1))","v":"x"},{"$f":"getProgramXref($A16,numericItinerary(L$1))","v":"x"},{"$f":"getProgramXref($A16,numericItinerary(M$1))","v":""},{"$f":"getProgramXref($A16,numericItinerary(N$1))","v":""},{"$f":"getProgramXref($A16,numericItinerary(O$1))","v":""},{"$f":"getProgramXref($A16,numericItinerary(P$1))","v":""},{"$f":"getProgramXref($A16,numericItinerary(Q$1))","v":""},{"$f":"getProgramXref($A16,numericItinerary(R$1))","v":"x"},{"$f":"getProgramXref($A16,numericItinerary(S$1))","v":"x"},{"$f":"getProgramXref($A16,numericItinerary(T$1))","v":"x"},{"$f":"getProgramXref($A16,numericItinerary(U$1))","v":"x"},{"$f":"getProgramXref($A16,numericItinerary(V$1))","v":"x"},{"$f":"getProgramXref($A16,numericItinerary(W$1))","v":""},{"$f":"getProgramXref($A16,numericItinerary(X$1))","v":"x"},{"$f":"getProgramXref($A16,numericItinerary(Y$1))","v":"x"},{"$f":"getProgramXref($A16,numericItinerary(Z$1))","v":"x"},{"$f":"getProgramXref($A16,numericItinerary(AA$1))","v":"x"},{"$f":"getProgramXref($A16,numericItinerary(AB$1))","v":""},{"$f":"getProgramXref($A16,numericItinerary(AC$1))","v":"x"},{"$f":"getProgramXref($A16,numericItinerary(AD$1))","v":""},{"$f":"getProgramXref($A16,numericItinerary(AE$1))","v":"x"},{"$f":"getProgramXref($A16,numericItinerary(AF$1))","v":"x"},{"$f":"getProgramXref($A16,numericItinerary(AG$1))","v":"x"},{"$f":"getProgramXref($A16,numericItinerary(AH$1))","v":"x"},{"$f":"getProgramXref($A16,numericItinerary(AI$1))","v":"x"},{"$f":"getProgramXref($A16,numericItinerary(AJ$1))","v":"x"},null,22]
[{"$f":"INDEX(program_table,ROW()-5)","v":"Chuckwagon Dinner"},26,{"$f":"getProgramXref($A17,numericItinerary(C$1))","v":"x"},{"$f":"getProgramXref($A17,numericItinerary(D$1))","v":"x"},{"$f":"getProgramXref($A17,numericItinerary(E$1))","v":""},{"$f":"getProgramXref($A17,numericItinerary(F$1))","v":"x"},{"$f":"getProgramXref($A17,numericItinerary(G$1))","v":"x"},{"$f":"getProgramXref($A17,numericItinerary(H$1))","v":"x"},{"$f":"getProgramXref($A17,numericItinerary(I$1))","v":"x"},{"$f":"getProgramXref($A17,numericItinerary(J$1))","v":"x"},{"$f":"getProgramXref($A17,numericItinerary(K$1))","v":"x"},{"$f":"getProgramXref($A17,numericItinerary(L$1))","v":"x"},{"$f":"getProgramXref($A17,numericItinerary(M$1))","v":"x"},{"$f":"getProgramXref($A17,numericItinerary(N$1))","v":"x"},{"$f":"getProgramXref($A17,numericItinerary(O$1))","v":"x"},{"$f":"getProgramXref($A17,numericItinerary(P$1))","v":"x"},{"$f":"getProgramXref($A17,numericItinerary(Q$1))","v":"x"},{"$f":"getProgramXref($A17,numericItinerary(R$1))","v":"x"},{"$f":"getProgramXref($A17,numericItinerary(S$1))","v":"x"},{"$f":"getProgramXref($A17,numericItinerary(T$1))","v":""},{"$f":"getProgramXref($A17,numericItinerary(U$1))","v":""},{"$f":"getProgramXref($A17,numericItinerary(V$1))","v":"x"},{"$f":"getProgramXref($A17,numericItinerary(W$1))","v":""},{"$f":"getProgramXref($A17,numericItinerary(X$1))","v":"x"},{"$f":"getProgramXref($A17,numericItinerary(Y$1))","v":""},{"$f":"getProgramXref($A17,numericItinerary(Z$1))","v":"x"},{"$f":"getProgramXref($A17,numericItinerary(AA$1))","v":""},{"$f":"getProgramXref($A17,numericItinerary(AB$1))","v":"x"},{"$f":"getProgramXref($A17,numericItinerary(AC$1))","v":"x"},{"$f":"getProgramXref($A17,numericItinerary(AD$1))","v":"x"},{"$f":"getProgramXref($A17,numericItinerary(AE$1))","v":"x"},{"$f":"getProgramXref($A17,numericItinerary(AF$1))","v":""},{"$f":"getProgramXref($A17,numericItinerary(AG$1))","v":"x"},{"$f":"getProgramXref($A17,numericItinerary(AH$1))","v":"x"},{"$f":"getProgramXref($A17,numericItinerary(AI$1))","v":""},{"$f":"getProgramXref($A17,numericItinerary(AJ$1))","v":"x"},null,26]
[{"$f":"INDEX(program_table,ROW()-5)","v":"Cowboy Action Shooting"},4,{"$f":"getProgramXref($A18,numericItinerary(C$1))","v":""},{"$f":"getProgramXref($A18,numericItinerary(D$1))","v":""},{"$f":"getProgramXref($A18,numericItinerary(E$1))","v":""},{"$f":"getProgramXref($A18,numericItinerary(F$1))","v":""},{"$f":"getProgramXref($A18,numericItinerary(G$1))","v":""},{"$f":"getProgramXref($A18,numericItinerary(H$1))","v":""},{"$f":"getProgramXref($A18,numericItinerary(I$1))","v":""},{"$f":"getProgramXref($A18,numericItinerary(J$1))","v":""},{"$f":"getProgramXref($A18,numericItinerary(K$1))","v":"x"},{"$f":"getProgramXref($A18,numericItinerary(L$1))","v":"x"},{"$f":"getProgramXref($A18,numericItinerary(M$1))","v":""},{"$f":"getProgramXref($A18,numericItinerary(N$1))","v":""},{"$f":"getProgramXref($A18,numericItinerary(O$1))","v":""},{"$f":"getProgramXref($A18,numericItinerary(P$1))","v":""},{"$f":"getProgramXref($A18,numericItinerary(Q$1))","v":""},{"$f":"getProgramXref($A18,numericItinerary(R$1))","v":"x"},{"$f":"getProgramXref($A18,numericItinerary(S$1))","v":""},{"$f":"getProgramXref($A18,numericItinerary(T$1))","v":""},{"$f":"getProgramXref($A18,numericItinerary(U$1))","v":""},{"$f":"getProgramXref($A18,numericItinerary(V$1))","v":""},{"$f":"getProgramXref($A18,numericItinerary(W$1))","v":""},{"$f":"getProgramXref($A18,numericItinerary(X$1))","v":""},{"$f":"getProgramXref($A18,numericItinerary(Y$1))","v":""},{"$f":"getProgramXref($A18,numericItinerary(Z$1))","v":""},{"$f":"getProgramXref($A18,numericItinerary(AA$1))","v":""},{"$f":"getProgramXref($A18,numericItinerary(AB$1))","v":"x"},{"$f":"getProgramXref($A18,numericItinerary(AC$1))","v":""},{"$f":"getProgramXref($A18,numericItinerary(AD$1))","v":""},{"$f":"getProgramXref($A18,numericItinerary(AE$1))","v":""},{"$f":"getProgramXref($A18,numericItinerary(AF$1))","v":""},{"$f":"getProgramXref($A18,numericItinerary(AG$1))","v":""},{"$f":"getProgramXref($A18,numericItinerary(AH$1))","v":""},{"$f":"getProgramXref($A18,numericItinerary(AI$1))","v":""},{"$f":"getProgramXref($A18,numericItinerary(AJ$1))","v":""},null,4]
[{"$f":"INDEX(program_table,ROW()-5)","v":"Demonstration Forest"},16,{"$f":"getProgramXref($A19,numericItinerary(C$1))","v":""},{"$f":"getProgramXref($A19,numericItinerary(D$1))","v":"x"},{"$f":"getProgramXref($A19,numericItinerary(E$1))","v":"x"},{"$f":"getProgramXref($A19,numericItinerary(F$1))","v":"x"},{"$f":"getProgramXref($A19,numericItinerary(G$1))","v":""},{"$f":"getProgramXref($A19,numericItinerary(H$1))","v":""},{"$f":"getProgramXref($A19,numericItinerary(I$1))","v":""},{"$f":"getProgramXref($A19,numericItinerary(J$1))","v":"x"},{"$f":"getProgramXref($A19,numericItinerary(K$1))","v":""},{"$f":"getProgramXref($A19,numericItinerary(L$1))","v":""},{"$f":"getProgramXref($A19,numericItinerary(M$1))","v":"x"},{"$f":"getProgramXref($A19,numericItinerary(N$1))","v":""},{"$f":"getProgramXref($A19,numericItinerary(O$1))","v":""},{"$f":"getProgramXref($A19,numericItinerary(P$1))","v":"x"},{"$f":"getProgramXref($A19,numericItinerary(Q$1))","v":"x"},{"$f":"getProgramXref($A19,numericItinerary(R$1))","v":""},{"$f":"getProgramXref($A19,numericItinerary(S$1))","v":"x"},{"$f":"getProgramXref($A19,numericItinerary(T$1))","v":""},{"$f":"getProgramXref($A19,numericItinerary(U$1))","v":"x"},{"$f":"getProgramXref($A19,numericItinerary(V$1))","v":""},{"$f":"getProgramXref($A19,numericItinerary(W$1))","v":"x"},{"$f":"getProgramXref($A19,numericItinerary(X$1))","v":"x"},{"$f":"getProgramXref($A19,numericItinerary(Y$1))","v":""},{"$f":"getProgramXref($A19,numericItinerary(Z$1))","v":"x"},{"$f":"getProgramXref($A19,numericItinerary(AA$1))","v":""},{"$f":"getProgramXref($A19,numericItinerary(AB$1))","v":""},{"$f":"getProgramXref($A19,numericItinerary(AC$1))","v":""},{"$f":"getProgramXref($A19,numericItinerary(AD$1))","v":"x"},{"$f":"getProgramXref($A19,numericItinerary(AE$1))","v":""},{"$f":"getProgramXref($A19,numericItinerary(AF$1))","v":""},{"$f":"getProgramXref($A19,numericItinerary(AG$1))","v":""},{"$f":"getProgramXref($A19,numericItinerary(AH$1))","v":"x"},{"$f":"getProgramXref($A19,numericItinerary(AI$1))","v":"x"},{"$f":"getProgramXref($A19,numericItinerary(AJ$1))","v":"x"},null,16]
[{"$f":"INDEX(program_table,ROW()-5)","v":"Fishing"},6,{"$f":"getProgramXref($A20,numericItinerary(C$1))","v":""},{"$f":"getProgramXref($A20,numericItinerary(D$1))","v":""},{"$f":"getProgramXref($A20,numericItinerary(E$1))","v":""},{"$f":"getProgramXref($A20,numericItinerary(F$1))","v":""},{"$f":"getProgramXref($A20,numericItinerary(G$1))","v":""},{"$f":"getProgramXref($A20,numericItinerary(H$1))","v":"x"},{"$f":"getProgramXref($A20,numericItinerary(I$1))","v":""},{"$f":"getProgramXref($A20,numericItinerary(J$1))","v":""},{"$f":"getProgramXref($A20,numericItinerary(K$1))","v":""},{"$f":"getProgramXref($A20,numericItinerary(L$1))","v":""},{"$f":"getProgramXref($A20,numericItinerary(M$1))","v":""},{"$f":"getProgramXref($A20,numericItinerary(N$1))","v":"x"},{"$f":"getProgramXref($A20,numericItinerary(O$1))","v":""},{"$f":"getProgramXref($A20,numericItinerary(P$1))","v":""},{"$f":"getProgramXref($A20,numericItinerary(Q$1))","v":"x"},{"$f":"getProgramXref($A20,numericItinerary(R$1))","v":""},{"$f":"getProgramXref($A20,numericItinerary(S$1))","v":"x"},{"$f":"getProgramXref($A20,numericItinerary(T$1))","v":""},{"$f":"getProgramXref($A20,numericItinerary(U$1))","v":""},{"$f":"getProgramXref($A20,numericItinerary(V$1))","v":""},{"$f":"getProgramXref($A20,numericItinerary(W$1))","v":"x"},{"$f":"getProgramXref($A20,numericItinerary(X$1))","v":"x"},{"$f":"getProgramXref($A20,numericItinerary(Y$1))","v":""},{"$f":"getProgramXref($A20,numericItinerary(Z$1))","v":""},{"$f":"getProgramXref($A20,numericItinerary(AA$1))","v":""},{"$f":"getProgramXref($A20,numericItinerary(AB$1))","v":""},{"$f":"getProgramXref($A20,numericItinerary(AC$1))","v":""},{"$f":"getProgramXref($A20,numericItinerary(AD$1))","v":""},{"$f":"getProgramXref($A20,numericItinerary(AE$1))","v":""},{"$f":"getProgramXref($A20,numericItinerary(AF$1))","v":""},{"$f":"getProgramXref($A20,numericItinerary(AG$1))","v":""},{"$f":"getProgramXref($A20,numericItinerary(AH$1))","v":""},{"$f":"getProgramXref($A20,numericItinerary(AI$1))","v":""},{"$f":"getProgramXref($A20,numericItinerary(AJ$1))","v":""},null,6]
[{"$f":"INDEX(program_table,ROW()-5)","v":"Fly Tying"},4,{"$f":"getProgramXref($A21,numericItinerary(C$1))","v":""},{"$f":"getProgramXref($A21,numericItinerary(D$1))","v":""},{"$f":"getProgramXref($A21,numericItinerary(E$1))","v":""},{"$f":"getProgramXref($A21,numericItinerary(F$1))","v":""},{"$f":"getProgramXref($A21,numericItinerary(G$1))","v":""},{"$f":"getProgramXref($A21,numericItinerary(H$1))","v":"x"},{"$f":"getProgramXref($A21,numericItinerary(I$1))","v":""},{"$f":"getProgramXref($A21,numericItinerary(J$1))","v":""},{"$f":"getProgramXref($A21,numericItinerary(K$1))","v":""},{"$f":"getProgramXref($A21,numericItinerary(L$1))","v":""},{"$f":"getProgramXref($A21,numericItinerary(M$1))","v":""},{"$f":"getProgramXref($A21,numericItinerary(N$1))","v":"x"},{"$f":"getProgramXref($A21,numericItinerary(O$1))","v":""},{"$f":"getProgramXref($A21,numericItinerary(P$1))","v":""},{"$f":"getProgramXref($A21,numericItinerary(Q$1))","v":""},{"$f":"getProgramXref($A21,numericItinerary(R$1))","v":""},{"$f":"getProgramXref($A21,numericItinerary(S$1))","v":"x"},{"$f":"getProgramXref($A21,numericItinerary(T$1))","v":""},{"$f":"getProgramXref($A21,numericItinerary(U$1))","v":""},{"$f":"getProgramXref($A21,numericItinerary(V$1))","v":""},{"$f":"getProgramXref($A21,numericItinerary(W$1))","v":""},{"$f":"getProgramXref($A21,numericItinerary(X$1))","v":"x"},{"$f":"getProgramXref($A21,numericItinerary(Y$1))","v":""},{"$f":"getProgramXref($A21,numericItinerary(Z$1))","v":""},{"$f":"getProgramXref($A21,numericItinerary(AA$1))","v":""},{"$f":"getProgramXref($A21,numericItinerary(AB$1))","v":""},{"$f":"getProgramXref($A21,numericItinerary(AC$1))","v":""},{"$f":"getProgramXref($A21,numericItinerary(AD$1))","v":""},{"$f":"getProgramXref($A21,numericItinerary(AE$1))","v":""},{"$f":"getProgramXref($A21,numericItinerary(AF$1))","v":""},{"$f":"getProgramXref($A21,numericItinerary(AG$1))","v":""},{"$f":"getProgramXref($A21,numericItinerary(AH$1))","v":""},{"$f":"getProgramXref($A21,numericItinerary(AI$1))","v":""},{"$f":"getProgramXref($A21,numericItinerary(AJ$1))","v":""},null,4]
[{"$f":"INDEX(program_table,ROW()-5)","v":"Fur Trapper Rendezvous"},10,{"$f":"getProgramXref($A22,numericItinerary(C$1))","v":""},{"$f":"getProgramXref($A22,numericItinerary(D$1))","v":""},{"$f":"getProgramXref($A22,numericItinerary(E$1))","v":""},{"$f":"getProgramXref($A22,numericItinerary(F$1))","v":""},{"$f":"getProgramXref($A22,numericItinerary(G$1))","v":"x"},{"$f":"getProgramXref($A22,numericItinerary(H$1))","v":""},{"$f":"getProgramXref($A22,numericItinerary(I$1))","v":""},{"$f":"getProgramXref($A22,numericItinerary(J$1))","v":""},{"$f":"getProgramXref($A22,numericItinerary(K$1))","v":"x"},{"$f":"getProgramXref($A22,numericItinerary(L$1))","v":"x"},{"$f":"getProgramXref($A22,numericItinerary(M$1))","v":""},{"$f":"getProgramXref($A22,numericItinerary(N$1))","v":""},{"$f":"getProgramXref($A22,numericItinerary(O$1))","v":""},{"$f":"getProgramXref($A22,numericItinerary(P$1))","v":""},{"$f":"getProgramXref($A22,numericItinerary(Q$1))","v":""},{"$f":"getProgramXref($A22,numericItinerary(R$1))","v":"x"},{"$f":"getProgramXref($A22,numericItinerary(S$1))","v":""},{"$f":"getProgramXref($A22,numericItinerary(T$1))","v":"x"},{"$f":"getProgramXref($A22,numericItinerary(U$1))","v":""},{"$f":"getProgramXref($A22,numericItinerary(V$1))","v":"x"},{"$f":"getProgramXref($A22,numericItinerary(W$1))","v":""},{"$f":"getProgramXref($A22,numericItinerary(X$1))","v":""},{"$f":"getProgramXref($A22,numericItinerary(Y$1))","v":"x"},{"$f":"getProgramXref($A22,numericItinerary(Z$1))","v":""},{"$f":"getProgramXref($A22,numericItinerary(AA$1))","v":""},{"$f":"getProgramXref($A22,numericItinerary(AB$1))","v":""},{"$f":"getProgramXref($A22,numericItinerary(AC$1))","v":"x"},{"$f":"getProgramXref($A22,numericItinerary(AD$1))","v":""},{"$f":"getProgramXref($A22,numericItinerary(AE$1))","v":""},{"$f":"getProgramXref($A22,numericItinerary(AF$1))","v":""},{"$f":"getProgramXref($A22,numericItinerary(AG$1))","v":""},{"$f":"getProgramXref($A22,numericItinerary(AH$1))","v":"x"},{"$f":"getProgramXref($A22,numericItinerary(AI$1))","v":"x"},{"$f":"getProgramXref($A22,numericItinerary(AJ$1))","v":""},null,10]
[{"$f":"INDEX(program_table,ROW()-5)","v":"Gold Mining & Panning"},27,{"$f":"getProgramXref($A23,numericItinerary(C$1))","v":""},{"$f":"getProgramXref($A23,numericItinerary(D$1))","v":"x"},{"$f":"getProgramXref($A23,numericItinerary(E$1))","v":"x"},{"$f":"getProgramXref($A23,numericItinerary(F$1))","v":"x"},{"$f":"getProgramXref($A23,numericItinerary(G$1))","v":"x"},{"$f":"getProgramXref($A23,numericItinerary(H$1))","v":""},{"$f":"getProgramXref($A23,numericItinerary(I$1))","v":""},{"$f":"getProgramXref($A23,numericItinerary(J$1))","v":"x"},{"$f":"getProgramXref($A23,numericItinerary(K$1))","v":"x"},{"$f":"getProgramXref($A23,numericItinerary(L$1))","v":"x"},{"$f":"getProgramXref($A23,numericItinerary(M$1))","v":"x"},{"$f":"getProgramXref($A23,numericItinerary(N$1))","v":""},{"$f":"getProgramXref($A23,numericItinerary(O$1))","v":""},{"$f":"getProgramXref($A23,numericItinerary(P$1))","v":"x"},{"$f":"getProgramXref($A23,numericItinerary(Q$1))","v":"x"},{"$f":"getProgramXref($A23,numericItinerary(R$1))","v":"x"},{"$f":"getProgramXref($A23,numericItinerary(S$1))","v":"x"},{"$f":"getProgramXref($A23,numericItinerary(T$1))","v":"x"},{"$f":"getProgramXref($A23,numericItinerary(U$1))","v":"x"},{"$f":"getProgramXref($A23,numericItinerary(V$1))","v":"x"},{"$f":"getProgramXref($A23,numericItinerary(W$1))","v":"x"},{"$f":"getProgramXref($A23,numericItinerary(X$1))","v":"x"},{"$f":"getProgramXref($A23,numericItinerary(Y$1))","v":"x"},{"$f":"getProgramXref($A23,numericItinerary(Z$1))","v":"x"},{"$f":"getProgramXref($A23,numericItinerary(AA$1))","v":""},{"$f":"getProgramXref($A23,numericItinerary(AB$1))","v":"x"},{"$f":"getProgramXref($A23,numericItinerary(AC$1))","v":"x"},{"$f":"getProgramXref($A23,numericItinerary(AD$1))","v":"x"},{"$f":"getProgramXref($A23,numericItinerary(AE$1))","v":"x"},{"$f":"getProgramXref($A23,numericItinerary(AF$1))","v":"x"},{"$f":"getProgramXref($A23,numericItinerary(AG$1))","v":"x"},{"$f":"getProgramXref($A23,numericItinerary(AH$1))","v":"x"},{"$f":"getProgramXref($A23,numericItinerary(AI$1))","v":"x"},{"$f":"getProgramXref($A23,numericItinerary(AJ$1))","v":""},null,27]
[{"$f":"INDEX(program_table,ROW()-5)","v":"High Ropes & Climbing Tower"},4,{"$f":"getProgramXref($A24,numericItinerary(C$1))","v":"x"},{"$f":"getProgramXref($A24,numericItinerary(D$1))","v":""},{"$f":"getProgramXref($A24,numericItinerary(E$1))","v":"x"},{"$f":"getProgramXref($A24,numericItinerary(F$1))","v":""},{"$f":"getProgramXref($A24,numericItinerary(G$1))","v":""},{"$f":"getProgramXref($A24,numericItinerary(H$1))","v":""},{"$f":"getProgramXref($A24,numericItinerary(I$1))","v":""},{"$f":"getProgramXref($A24,numericItinerary(J$1))","v":""},{"$f":"getProgramXref($A24,numericItinerary(K$1))","v":""},{"$f":"getProgramXref($A24,numericItinerary(L$1))","v":""},{"$f":"getProgramXref($A24,numericItinerary(M$1))","v":""},{"$f":"getProgramXref($A24,numericItinerary(N$1))","v":""},{"$f":"getProgramXref($A24,numericItinerary(O$1))","v":"x"},{"$f":"getProgramXref($A24,numericItinerary(P$1))","v":""},{"$f":"getProgramXref($A24,numericItinerary(Q$1))","v":""},{"$f":"getProgramXref($A24,numericItinerary(R$1))","v":""},{"$f":"getProgramXref($A24,numericItinerary(S$1))","v":""},{"$f":"getProgramXref($A24,numericItinerary(T$1))","v":""},{"$f":"getProgramXref($A24,numericItinerary(U$1))","v":"x"},{"$f":"getProgramXref($A24,numericItinerary(V$1))","v":""},{"$f":"getProgramXref($A24,numericItinerary(W$1))","v":""},{"$f":"getProgramXref($A24,numericItinerary(X$1))","v":""},{"$f":"getProgramXref($A24,numericItinerary(Y$1))","v":""},{"$f":"getProgramXref($A24,numericItinerary(Z$1))","v":""},{"$f":"getProgramXref($A24,numericItinerary(AA$1))","v":""},{"$f":"getProgramXref($A24,numericItinerary(AB$1))","v":""},{"$f":"getProgramXref($A24,numericItinerary(AC$1))","v":""},{"$f":"getProgramXref($A24,numericItinerary(AD$1))","v":""},{"$f":"getProgramXref($A24,numericItinerary(AE$1))","v":""},{"$f":"getProgramXref($A24,numericItinerary(AF$1))","v":""},{"$f":"getProgramXref($A24,numericItinerary(AG$1))","v":""},{"$f":"getProgramXref($A24,numericItinerary(AH$1))","v":""},{"$f":"getProgramXref($A24,numericItinerary(AI$1))","v":""},{"$f":"getProgramXref($A24,numericItinerary(AJ$1))","v":""},null,4]
[{"$f":"INDEX(program_table,ROW()-5)","v":"Historic Chase Ranch"},6,{"$f":"getProgramXref($A25,numericItinerary(C$1))","v":""},{"$f":"getProgramXref($A25,numericItinerary(D$1))","v":""},{"$f":"getProgramXref($A25,numericItinerary(E$1))","v":""},{"$f":"getProgramXref($A25,numericItinerary(F$1))","v":""},{"$f":"getProgramXref($A25,numericItinerary(G$1))","v":""},{"$f":"getProgramXref($A25,numericItinerary(H$1))","v":""},{"$f":"getProgramXref($A25,numericItinerary(I$1))","v":""},{"$f":"getProgramXref($A25,numericItinerary(J$1))","v":""},{"$f":"getProgramXref($A25,numericItinerary(K$1))","v":""},{"$f":"getProgramXref($A25,numericItinerary(L$1))","v":"x"},{"$f":"getProgramXref($A25,numericItinerary(M$1))","v":""},{"$f":"getProgramXref($A25,numericItinerary(N$1))","v":""},{"$f":"getProgramXref($A25,numericItinerary(O$1))","v":""},{"$f":"getProgramXref($A25,numericItinerary(P$1))","v":""},{"$f":"getProgramXref($A25,numericItinerary(Q$1))","v":""},{"$f":"getProgramXref($A25,numericItinerary(R$1))","v":""},{"$f":"getProgramXref($A25,numericItinerary(S$1))","v":""},{"$f":"getProgramXref($A25,numericItinerary(T$1))","v":""},{"$f":"getProgramXref($A25,numericItinerary(U$1))","v":""},{"$f":"getProgramXref($A25,numericItinerary(V$1))","v":""},{"$f":"getProgramXref($A25,numericItinerary(W$1))","v":""},{"$f":"getProgramXref($A25,numericItinerary(X$1))","v":""},{"$f":"getProgramXref($A25,numericItinerary(Y$1))","v":"x"},{"$f":"getProgramXref($A25,numericItinerary(Z$1))","v":""},{"$f":"getProgramXref($A25,numericItinerary(AA$1))","v":"x"},{"$f":"getProgramXref($A25,numericItinerary(AB$1))","v":""},{"$f":"getProgramXref($A25,numericItinerary(AC$1))","v":"x"},{"$f":"getProgramXref($A25,numericItinerary(AD$1))","v":"x"},{"$f":"getProgramXref($A25,numericItinerary(AE$1))","v":""},{"$f":"getProgramXref($A25,numericItinerary(AF$1))","v":"x"},{"$f":"getProgramXref($A25,numericItinerary(AG$1))","v":""},{"$f":"getProgramXref($A25,numericItinerary(AH$1))","v":""},{"$f":"getProgramXref($A25,numericItinerary(AI$1))","v":""},{"$f":"getProgramXref($A25,numericItinerary(AJ$1))","v":""},null,6]
[{"$f":"INDEX(program_table,ROW()-5)","v":"Homesteading"},21,{"$f":"getProgramXref($A26,numericItinerary(C$1))","v":"x"},{"$f":"getProgramXref($A26,numericItinerary(D$1))","v":"x"},{"$f":"getProgramXref($A26,numericItinerary(E$1))","v":""},{"$f":"getProgramXref($A26,numericItinerary(F$1))","v":"x"},{"$f":"getProgramXref($A26,numericItinerary(G$1))","v":""},{"$f":"getProgramXref($A26,numericItinerary(H$1))","v":"x"},{"$f":"getProgramXref($A26,numericItinerary(I$1))","v":""},{"$f":"getProgramXref($A26,numericItinerary(J$1))","v":"x"},{"$f":"getProgramXref($A26,numericItinerary(K$1))","v":"x"},{"$f":"getProgramXref($A26,numericItinerary(L$1))","v":""},{"$f":"getProgramXref($A26,numericItinerary(M$1))","v":""},{"$f":"getProgramXref($A26,numericItinerary(N$1))","v":"x"},{"$f":"getProgramXref($A26,numericItinerary(O$1))","v":"x"},{"$f":"getProgramXref($A26,numericItinerary(P$1))","v":"x"},{"$f":"getProgramXref($A26,numericItinerary(Q$1))","v":"x"},{"$f":"getProgramXref($A26,numericItinerary(R$1))","v":""},{"$f":"getProgramXref($A26,numericItinerary(S$1))","v":"x"},{"$f":"getProgramXref($A26,numericItinerary(T$1))","v":"x"},{"$f":"getProgramXref($A26,numericItinerary(U$1))","v":"x"},{"$f":"getProgramXref($A26,numericItinerary(V$1))","v":""},{"$f":"getProgramXref($A26,numericItinerary(W$1))","v":"x"},{"$f":"getProgramXref($A26,numericItinerary(X$1))","v":"x"},{"$f":"getProgramXref($A26,numericItinerary(Y$1))","v":"x"},{"$f":"getProgramXref($A26,numericItinerary(Z$1))","v":"x"},{"$f":"getProgramXref($A26,numericItinerary(AA$1))","v":"x"},{"$f":"getProgramXref($A26,numericItinerary(AB$1))","v":"x"},{"$f":"getProgramXref($A26,numericItinerary(AC$1))","v":""},{"$f":"getProgramXref($A26,numericItinerary(AD$1))","v":""},{"$f":"getProgramXref($A26,numericItinerary(AE$1))","v":""},{"$f":"getProgramXref($A26,numericItinerary(AF$1))","v":""},{"$f":"getProgramXref($A26,numericItinerary(AG$1))","v":""},{"$f":"getProgramXref($A26,numericItinerary(AH$1))","v":""},{"$f":"getProgramXref($A26,numericItinerary(AI$1))","v":"x"},{"$f":"getProgramXref($A26,numericItinerary(AJ$1))","v":"x"},null,21]
[{"$f":"INDEX(program_table,ROW()-5)","v":"Horse Rides"},20,{"$f":"getProgramXref($A27,numericItinerary(C$1))","v":"x"},{"$f":"getProgramXref($A27,numericItinerary(D$1))","v":""},{"$f":"getProgramXref($A27,numericItinerary(E$1))","v":""},{"$f":"getProgramXref($A27,numericItinerary(F$1))","v":"x"},{"$f":"getProgramXref($A27,numericItinerary(G$1))","v":"x"},{"$f":"getProgramXref($A27,numericItinerary(H$1))","v":"x"},{"$f":"getProgramXref($A27,numericItinerary(I$1))","v":"x"},{"$f":"getProgramXref($A27,numericItinerary(J$1))","v":"x"},{"$f":"getProgramXref($A27,numericItinerary(K$1))","v":"x"},{"$f":"getProgramXref($A27,numericItinerary(L$1))","v":""},{"$f":"getProgramXref($A27,numericItinerary(M$1))","v":""},{"$f":"getProgramXref($A27,numericItinerary(N$1))","v":"x"},{"$f":"getProgramXref($A27,numericItinerary(O$1))","v":""},{"$f":"getProgramXref($A27,numericItinerary(P$1))","v":"x"},{"$f":"getProgramXref($A27,numericItinerary(Q$1))","v":"x"},{"$f":"getProgramXref($A27,numericItinerary(R$1))","v":""},{"$f":"getProgramXref($A27,numericItinerary(S$1))","v":"x"},{"$f":"getProgramXref($A27,numericItinerary(T$1))","v":""},{"$f":"getProgramXref($A27,numericItinerary(U$1))","v":""},{"$f":"getProgramXref($A27,numericItinerary(V$1))","v":"x"},{"$f":"getProgramXref($A27,numericItinerary(W$1))","v":""},{"$f":"getProgramXref($A27,numericItinerary(X$1))","v":"x"},{"$f":"getProgramXref($A27,numericItinerary(Y$1))","v":""},{"$f":"getProgramXref($A27,numericItinerary(Z$1))","v":"x"},{"$f":"getProgramXref($A27,numericItinerary(AA$1))","v":""},{"$f":"getProgramXref($A27,numericItinerary(AB$1))","v":""},{"$f":"getProgramXref($A27,numericItinerary(AC$1))","v":"x"},{"$f":"getProgramXref($A27,numericItinerary(AD$1))","v":"x"},{"$f":"getProgramXref($A27,numericItinerary(AE$1))","v":""},{"$f":"getProgramXref($A27,numericItinerary(AF$1))","v":""},{"$f":"getProgramXref($A27,numericItinerary(AG$1))","v":"x"},{"$f":"getProgramXref($A27,numericItinerary(AH$1))","v":"x"},{"$f":"getProgramXref($A27,numericItinerary(AI$1))","v":"x"},{"$f":"getProgramXref($A27,numericItinerary(AJ$1))","v":"x"},null,20]
[{"$f":"INDEX(program_table,ROW()-5)","v":"Hunter Safety"},3,{"$f":"getProgramXref($A28,numericItinerary(C$1))","v":""},{"$f":"getProgramXref($A28,numericItinerary(D$1))","v":""},{"$f":"getProgramXref($A28,numericItinerary(E$1))","v":""},{"$f":"getProgramXref($A28,numericItinerary(F$1))","v":""},{"$f":"getProgramXref($A28,numericItinerary(G$1))","v":"x"},{"$f":"getProgramXref($A28,numericItinerary(H$1))","v":""},{"$f":"getProgramXref($A28,numericItinerary(I$1))","v":""},{"$f":"getProgramXref($A28,numericItinerary(J$1))","v":""},{"$f":"getProgramXref($A28,numericItinerary(K$1))","v":""},{"$f":"getProgramXref($A28,numericItinerary(L$1))","v":""},{"$f":"getProgramXref($A28,numericItinerary(M$1))","v":""},{"$f":"getProgramXref($A28,numericItinerary(N$1))","v":""},{"$f":"getProgramXref($A28,numericItinerary(O$1))","v":""},{"$f":"getProgramXref($A28,numericItinerary(P$1))","v":""},{"$f":"getProgramXref($A28,numericItinerary(Q$1))","v":""},{"$f":"getProgramXref($A28,numericItinerary(R$1))","v":""},{"$f":"getProgramXref($A28,numericItinerary(S$1))","v":""},{"$f":"getProgramXref($A28,numericItinerary(T$1))","v":""},{"$f":"getProgramXref($A28,numericItinerary(U$1))","v":""},{"$f":"getProgramXref($A28,numericItinerary(V$1))","v":""},{"$f":"getProgramXref($A28,numericItinerary(W$1))","v":""},{"$f":"getProgramXref($A28,numericItinerary(X$1))","v":""},{"$f":"getProgramXref($A28,numericItinerary(Y$1))","v":""},{"$f":"getProgramXref($A28,numericItinerary(Z$1))","v":""},{"$f":"getProgramXref($A28,numericItinerary(AA$1))","v":""},{"$f":"getProgramXref($A28,numericItinerary(AB$1))","v":""},{"$f":"getProgramXref($A28,numericItinerary(AC$1))","v":""},{"$f":"getProgramXref($A28,numericItinerary(AD$1))","v":""},{"$f":"getProgramXref($A28,numericItinerary(AE$1))","v":"x"},{"$f":"getProgramXref($A28,numericItinerary(AF$1))","v":""},{"$f":"getProgramXref($A28,numericItinerary(AG$1))","v":"x"},{"$f":"getProgramXref($A28,numericItinerary(AH$1))","v":""},{"$f":"getProgramXref($A28,numericItinerary(AI$1))","v":""},{"$f":"getProgramXref($A28,numericItinerary(AJ$1))","v":""},null,3]
[{"$f":"INDEX(program_table,ROW()-5)","v":"Inspiration Point Hike"},5,{"$f":"getProgramXref($A29,numericItinerary(C$1))","v":"x"},{"$f":"getProgramXref($A29,numericItinerary(D$1))","v":""},{"$f":"getProgramXref($A29,numericItinerary(E$1))","v":"x"},{"$f":"getProgramXref($A29,numericItinerary(F$1))","v":""},{"$f":"getProgramXref($A29,numericItinerary(G$1))","v":""},{"$f":"getProgramXref($A29,numericItinerary(H$1))","v":""},{"$f":"getProgramXref($A29,numericItinerary(I$1))","v":""},{"$f":"getProgramXref($A29,numericItinerary(J$1))","v":"x"},{"$f":"getProgramXref($A29,numericItinerary(K$1))","v":""},{"$f":"getProgramXref($A29,numericItinerary(L$1))","v":""},{"$f":"getProgramXref($A29,numericItinerary(M$1))","v":""},{"$f":"getProgramXref($A29,numericItinerary(N$1))","v":""},{"$f":"getProgramXref($A29,numericItinerary(O$1))","v":""},{"$f":"getProgramXref($A29,numericItinerary(P$1))","v":""},{"$f":"getProgramXref($A29,numericItinerary(Q$1))","v":""},{"$f":"getProgramXref($A29,numericItinerary(R$1))","v":""},{"$f":"getProgramXref($A29,numericItinerary(S$1))","v":"x"},{"$f":"getProgramXref($A29,numericItinerary(T$1))","v":""},{"$f":"getProgramXref($A29,numericItinerary(U$1))","v":""},{"$f":"getProgramXref($A29,numericItinerary(V$1))","v":""},{"$f":"getProgramXref($A29,numericItinerary(W$1))","v":""},{"$f":"getProgramXref($A29,numericItinerary(X$1))","v":""},{"$f":"getProgramXref($A29,numericItinerary(Y$1))","v":""},{"$f":"getProgramXref($A29,numericItinerary(Z$1))","v":"x"},{"$f":"getProgramXref($A29,numericItinerary(AA$1))","v":""},{"$f":"getProgramXref($A29,numericItinerary(AB$1))","v":""},{"$f":"getProgramXref($A29,numericItinerary(AC$1))","v":""},{"$f":"getProgramXref($A29,numericItinerary(AD$1))","v":""},{"$f":"getProgramXref($A29,numericItinerary(AE$1))","v":""},{"$f":"getProgramXref($A29,numericItinerary(AF$1))","v":""},{"$f":"getProgramXref($A29,numericItinerary(AG$1))","v":""},{"$f":"getProgramXref($A29,numericItinerary(AH$1))","v":""},{"$f":"getProgramXref($A29,numericItinerary(AI$1))","v":""},{"$f":"getProgramXref($A29,numericItinerary(AJ$1))","v":""},null,5]
[{"$f":"INDEX(program_table,ROW()-5)","v":"Jicarilla Apache Life"},12,{"$f":"getProgramXref($A30,numericItinerary(C$1))","v":""},{"$f":"getProgramXref($A30,numericItinerary(D$1))","v":"x"},{"$f":"getProgramXref($A30,numericItinerary(E$1))","v":""},{"$f":"getProgramXref($A30,numericItinerary(F$1))","v":""},{"$f":"getProgramXref($A30,numericItinerary(G$1))","v":""},{"$f":"getProgramXref($A30,numericItinerary(H$1))","v":"x"},{"$f":"getProgramXref($A30,numericItinerary(I$1))","v":"x"},{"$f":"getProgramXref($A30,numericItinerary(J$1))","v":""},{"$f":"getProgramXref($A30,numericItinerary(K$1))","v":""},{"$f":"getProgramXref($A30,numericItinerary(L$1))","v":""},{"$f":"getProgramXref($A30,numericItinerary(M$1))","v":""},{"$f":"getProgramXref($A30,numericItinerary(N$1))","v":"x"},{"$f":"getProgramXref($A30,numericItinerary(O$1))","v":"x"},{"$f":"getProgramXref($A30,numericItinerary(P$1))","v":"x"},{"$f":"getProgramXref($A30,numericItinerary(Q$1))","v":"x"},{"$f":"getProgramXref($A30,numericItinerary(R$1))","v":""},{"$f":"getProgramXref($A30,numericItinerary(S$1))","v":"x"},{"$f":"getProgramXref($A30,numericItinerary(T$1))","v":""},{"$f":"getProgramXref($A30,numericItinerary(U$1))","v":"x"},{"$f":"getProgramXref($A30,numericItinerary(V$1))","v":""},{"$f":"getProgramXref($A30,numericItinerary(W$1))","v":"x"},{"$f":"getProgramXref($A30,numericItinerary(X$1))","v":"x"},{"$f":"getProgramXref($A30,numericItinerary(Y$1))","v":""},{"$f":"getProgramXref($A30,numericItinerary(Z$1))","v":"x"},{"$f":"getProgramXref($A30,numericItinerary(AA$1))","v":""},{"$f":"getProgramXref($A30,numericItinerary(AB$1))","v":""},{"$f":"getProgramXref($A30,numericItinerary(AC$1))","v":""},{"$f":"getProgramXref($A30,numericItinerary(AD$1))","v":""},{"$f":"getProgramXref($A30,numericItinerary(AE$1))","v":""},{"$f":"getProgramXref($A30,numericItinerary(AF$1))","v":""},{"$f":"getProgramXref($A30,numericItinerary(AG$1))","v":""},{"$f":"getProgramXref($A30,numericItinerary(AH$1))","v":""},{"$f":"getProgramXref($A30,numericItinerary(AI$1))","v":""},{"$f":"getProgramXref($A30,numericItinerary(AJ$1))","v":""},null,12]
[{"$f":"INDEX(program_table,ROW()-5)","v":"Kit Carson/Rayado Rancho"},0,{"$f":"getProgramXref($A31,numericItinerary(C$1))","v":""},{"$f":"getProgramXref($A31,numericItinerary(D$1))","v":""},{"$f":"getProgramXref($A31,numericItinerary(E$1))","v":""},{"$f":"getProgramXref($A31,numericItinerary(F$1))","v":""},{"$f":"getProgramXref($A31,numericItinerary(G$1))","v":""},{"$f":"getProgramXref($A31,numericItinerary(H$1))","v":""},{"$f":"getProgramXref($A31,numericItinerary(I$1))","v":""},{"$f":"getProgramXref($A31,numericItinerary(J$1))","v":""},{"$f":"getProgramXref($A31,numericItinerary(K$1))","v":""},{"$f":"getProgramXref($A31,numericItinerary(L$1))","v":""},{"$f":"getProgramXref($A31,numericItinerary(M$1))","v":""},{"$f":"getProgramXref($A31,numericItinerary(N$1))","v":""},{"$f":"getProgramXref($A31,numericItinerary(O$1))","v":""},{"$f":"getProgramXref($A31,numericItinerary(P$1))","v":""},{"$f":"getProgramXref($A31,numericItinerary(Q$1))","v":""},{"$f":"getProgramXref($A31,numericItinerary(R$1))","v":""},{"$f":"getProgramXref($A31,numericItinerary(S$1))","v":""},{"$f":"getProgramXref($A31,numericItinerary(T$1))","v":""},{"$f":"getProgramXref($A31,numericItinerary(U$1))","v":""},{"$f":"getProgramXref($A31,numericItinerary(V$1))","v":""},{"$f":"getProgramXref($A31,numericItinerary(W$1))","v":""},{"$f":"getProgramXref($A31,numericItinerary(X$1))","v":""},{"$f":"getProgramXref($A31,numericItinerary(Y$1))","v":""},{"$f":"getProgramXref($A31,numericItinerary(Z$1))","v":""},{"$f":"getProgramXref($A31,numericItinerary(AA$1))","v":""},{"$f":"getProgramXref($A31,numericItinerary(AB$1))","v":""},{"$f":"getProgramXref($A31,numericItinerary(AC$1))","v":""},{"$f":"getProgramXref($A31,numericItinerary(AD$1))","v":""},{"$f":"getProgramXref($A31,numericItinerary(AE$1))","v":""},{"$f":"getProgramXref($A31,numericItinerary(AF$1))","v":""},{"$f":"getProgramXref($A31,numericItinerary(AG$1))","v":""},{"$f":"getProgramXref($A31,numericItinerary(AH$1))","v":""},{"$f":"getProgramXref($A31,numericItinerary(AI$1))","v":""},{"$f":"getProgramXref($A31,numericItinerary(AJ$1))","v":""},null,0]
[{"$f":"INDEX(program_table,ROW()-5)","v":"Laser Shot Shooting Range"},6,{"$f":"getProgramXref($A32,numericItinerary(C$1))","v":""},{"$f":"getProgramXref($A32,numericItinerary(D$1))","v":""},{"$f":"getProgramXref($A32,numericItinerary(E$1))","v":""},{"$f":"getProgramXref($A32,numericItinerary(F$1))","v":""},{"$f":"getProgramXref($A32,numericItinerary(G$1))","v":"x"},{"$f":"getProgramXref($A32,numericItinerary(H$1))","v":""},{"$f":"getProgramXref($A32,numericItinerary(I$1))","v":""},{"$f":"getProgramXref($A32,numericItinerary(J$1))","v":""},{"$f":"getProgramXref($A32,numericItinerary(K$1))","v":"x"},{"$f":"getProgramXref($A32,numericItinerary(L$1))","v":""},{"$f":"getProgramXref($A32,numericItinerary(M$1))","v":""},{"$f":"getProgramXref($A32,numericItinerary(N$1))","v":""},{"$f":"getProgramXref($A32,numericItinerary(O$1))","v":""},{"$f":"getProgramXref($A32,numericItinerary(P$1))","v":""},{"$f":"getProgramXref($A32,numericItinerary(Q$1))","v":""},{"$f":"getProgramXref($A32,numericItinerary(R$1))","v":""},{"$f":"getProgramXref($A32,numericItinerary(S$1))","v":""},{"$f":"getProgramXref($A32,numericItinerary(T$1))","v":""},{"$f":"getProgramXref($A32,numericItinerary(U$1))","v":""},{"$f":"getProgramXref($A32,numericItinerary(V$1))","v":"x"},{"$f":"getProgramXref($A32,numericItinerary(W$1))","v":""},{"$f":"getProgramXref($A32,numericItinerary(X$1))","v":""},{"$f":"getProgramXref($A32,numericItinerary(Y$1))","v":""},{"$f":"getProgramXref($A32,numericItinerary(Z$1))","v":""},{"$f":"getProgramXref($A32,numericItinerary(AA$1))","v":""},{"$f":"getProgramXref($A32,numericItinerary(AB$1))","v":""},{"$f":"getProgramXref($A32,numericItinerary(AC$1))","v":""},{"$f":"getProgramXref($A32,numericItinerary(AD$1))","v":""},{"$f":"getProgramXref($A32,numericItinerary(AE$1))","v":"x"},{"$f":"getProgramXref($A32,numericItinerary(AF$1))","v":""},{"$f":"getProgramXref($A32,numericItinerary(AG$1))","v":"x"},{"$f":"getProgramXref($A32,numericItinerary(AH$1))","v":""},{"$f":"getProgramXref($A32,numericItinerary(AI$1))","v":"x"},{"$f":"getProgramXref($A32,numericItinerary(AJ$1))","v":""},null,6]
[{"$f":"INDEX(program_table,ROW()-5)","v":"Lodge/Cabin Tours"},21,{"$f":"getProgramXref($A33,numericItinerary(C$1))","v":""},{"$f":"getProgramXref($A33,numericItinerary(D$1))","v":"x"},{"$f":"getProgramXref($A33,numericItinerary(E$1))","v":""},{"$f":"getProgramXref($A33,numericItinerary(F$1))","v":"x"},{"$f":"getProgramXref($A33,numericItinerary(G$1))","v":""},{"$f":"getProgramXref($A33,numericItinerary(H$1))","v":"x"},{"$f":"getProgramXref($A33,numericItinerary(I$1))","v":"x"},{"$f":"getProgramXref($A33,numericItinerary(J$1))","v":""},{"$f":"getProgramXref($A33,numericItinerary(K$1))","v":""},{"$f":"getProgramXref($A33,numericItinerary(L$1))","v":"x"},{"$f":"getProgramXref($A33,numericItinerary(M$1))","v":""},{"$f":"getProgramXref($A33,numericItinerary(N$1))","v":"x"},{"$f":"getProgramXref($A33,numericItinerary(O$1))","v":"x"},{"$f":"getProgramXref($A33,numericItinerary(P$1))","v":"x"},{"$f":"getProgramXref($A33,numericItinerary(Q$1))","v":"x"},{"$f":"getProgramXref($A33,numericItinerary(R$1))","v":""},{"$f":"getProgramXref($A33,numericItinerary(S$1))","v":"x"},{"$f":"getProgramXref($A33,numericItinerary(T$1))","v":"x"},{"$f":"getProgramXref($A33,numericItinerary(U$1))","v":"x"},{"$f":"getProgramXref($A33,numericItinerary(V$1))","v":""},{"$f":"getProgramXref($A33,numericItinerary(W$1))","v":"x"},{"$f":"getProgramXref($A33,numericItinerary(X$1))","v":"x"},{"$f":"getProgramXref($A33,numericItinerary(Y$1))","v":"x"},{"$f":"getProgramXref($A33,numericItinerary(Z$1))","v":""},{"$f":"getProgramXref($A33,numericItinerary(AA$1))","v":"x"},{"$f":"getProgramXref($A33,numericItinerary(AB$1))","v":""},{"$f":"getProgramXref($A33,numericItinerary(AC$1))","v":"x"},{"$f":"getProgramXref($A33,numericItinerary(AD$1))","v":"x"},{"$f":"getProgramXref($A33,numericItinerary(AE$1))","v":""},{"$f":"getProgramXref($A33,numericItinerary(AF$1))","v":"x"},{"$f":"getProgramXref($A33,numericItinerary(AG$1))","v":""},{"$f":"getProgramXref($A33,numericItinerary(AH$1))","v":""},{"$f":"getProgramXref($A33,numericItinerary(AI$1))","v":"x"},{"$f":"getProgramXref($A33,numericItinerary(AJ$1))","v":"x"},null,21]
[{"$f":"INDEX(program_table,ROW()-5)","v":"Low Impact Camping"},10,{"$f":"getProgramXref($A34,numericItinerary(C$1))","v":""},{"$f":"getProgramXref($A34,numericItinerary(D$1))","v":""},{"$f":"getProgramXref($A34,numericItinerary(E$1))","v":""},{"$f":"getProgramXref($A34,numericItinerary(F$1))","v":""},{"$f":"getProgramXref($A34,numericItinerary(G$1))","v":""},{"$f":"getProgramXref($A34,numericItinerary(H$1))","v":""},{"$f":"getProgramXref($A34,numericItinerary(I$1))","v":""},{"$f":"getProgramXref($A34,numericItinerary(J$1))","v":""},{"$f":"getProgramXref($A34,numericItinerary(K$1))","v":""},{"$f":"getProgramXref($A34,numericItinerary(L$1))","v":""},{"$f":"getProgramXref($A34,numericItinerary(M$1))","v":""},{"$f":"getProgramXref($A34,numericItinerary(N$1))","v":""},{"$f":"getProgramXref($A34,numericItinerary(O$1))","v":""},{"$f":"getProgramXref($A34,numericItinerary(P$1))","v":""},{"$f":"getProgramXref($A34,numericItinerary(Q$1))","v":"x"},{"$f":"getProgramXref($A34,numericItinerary(R$1))","v":"x"},{"$f":"getProgramXref($A34,numericItinerary(S$1))","v":""},{"$f":"getProgramXref($A34,numericItinerary(T$1))","v":"x"},{"$f":"getProgramXref($A34,numericItinerary(U$1))","v":""},{"$f":"getProgramXref($A34,numericItinerary(V$1))","v":""},{"$f":"getProgramXref($A34,numericItinerary(W$1))","v":""},{"$f":"getProgramXref($A34,numericItinerary(X$1))","v":""},{"$f":"getProgramXref($A34,numericItinerary(Y$1))","v":"x"},{"$f":"getProgramXref($A34,numericItinerary(Z$1))","v":""},{"$f":"getProgramXref($A34,numericItinerary(AA$1))","v":"x"},{"$f":"getProgramXref($A34,numericItinerary(AB$1))","v":"x"},{"$f":"getProgramXref($A34,numericItinerary(AC$1))","v":"x"},{"$f":"getProgramXref($A34,numericItinerary(AD$1))","v":""},{"$f":"getProgramXref($A34,numericItinerary(AE$1))","v":""},{"$f":"getProgramXref($A34,numericItinerary(AF$1))","v":"x"},{"$f":"getProgramXref($A34,numericItinerary(AG$1))","v":""},{"$f":"getProgramXref($A34,numericItinerary(AH$1))","v":""},{"$f":"getProgramXref($A34,numericItinerary(AI$1))","v":"x"},{"$f":"getProgramXref($A34,numericItinerary(AJ$1))","v":"x"},null,10]
[{"$f":"INDEX(program_table,ROW()-5)","v":"Mexican Dinner"},3,{"$f":"getProgramXref($A35,numericItinerary(C$1))","v":""},{"$f":"getProgramXref($A35,numericItinerary(D$1))","v":""},{"$f":"getProgramXref($A35,numericItinerary(E$1))","v":""},{"$f":"getProgramXref($A35,numericItinerary(F$1))","v":""},{"$f":"getProgramXref($A35,numericItinerary(G$1))","v":""},{"$f":"getProgramXref($A35,numericItinerary(H$1))","v":""},{"$f":"getProgramXref($A35,numericItinerary(I$1))","v":""},{"$f":"getProgramXref($A35,numericItinerary(J$1))","v":""},{"$f":"getProgramXref($A35,numericItinerary(K$1))","v":""},{"$f":"getProgramXref($A35,numericItinerary(L$1))","v":""},{"$f":"getProgramXref($A35,numericItinerary(M$1))","v":"x"},{"$f":"getProgramXref($A35,numericItinerary(N$1))","v":""},{"$f":"getProgramXref($A35,numericItinerary(O$1))","v":""},{"$f":"getProgramXref($A35,numericItinerary(P$1))","v":""},{"$f":"getProgramXref($A35,numericItinerary(Q$1))","v":""},{"$f":"getProgramXref($A35,numericItinerary(R$1))","v":""},{"$f":"getProgramXref($A35,numericItinerary(S$1))","v":""},{"$f":"getProgramXref($A35,numericItinerary(T$1))","v":""},{"$f":"getProgramXref($A35,numericItinerary(U$1))","v":""},{"$f":"getProgramXref($A35,numericItinerary(V$1))","v":""},{"$f":"getProgramXref($A35,numericItinerary(W$1))","v":"x"},{"$f":"getProgramXref($A35,numericItinerary(X$1))","v":"x"},{"$f":"getProgramXref($A35,numericItinerary(Y$1))","v":""},{"$f":"getProgramXref($A35,numericItinerary(Z$1))","v":""},{"$f":"getProgramXref($A35,numericItinerary(AA$1))","v":""},{"$f":"getProgramXref($A35,numericItinerary(AB$1))","v":""},{"$f":"getProgramXref($A35,numericItinerary(AC$1))","v":""},{"$f":"getProgramXref($A35,numericItinerary(AD$1))","v":""},{"$f":"getProgramXref($A35,numericItinerary(AE$1))","v":""},{"$f":"getProgramXref($A35,numericItinerary(AF$1))","v":""},{"$f":"getProgramXref($A35,numericItinerary(AG$1))","v":""},{"$f":"getProgramXref($A35,numericItinerary(AH$1))","v":""},{"$f":"getProgramXref($A35,numericItinerary(AI$1))","v":""},{"$f":"getProgramXref($A35,numericItinerary(AJ$1))","v":""},null,3]
[{"$f":"INDEX(program_table,ROW()-5)","v":"Mine Tour"},19,{"$f":"getProgramXref($A36,numericItinerary(C$1))","v":""},{"$f":"getProgramXref($A36,numericItinerary(D$1))","v":"x"},{"$f":"getProgramXref($A36,numericItinerary(E$1))","v":""},{"$f":"getProgramXref($A36,numericItinerary(F$1))","v":"x"},{"$f":"getProgramXref($A36,numericItinerary(G$1))","v":"x"},{"$f":"getProgramXref($A36,numericItinerary(H$1))","v":""},{"$f":"getProgramXref($A36,numericItinerary(I$1))","v":""},{"$f":"getProgramXref($A36,numericItinerary(J$1))","v":"x"},{"$f":"getProgramXref($A36,numericItinerary(K$1))","v":""},{"$f":"getProgramXref($A36,numericItinerary(L$1))","v":"x"},{"$f":"getProgramXref($A36,numericItinerary(M$1))","v":"x"},{"$f":"getProgramXref($A36,numericItinerary(N$1))","v":""},{"$f":"getProgramXref($A36,numericItinerary(O$1))","v":""},{"$f":"getProgramXref($A36,numericItinerary(P$1))","v":""},{"$f":"getProgramXref($A36,numericItinerary(Q$1))","v":"x"},{"$f":"getProgramXref($A36,numericItinerary(R$1))","v":"x"},{"$f":"getProgramXref($A36,numericItinerary(S$1))","v":"x"},{"$f":"getProgramXref($A36,numericItinerary(T$1))","v":""},{"$f":"getProgramXref($A36,numericItinerary(U$1))","v":"x"},{"$f":"getProgramXref($A36,numericItinerary(V$1))","v":"x"},{"$f":"getProgramXref($A36,numericItinerary(W$1))","v":"x"},{"$f":"getProgramXref($A36,numericItinerary(X$1))","v":"x"},{"$f":"getProgramXref($A36,numericItinerary(Y$1))","v":"x"},{"$f":"getProgramXref($A36,numericItinerary(Z$1))","v":""},{"$f":"getProgramXref($A36,numericItinerary(AA$1))","v":""},{"$f":"getProgramXref($A36,numericItinerary(AB$1))","v":""},{"$f":"getProgramXref($A36,numericItinerary(AC$1))","v":""},{"$f":"getProgramXref($A36,numericItinerary(AD$1))","v":"x"},{"$f":"getProgramXref($A36,numericItinerary(AE$1))","v":"x"},{"$f":"getProgramXref($A36,numericItinerary(AF$1))","v":"x"},{"$f":"getProgramXref($A36,numericItinerary(AG$1))","v":""},{"$f":"getProgramXref($A36,numericItinerary(AH$1))","v":""},{"$f":"getProgramXref($A36,numericItinerary(AI$1))","v":"x"},{"$f":"getProgramXref($A36,numericItinerary(AJ$1))","v":"x"},null,19]
[{"$f":"INDEX(program_table,ROW()-5)","v":"Mount Phillips"},17,{"$f":"getProgramXref($A37,numericItinerary(C$1))","v":"x"},{"$f":"getProgramXref($A37,numericItinerary(D$1))","v":"x"},{"$f":"getProgramXref($A37,numericItinerary(E$1))","v":"x"},{"$f":"getProgramXref($A37,numericItinerary(F$1))","v":"x"},{"$f":"getProgramXref($A37,numericItinerary(G$1))","v":""},{"$f":"getProgramXref($A37,numericItinerary(H$1))","v":"x"},{"$f":"getProgramXref($A37,numericItinerary(I$1))","v":""},{"$f":"getProgramXref($A37,numericItinerary(J$1))","v":"x"},{"$f":"getProgramXref($A37,numericItinerary(K$1))","v":""},{"$f":"getProgramXref($A37,numericItinerary(L$1))","v":""},{"$f":"getProgramXref($A37,numericItinerary(M$1))","v":"x"},{"$f":"getProgramXref($A37,numericItinerary(N$1))","v":"x"},{"$f":"getProgramXref($A37,numericItinerary(O$1))","v":"x"},{"$f":"getProgramXref($A37,numericItinerary(P$1))","v":"x"},{"$f":"getProgramXref($A37,numericItinerary(Q$1))","v":"x"},{"$f":"getProgramXref($A37,numericItinerary(R$1))","v":""},{"$f":"getProgramXref($A37,numericItinerary(S$1))","v":"x"},{"$f":"getProgramXref($A37,numericItinerary(T$1))","v":""},{"$f":"getProgramXref($A37,numericItinerary(U$1))","v":"x"},{"$f":"getProgramXref($A37,numericItinerary(V$1))","v":""},{"$f":"getProgramXref($A37,numericItinerary(W$1))","v":"x"},{"$f":"getProgramXref($A37,numericItinerary(X$1))","v":"x"},{"$f":"getProgramXref($A37,numericItinerary(Y$1))","v":""},{"$f":"getProgramXref($A37,numericItinerary(Z$1))","v":"x"},{"$f":"getProgramXref($A37,numericItinerary(AA$1))","v":""},{"$f":"getProgramXref($A37,numericItinerary(AB$1))","v":""},{"$f":"getProgramXref($A37,numericItinerary(AC$1))","v":""},{"$f":"getProgramXref($A37,numericItinerary(AD$1))","v":""},{"$f":"getProgramXref($A37,numericItinerary(AE$1))","v":"x"},{"$f":"getProgramXref($A37,numericItinerary(AF$1))","v":""},{"$f":"getProgramXref($A37,numericItinerary(AG$1))","v":""},{"$f":"getProgramXref($A37,numericItinerary(AH$1))","v":""},{"$f":"getProgramXref($A37,numericItinerary(AI$1))","v":""},{"$f":"getProgramXref($A37,numericItinerary(AJ$1))","v":""},null,17]
[{"$f":"INDEX(program_table,ROW()-5)","v":"Mountain Biking"},7,{"$f":"getProgramXref($A38,numericItinerary(C$1))","v":""},{"$f":"getProgramXref($A38,numericItinerary(D$1))","v":""},{"$f":"getProgramXref($A38,numericItinerary(E$1))","v":""},{"$f":"getProgramXref($A38,numericItinerary(F$1))","v":""},{"$f":"getProgramXref($A38,numericItinerary(G$1))","v":""},{"$f":"getProgramXref($A38,numericItinerary(H$1))","v":""},{"$f":"getProgramXref($A38,numericItinerary(I$1))","v":""},{"$f":"getProgramXref($A38,numericItinerary(J$1))","v":""},{"$f":"getProgramXref($A38,numericItinerary(K$1))","v":""},{"$f":"getProgramXref($A38,numericItinerary(L$1))","v":"x"},{"$f":"getProgramXref($A38,numericItinerary(M$1))","v":""},{"$f":"getProgramXref($A38,numericItinerary(N$1))","v":""},{"$f":"getProgramXref($A38,numericItinerary(O$1))","v":""},{"$f":"getProgramXref($A38,numericItinerary(P$1))","v":""},{"$f":"getProgramXref($A38,numericItinerary(Q$1))","v":""},{"$f":"getProgramXref($A38,numericItinerary(R$1))","v":""},{"$f":"getProgramXref($A38,numericItinerary(S$1))","v":""},{"$f":"getProgramXref($A38,numericItinerary(T$1))","v":"x"},{"$f":"getProgramXref($A38,numericItinerary(U$1))","v":""},{"$f":"getProgramXref($A38,numericItinerary(V$1))","v":""},{"$f":"getProgramXref($A38,numericItinerary(W$1))","v":""},{"$f":"getProgramXref($A38,numericItinerary(X$1))","v":""},{"$f":"getProgramXref($A38,numericItinerary(Y$1))","v":"x"},{"$f":"getProgramXref($A38,numericItinerary(Z$1))","v":""},{"$f":"getProgramXref($A38,numericItinerary(AA$1))","v":"x"},{"$f":"getProgramXref($A38,numericItinerary(AB$1))","v":"x"},{"$f":"getProgramXref($A38,numericItinerary(AC$1))","v":"x"},{"$f":"getProgramXref($A38,numericItinerary(AD$1))","v":""},{"$f":"getProgramXref($A38,numericItinerary(AE$1))","v":""},{"$f":"getProgramXref($A38,numericItinerary(AF$1))","v":"x"},{"$f":"getProgramXref($A38,numericItinerary(AG$1))","v":""},{"$f":"getProgramXref($A38,numericItinerary(AH$1))","v":""},{"$f":"getProgramXref($A38,numericItinerary(AI$1))","v":""},{"$f":"getProgramXref($A38,numericItinerary(AJ$1))","v":""},null,7]
[{"$f":"INDEX(program_table,ROW()-5)","v":"Mountaineering"},21,{"$f":"getProgramXref($A39,numericItinerary(C$1))","v":"x"},{"$f":"getProgramXref($A39,numericItinerary(D$1))","v":"x"},{"$f":"getProgramXref($A39,numericItinerary(E$1))","v":"x"},{"$f":"getProgramXref($A39,numericItinerary(F$1))","v":"x"},{"$f":"getProgramXref($A39,numericItinerary(G$1))","v":""},{"$f":"getProgramXref($A39,numericItinerary(H$1))","v":"x"},{"$f":"getProgramXref($A39,numericItinerary(I$1))","v":""},{"$f":"getProgramXref($A39,numericItinerary(J$1))","v":""},{"$f":"getProgramXref($A39,numericItinerary(K$1))","v":""},{"$f":"getProgramXref($A39,numericItinerary(L$1))","v":"x"},{"$f":"getProgramXref($A39,numericItinerary(M$1))","v":"x"},{"$f":"getProgramXref($A39,numericItinerary(N$1))","v":"x"},{"$f":"getProgramXref($A39,numericItinerary(O$1))","v":"x"},{"$f":"getProgramXref($A39,numericItinerary(P$1))","v":"x"},{"$f":"getProgramXref($A39,numericItinerary(Q$1))","v":"x"},{"$f":"getProgramXref($A39,numericItinerary(R$1))","v":""},{"$f":"getProgramXref($A39,numericItinerary(S$1))","v":"x"},{"$f":"getProgramXref($A39,numericItinerary(T$1))","v":""},{"$f":"getProgramXref($A39,numericItinerary(U$1))","v":""},{"$f":"getProgramXref($A39,numericItinerary(V$1))","v":""},{"$f":"getProgramXref($A39,numericItinerary(W$1))","v":"x"},{"$f":"getProgramXref($A39,numericItinerary(X$1))","v":"x"},{"$f":"getProgramXref($A39,numericItinerary(Y$1))","v":""},{"$f":"getProgramXref($A39,numericItinerary(Z$1))","v":""},{"$f":"getProgramXref($A39,numericItinerary(AA$1))","v":"x"},{"$f":"getProgramXref($A39,numericItinerary(AB$1))","v":""},{"$f":"getProgramXref($A39,numericItinerary(AC$1))","v":""},{"$f":"getProgramXref($A39,numericItinerary(AD$1))","v":"x"},{"$f":"getProgramXref($A39,numericItinerary(AE$1))","v":"x"},{"$f":"getProgramXref($A39,numericItinerary(AF$1))","v":"x"},{"$f":"getProgramXref($A39,numericItinerary(AG$1))","v":"x"},{"$f":"getProgramXref($A39,numericItinerary(AH$1))","v":"x"},{"$f":"getProgramXref($A39,numericItinerary(AI$1))","v":"x"},{"$f":"getProgramXref($A39,numericItinerary(AJ$1))","v":""},null,21]
[{"$f":"INDEX(program_table,ROW()-5)","v":"Muzzle Loading Rifle"},16,{"$f":"getProgramXref($A40,numericItinerary(C$1))","v":"x"},{"$f":"getProgramXref($A40,numericItinerary(D$1))","v":""},{"$f":"getProgramXref($A40,numericItinerary(E$1))","v":"x"},{"$f":"getProgramXref($A40,numericItinerary(F$1))","v":"x"},{"$f":"getProgramXref($A40,numericItinerary(G$1))","v":""},{"$f":"getProgramXref($A40,numericItinerary(H$1))","v":""},{"$f":"getProgramXref($A40,numericItinerary(I$1))","v":""},{"$f":"getProgramXref($A40,numericItinerary(J$1))","v":"x"},{"$f":"getProgramXref($A40,numericItinerary(K$1))","v":"x"},{"$f":"getProgramXref($A40,numericItinerary(L$1))","v":""},{"$f":"getProgramXref($A40,numericItinerary(M$1))","v":"x"},{"$f":"getProgramXref($A40,numericItinerary(N$1))","v":""},{"$f":"getProgramXref($A40,numericItinerary(O$1))","v":"x"},{"$f":"getProgramXref($A40,numericItinerary(P$1))","v":""},{"$f":"getProgramXref($A40,numericItinerary(Q$1))","v":""},{"$f":"getProgramXref($A40,numericItinerary(R$1))","v":"x"},{"$f":"getProgramXref($A40,numericItinerary(S$1))","v":""},{"$f":"getProgramXref($A40,numericItinerary(T$1))","v":"x"},{"$f":"getProgramXref($A40,numericItinerary(U$1))","v":"x"},{"$f":"getProgramXref($A40,numericItinerary(V$1))","v":""},{"$f":"getProgramXref($A40,numericItinerary(W$1))","v":""},{"$f":"getProgramXref($A40,numericItinerary(X$1))","v":""},{"$f":"getProgramXref($A40,numericItinerary(Y$1))","v":"x"},{"$f":"getProgramXref($A40,numericItinerary(Z$1))","v":"x"},{"$f":"getProgramXref($A40,numericItinerary(AA$1))","v":""},{"$f":"getProgramXref($A40,numericItinerary(AB$1))","v":""},{"$f":"getProgramXref($A40,numericItinerary(AC$1))","v":"x"},{"$f":"getProgramXref($A40,numericItinerary(AD$1))","v":"x"},{"$f":"getProgramXref($A40,numericItinerary(AE$1))","v":""},{"$f":"getProgramXref($A40,numericItinerary(AF$1))","v":""},{"$f":"getProgramXref($A40,numericItinerary(AG$1))","v":"x"},{"$f":"getProgramXref($A40,numericItinerary(AH$1))","v":"x"},{"$f":"getProgramXref($A40,numericItinerary(AI$1))","v":""},{"$f":"getProgramXref($A40,numericItinerary(AJ$1))","v":""},null,16]
[{"$f":"INDEX(program_table,ROW()-5)","v":"New Mexico Homestead"},10,{"$f":"getProgramXref($A41,numericItinerary(C$1))","v":""},{"$f":"getProgramXref($A41,numericItinerary(D$1))","v":""},{"$f":"getProgramXref($A41,numericItinerary(E$1))","v":""},{"$f":"getProgramXref($A41,numericItinerary(F$1))","v":""},{"$f":"getProgramXref($A41,numericItinerary(G$1))","v":""},{"$f":"getProgramXref($A41,numericItinerary(H$1))","v":"x"},{"$f":"getProgramXref($A41,numericItinerary(I$1))","v":"x"},{"$f":"getProgramXref($A41,numericItinerary(J$1))","v":""},{"$f":"getProgramXref($A41,numericItinerary(K$1))","v":""},{"$f":"getProgramXref($A41,numericItinerary(L$1))","v":""},{"$f":"getProgramXref($A41,numericItinerary(M$1))","v":"x"},{"$f":"getProgramXref($A41,numericItinerary(N$1))","v":"x"},{"$f":"getProgramXref($A41,numericItinerary(O$1))","v":"x"},{"$f":"getProgramXref($A41,numericItinerary(P$1))","v":"x"},{"$f":"getProgramXref($A41,numericItinerary(Q$1))","v":""},{"$f":"getProgramXref($A41,numericItinerary(R$1))","v":""},{"$f":"getProgramXref($A41,numericItinerary(S$1))","v":""},{"$f":"getProgramXref($A41,numericItinerary(T$1))","v":""},{"$f":"getProgramXref($A41,numericItinerary(U$1))","v":"x"},{"$f":"getProgramXref($A41,numericItinerary(V$1))","v":""},{"$f":"getProgramXref($A41,numericItinerary(W$1))","v":"x"},{"$f":"getProgramXref($A41,numericItinerary(X$1))","v":"x"},{"$f":"getProgramXref($A41,numericItinerary(Y$1))","v":""},{"$f":"getProgramXref($A41,numericItinerary(Z$1))","v":"x"},{"$f":"getProgramXref($A41,numericItinerary(AA$1))","v":""},{"$f":"getProgramXref($A41,numericItinerary(AB$1))","v":""},{"$f":"getProgramXref($A41,numericItinerary(AC$1))","v":""},{"$f":"getProgramXref($A41,numericItinerary(AD$1))","v":""},{"$f":"getProgramXref($A41,numericItinerary(AE$1))","v":""},{"$f":"getProgramXref($A41,numericItinerary(AF$1))","v":""},{"$f":"getProgramXref($A41,numericItinerary(AG$1))","v":""},{"$f":"getProgramXref($A41,numericItinerary(AH$1))","v":""},{"$f":"getProgramXref($A41,numericItinerary(AI$1))","v":""},{"$f":"getProgramXref($A41,numericItinerary(AJ$1))","v":""},null,10]
[{"$f":"INDEX(program_table,ROW()-5)","v":"Petroglyph Tour"},{"$f":"COUNTIF(C42:AJ42,\"X\")","v":10},{"$f":"getProgramXref($A42,numericItinerary(C$1))","v":""},{"$f":"getProgramXref($A42,numericItinerary(D$1))","v":""},{"$f":"getProgramXref($A42,numericItinerary(E$1))","v":""},{"$f":"getProgramXref($A42,numericItinerary(F$1))","v":""},{"$f":"getProgramXref($A42,numericItinerary(G$1))","v":"x"},{"$f":"getProgramXref($A42,numericItinerary(H$1))","v":""},{"$f":"getProgramXref($A42,numericItinerary(I$1))","v":""},{"$f":"getProgramXref($A42,numericItinerary(J$1))","v":""},{"$f":"getProgramXref($A42,numericItinerary(K$1))","v":""},{"$f":"getProgramXref($A42,numericItinerary(L$1))","v":"x"},{"$f":"getProgramXref($A42,numericItinerary(M$1))","v":""},{"$f":"getProgramXref($A42,numericItinerary(N$1))","v":""},{"$f":"getProgramXref($A42,numericItinerary(O$1))","v":""},{"$f":"getProgramXref($A42,numericItinerary(P$1))","v":""},{"$f":"getProgramXref($A42,numericItinerary(Q$1))","v":""},{"$f":"getProgramXref($A42,numericItinerary(R$1))","v":"x"},{"$f":"getProgramXref($A42,numericItinerary(S$1))","v":""},{"$f":"getProgramXref($A42,numericItinerary(T$1))","v":"x"},{"$f":"getProgramXref($A42,numericItinerary(U$1))","v":""},{"$f":"getProgramXref($A42,numericItinerary(V$1))","v":""},{"$f":"getProgramXref($A42,numericItinerary(W$1))","v":""},{"$f":"getProgramXref($A42,numericItinerary(X$1))","v":""},{"$f":"getProgramXref($A42,numericItinerary(Y$1))","v":"x"},{"$f":"getProgramXref($A42,numericItinerary(Z$1))","v":""},{"$f":"getProgramXref($A42,numericItinerary(AA$1))","v":"x"},{"$f":"getProgramXref($A42,numericItinerary(AB$1))","v":""},{"$f":"getProgramXref($A42,numericItinerary(AC$1))","v":"x"},{"$f":"getProgramXref($A42,numericItinerary(AD$1))","v":"x"},{"$f":"getProgramXref($A42,numericItinerary(AE$1))","v":""},{"$f":"getProgramXref($A42,numericItinerary(AF$1))","v":"x"},{"$f":"getProgramXref($A42,numericItinerary(AG$1))","v":""},{"$f":"getProgramXref($A42,numericItinerary(AH$1))","v":"x"},{"$f":"getProgramXref($A42,numericItinerary(AI$1))","v":""},{"$f":"getProgramXref($A42,numericItinerary(AJ$1))","v":""},null,{"$f":"COUNTIF(C42:AJ42,\"X\")","v":10}]
[{"$f":"INDEX(program_table,ROW()-5)","v":"Post Civil War Encampment"},6,{"$f":"getProgramXref($A43,numericItinerary(C$1))","v":"x"},{"$f":"getProgramXref($A43,numericItinerary(D$1))","v":""},{"$f":"getProgramXref($A43,numericItinerary(E$1))","v":"x"},{"$f":"getProgramXref($A43,numericItinerary(F$1))","v":"x"},{"$f":"getProgramXref($A43,numericItinerary(G$1))","v":""},{"$f":"getProgramXref($A43,numericItinerary(H$1))","v":""},{"$f":"getProgramXref($A43,numericItinerary(I$1))","v":""},{"$f":"getProgramXref($A43,numericItinerary(J$1))","v":""},{"$f":"getProgramXref($A43,numericItinerary(K$1))","v":""},{"$f":"getProgramXref($A43,numericItinerary(L$1))","v":""},{"$f":"getProgramXref($A43,numericItinerary(M$1))","v":""},{"$f":"getProgramXref($A43,numericItinerary(N$1))","v":""},{"$f":"getProgramXref($A43,numericItinerary(O$1))","v":"x"},{"$f":"getProgramXref($A43,numericItinerary(P$1))","v":""},{"$f":"getProgramXref($A43,numericItinerary(Q$1))","v":""},{"$f":"getProgramXref($A43,numericItinerary(R$1))","v":""},{"$f":"getProgramXref($A43,numericItinerary(S$1))","v":""},{"$f":"getProgramXref($A43,numericItinerary(T$1))","v":""},{"$f":"getProgramXref($A43,numericItinerary(U$1))","v":""},{"$f":"getProgramXref($A43,numericItinerary(V$1))","v":""},{"$f":"getProgramXref($A43,numericItinerary(W$1))","v":""},{"$f":"getProgramXref($A43,numericItinerary(X$1))","v":""},{"$f":"getProgramXref($A43,numericItinerary(Y$1))","v":""},{"$f":"getProgramXref($A43,numericItinerary(Z$1))","v":"x"},{"$f":"getProgramXref($A43,numericItinerary(AA$1))","v":""},{"$f":"getProgramXref($A43,numericItinerary(AB$1))","v":""},{"$f":"getProgramXref($A43,numericItinerary(AC$1))","v":""},{"$f":"getProgramXref($A43,numericItinerary(AD$1))","v":""},{"$f":"getProgramXref($A43,numericItinerary(AE$1))","v":"x"},{"$f":"getProgramXref($A43,numericItinerary(AF$1))","v":""},{"$f":"getProgramXref($A43,numericItinerary(AG$1))","v":""},{"$f":"getProgramXref($A43,numericItinerary(AH$1))","v":""},{"$f":"getProgramXref($A43,numericItinerary(AI$1))","v":""},{"$f":"getProgramXref($A43,numericItinerary(AJ$1))","v":""},null,6]
[{"$f":"INDEX(program_table,ROW()-5)","v":"Railroading"},9,{"$f":"getProgramXref($A44,numericItinerary(C$1))","v":""},{"$f":"getProgramXref($A44,numericItinerary(D$1))","v":""},{"$f":"getProgramXref($A44,numericItinerary(E$1))","v":""},{"$f":"getProgramXref($A44,numericItinerary(F$1))","v":""},{"$f":"getProgramXref($A44,numericItinerary(G$1))","v":"x"},{"$f":"getProgramXref($A44,numericItinerary(H$1))","v":""},{"$f":"getProgramXref($A44,numericItinerary(I$1))","v":""},{"$f":"getProgramXref($A44,numericItinerary(J$1))","v":""},{"$f":"getProgramXref($A44,numericItinerary(K$1))","v":"x"},{"$f":"getProgramXref($A44,numericItinerary(L$1))","v":""},{"$f":"getProgramXref($A44,numericItinerary(M$1))","v":""},{"$f":"getProgramXref($A44,numericItinerary(N$1))","v":""},{"$f":"getProgramXref($A44,numericItinerary(O$1))","v":""},{"$f":"getProgramXref($A44,numericItinerary(P$1))","v":""},{"$f":"getProgramXref($A44,numericItinerary(Q$1))","v":""},{"$f":"getProgramXref($A44,numericItinerary(R$1))","v":"x"},{"$f":"getProgramXref($A44,numericItinerary(S$1))","v":""},{"$f":"getProgramXref($A44,numericItinerary(T$1))","v":"x"},{"$f":"getProgramXref($A44,numericItinerary(U$1))","v":""},{"$f":"getProgramXref($A44,numericItinerary(V$1))","v":""},{"$f":"getProgramXref($A44,numericItinerary(W$1))","v":""},{"$f":"getProgramXref($A44,numericItinerary(X$1))","v":""},{"$f":"getProgramXref($A44,numericItinerary(Y$1))","v":"x"},{"$f":"getProgramXref($A44,numericItinerary(Z$1))","v":""},{"$f":"getProgramXref($A44,numericItinerary(AA$1))","v":"x"},{"$f":"getProgramXref($A44,numericItinerary(AB$1))","v":""},{"$f":"getProgramXref($A44,numericItinerary(AC$1))","v":"x"},{"$f":"getProgramXref($A44,numericItinerary(AD$1))","v":""},{"$f":"getProgramXref($A44,numericItinerary(AE$1))","v":""},{"$f":"getProgramXref($A44,numericItinerary(AF$1))","v":"x"},{"$f":"getProgramXref($A44,numericItinerary(AG$1))","v":""},{"$f":"getProgramXref($A44,numericItinerary(AH$1))","v":"x"},{"$f":"getProgramXref($A44,numericItinerary(AI$1))","v":""},{"$f":"getProgramXref($A44,numericItinerary(AJ$1))","v":""},null,9]
[{"$f":"INDEX(program_table,ROW()-5)","v":"Rock Climbing & Rappelling"},24,{"$f":"getProgramXref($A45,numericItinerary(C$1))","v":""},{"$f":"getProgramXref($A45,numericItinerary(D$1))","v":"x"},{"$f":"getProgramXref($A45,numericItinerary(E$1))","v":"x"},{"$f":"getProgramXref($A45,numericItinerary(F$1))","v":"x"},{"$f":"getProgramXref($A45,numericItinerary(G$1))","v":""},{"$f":"getProgramXref($A45,numericItinerary(H$1))","v":"x"},{"$f":"getProgramXref($A45,numericItinerary(I$1))","v":"x"},{"$f":"getProgramXref($A45,numericItinerary(J$1))","v":"x"},{"$f":"getProgramXref($A45,numericItinerary(K$1))","v":""},{"$f":"getProgramXref($A45,numericItinerary(L$1))","v":"x"},{"$f":"getProgramXref($A45,numericItinerary(M$1))","v":"x"},{"$f":"getProgramXref($A45,numericItinerary(N$1))","v":"x"},{"$f":"getProgramXref($A45,numericItinerary(O$1))","v":"x"},{"$f":"getProgramXref($A45,numericItinerary(P$1))","v":"x"},{"$f":"getProgramXref($A45,numericItinerary(Q$1))","v":""},{"$f":"getProgramXref($A45,numericItinerary(R$1))","v":""},{"$f":"getProgramXref($A45,numericItinerary(S$1))","v":"x"},{"$f":"getProgramXref($A45,numericItinerary(T$1))","v":"x"},{"$f":"getProgramXref($A45,numericItinerary(U$1))","v":"x"},{"$f":"getProgramXref($A45,numericItinerary(V$1))","v":"x"},{"$f":"getProgramXref($A45,numericItinerary(W$1))","v":"x"},{"$f":"getProgramXref($A45,numericItinerary(X$1))","v":"x"},{"$f":"getProgramXref($A45,numericItinerary(Y$1))","v":""},{"$f":"getProgramXref($A45,numericItinerary(Z$1))","v":"x"},{"$f":"getProgramXref($A45,numericItinerary(AA$1))","v":"x"},{"$f":"getProgramXref($A45,numericItinerary(AB$1))","v":""},{"$f":"getProgramXref($A45,numericItinerary(AC$1))","v":"x"},{"$f":"getProgramXref($A45,numericItinerary(AD$1))","v":""},{"$f":"getProgramXref($A45,numericItinerary(AE$1))","v":""},{"$f":"getProgramXref($A45,numericItinerary(AF$1))","v":"x"},{"$f":"getProgramXref($A45,numericItinerary(AG$1))","v":""},{"$f":"getProgramXref($A45,numericItinerary(AH$1))","v":"x"},{"$f":"getProgramXref($A45,numericItinerary(AI$1))","v":"x"},{"$f":"getProgramXref($A45,numericItinerary(AJ$1))","v":"x"},null,24]
[{"$f":"INDEX(program_table,ROW()-5)","v":"Rocky Mountain Fur Co."},15,{"$f":"getProgramXref($A46,numericItinerary(C$1))","v":"x"},{"$f":"getProgramXref($A46,numericItinerary(D$1))","v":"x"},{"$f":"getProgramXref($A46,numericItinerary(E$1))","v":""},{"$f":"getProgramXref($A46,numericItinerary(F$1))","v":"x"},{"$f":"getProgramXref($A46,numericItinerary(G$1))","v":""},{"$f":"getProgramXref($A46,numericItinerary(H$1))","v":"x"},{"$f":"getProgramXref($A46,numericItinerary(I$1))","v":"x"},{"$f":"getProgramXref($A46,numericItinerary(J$1))","v":"x"},{"$f":"getProgramXref($A46,numericItinerary(K$1))","v":""},{"$f":"getProgramXref($A46,numericItinerary(L$1))","v":""},{"$f":"getProgramXref($A46,numericItinerary(M$1))","v":"x"},{"$f":"getProgramXref($A46,numericItinerary(N$1))","v":"x"},{"$f":"getProgramXref($A46,numericItinerary(O$1))","v":""},{"$f":"getProgramXref($A46,numericItinerary(P$1))","v":"x"},{"$f":"getProgramXref($A46,numericItinerary(Q$1))","v":"x"},{"$f":"getProgramXref($A46,numericItinerary(R$1))","v":""},{"$f":"getProgramXref($A46,numericItinerary(S$1))","v":"x"},{"$f":"getProgramXref($A46,numericItinerary(T$1))","v":""},{"$f":"getProgramXref($A46,numericItinerary(U$1))","v":"x"},{"$f":"getProgramXref($A46,numericItinerary(V$1))","v":""},{"$f":"getProgramXref($A46,numericItinerary(W$1))","v":"x"},{"$f":"getProgramXref($A46,numericItinerary(X$1))","v":"x"},{"$f":"getProgramXref($A46,numericItinerary(Y$1))","v":""},{"$f":"getProgramXref($A46,numericItinerary(Z$1))","v":"x"},{"$f":"getProgramXref($A46,numericItinerary(AA$1))","v":""},{"$f":"getProgramXref($A46,numericItinerary(AB$1))","v":""},{"$f":"getProgramXref($A46,numericItinerary(AC$1))","v":""},{"$f":"getProgramXref($A46,numericItinerary(AD$1))","v":""},{"$f":"getProgramXref($A46,numericItinerary(AE$1))","v":""},{"$f":"getProgramXref($A46,numericItinerary(AF$1))","v":""},{"$f":"getProgramXref($A46,numericItinerary(AG$1))","v":""},{"$f":"getProgramXref($A46,numericItinerary(AH$1))","v":""},{"$f":"getProgramXref($A46,numericItinerary(AI$1))","v":""},{"$f":"getProgramXref($A46,numericItinerary(AJ$1))","v":""},null,15]
[{"$f":"INDEX(program_table,ROW()-5)","v":"Search & Rescue/Wild. Medicine"},1,{"$f":"getProgramXref($A47,numericItinerary(C$1))","v":""},{"$f":"getProgramXref($A47,numericItinerary(D$1))","v":""},{"$f":"getProgramXref($A47,numericItinerary(E$1))","v":""},{"$f":"getProgramXref($A47,numericItinerary(F$1))","v":""},{"$f":"getProgramXref($A47,numericItinerary(G$1))","v":""},{"$f":"getProgramXref($A47,numericItinerary(H$1))","v":""},{"$f":"getProgramXref($A47,numericItinerary(I$1))","v":"x"},{"$f":"getProgramXref($A47,numericItinerary(J$1))","v":""},{"$f":"getProgramXref($A47,numericItinerary(K$1))","v":""},{"$f":"getProgramXref($A47,numericItinerary(L$1))","v":""},{"$f":"getProgramXref($A47,numericItinerary(M$1))","v":""},{"$f":"getProgramXref($A47,numericItinerary(N$1))","v":""},{"$f":"getProgramXref($A47,numericItinerary(O$1))","v":""},{"$f":"getProgramXref($A47,numericItinerary(P$1))","v":""},{"$f":"getProgramXref($A47,numericItinerary(Q$1))","v":""},{"$f":"getProgramXref($A47,numericItinerary(R$1))","v":""},{"$f":"getProgramXref($A47,numericItinerary(S$1))","v":""},{"$f":"getProgramXref($A47,numericItinerary(T$1))","v":""},{"$f":"getProgramXref($A47,numericItinerary(U$1))","v":""},{"$f":"getProgramXref($A47,numericItinerary(V$1))","v":""},{"$f":"getProgramXref($A47,numericItinerary(W$1))","v":""},{"$f":"getProgramXref($A47,numericItinerary(X$1))","v":""},{"$f":"getProgramXref($A47,numericItinerary(Y$1))","v":""},{"$f":"getProgramXref($A47,numericItinerary(Z$1))","v":""},{"$f":"getProgramXref($A47,numericItinerary(AA$1))","v":""},{"$f":"getProgramXref($A47,numericItinerary(AB$1))","v":""},{"$f":"getProgramXref($A47,numericItinerary(AC$1))","v":""},{"$f":"getProgramXref($A47,numericItinerary(AD$1))","v":""},{"$f":"getProgramXref($A47,numericItinerary(AE$1))","v":""},{"$f":"getProgramXref($A47,numericItinerary(AF$1))","v":""},{"$f":"getProgramXref($A47,numericItinerary(AG$1))","v":""},{"$f":"getProgramXref($A47,numericItinerary(AH$1))","v":""},{"$f":"getProgramXref($A47,numericItinerary(AI$1))","v":""},{"$f":"getProgramXref($A47,numericItinerary(AJ$1))","v":""},null,1]
[{"$f":"INDEX(program_table,ROW()-5)","v":"Shooting/Reloading - .30-06"},8,{"$f":"getProgramXref($A48,numericItinerary(C$1))","v":""},{"$f":"getProgramXref($A48,numericItinerary(D$1))","v":""},{"$f":"getProgramXref($A48,numericItinerary(E$1))","v":"x"},{"$f":"getProgramXref($A48,numericItinerary(F$1))","v":"x"},{"$f":"getProgramXref($A48,numericItinerary(G$1))","v":""},{"$f":"getProgramXref($A48,numericItinerary(H$1))","v":""},{"$f":"getProgramXref($A48,numericItinerary(I$1))","v":""},{"$f":"getProgramXref($A48,numericItinerary(J$1))","v":""},{"$f":"getProgramXref($A48,numericItinerary(K$1))","v":""},{"$f":"getProgramXref($A48,numericItinerary(L$1))","v":""},{"$f":"getProgramXref($A48,numericItinerary(M$1))","v":""},{"$f":"getProgramXref($A48,numericItinerary(N$1))","v":""},{"$f":"getProgramXref($A48,numericItinerary(O$1))","v":""},{"$f":"getProgramXref($A48,numericItinerary(P$1))","v":""},{"$f":"getProgramXref($A48,numericItinerary(Q$1))","v":""},{"$f":"getProgramXref($A48,numericItinerary(R$1))","v":""},{"$f":"getProgramXref($A48,numericItinerary(S$1))","v":"x"},{"$f":"getProgramXref($A48,numericItinerary(T$1))","v":""},{"$f":"getProgramXref($A48,numericItinerary(U$1))","v":""},{"$f":"getProgramXref($A48,numericItinerary(V$1))","v":""},{"$f":"getProgramXref($A48,numericItinerary(W$1))","v":""},{"$f":"getProgramXref($A48,numericItinerary(X$1))","v":"x"},{"$f":"getProgramXref($A48,numericItinerary(Y$1))","v":""},{"$f":"getProgramXref($A48,numericItinerary(Z$1))","v":""},{"$f":"getProgramXref($A48,numericItinerary(AA$1))","v":""},{"$f":"getProgramXref($A48,numericItinerary(AB$1))","v":""},{"$f":"getProgramXref($A48,numericItinerary(AC$1))","v":""},{"$f":"getProgramXref($A48,numericItinerary(AD$1))","v":"x"},{"$f":"getProgramXref($A48,numericItinerary(AE$1))","v":"x"},{"$f":"getProgramXref($A48,numericItinerary(AF$1))","v":""},{"$f":"getProgramXref($A48,numericItinerary(AG$1))","v":"x"},{"$f":"getProgramXref($A48,numericItinerary(AH$1))","v":""},{"$f":"getProgramXref($A48,numericItinerary(AI$1))","v":"x"},{"$f":"getProgramXref($A48,numericItinerary(AJ$1))","v":""},null,8]
[{"$f":"INDEX(program_table,ROW()-5)","v":"Shotgun Shooting/Reloading - 12 Gauge"},{"$f":"COUNTIF(C49:AJ49,\"X\")","v":4},{"$f":"getProgramXref($A49,numericItinerary(C$1))","v":""},{"$f":"getProgramXref($A49,numericItinerary(D$1))","v":""},{"$f":"getProgramXref($A49,numericItinerary(E$1))","v":""},{"$f":"getProgramXref($A49,numericItinerary(F$1))","v":""},{"$f":"getProgramXref($A49,numericItinerary(G$1))","v":""},{"$f":"getProgramXref($A49,numericItinerary(H$1))","v":""},{"$f":"getProgramXref($A49,numericItinerary(I$1))","v":""},{"$f":"getProgramXref($A49,numericItinerary(J$1))","v":""},{"$f":"getProgramXref($A49,numericItinerary(K$1))","v":""},{"$f":"getProgramXref($A49,numericItinerary(L$1))","v":""},{"$f":"getProgramXref($A49,numericItinerary(M$1))","v":""},{"$f":"getProgramXref($A49,numericItinerary(N$1))","v":""},{"$f":"getProgramXref($A49,numericItinerary(O$1))","v":""},{"$f":"getProgramXref($A49,numericItinerary(P$1))","v":""},{"$f":"getProgramXref($A49,numericItinerary(Q$1))","v":""},{"$f":"getProgramXref($A49,numericItinerary(R$1))","v":""},{"$f":"getProgramXref($A49,numericItinerary(S$1))","v":""},{"$f":"getProgramXref($A49,numericItinerary(T$1))","v":""},{"$f":"getProgramXref($A49,numericItinerary(U$1))","v":""},{"$f":"getProgramXref($A49,numericItinerary(V$1))","v":"x"},{"$f":"getProgramXref($A49,numericItinerary(W$1))","v":""},{"$f":"getProgramXref($A49,numericItinerary(X$1))","v":""},{"$f":"getProgramXref($A49,numericItinerary(Y$1))","v":""},{"$f":"getProgramXref($A49,numericItinerary(Z$1))","v":""},{"$f":"getProgramXref($A49,numericItinerary(AA$1))","v":""},{"$f":"getProgramXref($A49,numericItinerary(AB$1))","v":""},{"$f":"getProgramXref($A49,numericItinerary(AC$1))","v":""},{"$f":"getProgramXref($A49,numericItinerary(AD$1))","v":"x"},{"$f":"getProgramXref($A49,numericItinerary(AE$1))","v":""},{"$f":"getProgramXref($A49,numericItinerary(AF$1))","v":""},{"$f":"getProgramXref($A49,numericItinerary(AG$1))","v":""},{"$f":"getProgramXref($A49,numericItinerary(AH$1))","v":"x"},{"$f":"getProgramXref($A49,numericItinerary(AI$1))","v":""},{"$f":"getProgramXref($A49,numericItinerary(AJ$1))","v":"x"}]
[{"$f":"INDEX(program_table,ROW()-5)","v":"Spar Pole Climbing"},11,{"$f":"getProgramXref($A50,numericItinerary(C$1))","v":""},{"$f":"getProgramXref($A50,numericItinerary(D$1))","v":""},{"$f":"getProgramXref($A50,numericItinerary(E$1))","v":""},{"$f":"getProgramXref($A50,numericItinerary(F$1))","v":""},{"$f":"getProgramXref($A50,numericItinerary(G$1))","v":"x"},{"$f":"getProgramXref($A50,numericItinerary(H$1))","v":""},{"$f":"getProgramXref($A50,numericItinerary(I$1))","v":""},{"$f":"getProgramXref($A50,numericItinerary(J$1))","v":""},{"$f":"getProgramXref($A50,numericItinerary(K$1))","v":""},{"$f":"getProgramXref($A50,numericItinerary(L$1))","v":"x"},{"$f":"getProgramXref($A50,numericItinerary(M$1))","v":"x"},{"$f":"getProgramXref($A50,numericItinerary(N$1))","v":""},{"$f":"getProgramXref($A50,numericItinerary(O$1))","v":""},{"$f":"getProgramXref($A50,numericItinerary(P$1))","v":"x"},{"$f":"getProgramXref($A50,numericItinerary(Q$1))","v":"x"},{"$f":"getProgramXref($A50,numericItinerary(R$1))","v":""},{"$f":"getProgramXref($A50,numericItinerary(S$1))","v":"x"},{"$f":"getProgramXref($A50,numericItinerary(T$1))","v":""},{"$f":"getProgramXref($A50,numericItinerary(U$1))","v":""},{"$f":"getProgramXref($A50,numericItinerary(V$1))","v":""},{"$f":"getProgramXref($A50,numericItinerary(W$1))","v":""},{"$f":"getProgramXref($A50,numericItinerary(X$1))","v":""},{"$f":"getProgramXref($A50,numericItinerary(Y$1))","v":""},{"$f":"getProgramXref($A50,numericItinerary(Z$1))","v":""},{"$f":"getProgramXref($A50,numericItinerary(AA$1))","v":"x"},{"$f":"getProgramXref($A50,numericItinerary(AB$1))","v":"x"},{"$f":"getProgramXref($A50,numericItinerary(AC$1))","v":"x"},{"$f":"getProgramXref($A50,numericItinerary(AD$1))","v":""},{"$f":"getProgramXref($A50,numericItinerary(AE$1))","v":""},{"$f":"getProgramXref($A50,numericItinerary(AF$1))","v":"x"},{"$f":"getProgramXref($A50,numericItinerary(AG$1))","v":""},{"$f":"getProgramXref($A50,numericItinerary(AH$1))","v":"x"},{"$f":"getProgramXref($A50,numericItinerary(AI$1))","v":""},{"$f":"getProgramXref($A50,numericItinerary(AJ$1))","v":""},null,11]
[{"$f":"INDEX(program_table,ROW()-5)","v":"Tie Making & Crosscut Saws"},25,{"$f":"getProgramXref($A51,numericItinerary(C$1))","v":""},{"$f":"getProgramXref($A51,numericItinerary(D$1))","v":"x"},{"$f":"getProgramXref($A51,numericItinerary(E$1))","v":""},{"$f":"getProgramXref($A51,numericItinerary(F$1))","v":""},{"$f":"getProgramXref($A51,numericItinerary(G$1))","v":"x"},{"$f":"getProgramXref($A51,numericItinerary(H$1))","v":"x"},{"$f":"getProgramXref($A51,numericItinerary(I$1))","v":"x"},{"$f":"getProgramXref($A51,numericItinerary(J$1))","v":"x"},{"$f":"getProgramXref($A51,numericItinerary(K$1))","v":"x"},{"$f":"getProgramXref($A51,numericItinerary(L$1))","v":"x"},{"$f":"getProgramXref($A51,numericItinerary(M$1))","v":"x"},{"$f":"getProgramXref($A51,numericItinerary(N$1))","v":"x"},{"$f":"getProgramXref($A51,numericItinerary(O$1))","v":""},{"$f":"getProgramXref($A51,numericItinerary(P$1))","v":"x"},{"$f":"getProgramXref($A51,numericItinerary(Q$1))","v":"x"},{"$f":"getProgramXref($A51,numericItinerary(R$1))","v":"x"},{"$f":"getProgramXref($A51,numericItinerary(S$1))","v":"x"},{"$f":"getProgramXref($A51,numericItinerary(T$1))","v":"x"},{"$f":"getProgramXref($A51,numericItinerary(U$1))","v":""},{"$f":"getProgramXref($A51,numericItinerary(V$1))","v":"x"},{"$f":"getProgramXref($A51,numericItinerary(W$1))","v":"x"},{"$f":"getProgramXref($A51,numericItinerary(X$1))","v":""},{"$f":"getProgramXref($A51,numericItinerary(Y$1))","v":"x"},{"$f":"getProgramXref($A51,numericItinerary(Z$1))","v":"x"},{"$f":"getProgramXref($A51,numericItinerary(AA$1))","v":"x"},{"$f":"getProgramXref($A51,numericItinerary(AB$1))","v":"x"},{"$f":"getProgramXref($A51,numericItinerary(AC$1))","v":"x"},{"$f":"getProgramXref($A51,numericItinerary(AD$1))","v":""},{"$f":"getProgramXref($A51,numericItinerary(AE$1))","v":"x"},{"$f":"getProgramXref($A51,numericItinerary(AF$1))","v":""},{"$f":"getProgramXref($A51,numericItinerary(AG$1))","v":""},{"$f":"getProgramXref($A51,numericItinerary(AH$1))","v":"x"},{"$f":"getProgramXref($A51,numericItinerary(AI$1))","v":"x"},{"$f":"getProgramXref($A51,numericItinerary(AJ$1))","v":"x"},null,{"$f":"COUNTIF(C51:AJ51,\"X\")","v":25}]
[{"$f":"INDEX(program_table,ROW()-5)","v":"Tomahawk Throwing"},24,{"$f":"getProgramXref($A52,numericItinerary(C$1))","v":"x"},{"$f":"getProgramXref($A52,numericItinerary(D$1))","v":"x"},{"$f":"getProgramXref($A52,numericItinerary(E$1))","v":"x"},{"$f":"getProgramXref($A52,numericItinerary(F$1))","v":"x"},{"$f":"getProgramXref($A52,numericItinerary(G$1))","v":""},{"$f":"getProgramXref($A52,numericItinerary(H$1))","v":"x"},{"$f":"getProgramXref($A52,numericItinerary(I$1))","v":"x"},{"$f":"getProgramXref($A52,numericItinerary(J$1))","v":"x"},{"$f":"getProgramXref($A52,numericItinerary(K$1))","v":"x"},{"$f":"getProgramXref($A52,numericItinerary(L$1))","v":"x"},{"$f":"getProgramXref($A52,numericItinerary(M$1))","v":"x"},{"$f":"getProgramXref($A52,numericItinerary(N$1))","v":"x"},{"$f":"getProgramXref($A52,numericItinerary(O$1))","v":""},{"$f":"getProgramXref($A52,numericItinerary(P$1))","v":"x"},{"$f":"getProgramXref($A52,numericItinerary(Q$1))","v":"x"},{"$f":"getProgramXref($A52,numericItinerary(R$1))","v":"x"},{"$f":"getProgramXref($A52,numericItinerary(S$1))","v":"x"},{"$f":"getProgramXref($A52,numericItinerary(T$1))","v":"x"},{"$f":"getProgramXref($A52,numericItinerary(U$1))","v":"x"},{"$f":"getProgramXref($A52,numericItinerary(V$1))","v":"x"},{"$f":"getProgramXref($A52,numericItinerary(W$1))","v":"x"},{"$f":"getProgramXref($A52,numericItinerary(X$1))","v":"x"},{"$f":"getProgramXref($A52,numericItinerary(Y$1))","v":"x"},{"$f":"getProgramXref($A52,numericItinerary(Z$1))","v":"x"},{"$f":"getProgramXref($A52,numericItinerary(AA$1))","v":""},{"$f":"getProgramXref($A52,numericItinerary(AB$1))","v":""},{"$f":"getProgramXref($A52,numericItinerary(AC$1))","v":"x"},{"$f":"getProgramXref($A52,numericItinerary(AD$1))","v":""},{"$f":"getProgramXref($A52,numericItinerary(AE$1))","v":""},{"$f":"getProgramXref($A52,numericItinerary(AF$1))","v":""},{"$f":"getProgramXref($A52,numericItinerary(AG$1))","v":""},{"$f":"getProgramXref($A52,numericItinerary(AH$1))","v":"x"},{"$f":"getProgramXref($A52,numericItinerary(AI$1))","v":""},{"$f":"getProgramXref($A52,numericItinerary(AJ$1))","v":""},null,24]
[{"$f":"INDEX(program_table,ROW()-5)","v":"Tooth of Time"},23,{"$f":"getProgramXref($A53,numericItinerary(C$1))","v":"x"},{"$f":"getProgramXref($A53,numericItinerary(D$1))","v":"x"},{"$f":"getProgramXref($A53,numericItinerary(E$1))","v":"x"},{"$f":"getProgramXref($A53,numericItinerary(F$1))","v":"x"},{"$f":"getProgramXref($A53,numericItinerary(G$1))","v":""},{"$f":"getProgramXref($A53,numericItinerary(H$1))","v":"x"},{"$f":"getProgramXref($A53,numericItinerary(I$1))","v":"x"},{"$f":"getProgramXref($A53,numericItinerary(J$1))","v":"x"},{"$f":"getProgramXref($A53,numericItinerary(K$1))","v":""},{"$f":"getProgramXref($A53,numericItinerary(L$1))","v":""},{"$f":"getProgramXref($A53,numericItinerary(M$1))","v":"x"},{"$f":"getProgramXref($A53,numericItinerary(N$1))","v":"x"},{"$f":"getProgramXref($A53,numericItinerary(O$1))","v":"x"},{"$f":"getProgramXref($A53,numericItinerary(P$1))","v":"x"},{"$f":"getProgramXref($A53,numericItinerary(Q$1))","v":"x"},{"$f":"getProgramXref($A53,numericItinerary(R$1))","v":""},{"$f":"getProgramXref($A53,numericItinerary(S$1))","v":"x"},{"$f":"getProgramXref($A53,numericItinerary(T$1))","v":""},{"$f":"getProgramXref($A53,numericItinerary(U$1))","v":"x"},{"$f":"getProgramXref($A53,numericItinerary(V$1))","v":""},{"$f":"getProgramXref($A53,numericItinerary(W$1))","v":"x"},{"$f":"getProgramXref($A53,numericItinerary(X$1))","v":"x"},{"$f":"getProgramXref($A53,numericItinerary(Y$1))","v":""},{"$f":"getProgramXref($A53,numericItinerary(Z$1))","v":"x"},{"$f":"getProgramXref($A53,numericItinerary(AA$1))","v":""},{"$f":"getProgramXref($A53,numericItinerary(AB$1))","v":""},{"$f":"getProgramXref($A53,numericItinerary(AC$1))","v":""},{"$f":"getProgramXref($A53,numericItinerary(AD$1))","v":"x"},{"$f":"getProgramXref($A53,numericItinerary(AE$1))","v":"x"},{"$f":"getProgramXref($A53,numericItinerary(AF$1))","v":""},{"$f":"getProgramXref($A53,numericItinerary(AG$1))","v":"x"},{"$f":"getProgramXref($A53,numericItinerary(AH$1))","v":"x"},{"$f":"getProgramXref($A53,numericItinerary(AI$1))","v":"x"},{"$f":"getProgramXref($A53,numericItinerary(AJ$1))","v":"x"},null,23]
[{"$f":"INDEX(program_table,ROW()-5)","v":"Trail Peak"},4,{"$f":"getProgramXref($A54,numericItinerary(C$1))","v":""},{"$f":"getProgramXref($A54,numericItinerary(D$1))","v":""},{"$f":"getProgramXref($A54,numericItinerary(E$1))","v":""},{"$f":"getProgramXref($A54,numericItinerary(F$1))","v":""},{"$f":"getProgramXref($A54,numericItinerary(G$1))","v":""},{"$f":"getProgramXref($A54,numericItinerary(H$1))","v":""},{"$f":"getProgramXref($A54,numericItinerary(I$1))","v":""},{"$f":"getProgramXref($A54,numericItinerary(J$1))","v":"x"},{"$f":"getProgramXref($A54,numericItinerary(K$1))","v":""},{"$f":"getProgramXref($A54,numericItinerary(L$1))","v":""},{"$f":"getProgramXref($A54,numericItinerary(M$1))","v":"x"},{"$f":"getProgramXref($A54,numericItinerary(N$1))","v":""},{"$f":"getProgramXref($A54,numericItinerary(O$1))","v":""},{"$f":"getProgramXref($A54,numericItinerary(P$1))","v":"x"},{"$f":"getProgramXref($A54,numericItinerary(Q$1))","v":"x"},{"$f":"getProgramXref($A54,numericItinerary(R$1))","v":""},{"$f":"getProgramXref($A54,numericItinerary(S$1))","v":""},{"$f":"getProgramXref($A54,numericItinerary(T$1))","v":""},{"$f":"getProgramXref($A54,numericItinerary(U$1))","v":""},{"$f":"getProgramXref($A54,numericItinerary(V$1))","v":""},{"$f":"getProgramXref($A54,numericItinerary(W$1))","v":""},{"$f":"getProgramXref($A54,numericItinerary(X$1))","v":""},{"$f":"getProgramXref($A54,numericItinerary(Y$1))","v":""},{"$f":"getProgramXref($A54,numericItinerary(Z$1))","v":""},{"$f":"getProgramXref($A54,numericItinerary(AA$1))","v":""},{"$f":"getProgramXref($A54,numericItinerary(AB$1))","v":""},{"$f":"getProgramXref($A54,numericItinerary(AC$1))","v":""},{"$f":"getProgramXref($A54,numericItinerary(AD$1))","v":""},{"$f":"getProgramXref($A54,numericItinerary(AE$1))","v":""},{"$f":"getProgramXref($A54,numericItinerary(AF$1))","v":""},{"$f":"getProgramXref($A54,numericItinerary(AG$1))","v":""},{"$f":"getProgramXref($A54,numericItinerary(AH$1))","v":""},{"$f":"getProgramXref($A54,numericItinerary(AI$1))","v":""},{"$f":"getProgramXref($A54,numericItinerary(AJ$1))","v":""},null,4]
[{"$f":"INDEX(program_table,ROW()-5)","v":"Western Lore/Branding"},29,{"$f":"getProgramXref($A55,numericItinerary(C$1))","v":"x"},{"$f":"getProgramXref($A55,numericItinerary(D$1))","v":"x"},{"$f":"getProgramXref($A55,numericItinerary(E$1))","v":""},{"$f":"getProgramXref($A55,numericItinerary(F$1))","v":"x"},{"$f":"getProgramXref($A55,numericItinerary(G$1))","v":"x"},{"$f":"getProgramXref($A55,numericItinerary(H$1))","v":"x"},{"$f":"getProgramXref($A55,numericItinerary(I$1))","v":"x"},{"$f":"getProgramXref($A55,numericItinerary(J$1))","v":"x"},{"$f":"getProgramXref($A55,numericItinerary(K$1))","v":"x"},{"$f":"getProgramXref($A55,numericItinerary(L$1))","v":"x"},{"$f":"getProgramXref($A55,numericItinerary(M$1))","v":"x"},{"$f":"getProgramXref($A55,numericItinerary(N$1))","v":"x"},{"$f":"getProgramXref($A55,numericItinerary(O$1))","v":"x"},{"$f":"getProgramXref($A55,numericItinerary(P$1))","v":"x"},{"$f":"getProgramXref($A55,numericItinerary(Q$1))","v":"x"},{"$f":"getProgramXref($A55,numericItinerary(R$1))","v":"x"},{"$f":"getProgramXref($A55,numericItinerary(S$1))","v":"x"},{"$f":"getProgramXref($A55,numericItinerary(T$1))","v":""},{"$f":"getProgramXref($A55,numericItinerary(U$1))","v":"x"},{"$f":"getProgramXref($A55,numericItinerary(V$1))","v":"x"},{"$f":"getProgramXref($A55,numericItinerary(W$1))","v":"x"},{"$f":"getProgramXref($A55,numericItinerary(X$1))","v":"x"},{"$f":"getProgramXref($A55,numericItinerary(Y$1))","v":""},{"$f":"getProgramXref($A55,numericItinerary(Z$1))","v":"x"},{"$f":"getProgramXref($A55,numericItinerary(AA$1))","v":""},{"$f":"getProgramXref($A55,numericItinerary(AB$1))","v":"x"},{"$f":"getProgramXref($A55,numericItinerary(AC$1))","v":"x"},{"$f":"getProgramXref($A55,numericItinerary(AD$1))","v":"x"},{"$f":"getProgramXref($A55,numericItinerary(AE$1))","v":"x"},{"$f":"getProgramXref($A55,numericItinerary(AF$1))","v":""},{"$f":"getProgramXref($A55,numericItinerary(AG$1))","v":"x"},{"$f":"getProgramXref($A55,numericItinerary(AH$1))","v":"x"},{"$f":"getProgramXref($A55,numericItinerary(AI$1))","v":"x"},{"$f":"getProgramXref($A55,numericItinerary(AJ$1))","v":"x"},null,29]
["# programs in itinerary:  ",null,{"$f":"COUNTIF(C6:C55,\"X\")","v":16},18,15,19,21,19,15,18,18,23,20,19,17,22,22,20,25,20,20,17,21,25,21,21,16,13,25,{"$f":"COUNTIF(AD6:AD55,\"X\")","v":19},18,18,14,22,20,16,null,{"$f":"COUNTIF(#REF!,\"X\")","v":{"$error":"#REF!"}}]
[null,null,null,null,null,null,null,null,null,null,null,null,null,null,null,null,null,null,null,null,null,null,null,null,null,null,null,null,null,null,null,null,null,null,null,null,null,{"$f":"COUNTIF(#REF!,\"X\")","v":{"$error":"#REF!"}}]
[null,null,null,null,null,null,null,null,null,null,null,null,null,null,null,null,null,null,null,null,null,null,null,null,null,null,null,null,null,null,null,null,null,null,null,null,null,{"$f":"COUNTIF(#REF!,\"X\")","v":{"$error":"#REF!"}}]
[null,null,null,null,null,null,null,null,null,null,null,null,null,null,null,null,null,null,null,null,null,null,null,null,null,null,null,null,null,null,null,null,null,null,null,null,null,{"$f":"COUNTIF(#REF!,\"X\")","v":{"$error":"#REF!"}}]

{"sheet":"Tables","index":8,"n_rows":146,"n_cols":16,"rows_kept":146,"cut":false,"hidden":false,"merged":[[1,4,1,10],[1,11,51,11],[138,0,145,0],[102,10,102,14],[110,8,110,9],[111,8,111,9],[114,11,119,11],[114,12,119,12],[114,13,119,13],[114,14,119,14]]}
["Row","Category","Code","Value",null,"Median","Score Selected",null,null,null,"n","Index"]
[null,"programFactor","Multiply X Activity score for value to use",1.5,"This is applied to each score in the calculation. Use to make activities more/less important.",null,null,null,null,null,null,"These are the results of the \"Scores\" worksheet — from the scores entered from the Preference Survey worksheets.","Total","Average","Median","Mode"]
[{"$f":"ROW()-2","v":1},"Program",{"$f":" INDEX(program_table,A3,1)","v":"Archaeology"},{"$f":"SUM(Scores!B2:M2)","v":152},null,null,null,null,null,null,1,null,{"$f":"SUM(Scores!$B2:M2)*programFactor","v":228},{"$f":"IF(COUNT(Scores!$B2:M2)>0,AVERAGE(Scores!$B2:M2)*programFactor,0)","v":19},{"$f":"IF(COUNT(Scores!$B2:M2)>0,MEDIAN(Scores!$B2:M2)*programFactor,0)","v":22.5},{"$f":"IF(getmode(Scores!$B2:M2)=\"\",\"\",getmode(Scores!$B2:M2)*programFactor)","v":22.5}]
[{"$f":"ROW()-2","v":2},"Program",{"$f":" INDEX(program_table,A4,1)","v":"Archery - 3 Dimensional"},{"$f":"SUM(Scores!B3:M3)","v":225},null,null,null,null,null,null,2,null,{"$f":"SUM(Scores!$B3:M3)*programFactor","v":337.5},{"$f":"IF(COUNT(Scores!$B3:M3)>0,AVERAGE(Scores!$B3:M3)*programFactor,0)","v":28.125},{"$f":"IF(COUNT(Scores!$B3:M3)>0,MEDIAN(Scores!$B3:M3)*programFactor,0)","v":30},{"$f":"IF(getmode(Scores!$B3:M3)=\"\",\"\",getmode(Scores!$B3:M3)*programFactor)","v":30}]
[3,"Program",{"$f":" INDEX(program_table,A5,1)","v":"Astronomy"},{"$f":"SUM(Scores!B4:M4)","v":76},null,null,null,null,null,null,3,null,{"$f":"SUM(Scores!$B4:M4)*programFactor","v":114},{"$f":"IF(COUNT(Scores!$B4:M4)>0,AVERAGE(Scores!$B4:M4)*programFactor,0)","v":9.5},{"$f":"IF(COUNT(Scores!$B4:M4)>0,MEDIAN(Scores!$B4:M4)*programFactor,0)","v":10.5},{"$f":"IF(getmode(Scores!$B4:M4)=\"\",\"\",getmode(Scores!$B4:M4)*programFactor)","v":3}]
[4,"Program",{"$f":" INDEX(program_table,A6,1)","v":"Atlatl (Dart-throwing)"},{"$f":"SUM(Scores!B5:M5)","v":188},null,null,null,null,null,null,4,null,{"$f":"SUM(Scores!$B5:M5)*programFactor","v":282},{"$f":"IF(COUNT(Scores!$B5:M5)>0,AVERAGE(Scores!$B5:M5)*programFactor,0)","v":23.5},{"$f":"IF(COUNT(Scores!$B5:M5)>0,MEDIAN(Scores!$B5:M5)*programFactor,0)","v":27},{"$f":"IF(getmode(Scores!$B5:M5)=\"\",\"\",getmode(Scores!$B5:M5)*programFactor)","v":27}]
[5,"Program",{"$f":" INDEX(program_table,A7,1)","v":"Baldy Mountain"},{"$f":"SUM(Scores!B6:M6)","v":108},null,null,null,null,null,null,5,null,{"$f":"SUM(Scores!$B6:M6)*programFactor","v":162},{"$f":"IF(COUNT(Scores!$B6:M6)>0,AVERAGE(Scores!$B6:M6)*programFactor,0)","v":13.5},{"$f":"IF(COUNT(Scores!$B6:M6)>0,MEDIAN(Scores!$B6:M6)*programFactor,0)","v":12.75},{"$f":"IF(getmode(Scores!$B6:M6)=\"\",\"\",getmode(Scores!$B6:M6)*programFactor)","v":0}]
[6,"Program",{"$f":" INDEX(program_table,A8,1)","v":"Blacksmithing"},{"$f":"SUM(Scores!B7:M7)","v":111},null,null,null,null,null,null,6,null,{"$f":"SUM(Scores!$B7:M7)*programFactor","v":166.5},{"$f":"IF(COUNT(Scores!$B7:M7)>0,AVERAGE(Scores!$B7:M7)*programFactor,0)","v":13.875},{"$f":"IF(COUNT(Scores!$B7:M7)>0,MEDIAN(Scores!$B7:M7)*programFactor,0)","v":14.25},{"$f":"IF(getmode(Scores!$B7:M7)=\"\",\"\",getmode(Scores!$B7:M7)*programFactor)","v":0}]
[7,"Program",{"$f":" INDEX(program_table,A9,1)","v":"Bouldering"},{"$f":"SUM(Scores!B8:M8)","v":111},null,null,null,null,null,null,7,null,{"$f":"SUM(Scores!$B8:M8)*programFactor","v":166.5},{"$f":"IF(COUNT(Scores!$B8:M8)>0,AVERAGE(Scores!$B8:M8)*programFactor,0)","v":13.875},{"$f":"IF(COUNT(Scores!$B8:M8)>0,MEDIAN(Scores!$B8:M8)*programFactor,0)","v":14.25},{"$f":"IF(getmode(Scores!$B8:M8)=\"\",\"\",getmode(Scores!$B8:M8)*programFactor)","v":0}]
[8,"Program",{"$f":" INDEX(program_table,A10,1)","v":"Burro Packing"},{"$f":"SUM(Scores!B9:M9)","v":84},null,null,null,null,null,null,8,null,{"$f":"SUM(Scores!$B9:M9)*programFactor","v":126},{"$f":"IF(COUNT(Scores!$B9:M9)>0,AVERAGE(Scores!$B9:M9)*programFactor,0)","v":10.5},{"$f":"IF(COUNT(Scores!$B9:M9)>0,MEDIAN(Scores!$B9:M9)*programFactor,0)","v":9},{"$f":"IF(getmode(Scores!$B9:M9)=\"\",\"\",getmode(Scores!$B9:M9)*programFactor)","v":0}]
[9,"Program",{"$f":" INDEX(program_table,A11,1)","v":"Campfire (evening)"},{"$f":"SUM(Scores!B10:M10)","v":87},null,null,null,null,null,null,9,null,{"$f":"SUM(Scores!$B10:M10)*programFactor","v":130.5},{"$f":"IF(COUNT(Scores!$B10:M10)>0,AVERAGE(Scores!$B10:M10)*programFactor,0)","v":10.875},{"$f":"IF(COUNT(Scores!$B10:M10)>0,MEDIAN(Scores!$B10:M10)*programFactor,0)","v":13.5},{"$f":"IF(getmode(Scores!$B10:M10)=\"\",\"\",getmode(Scores!$B10:M10)*programFactor)","v":0}]
[10,"Program",{"$f":" INDEX(program_table,A12,1)","v":"Cantina"},{"$f":"SUM(Scores!B11:M11)","v":61},null,null,null,null,null,null,10,null,{"$f":"SUM(Scores!$B11:M11)*programFactor","v":91.5},{"$f":"IF(COUNT(Scores!$B11:M11)>0,AVERAGE(Scores!$B11:M11)*programFactor,0)","v":8.3181818181818183},{"$f":"IF(COUNT(Scores!$B11:M11)>0,MEDIAN(Scores!$B11:M11)*programFactor,0)","v":7.5},{"$f":"IF(getmode(Scores!$B11:M11)=\"\",\"\",getmode(Scores!$B11:M11)*programFactor)","v":0}]
[11,"Program",{"$f":" INDEX(program_table,A13,1)","v":"Challenge Events"},{"$f":"SUM(Scores!B12:M12)","v":73},null,null,null,null,null,null,11,null,{"$f":"SUM(Scores!$B12:M12)*programFactor","v":109.5},{"$f":"IF(COUNT(Scores!$B12:M12)>0,AVERAGE(Scores!$B12:M12)*programFactor,0)","v":9.954545454545455},{"$f":"IF(COUNT(Scores!$B12:M12)>0,MEDIAN(Scores!$B12:M12)*programFactor,0)","v":7.5},{"$f":"IF(getmode(Scores!$B12:M12)=\"\",\"\",getmode(Scores!$B12:M12)*programFactor)","v":7.5}]
[12,"Program",{"$f":" INDEX(program_table,A14,1)","v":"Chuckwagon Dinner"},{"$f":"SUM(Scores!B13:M13)","v":73},null,null,null,null,null,null,12,null,{"$f":"SUM(Scores!$B13:M13)*programFactor","v":109.5},{"$f":"IF(COUNT(Scores!$B13:M13)>0,AVERAGE(Scores!$B13:M13)*programFactor,0)","v":13.6875},{"$f":"IF(COUNT(Scores!$B13:M13)>0,MEDIAN(Scores!$B13:M13)*programFactor,0)","v":15.75},{"$f":"IF(getmode(Scores!$B13:M13)=\"\",\"\",getmode(Scores!$B13:M13)*programFactor)","v":0}]
[13,"Program",{"$f":" INDEX(program_table,A15,1)","v":"Cowboy Action Shooting"},{"$f":"SUM(Scores!B14:M14)","v":74},null,null,null,null,null,null,13,null,{"$f":"SUM(Scores!$B14:M14)*programFactor","v":111},{"$f":"IF(COUNT(Scores!$B14:M14)>0,AVERAGE(Scores!$B14:M14)*programFactor,0)","v":9.25},{"$f":"IF(COUNT(Scores!$B14:M14)>0,MEDIAN(Scores!$B14:M14)*programFactor,0)","v":6},{"$f":"IF(getmode(Scores!$B14:M14)=\"\",\"\",getmode(Scores!$B14:M14)*programFactor)","v":0}]
[14,"Program",{"$f":" INDEX(program_table,A16,1)","v":"Demonstration Forest"},{"$f":"SUM(Scores!B15:M15)","v":76},null,null,null,null,null,null,14,null,{"$f":"SUM(Scores!$B15:M15)*programFactor","v":114},{"$f":"IF(COUNT(Scores!$B15:M15)>0,AVERAGE(Scores!$B15:M15)*programFactor,0)","v":10.363636363636363},{"$f":"IF(COUNT(Scores!$B15:M15)>0,MEDIAN(Scores!$B15:M15)*programFactor,0)","v":10.5},{"$f":"IF(getmode(Scores!$B15:M15)=\"\",\"\",getmode(Scores!$B15:M15)*programFactor)","v":3}]
[15,"Program",{"$f":" INDEX(program_table,A17,1)","v":"Fishing"},{"$f":"SUM(Scores!B16:M16)","v":82},null,null,null,null,null,null,15,null,{"$f":"SUM(Scores!$B16:M16)*programFactor","v":123},{"$f":"IF(COUNT(Scores!$B16:M16)>0,AVERAGE(Scores!$B16:M16)*programFactor,0)","v":11.181818181818182},{"$f":"IF(COUNT(Scores!$B16:M16)>0,MEDIAN(Scores!$B16:M16)*programFactor,0)","v":7.5},{"$f":"IF(getmode(Scores!$B16:M16)=\"\",\"\",getmode(Scores!$B16:M16)*programFactor)","v":4.5}]
[16,"Program",{"$f":" INDEX(program_table,A18,1)","v":"Fly Tying"},{"$f":"SUM(Scores!B17:M17)","v":84},null,null,null,null,null,null,16,null,{"$f":"SUM(Scores!$B17:M17)*programFactor","v":126},{"$f":"IF(COUNT(Scores!$B17:M17)>0,AVERAGE(Scores!$B17:M17)*programFactor,0)","v":10.5},{"$f":"IF(COUNT(Scores!$B17:M17)>0,MEDIAN(Scores!$B17:M17)*programFactor,0)","v":12},{"$f":"IF(getmode(Scores!$B17:M17)=\"\",\"\",getmode(Scores!$B17:M17)*programFactor)","v":12}]
[17,"Program",{"$f":" INDEX(program_table,A19,1)","v":"Fur Trapper Rendezvous"},{"$f":"SUM(Scores!B18:M18)","v":71},null,null,null,null,null,null,17,null,{"$f":"SUM(Scores!$B18:M18)*programFactor","v":106.5},{"$f":"IF(COUNT(Scores!$B18:M18)>0,AVERAGE(Scores!$B18:M18)*programFactor,0)","v":8.875},{"$f":"IF(COUNT(Scores!$B18:M18)>0,MEDIAN(Scores!$B18:M18)*programFactor,0)","v":6},{"$f":"IF(getmode(Scores!$B18:M18)=\"\",\"\",getmode(Scores!$B18:M18)*programFactor)","v":1.5}]
[18,"Program",{"$f":" INDEX(program_table,A20,1)","v":"Gold Mining & Panning"},{"$f":"SUM(Scores!B19:M19)","v":97},null,null,null,null,null,null,18,null,{"$f":"SUM(Scores!$B19:M19)*programFactor","v":145.5},{"$f":"IF(COUNT(Scores!$B19:M19)>0,AVERAGE(Scores!$B19:M19)*programFactor,0)","v":13.227272727272727},{"$f":"IF(COUNT(Scores!$B19:M19)>0,MEDIAN(Scores!$B19:M19)*programFactor,0)","v":15},{"$f":"IF(getmode(Scores!$B19:M19)=\"\",\"\",getmode(Scores!$B19:M19)*programFactor)","v":15}]
[19,"Program",{"$f":" INDEX(program_table,A21,1)","v":"High Ropes & Climbing Tower"},{"$f":"SUM(Scores!B20:M20)","v":62},null,null,null,null,null,null,19,null,{"$f":"SUM(Scores!$B20:M20)*programFactor","v":93},{"$f":"IF(COUNT(Scores!$B20:M20)>0,AVERAGE(Scores!$B20:M20)*programFactor,0)","v":7.75},{"$f":"IF(COUNT(Scores!$B20:M20)>0,MEDIAN(Scores!$B20:M20)*programFactor,0)","v":6},{"$f":"IF(getmode(Scores!$B20:M20)=\"\",\"\",getmode(Scores!$B20:M20)*programFactor)","v":0}]
[20,"Program",{"$f":" INDEX(program_table,A22,1)","v":"Historic Chase Ranch"},{"$f":"SUM(Scores!B21:M21)","v":104},null,null,null,null,null,null,20,null,{"$f":"SUM(Scores!$B21:M21)*programFactor","v":156},{"$f":"IF(COUNT(Scores!$B21:M21)>0,AVERAGE(Scores!$B21:M21)*programFactor,0)","v":13},{"$f":"IF(COUNT(Scores!$B21:M21)>0,MEDIAN(Scores!$B21:M21)*programFactor,0)","v":15},{"$f":"IF(getmode(Scores!$B21:M21)=\"\",\"\",getmode(Scores!$B21:M21)*programFactor)","v":3}]
[21,"Program",{"$f":" INDEX(program_table,A23,1)","v":"Homesteading"},{"$f":"SUM(Scores!B22:M22)","v":76},null,null,null,null,null,null,21,null,{"$f":"SUM(Scores!$B22:M22)*programFactor","v":114},{"$f":"IF(COUNT(Scores!$B22:M22)>0,AVERAGE(Scores!$B22:M22)*programFactor,0)","v":9.5},{"$f":"IF(COUNT(Scores!$B22:M22)>0,MEDIAN(Scores!$B22:M22)*programFactor,0)","v":6},{"$f":"IF(getmode(Scores!$B22:M22)=\"\",\"\",getmode(Scores!$B22:M22)*programFactor)","v":0}]
[22,"Program",{"$f":" INDEX(program_table,A24,1)","v":"Horse Rides"},{"$f":"SUM(Scores!B23:M23)","v":86},null,null,null,null,null,null,22,null,{"$f":"SUM(Scores!$B23:M23)*programFactor","v":129},{"$f":"IF(COUNT(Scores!$B23:M23)>0,AVERAGE(Scores!$B23:M23)*programFactor,0)","v":10.75},{"$f":"IF(COUNT(Scores!$B23:M23)>0,MEDIAN(Scores!$B23:M23)*programFactor,0)","v":9.75},{"$f":"IF(getmode(Scores!$B23:M23)=\"\",\"\",getmode(Scores!$B23:M23)*programFactor)","v":0}]
[23,"Program",{"$f":" INDEX(program_table,A25,1)","v":"Hunter Safety"},{"$f":"SUM(Scores!B24:M24)","v":69},null,null,null,null,null,null,23,null,{"$f":"SUM(Scores!$B24:M24)*programFactor","v":103.5},{"$f":"IF(COUNT(Scores!$B24:M24)>0,AVERAGE(Scores!$B24:M24)*programFactor,0)","v":8.625},{"$f":"IF(COUNT(Scores!$B24:M24)>0,MEDIAN(Scores!$B24:M24)*programFactor,0)","v":9.75},{"$f":"IF(getmode(Scores!$B24:M24)=\"\",\"\",getmode(Scores!$B24:M24)*programFactor)","v":3}]
[24,"Program",{"$f":" INDEX(program_table,A26,1)","v":"Inspiration Point Hike"},{"$f":"SUM(Scores!B25:M25)","v":108},null,null,null,null,null,null,24,null,{"$f":"SUM(Scores!$B25:M25)*programFactor","v":162},{"$f":"IF(COUNT(Scores!$B25:M25)>0,AVERAGE(Scores!$B25:M25)*programFactor,0)","v":18},{"$f":"IF(COUNT(Scores!$B25:M25)>0,MEDIAN(Scores!$B25:M25)*programFactor,0)","v":22.5},{"$f":"IF(getmode(Scores!$B25:M25)=\"\",\"\",getmode(Scores!$B25:M25)*programFactor)","v":0}]
[25,"Program",{"$f":" INDEX(program_table,A27,1)","v":"Jicarilla Apache Life"},{"$f":"SUM(Scores!B26:M26)","v":134},null,null,null,null,null,null,25,null,{"$f":"SUM(Scores!$B26:M26)*programFactor","v":201},{"$f":"IF(COUNT(Scores!$B26:M26)>0,AVERAGE(Scores!$B26:M26)*programFactor,0)","v":16.75},{"$f":"IF(COUNT(Scores!$B26:M26)>0,MEDIAN(Scores!$B26:M26)*programFactor,0)","v":18.75},{"$f":"IF(getmode(Scores!$B26:M26)=\"\",\"\",getmode(Scores!$B26:M26)*programFactor)","v":15}]
[26,"Program",{"$f":" INDEX(program_table,A28,1)","v":"Kit Carson/Rayado Rancho"},{"$f":"SUM(Scores!B27:M27)","v":97},null,null,null,null,null,null,26,null,{"$f":"SUM(Scores!$B27:M27)*programFactor","v":145.5},{"$f":"IF(COUNT(Scores!$B27:M27)>0,AVERAGE(Scores!$B27:M27)*programFactor,0)","v":14.549999999999999},{"$f":"IF(COUNT(Scores!$B27:M27)>0,MEDIAN(Scores!$B27:M27)*programFactor,0)","v":15},{"$f":"IF(getmode(Scores!$B27:M27)=\"\",\"\",getmode(Scores!$B27:M27)*programFactor)","v":15}]
[27,"Program",{"$f":" INDEX(program_table,A29,1)","v":"Laser Shot Shooting Range"},{"$f":"SUM(Scores!B28:M28)","v":100},null,null,null,null,null,null,26,null,{"$f":"SUM(Scores!$B28:M28)*programFactor","v":150},{"$f":"IF(COUNT(Scores!$B28:M28)>0,AVERAGE(Scores!$B28:M28)*programFactor,0)","v":13.636363636363637},{"$f":"IF(COUNT(Scores!$B28:M28)>0,MEDIAN(Scores!$B28:M28)*programFactor,0)","v":18},{"$f":"IF(getmode(Scores!$B28:M28)=\"\",\"\",getmode(Scores!$B28:M28)*programFactor)","v":0}]
[28,"Program",{"$f":" INDEX(program_table,A30,1)","v":"Lodge/Cabin Tours"},{"$f":"SUM(Scores!B29:M29)","v":117},null,null,null,null,null,null,27,null,{"$f":"SUM(Scores!$B29:M29)*programFactor","v":175.5},{"$f":"IF(COUNT(Scores!$B29:M29)>0,AVERAGE(Scores!$B29:M29)*programFactor,0)","v":15.954545454545455},{"$f":"IF(COUNT(Scores!$B29:M29)>0,MEDIAN(Scores!$B29:M29)*programFactor,0)","v":18},{"$f":"IF(getmode(Scores!$B29:M29)=\"\",\"\",getmode(Scores!$B29:M29)*programFactor)","v":0}]
[29,"Program",{"$f":" INDEX(program_table,A31,1)","v":"Low Impact Camping"},{"$f":"SUM(Scores!B30:M30)","v":103},null,null,null,null,null,null,28,null,{"$f":"SUM(Scores!$B30:M30)*programFactor","v":154.5},{"$f":"IF(COUNT(Scores!$B30:M30)>0,AVERAGE(Scores!$B30:M30)*programFactor,0)","v":15.450000000000001},{"$f":"IF(COUNT(Scores!$B30:M30)>0,MEDIAN(Scores!$B30:M30)*programFactor,0)","v":18},{"$f":"IF(getmode(Scores!$B30:M30)=\"\",\"\",getmode(Scores!$B30:M30)*programFactor)","v":18}]
[30,"Program",{"$f":" INDEX(program_table,A32,1)","v":"Mexican Dinner"},{"$f":"SUM(Scores!B31:M31)","v":126},null,null,null,null,null,null,null,null,{"$f":"SUM(Scores!$B31:M31)*programFactor","v":189},{"$f":"IF(COUNT(Scores!$B31:M31)>0,AVERAGE(Scores!$B31:M31)*programFactor,0)","v":17.181818181818183},{"$f":"IF(COUNT(Scores!$B31:M31)>0,MEDIAN(Scores!$B31:M31)*programFactor,0)","v":18},{"$f":"IF(getmode(Scores!$B31:M31)=\"\",\"\",getmode(Scores!$B31:M31)*programFactor)","v":22.5}]
[31,"Program",{"$f":" INDEX(program_table,A33,1)","v":"Mine Tour"},{"$f":"SUM(Scores!B32:M32)","v":135},null,null,null,null,null,null,null,null,{"$f":"SUM(Scores!$B32:M32)*programFactor","v":202.5},{"$f":"IF(COUNT(Scores!$B32:M32)>0,AVERAGE(Scores!$B32:M32)*programFactor,0)","v":18.40909090909091},{"$f":"IF(COUNT(Scores!$B32:M32)>0,MEDIAN(Scores!$B32:M32)*programFactor,0)","v":19.5},{"$f":"IF(getmode(Scores!$B32:M32)=\"\",\"\",getmode(Scores!$B32:M32)*programFactor)","v":19.5}]
[32,"Program",{"$f":" INDEX(program_table,A34,1)","v":"Mount Phillips"},{"$f":"SUM(Scores!B33:M33)","v":61},null,null,null,null,null,null,null,null,{"$f":"SUM(Scores!$B33:M33)*programFactor","v":91.5},{"$f":"IF(COUNT(Scores!$B33:M33)>0,AVERAGE(Scores!$B33:M33)*programFactor,0)","v":9.1499999999999986},{"$f":"IF(COUNT(Scores!$B33:M33)>0,MEDIAN(Scores!$B33:M33)*programFactor,0)","v":7.5},{"$f":"IF(getmode(Scores!$B33:M33)=\"\",\"\",getmode(Scores!$B33:M33)*programFactor)","v":0}]
[33,"Program",{"$f":" INDEX(program_table,A35,1)","v":"Mountain Biking"},{"$f":"SUM(Scores!B34:M34)","v":121},null,null,null,null,null,null,null,null,{"$f":"SUM(Scores!$B34:M34)*programFactor","v":181.5},{"$f":"IF(COUNT(Scores!$B34:M34)>0,AVERAGE(Scores!$B34:M34)*programFactor,0)","v":18.149999999999999},{"$f":"IF(COUNT(Scores!$B34:M34)>0,MEDIAN(Scores!$B34:M34)*programFactor,0)","v":18},{"$f":"IF(getmode(Scores!$B34:M34)=\"\",\"\",getmode(Scores!$B34:M34)*programFactor)","v":10.5}]
[34,"Program",{"$f":" INDEX(program_table,A36,1)","v":"Mountaineering"},{"$f":"SUM(Scores!B35:M35)","v":147},null,null,null,null,null,null,null,null,{"$f":"SUM(Scores!$B35:M35)*programFactor","v":220.5},{"$f":"IF(COUNT(Scores!$B35:M35)>0,AVERAGE(Scores!$B35:M35)*programFactor,0)","v":18.375},{"$f":"IF(COUNT(Scores!$B35:M35)>0,MEDIAN(Scores!$B35:M35)*programFactor,0)","v":18},{"$f":"IF(getmode(Scores!$B35:M35)=\"\",\"\",getmode(Scores!$B35:M35)*programFactor)","v":10.5}]
[35,"Program",{"$f":" INDEX(program_table,A37,1)","v":"Muzzle Loading Rifle"},{"$f":"SUM(Scores!B36:M36)","v":140},null,null,null,null,null,null,null,null,{"$f":"SUM(Scores!$B36:M36)*programFactor","v":210},{"$f":"IF(COUNT(Scores!$B36:M36)>0,AVERAGE(Scores!$B36:M36)*programFactor,0)","v":19.09090909090909},{"$f":"IF(COUNT(Scores!$B36:M36)>0,MEDIAN(Scores!$B36:M36)*programFactor,0)","v":21},{"$f":"IF(getmode(Scores!$B36:M36)=\"\",\"\",getmode(Scores!$B36:M36)*programFactor)","v":7.5}]
[36,"Program",{"$f":" INDEX(program_table,A38,1)","v":"New Mexico Homestead"},{"$f":"SUM(Scores!B37:M37)","v":170},null,null,null,null,null,null,null,null,{"$f":"SUM(Scores!$B37:M37)*programFactor","v":255},{"$f":"IF(COUNT(Scores!$B37:M37)>0,AVERAGE(Scores!$B37:M37)*programFactor,0)","v":23.181818181818183},{"$f":"IF(COUNT(Scores!$B37:M37)>0,MEDIAN(Scores!$B37:M37)*programFactor,0)","v":27},{"$f":"IF(getmode(Scores!$B37:M37)=\"\",\"\",getmode(Scores!$B37:M37)*programFactor)","v":30}]
[37,"Program",{"$f":" INDEX(program_table,A39,1)","v":"Petroglyph Tour"},{"$f":"SUM(Scores!B38:M38)","v":157},null,null,null,null,null,null,null,null,{"$f":"SUM(Scores!$B38:M38)*programFactor","v":235.5},{"$f":"IF(COUNT(Scores!$B38:M38)>0,AVERAGE(Scores!$B38:M38)*programFactor,0)","v":21.40909090909091},{"$f":"IF(COUNT(Scores!$B38:M38)>0,MEDIAN(Scores!$B38:M38)*programFactor,0)","v":22.5},{"$f":"IF(getmode(Scores!$B38:M38)=\"\",\"\",getmode(Scores!$B38:M38)*programFactor)","v":30}]
[38,"Program",{"$f":" INDEX(program_table,A40,1)","v":"Post Civil War Encampment"},{"$f":"SUM(Scores!B39:M39)","v":129},null,null,null,null,null,null,null,null,{"$f":"SUM(Scores!$B39:M39)*programFactor","v":193.5},{"$f":"IF(COUNT(Scores!$B39:M39)>0,AVERAGE(Scores!$B39:M39)*programFactor,0)","v":19.350000000000001},{"$f":"IF(COUNT(Scores!$B39:M39)>0,MEDIAN(Scores!$B39:M39)*programFactor,0)","v":18},{"$f":"IF(getmode(Scores!$B39:M39)=\"\",\"\",getmode(Scores!$B39:M39)*programFactor)","v":10.5}]
[39,"Program",{"$f":" INDEX(program_table,A41,1)","v":"Railroading"},{"$f":"SUM(Scores!B40:M40)","v":101},null,null,null,null,null,null,null,null,{"$f":"SUM(Scores!$B40:M40)*programFactor","v":151.5},{"$f":"IF(COUNT(Scores!$B40:M40)>0,AVERAGE(Scores!$B40:M40)*programFactor,0)","v":12.625},{"$f":"IF(COUNT(Scores!$B40:M40)>0,MEDIAN(Scores!$B40:M40)*programFactor,0)","v":15},{"$f":"IF(getmode(Scores!$B40:M40)=\"\",\"\",getmode(Scores!$B40:M40)*programFactor)","v":15}]
[40,"Program",{"$f":" INDEX(program_table,A42,1)","v":"Rock Climbing & Rappelling"},{"$f":"SUM(Scores!B41:M41)","v":91},null,null,null,null,null,null,null,null,{"$f":"SUM(Scores!$B41:M41)*programFactor","v":136.5},{"$f":"IF(COUNT(Scores!$B41:M41)>0,AVERAGE(Scores!$B41:M41)*programFactor,0)","v":11.375},{"$f":"IF(COUNT(Scores!$B41:M41)>0,MEDIAN(Scores!$B41:M41)*programFactor,0)","v":9},{"$f":"IF(getmode(Scores!$B41:M41)=\"\",\"\",getmode(Scores!$B41:M41)*programFactor)","v":7.5}]
[41,"Program",{"$f":" INDEX(program_table,A43,1)","v":"Rocky Mountain Fur Co."},{"$f":"SUM(Scores!B42:M42)","v":135},null,null,null,null,null,null,null,null,{"$f":"SUM(Scores!$B42:M42)*programFactor","v":202.5},{"$f":"IF(COUNT(Scores!$B42:M42)>0,AVERAGE(Scores!$B42:M42)*programFactor,0)","v":18.40909090909091},{"$f":"IF(COUNT(Scores!$B42:M42)>0,MEDIAN(Scores!$B42:M42)*programFactor,0)","v":19.5},{"$f":"IF(getmode(Scores!$B42:M42)=\"\",\"\",getmode(Scores!$B42:M42)*programFactor)","v":19.5}]
[42,"Program",{"$f":" INDEX(program_table,A44,1)","v":"Search & Rescue/Wild. Medicine"},{"$f":"SUM(Scores!B43:M43)","v":138},null,null,null,null,null,null,null,null,{"$f":"SUM(Scores!$B43:M43)*programFactor","v":207},{"$f":"IF(COUNT(Scores!$B43:M43)>0,AVERAGE(Scores!$B43:M43)*programFactor,0)","v":18.818181818181817},{"$f":"IF(COUNT(Scores!$B43:M43)>0,MEDIAN(Scores!$B43:M43)*programFactor,0)","v":18},{"$f":"IF(getmode(Scores!$B43:M43)=\"\",\"\",getmode(Scores!$B43:M43)*programFactor)","v":15}]
[43,"Program",{"$f":" INDEX(program_table,A45,1)","v":"Shooting/Reloading - .30-06"},{"$f":"SUM(Scores!B44:M44)","v":138},null,null,null,null,null,null,null,null,{"$f":"SUM(Scores!$B44:M44)*programFactor","v":207},{"$f":"IF(COUNT(Scores!$B44:M44)>0,AVERAGE(Scores!$B44:M44)*programFactor,0)","v":18.818181818181817},{"$f":"IF(COUNT(Scores!$B44:M44)>0,MEDIAN(Scores!$B44:M44)*programFactor,0)","v":18},{"$f":"IF(getmode(Scores!$B44:M44)=\"\",\"\",getmode(Scores!$B44:M44)*programFactor)","v":15}]
[44,"Program",{"$f":" INDEX(program_table,A46,1)","v":"Shotgun Shooting/Reloading - 12 Gauge"},{"$f":"SUM(Scores!B45:M45)","v":138},null,null,null,null,null,null,null,null,{"$f":"SUM(Scores!$B45:M45)*programFactor","v":207},{"$f":"IF(COUNT(Scores!$B45:M45)>0,AVERAGE(Scores!$B45:M45)*programFactor,0)","v":18.818181818181817},{"$f":"IF(COUNT(Scores!$B45:M45)>0,MEDIAN(Scores!$B45:M45)*programFactor,0)","v":18},{"$f":"IF(getmode(Scores!$B45:M45)=\"\",\"\",getmode(Scores!$B45:M45)*programFactor)","v":15}]
[45,"Program",{"$f":" INDEX(program_table,A47,1)","v":"Spar Pole Climbing"},{"$f":"SUM(Scores!B46:M46)","v":61},null,null,null,null,null,null,null,null,{"$f":"SUM(Scores!$B46:M46)*programFactor","v":91.5},{"$f":"IF(COUNT(Scores!$B46:M46)>0,AVERAGE(Scores!$B46:M46)*programFactor,0)","v":9.1499999999999986},{"$f":"IF(COUNT(Scores!$B46:M46)>0,MEDIAN(Scores!$B46:M46)*programFactor,0)","v":7.5},{"$f":"IF(getmode(Scores!$B46:M46)=\"\",\"\",getmode(Scores!$B46:M46)*programFactor)","v":0}]
[46,"Program",{"$f":" INDEX(program_table,A48,1)","v":"Tie Making & Crosscut Saws"},{"$f":"SUM(Scores!B47:M47)","v":157},null,null,null,null,null,null,31,null,{"$f":"SUM(Scores!$B47:M47)*programFactor","v":235.5},{"$f":"IF(COUNT(Scores!$B47:M47)>0,AVERAGE(Scores!$B47:M47)*programFactor,0)","v":23.549999999999997},{"$f":"IF(COUNT(Scores!$B47:M47)>0,MEDIAN(Scores!$B47:M47)*programFactor,0)","v":24.75},{"$f":"IF(getmode(Scores!$B47:M47)=\"\",\"\",getmode(Scores!$B47:M47)*programFactor)","v":30}]
[47,"Program",{"$f":" INDEX(program_table,A49,1)","v":"Tomahawk Throwing"},{"$f":"SUM(Scores!B48:M48)","v":89},null,null,null,null,null,null,null,null,{"$f":"SUM(Scores!$B48:M48)*programFactor","v":133.5},{"$f":"IF(COUNT(Scores!$B48:M48)>0,AVERAGE(Scores!$B48:M48)*programFactor,0)","v":16.6875},{"$f":"IF(COUNT(Scores!$B48:M48)>0,MEDIAN(Scores!$B48:M48)*programFactor,0)","v":15.75},{"$f":"IF(getmode(Scores!$B48:M48)=\"\",\"\",getmode(Scores!$B48:M48)*programFactor)","v":0}]
[48,"Program",{"$f":" INDEX(program_table,A50,1)","v":"Tooth of Time"},{"$f":"SUM(Scores!B49:M49)","v":190},null,null,null,null,null,null,31,null,{"$f":"SUM(Scores!$B49:M49)*programFactor","v":285},{"$f":"IF(COUNT(Scores!$B49:M49)>0,AVERAGE(Scores!$B49:M49)*programFactor,0)","v":25.90909090909091},{"$f":"IF(COUNT(Scores!$B49:M49)>0,MEDIAN(Scores!$B49:M49)*programFactor,0)","v":27},{"$f":"IF(getmode(Scores!$B49:M49)=\"\",\"\",getmode(Scores!$B49:M49)*programFactor)","v":30}]
[49,"Program",{"$f":" INDEX(program_table,A51,1)","v":"Trail Peak"},{"$f":"SUM(Scores!B50:M50)","v":76},null,null,null,null,null,null,31,null,{"$f":"SUM(Scores!$B50:M50)*programFactor","v":114},{"$f":"IF(COUNT(Scores!$B50:M50)>0,AVERAGE(Scores!$B50:M50)*programFactor,0)","v":16.285714285714285},{"$f":"IF(COUNT(Scores!$B50:M50)>0,MEDIAN(Scores!$B50:M50)*programFactor,0)","v":15},{"$f":"IF(getmode(Scores!$B50:M50)=\"\",\"\",getmode(Scores!$B50:M50)*programFactor)","v":15}]
[50,"Program",{"$f":" INDEX(program_table,A52,1)","v":"Western Lore/Branding"},{"$f":"SUM(Scores!B51:M51)","v":93},null,null,null,null,null,null,31,null,{"$f":"SUM(Scores!$B51:M51)*programFactor","v":139.5},{"$f":"IF(COUNT(Scores!$B51:M51)>0,AVERAGE(Scores!$B51:M51)*programFactor,0)","v":13.950000000000001},{"$f":"IF(COUNT(Scores!$B51:M51)>0,MEDIAN(Scores!$B51:M51)*programFactor,0)","v":13.5},{"$f":"IF(getmode(Scores!$B51:M51)=\"\",\"\",getmode(Scores!$B51:M51)*programFactor)","v":12}]
[{"$f":"A52+1","v":51},"Peaks","Baldy Mountain",2]
[52,"Peaks","Mount Phillips",1.5]
[53,"Peaks","Tooth of Time",1.5]
[54,"Peaks","Trail Peak",1]
[55,"Peaks","Mountaineering",0.8]
[56,"Area","Rank 1",{"$f":"IF(UPPER(areaImportant)=\"Y\",INDEX(areaDefaults,Preferences!B7),0)","v":0}]
[57,"Area","Rank 2",{"$f":"IF(UPPER(areaImportant)=\"Y\",INDEX(areaDefaults,Preferences!B8),0)","v":0},null,null,null,null,1,1000]
[58,"Area","Rank 3",{"$f":"IF(UPPER(areaImportant)=\"Y\",INDEX(areaDefaults,Preferences!B9),0)","v":0},null,null,null,null,2,600,{"$f":"IF(areaImportant=\"y\",\"Preferences setting is that area is important\", \"Preferences setting is that area is not important\")","v":"Preferences setting is that area is not important"}]
[59,"Area","Rank 4",{"$f":"IF(UPPER(areaImportant)=\"Y\",INDEX(areaDefaults,Preferences!B10),0)","v":0},null,null,null,null,3,200,{"$f":"IF(areaImportant=\"y\",\"These are the default values — MAKE CHANGES HERE\", \"\")","v":""}]
[60,"Days Food",1,100,null,null,null,null,4,150]
[61,"Days Food",2,90]
[62,"Days Food",3,80]
[63,"Days Food",4,70]
[64,"Days Food",5,60]
[65,"Days Food",6,50]
[66,"Food from HQ",1,20]
[67,"Food from HQ",2,30]
[68,"Food from HQ",3,40]
[69,"Food from HQ",4,50]
[70,"Food from HQ",5,60]
[71,"Food from HQ",6,70]
[72,"Food from HQ",7,80]
[73,"Food from HQ",8,90]
[74,"Food from HQ",9,100]
[75,"Trail Camps",0,250]
[76,"Trail Camps",1,200]
[77,"Trail Camps",2,175]
[{"$f":"A79+1","v":78},"Trail Camps",3,150]
[{"$f":"A80+1","v":79},"Trail Camps",4,125]
[{"$f":"A81+1","v":80},"Trail Camps",5,100]
[{"$f":"A82+1","v":81},"Trail Camps",6,75]
[{"$f":"A83+1","v":82},"Trail Camps",7,50]
[83,"Trail Camps",8,25]
[84,"Dry Camps",0,300]
[85,"Dry Camps",1,250]
[86,"Dry Camps",2,225]
[87,"Dry Camps",3,200]
[88,"Dry Camps",4,150]
[89,"Dry Camps",5,100]
[90,"Dry Camps",6,50]
[91,"Dry Camps",7,20]
[92,"Total Camps",3,60]
[93,"Total Camps",4,70]
[94,"Total Camps",5,80]
[95,"Total Camps",6,90]
[96,"Total Camps",7,100]
[97,"Total Camps",8,75]
[98,"Total Camps",9,60]
[99,"Total Camps",10,50]
[100,"Difficulty","C",4000]
[101,"Difficulty","R",3166.6666666666665,null,null,null,null,null,null,"Match skill level with itinerary difficulty"]
[102,"Difficulty","S",2333.333333333333,null,null,null,null,null,null,"Skill","C","R","S","SS"]
[103,"Difficulty","SS",1500,null,null,null,null,"maxSkill:",4000,1,{"$f":"maxSkill+maxDifficult","v":5000},{"$f":"L105-((L105-O105)/3)","v":3500},{"$f":"M105-((L105-O105)/3)","v":2000},{"$f":"difficultDelta","v":500}]
[104,"Max Altitude",0,20,null,null,null,null,"maxDifficult:",1000,2,{"$f":"L105-((L$105-L$114)/9)","v":4500},{"$f":"L106-((L106-O106)/3)","v":3333.333333333333},{"$f":"M106-((L106-O106)/3)","v":2166.6666666666661},{"$f":"L113","v":1000}]
[105,"Max Altitude",9000,30,null,null,null,null,"minDifficult:",500,3,{"$f":"L106-((L$105-L$114)/9)","v":4000},3166.6666666666665,2333.333333333333,{"$f":"L112","v":1500}]
[106,"Max Altitude",9100,40,null,null,null,null,null,null,4,3500,3000,2500,{"$f":"L111","v":2000}]
[107,"Max Altitude",9200,50,null,null,null,null,null,null,5,3000,2833.3333333333335,2666.666666666667,{"$f":"L110","v":2500}]
[108,"Max Altitude",9800,60,null,null,null,null,null,null,6,2500,2666.6666666666665,2833.333333333333,{"$f":"L109","v":3000}]
[109,"Max Altitude",10000,70,null,null,null,null,{"$f":"\"Your Crew is Level \" & skillLevel","v":"Your Crew is Level 3"},null,7,2000,2500,3000,{"$f":"L108","v":3500}]
[110,"Max Altitude",10500,80,null,null,null,null,"(from Preferences)",null,8,1500,2333.3333333333335,3166.666666666667,{"$f":"L107","v":4000}]
[111,"Max Altitude",10600,90,null,null,null,null,null,null,9,1000,2166.666666666667,3333.3333333333339,{"$f":"L106","v":4500}]
[112,"Max Altitude",10800,100,null,null,null,null,null,null,10,{"$f":"difficultDelta","v":500},2000,3500,{"$f":"L105","v":5000}]
[113,"Max Altitude",11000,110,null,null,null,null,null,null,null,"Challenging","Rugged","Strenuous","Super Strenuous"]
[114,"Max Altitude",11800,120]
[115,"Max Altitude",12441,130]
[116,"Total Gain",0,40]
[117,"Total Gain",1500,50]
[118,"Total Gain",2000,60]
[119,"Total Gain",2500,70]
[120,"Total Gain",3000,80]
[121,"Total Gain",3500,90]
[122,"Total Gain",4000,100]
[123,"Total Gain",4500,90]
[124,"Total Gain",5000,80]
[125,"Total Gain",5500,70]
[126,"Total Gain",6000,60]
[127,"Total Gain",6500,50]
[128,"Daily Change",300,100]
[129,"Daily Change",600,300]
[130,"Daily Change",900,200]
[131,"Daily Change",1200,100]
[132,"Hike Out","n",0]
[133,"Hike Out","y",500]
[134,"Hike In","n",0]
[135,"Hike In","y",500]
[136,"Distance","Miles",100]
["These are used for code lookup puposes only.","Difficulty","C","Challenging"]
[null,"Difficulty","R","Rugged"]
[null,"Difficulty","S","Strenuous"]
[null,"Difficulty","SS","Super Strenuous"]
[null,"campType","D","Dry"]
[null,"campType","S","Staffed"]
[null,"campType","T","Trail"]
[null,"campType","X","No  Camping"]

{"sheet":"Detail Informaton","index":9,"n_rows":39,"n_cols":2,"rows_kept":39,"cut":false,"hidden":false,"merged":[[1,0,1,1],[2,0,2,1]]}
["This sheet provides more detailed information about this spreadsheet and may be useful for anyone wishing to modify it."]
["This spreadsheet makes extensive use of \"Protected\" and \"Hidden\" cells and \"Hidden\"  worksheets.  To \"unprotect\" or \"unhide\" any of these, put the cursor on a worksheet tab and right click it.  Click \"Unprotect Sheet...\" and select the worksheet to display.  There are no passwords locking any of the \"hidden\" or \"protected\" areas."]
["There are buttons that may be pressed to select the scoring to be used in the calculation.  These are \"Total\" for the total score, \"Average\" to select the average (or Mean) score, \"Median\" to select the most common score, or \"Mode\" (most frequently used score).  These control the actual score values used in calculation  Try all and see what the difference in the results is."]
[]
["There are a number of \"tabs\" or \"worksheets\".  The use of these is as follows:"]
["Visible:"]
["  Instructions","General use instructions for the user that does not want to make any changes to the spreadsheet."]
["  Preferences","A set of \"preferences\" that may be used to adjust the calculations based on information specific to the crew."]
["  Scores","The \"scores\" for each crewmember from the program survey form.  These are on the basis of 0 to 20."]
["  Results","The calculated \"result\" from fitting the \"scores\" to the itinerary information."]
["  Itinerary Chart","Graph of sorted itineraries — shows relative differences between selections"]
["  Program Chart","This is a graph showing what programs the crewmembers wish to participate in."]
["  Itinerary Details","This provides a snapshot of individual itineraries.  Enter the itinerary the snapship is desired for."]
["  Itinerary Xref Chart","This is the same chart that's in the in the TREKS book"]
["  Tables","This is the set of \"factors\" for each of the various metrics.  These may be modified by the user."]
["  Detail Information","This worksheet."]
["Hidden:  (Note that there are no passwords on these, the user may \"unhide\" them by right-clicking in the tab area)"]
["  Itinerary Camps","Much information updated annually by hand from the TREKS Book.  Information relating to itineraries is calculated from these entries."]
["  ItineraryPrograms","Programs available at camps.  This can be created automatically but must be checked & updated manually.  Can verify with the Itinerary Xref Chart.  This takes a lot of detailed work!"]
["  Descriptions","This is the textual description of each itinerary.  This is manually copied from the TREKS Book each year."]
["  Calculator","This brings the preferences, scores, factors from \"Tables\", and itinerary information together to calculate detailed preference values for each itinerary.  The sum of these is the \"Result\" for each itinerary."]
["  Itineraries","This is information relative to the current year's itineraries.  All is derived from tables in other worksheets."]
["  Programs","Table of Philmont's available programs.  These are specific to 12-Day (all), 9-Day (subset) and 7-Day (subset) treks."]
["  Camp Programs","This is a table of programs available at each staffed camp. Verified manually, used to develop basic info for ItineraryPrograms worksheet.  Does not often change from year to year."]
["  Camp Elevations","This is information relative to Philmont's camps.  It is used in the calculations and in the Itinerary Details printout.  Is a good source of camp names & UTM Coordinates/elevations."]
["  uteParkPassAlternatives","Alternative plans for Ute Park Pass itineraries.  Only used for 12-Day & 9-Day itineraries.  Ignored for 7-Day."]
[]
["Information in the Visible tabs is generally either documented in the worksheet or is self-evident.  Information about the worksheets that may be useful is below."]
["  Scores","Clicking the \"Clear Scores\" button erases all scores for all 12 participants.  User should enter the participant names in row 1."]
["  Results","The left side shows the itineraries that best \"fit\" the crew's desires.  On the right is a table showing the programs the crew desired in preference order.  It indicates which programs are included in each of the top 6 itineraries. "]
["  Itinerary Details","Enter the itinerary number and expedition number to get information about the itinerary including daily information."]
["  Tables","If some of the areas are more important to your crew, you can change the factors used in the calculations here.  The factors are highlighted where arbitrary values were set based on the author's preferences, they may be modified to meet your crew.   Only make changes in the unlocked cells in the Value column or the Green boxes for Area or Skill/Difficulty.  You may navigate between these with the TAB key."]
["  Itineraries","This sheet has information about the current year's itineraries.  Key information is manually updated from the TREKS books (daily campsites, first food pickup day number, method of return to base, itineraries that cross US-64, peaks hiked, etc.)  Row 1 has the columns that must be updated annually highlighted in red."]
["  itineraryXrefChart","This conforms to the Cross Reference chart in the TREKS book showing itineraries that have programs.  It is based on information in the Itinerary Programs worksheet."]
["  Calculator","This calculates a preference value for each of the metrics.  There is nothing to modify here — the value calculated will be based on values from other worksheets and any modification desired to any metric should be made in those underlying sheets, not in this one."]
["  Camp Elevations","This worksheet is a list of all the camps with details about the camp.  Note that some of the camps are not used and the information may not be complete for them.  It doesn't matter because only the camps included in the current year's itineraries is ever referenced.  All are shown here for completeness.   It is a good source of camp names & UTM Coordinates/elevations."]
["  uteParkPassAlternatives","These are the camps used for each of the alternative treks for the Ute Park Pass itineraries.  It is ignored for 7-Day Itineraries."]
["  Descriptions","These descriptions are copied from the TREKS Book and are displayed on the Itinerary Details display."]
["  Camp Programs","This is a table of staffed camps with flags for the programs offered at each.  It is used to provide much of the program inclusion information in the Itineries worksheet."]

{"sheet":"itineraryCamps","index":10,"n_rows":40,"n_cols":117,"rows_kept":40,"cut":false,"hidden":true,"merged":[[1,36,1,45],[1,27,1,30],[1,115,1,116],[1,85,1,94],[1,46,1,54],[1,55,1,64],[1,65,1,74],[1,75,1,84],[1,95,1,104],[1,105,1,114],[1,24,1,26],[38,31,38,35],[1,31,1,35],[1,1,1,3],[0,0,2,0],[1,4,1,13],[1,14,1,23]]}
["(Enter Red columns manually)\n\n\nItinerary",1,{"$f":"B1+1","v":2},3,4,5,{"$f":"F1+1","v":6},{"$f":"G1+1","v":7},{"$f":"H1+1","v":8},{"$f":"I1+1","v":9},10,11,12,13,14,15,16,{"$f":"Q1+1","v":17},18,19,20,21,22,23,24,25,26,27,{"$f":"AB1+1","v":28},29,30,31,32,33,34,35,{"$f":"X1+1","v":24},{"$f":"AK1+1","v":25},26,27,28,29,30,31,32,33,34,35,36,37,38,39,40,41,42,43,44,45,46,47,48,49,50,51,52,53,54,55,56,57,58,59,60,61,62,63,64,65,66,67,68,69,70,71,72,null,null,null,null,null,null,null,null,null,null,{"$f":"CG1+1","v":73},{"$f":"CR1+1","v":74},75,76,77,78,79,80,81,82,83,84,85,86,87,88,89,90,91,92,93,94]
[null,"Itinerary Information",null,null,"Backcountry Camps by Itinerary Day",null,null,null,null,null,null,null,null,null,"Food Pickup's",null,null,null,null,null,null,null,null,null,"Start/End",null,null,"Cross US-64 (Enter Manually)",null,null,null,"Peaks (Enter Manually)",null,null,null,null,"Camp Elevation",null,null,null,null,null,null,null,null,null,"Daily Elevation Change",null,null,null,null,null,null,null,null,"Staffed Camp",null,null,null,null,null,null,null,null,null,"Trail Camp",null,null,null,null,null,null,null,null,null,"Dry Camp",null,null,null,null,null,null,null,null,null,"Layovers",null,null,null,null,null,null,null,null,null,"Country",null,null,null,null,null,null,null,null,null,"Map",null,null,null,null,null,null,null,null,null,"Food Pickup Info"]
[null,"Itinerary Label","Difficulty","Distance","Day 2","Day 3","Day 4","Day 5","Day 6","Day 7","Day 8","Day 9","Day 10","Day 11",2,{"$f":"O3+1","v":3},{"$f":"P3+1","v":4},5,6,7,8,9,10,11,"Starting Trailhead","Ending Trailhead","Via Tooth","Itin:Day","Day","Cross At","Direction","Baldy","Phillips","Tooth","Trail","Mountaineering",{"$f":"O3","v":2},3,4,5,6,7,8,9,10,11,"2 :: 3","3 :: 4","4 :: 5","5 :: 6","6 :: 7","7 :: 8","8 :: 9","9 :: 10","10 :: 11",2,3,4,5,6,7,8,9,10,11,2,3,4,5,6,7,8,9,10,11,2,3,4,5,6,7,8,9,10,11,2,3,4,5,6,7,8,9,10,11,2,3,4,5,6,7,8,9,10,11,2,3,4,5,6,7,8,9,10,11,"Days to 1st Food PU","Max Food Days"]
[{"$f":"itineraryNoPrefix & ROW()-3","v":"12-1"},null,"C",50,"Toothache Springs","Urraca","Stockade Ridge","Miners Park","Black Mountain","Beaubien","Porcupine","Divide","Clear Creek","Tolby Headwaters","Camping HQ",null,null,"Miners Park",null,null,"Phillips Junction",null,null,null,"Zastrow","Tolby Creek",{"$f":"IF(Z4=\"Hike In\",\"y\",\"\")","v":""},{"$f":"IF(AC4=\"\",\"\",numericItinerary(A4) & \":\" & AC4)","v":""},null,null,null,null,"y","y",null,"y",{"$f":"IF(E4<>\"\",INDEX(Elevations,MATCH(E4,camps,0)),\"\")","v":7870},{"$f":"IF(F4<>\"\",INDEX(Elevations,MATCH(F4,camps,0)),\"\")","v":7968},{"$f":"IF(G4<>\"\",INDEX(Elevations,MATCH(G4,camps,0)),\"\")","v":7519},{"$f":"IF(H4<>\"\",INDEX(Elevations,MATCH(H4,camps,0)),\"\")","v":7977},{"$f":"IF(I4<>\"\",INDEX(Elevations,MATCH(I4,camps,0)),\"\")","v":8991},{"$f":"IF(J4<>\"\",INDEX(Elevations,MATCH(J4,camps,0)),\"\")","v":9330},{"$f":"IF(K4<>\"\",INDEX(Elevations,MATCH(K4,camps,0)),\"\")","v":9152},{"$f":"IF(L4<>\"\",INDEX(Elevations,MATCH(L4,camps,0)),\"\")","v":10509},{"$f":"IF(M4<>\"\",INDEX(Elevations,MATCH(M4,camps,0)),\"\")","v":10240},{"$f":"IF(N4<>\"\",INDEX(Elevations,MATCH(N4,camps,0)),\"\")","v":9219},{"$f":"IF(AL4<>\"\",ABS(AK4-AL4),\"\")","v":98},{"$f":"IF(AM4<>\"\",ABS(AL4-AM4),\"\")","v":449},458,1014,339,178,1357,269,1021,{"$f":"IF(INDEX(campsByItinerary,numericItinerary($A4),BD$3-1)=\"\",\"\",VLOOKUP(INDEX(campsByItinerary,numericItinerary($A4),BD$3-1),campInfo,8))","v":""},{"$f":"IF(INDEX(campsByItinerary,numericItinerary($A4),BE$3-1)=\"\",\"\",VLOOKUP(INDEX(campsByItinerary,numericItinerary($A4),BE$3-1),campInfo,8))","v":"Y"},{"$f":"IF(INDEX(campsByItinerary,numericItinerary($A4),BF$3-1)=\"\",\"\",VLOOKUP(INDEX(campsByItinerary,numericItinerary($A4),BF$3-1),campInfo,8))","v":""},{"$f":"IF(INDEX(campsByItinerary,numericItinerary($A4),BG$3-1)=\"\",\"\",VLOOKUP(INDEX(campsByItinerary,numericItinerary($A4),BG$3-1),campInfo,8))","v":"Y"},{"$f":"IF(INDEX(campsByItinerary,numericItinerary($A4),BH$3-1)=\"\",\"\",VLOOKUP(INDEX(campsByItinerary,numericItinerary($A4),BH$3-1),campInfo,8))","v":"Y"},{"$f":"IF(INDEX(campsByItinerary,numericItinerary($A4),BI$3-1)=\"\",\"\",VLOOKUP(INDEX(campsByItinerary,numericItinerary($A4),BI$3-1),campInfo,8))","v":"Y"},{"$f":"IF(INDEX(campsByItinerary,numericItinerary($A4),BJ$3-1)=\"\",\"\",VLOOKUP(INDEX(campsByItinerary,numericItinerary($A4),BJ$3-1),campInfo,8))","v":""},{"$f":"IF(INDEX(campsByItinerary,numericItinerary($A4),BK$3-1)=\"\",\"\",VLOOKUP(INDEX(campsByItinerary,numericItinerary($A4),BK$3-1),campInfo,8))","v":""},{"$f":"IF(INDEX(campsByItinerary,numericItinerary($A4),BL$3-1)=\"\",\"\",VLOOKUP(INDEX(campsByItinerary,numericItinerary($A4),BL$3-1),campInfo,8))","v":"Y"},{"$f":"IF(INDEX(campsByItinerary,numericItinerary($A4),BM$3-1)=\"\",\"\",VLOOKUP(INDEX(campsByItinerary,numericItinerary($A4),BM$3-1),campInfo,8))","v":""},{"$f":"IF(BD4=\"Y\",\"\",\"Y\")","v":"Y"},{"$f":"IF(BE4=\"Y\",\"\",\"Y\")","v":""},"Y","","","","Y","Y","","Y",{"$f":"IF(INDEX(campsByItinerary,numericItinerary($A4),BD$3-1)=\"\",\"\",VLOOKUP(INDEX(campsByItinerary,numericItinerary($A4),BD$3-1),campInfo,10))","v":""},{"$f":"IF(INDEX(campsByItinerary,numericItinerary($A4),BE$3-1)=\"\",\"\",VLOOKUP(INDEX(campsByItinerary,numericItinerary($A4),BE$3-1),campInfo,10))","v":""},{"$f":"IF(INDEX(campsByItinerary,numericItinerary($A4),BF$3-1)=\"\",\"\",VLOOKUP(INDEX(campsByItinerary,numericItinerary($A4),BF$3-1),campInfo,10))","v":"Y"},{"$f":"IF(INDEX(campsByItinerary,numericItinerary($A4),BG$3-1)=\"\",\"\",VLOOKUP(INDEX(campsByItinerary,numericItinerary($A4),BG$3-1),campInfo,10))","v":""},{"$f":"IF(INDEX(campsByItinerary,numericItinerary($A4),BH$3-1)=\"\",\"\",VLOOKUP(INDEX(campsByItinerary,numericItinerary($A4),BH$3-1),campInfo,10))","v":""},{"$f":"IF(INDEX(campsByItinerary,numericItinerary($A4),BI$3-1)=\"\",\"\",VLOOKUP(INDEX(campsByItinerary,numericItinerary($A4),BI$3-1),campInfo,10))","v":""},{"$f":"IF(INDEX(campsByItinerary,numericItinerary($A4),BJ$3-1)=\"\",\"\",VLOOKUP(INDEX(campsByItinerary,numericItinerary($A4),BJ$3-1),campInfo,10))","v":""},{"$f":"IF(INDEX(campsByItinerary,numericItinerary($A4),BK$3-1)=\"\",\"\",VLOOKUP(INDEX(campsByItinerary,numericItinerary($A4),BK$3-1),campInfo,10))","v":"Y"},{"$f":"IF(INDEX(campsByItinerary,numericItinerary($A4),BL$3-1)=\"\",\"\",VLOOKUP(INDEX(campsByItinerary,numericItinerary($A4),BL$3-1),campInfo,10))","v":""},{"$f":"IF(INDEX(campsByItinerary,numericItinerary($A4),BM$3-1)=\"\",\"\",VLOOKUP(INDEX(campsByItinerary,numericItinerary($A4),BM$3-1),campInfo,10))","v":""},null,{"$f":"IF(E4=F4,\"Y\",\"\")","v":""},{"$f":"IF(F4=G4,\"Y\",\"\")","v":""},{"$f":"IF(G4=H4,\"Y\",\"\")","v":""},{"$f":"IF(H4=I4,\"Y\",\"\")","v":""},{"$f":"IF(I4=J4,\"Y\",\"\")","v":""},{"$f":"IF(J4=K4,\"Y\",\"\")","v":""},{"$f":"IF(K4=L4,\"Y\",\"\")","v":""},{"$f":"IF(L4=M4,\"Y\",\"\")","v":""},{"$f":"IF(M4=N4,\"Y\",\"\")","v":""},{"$f":"INDEX(campsByItinerary,numericItinerary($A4),BD$3-1)","v":"Toothache Springs"},{"$f":"IF(INDEX(campsByItinerary,numericItinerary($A4),BE$3-1)=\"\",\"\",VLOOKUP(INDEX(campsByItinerary,numericItinerary($A4),BE$3-1),campInfo,2))","v":"South"},{"$f":"IF(INDEX(campsByItinerary,numericItinerary($A4),BF$3-1)=\"\",\"\",VLOOKUP(INDEX(campsByItinerary,numericItinerary($A4),BF$3-1),campInfo,2))","v":"South"},{"$f":"IF(INDEX(campsByItinerary,numericItinerary($A4),BG$3-1)=\"\",\"\",VLOOKUP(INDEX(campsByItinerary,numericItinerary($A4),BG$3-1),campInfo,2))","v":"South"},{"$f":"IF(INDEX(campsByItinerary,numericItinerary($A4),BH$3-1)=\"\",\"\",VLOOKUP(INDEX(campsByItinerary,numericItinerary($A4),BH$3-1),campInfo,2))","v":"South"},{"$f":"IF(INDEX(campsByItinerary,numericItinerary($A4),BI$3-1)=\"\",\"\",VLOOKUP(INDEX(campsByItinerary,numericItinerary($A4),BI$3-1),campInfo,2))","v":"South"},{"$f":"IF(INDEX(campsByItinerary,numericItinerary($A4),BJ$3-1)=\"\",\"\",VLOOKUP(INDEX(campsByItinerary,numericItinerary($A4),BJ$3-1),campInfo,2))","v":"South"},{"$f":"IF(INDEX(campsByItinerary,numericItinerary($A4),BK$3-1)=\"\",\"\",VLOOKUP(INDEX(campsByItinerary,numericItinerary($A4),BK$3-1),campInfo,2))","v":"South"},{"$f":"IF(INDEX(campsByItinerary,numericItinerary($A4),BL$3-1)=\"\",\"\",VLOOKUP(INDEX(campsByItinerary,numericItinerary($A4),BL$3-1),campInfo,2))","v":"Central"},{"$f":"IF(INDEX(campsByItinerary,numericItinerary($A4),BM$3-1)=\"\",\"\",VLOOKUP(INDEX(campsByItinerary,numericItinerary($A4),BM$3-1),campInfo,2))","v":"South"},{"$f":"IF(INDEX(campsByItinerary,numericItinerary($A4),BD$3-1)=\"\",\"\",VLOOKUP(INDEX(campsByItinerary,numericItinerary($A4),BD$3-1),campInfo,12))","v":"South"},{"$f":"IF(INDEX(campsByItinerary,numericItinerary($A4),BE$3-1)=\"\",\"\",VLOOKUP(INDEX(campsByItinerary,numericItinerary($A4),BE$3-1),campInfo,12))","v":"South"},{"$f":"IF(INDEX(campsByItinerary,numericItinerary($A4),BF$3-1)=\"\",\"\",VLOOKUP(INDEX(campsByItinerary,numericItinerary($A4),BF$3-1),campInfo,12))","v":"South"},{"$f":"IF(INDEX(campsByItinerary,numericItinerary($A4),BG$3-1)=\"\",\"\",VLOOKUP(INDEX(campsByItinerary,numericItinerary($A4),BG$3-1),campInfo,12))","v":"South"},{"$f":"IF(INDEX(campsByItinerary,numericItinerary($A4),BH$3-1)=\"\",\"\",VLOOKUP(INDEX(campsByItinerary,numericItinerary($A4),BH$3-1),campInfo,12))","v":"South"},{"$f":"IF(INDEX(campsByItinerary,numericItinerary($A4),BI$3-1)=\"\",\"\",VLOOKUP(INDEX(campsByItinerary,numericItinerary($A4),BI$3-1),campInfo,12))","v":"South"},{"$f":"IF(INDEX(campsByItinerary,numericItinerary($A4),BJ$3-1)=\"\",\"\",VLOOKUP(INDEX(campsByItinerary,numericItinerary($A4),BJ$3-1),campInfo,12))","v":"South"},{"$f":"IF(INDEX(campsByItinerary,numericItinerary($A4),BK$3-1)=\"\",\"\",VLOOKUP(INDEX(campsByItinerary,numericItinerary($A4),BK$3-1),campInfo,12))","v":"South"},{"$f":"IF(INDEX(campsByItinerary,numericItinerary($A4),BL$3-1)=\"\",\"\",VLOOKUP(INDEX(campsByItinerary,numericItinerary($A4),BL$3-1),campInfo,12))","v":"South"},{"$f":"IF(INDEX(campsByItinerary,numericItinerary($A4),BM$3-1)=\"\",\"\",VLOOKUP(INDEX(campsByItinerary,numericItinerary($A4),BM$3-1),campInfo,12))","v":"South"},{"$f":"getfoodPU(\"First\",numericItinerary($A4))","v":3},{"$f":"getfoodPU(\"Max\",numericItinerary($A4))","v":3}]
["12-2",null,"C",52,"Lovers Leap","Miners Park","Lower Bonito","Lost Cabins","Crooked Creek","Wild Horse","Mount Phillips","Cyphers Mine","Hunting Lodge","Clarks Fork","Camping HQ","Miners Park",null,null,"Apache Springs",null,null,null,"Cimarroncito",null,"Lovers Leap","Hike In",{"$f":"IF(Z5=\"Hike In\",\"y\",\"\")","v":"y"},{"$f":"IF(AC5=\"\",\"\",numericItinerary(A5) & \":\" & AC5)","v":""},null,null,null,null,"y","y",null,"y",7469,7977,8962,9205,9360,10420,11650,9302,7776,7515,{"$f":"IF(AL5<>\"\",ABS(AK5-AL5),\"\")","v":508},{"$f":"IF(AM5<>\"\",ABS(AL5-AM5),\"\")","v":985},{"$f":"IF(AN5<>\"\",ABS(AM5-AN5),\"\")","v":243},{"$f":"IF(AO5<>\"\",ABS(AN5-AO5),\"\")","v":155},{"$f":"IF(AP5<>\"\",ABS(AO5-AP5),\"\")","v":1060},{"$f":"IF(AQ5<>\"\",ABS(AP5-AQ5),\"\")","v":1230},{"$f":"IF(AR5<>\"\",ABS(AQ5-AR5),\"\")","v":2348},{"$f":"IF(AS5<>\"\",ABS(AR5-AS5),\"\")","v":1526},{"$f":"IF(AT5<>\"\",ABS(AS5-AT5),\"\")","v":261},{"$f":"IF(INDEX(campsByItinerary,numericItinerary($A5),BD$3-1)=\"\",\"\",VLOOKUP(INDEX(campsByItinerary,numericItinerary($A5),BD$3-1),campInfo,8))","v":""},{"$f":"IF(INDEX(campsByItinerary,numericItinerary($A5),BE$3-1)=\"\",\"\",VLOOKUP(INDEX(campsByItinerary,numericItinerary($A5),BE$3-1),campInfo,8))","v":"Y"},{"$f":"IF(INDEX(campsByItinerary,numericItinerary($A5),BF$3-1)=\"\",\"\",VLOOKUP(INDEX(campsByItinerary,numericItinerary($A5),BF$3-1),campInfo,8))","v":""},{"$f":"IF(INDEX(campsByItinerary,numericItinerary($A5),BG$3-1)=\"\",\"\",VLOOKUP(INDEX(campsByItinerary,numericItinerary($A5),BG$3-1),campInfo,8))","v":""},{"$f":"IF(INDEX(campsByItinerary,numericItinerary($A5),BH$3-1)=\"\",\"\",VLOOKUP(INDEX(campsByItinerary,numericItinerary($A5),BH$3-1),campInfo,8))","v":"Y"},{"$f":"IF(INDEX(campsByItinerary,numericItinerary($A5),BI$3-1)=\"\",\"\",VLOOKUP(INDEX(campsByItinerary,numericItinerary($A5),BI$3-1),campInfo,8))","v":""},{"$f":"IF(INDEX(campsByItinerary,numericItinerary($A5),BJ$3-1)=\"\",\"\",VLOOKUP(INDEX(campsByItinerary,numericItinerary($A5),BJ$3-1),campInfo,8))","v":""},{"$f":"IF(INDEX(campsByItinerary,numericItinerary($A5),BK$3-1)=\"\",\"\",VLOOKUP(INDEX(campsByItinerary,numericItinerary($A5),BK$3-1),campInfo,8))","v":"Y"},{"$f":"IF(INDEX(campsByItinerary,numericItinerary($A5),BL$3-1)=\"\",\"\",VLOOKUP(INDEX(campsByItinerary,numericItinerary($A5),BL$3-1),campInfo,8))","v":"N"},{"$f":"IF(INDEX(campsByItinerary,numericItinerary($A5),BM$3-1)=\"\",\"\",VLOOKUP(INDEX(campsByItinerary,numericItinerary($A5),BM$3-1),campInfo,8))","v":"Y"},{"$f":"IF(BD5=\"Y\",\"\",\"Y\")","v":"Y"},{"$f":"IF(BE5=\"Y\",\"\",\"Y\")","v":""},{"$f":"IF(BF5=\"Y\",\"\",\"Y\")","v":"Y"},{"$f":"IF(BG5=\"Y\",\"\",\"Y\")","v":"Y"},{"$f":"IF(BH5=\"Y\",\"\",\"Y\")","v":""},{"$f":"IF(BI5=\"Y\",\"\",\"Y\")","v":"Y"},{"$f":"IF(BJ5=\"Y\",\"\",\"Y\")","v":"Y"},{"$f":"IF(BK5=\"Y\",\"\",\"Y\")","v":""},{"$f":"IF(BL5=\"Y\",\"\",\"Y\")","v":"Y"},{"$f":"IF(BM5=\"Y\",\"\",\"Y\")","v":""},{"$f":"IF(INDEX(campsByItinerary,numericItinerary($A5),BD$3-1)=\"\",\"\",VLOOKUP(INDEX(campsByItinerary,numericItinerary($A5),BD$3-1),campInfo,10))","v":""},{"$f":"IF(INDEX(campsByItinerary,numericItinerary($A5),BE$3-1)=\"\",\"\",VLOOKUP(INDEX(campsByItinerary,numericItinerary($A5),BE$3-1),campInfo,10))","v":""},{"$f":"IF(INDEX(campsByItinerary,numericItinerary($A5),BF$3-1)=\"\",\"\",VLOOKUP(INDEX(campsByItinerary,numericItinerary($A5),BF$3-1),campInfo,10))","v":""},{"$f":"IF(INDEX(campsByItinerary,numericItinerary($A5),BG$3-1)=\"\",\"\",VLOOKUP(INDEX(campsByItinerary,numericItinerary($A5),BG$3-1),campInfo,10))","v":""},{"$f":"IF(INDEX(campsByItinerary,numericItinerary($A5),BH$3-1)=\"\",\"\",VLOOKUP(INDEX(campsByItinerary,numericItinerary($A5),BH$3-1),campInfo,10))","v":""},{"$f":"IF(INDEX(campsByItinerary,numericItinerary($A5),BI$3-1)=\"\",\"\",VLOOKUP(INDEX(campsByItinerary,numericItinerary($A5),BI$3-1),campInfo,10))","v":""},{"$f":"IF(INDEX(campsByItinerary,numericItinerary($A5),BJ$3-1)=\"\",\"\",VLOOKUP(INDEX(campsByItinerary,numericItinerary($A5),BJ$3-1),campInfo,10))","v":"Y"},{"$f":"IF(INDEX(campsByItinerary,numericItinerary($A5),BK$3-1)=\"\",\"\",VLOOKUP(INDEX(campsByItinerary,numericItinerary($A5),BK$3-1),campInfo,10))","v":""},{"$f":"IF(INDEX(campsByItinerary,numericItinerary($A5),BL$3-1)=\"\",\"\",VLOOKUP(INDEX(campsByItinerary,numericItinerary($A5),BL$3-1),campInfo,10))","v":""},{"$f":"IF(INDEX(campsByItinerary,numericItinerary($A5),BM$3-1)=\"\",\"\",VLOOKUP(INDEX(campsByItinerary,numericItinerary($A5),BM$3-1),campInfo,10))","v":""},null,"","","","","","","","","",{"$f":"INDEX(campsByItinerary,numericItinerary($A5),BD$3-1)","v":"Lovers Leap"},{"$f":"IF(INDEX(campsByItinerary,numericItinerary($A5),BE$3-1)=\"\",\"\",VLOOKUP(INDEX(campsByItinerary,numericItinerary($A5),BE$3-1),campInfo,2))","v":"South"},{"$f":"IF(INDEX(campsByItinerary,numericItinerary($A5),BF$3-1)=\"\",\"\",VLOOKUP(INDEX(campsByItinerary,numericItinerary($A5),BF$3-1),campInfo,2))","v":"South"},{"$f":"IF(INDEX(campsByItinerary,numericItinerary($A5),BG$3-1)=\"\",\"\",VLOOKUP(INDEX(campsByItinerary,numericItinerary($A5),BG$3-1),campInfo,2))","v":"South"},{"$f":"IF(INDEX(campsByItinerary,numericItinerary($A5),BH$3-1)=\"\",\"\",VLOOKUP(INDEX(campsByItinerary,numericItinerary($A5),BH$3-1),campInfo,2))","v":"South"},{"$f":"IF(INDEX(campsByItinerary,numericItinerary($A5),BI$3-1)=\"\",\"\",VLOOKUP(INDEX(campsByItinerary,numericItinerary($A5),BI$3-1),campInfo,2))","v":"South"},{"$f":"IF(INDEX(campsByItinerary,numericItinerary($A5),BJ$3-1)=\"\",\"\",VLOOKUP(INDEX(campsByItinerary,numericItinerary($A5),BJ$3-1),campInfo,2))","v":"Central"},{"$f":"IF(INDEX(campsByItinerary,numericItinerary($A5),BK$3-1)=\"\",\"\",VLOOKUP(INDEX(campsByItinerary,numericItinerary($A5),BK$3-1),campInfo,2))","v":"Central"},{"$f":"IF(INDEX(campsByItinerary,numericItinerary($A5),BL$3-1)=\"\",\"\",VLOOKUP(INDEX(campsByItinerary,numericItinerary($A5),BL$3-1),campInfo,2))","v":"Central"},{"$f":"IF(INDEX(campsByItinerary,numericItinerary($A5),BM$3-1)=\"\",\"\",VLOOKUP(INDEX(campsByItinerary,numericItinerary($A5),BM$3-1),campInfo,2))","v":"Central"},{"$f":"IF(INDEX(campsByItinerary,numericItinerary($A5),BD$3-1)=\"\",\"\",VLOOKUP(INDEX(campsByItinerary,numericItinerary($A5),BD$3-1),campInfo,12))","v":"South"},{"$f":"IF(INDEX(campsByItinerary,numericItinerary($A5),BE$3-1)=\"\",\"\",VLOOKUP(INDEX(campsByItinerary,numericItinerary($A5),BE$3-1),campInfo,12))","v":"South"},{"$f":"IF(INDEX(campsByItinerary,numericItinerary($A5),BF$3-1)=\"\",\"\",VLOOKUP(INDEX(campsByItinerary,numericItinerary($A5),BF$3-1),campInfo,12))","v":"South"},{"$f":"IF(INDEX(campsByItinerary,numericItinerary($A5),BG$3-1)=\"\",\"\",VLOOKUP(INDEX(campsByItinerary,numericItinerary($A5),BG$3-1),campInfo,12))","v":"South"},{"$f":"IF(INDEX(campsByItinerary,numericItinerary($A5),BH$3-1)=\"\",\"\",VLOOKUP(INDEX(campsByItinerary,numericItinerary($A5),BH$3-1),campInfo,12))","v":"South"},{"$f":"IF(INDEX(campsByItinerary,numericItinerary($A5),BI$3-1)=\"\",\"\",VLOOKUP(INDEX(campsByItinerary,numericItinerary($A5),BI$3-1),campInfo,12))","v":"South"},{"$f":"IF(INDEX(campsByItinerary,numericItinerary($A5),BJ$3-1)=\"\",\"\",VLOOKUP(INDEX(campsByItinerary,numericItinerary($A5),BJ$3-1),campInfo,12))","v":"South"},{"$f":"IF(INDEX(campsByItinerary,numericItinerary($A5),BK$3-1)=\"\",\"\",VLOOKUP(INDEX(campsByItinerary,numericItinerary($A5),BK$3-1),campInfo,12))","v":"South"},{"$f":"IF(INDEX(campsByItinerary,numericItinerary($A5),BL$3-1)=\"\",\"\",VLOOKUP(INDEX(campsByItinerary,numericItinerary($A5),BL$3-1),campInfo,12))","v":"South"},{"$f":"IF(INDEX(campsByItinerary,numericItinerary($A5),BM$3-1)=\"\",\"\",VLOOKUP(INDEX(campsByItinerary,numericItinerary($A5),BM$3-1),campInfo,12))","v":"South"},{"$f":"getfoodPU(\"First\",numericItinerary($A5))","v":1},{"$f":"getfoodPU(\"Max\",numericItinerary($A5))","v":3}]
["12-3","Climbing Trek","C",54,"Toothache Springs","Urraca","Stockade Ridge","Miners Park","Black Mountain","Divide","Sawmill","Lamberts Mine","Cimarroncito","Cimarroncito","Camping HQ",null,null,"Miners Park",null,null,"Sawmill",null,null,null,"Zastrow","Webster","",{"$f":"IF(AC6=\"\",\"\",numericItinerary(A6) & \":\" & AC6)","v":""},null,null,null,null,"y","y",null,"y",7870,7968,7519,7977,8991,10509,9193,8957,8137,8137,98,449,458,1014,1518,1316,236,820,0,{"$f":"IF(INDEX(campsByItinerary,numericItinerary($A6),BD$3-1)=\"\",\"\",VLOOKUP(INDEX(campsByItinerary,numericItinerary($A6),BD$3-1),campInfo,8))","v":""},{"$f":"IF(INDEX(campsByItinerary,numericItinerary($A6),BE$3-1)=\"\",\"\",VLOOKUP(INDEX(campsByItinerary,numericItinerary($A6),BE$3-1),campInfo,8))","v":"Y"},{"$f":"IF(INDEX(campsByItinerary,numericItinerary($A6),BF$3-1)=\"\",\"\",VLOOKUP(INDEX(campsByItinerary,numericItinerary($A6),BF$3-1),campInfo,8))","v":""},{"$f":"IF(INDEX(campsByItinerary,numericItinerary($A6),BG$3-1)=\"\",\"\",VLOOKUP(INDEX(campsByItinerary,numericItinerary($A6),BG$3-1),campInfo,8))","v":"Y"},{"$f":"IF(INDEX(campsByItinerary,numericItinerary($A6),BH$3-1)=\"\",\"\",VLOOKUP(INDEX(campsByItinerary,numericItinerary($A6),BH$3-1),campInfo,8))","v":"Y"},{"$f":"IF(INDEX(campsByItinerary,numericItinerary($A6),BI$3-1)=\"\",\"\",VLOOKUP(INDEX(campsByItinerary,numericItinerary($A6),BI$3-1),campInfo,8))","v":""},{"$f":"IF(INDEX(campsByItinerary,numericItinerary($A6),BJ$3-1)=\"\",\"\",VLOOKUP(INDEX(campsByItinerary,numericItinerary($A6),BJ$3-1),campInfo,8))","v":"Y"},{"$f":"IF(INDEX(campsByItinerary,numericItinerary($A6),BK$3-1)=\"\",\"\",VLOOKUP(INDEX(campsByItinerary,numericItinerary($A6),BK$3-1),campInfo,8))","v":""},{"$f":"IF(INDEX(campsByItinerary,numericItinerary($A6),BL$3-1)=\"\",\"\",VLOOKUP(INDEX(campsByItinerary,numericItinerary($A6),BL$3-1),campInfo,8))","v":"Y"},{"$f":"IF(INDEX(campsByItinerary,numericItinerary($A6),BM$3-1)=\"\",\"\",VLOOKUP(INDEX(campsByItinerary,numericItinerary($A6),BM$3-1),campInfo,8))","v":"Y"},"Y","","Y","","","Y","","Y","","",{"$f":"IF(INDEX(campsByItinerary,numericItinerary($A6),BD$3-1)=\"\",\"\",VLOOKUP(INDEX(campsByItinerary,numericItinerary($A6),BD$3-1),campInfo,10))","v":""},{"$f":"IF(INDEX(campsByItinerary,numericItinerary($A6),BE$3-1)=\"\",\"\",VLOOKUP(INDEX(campsByItinerary,numericItinerary($A6),BE$3-1),campInfo,10))","v":""},{"$f":"IF(INDEX(campsByItinerary,numericItinerary($A6),BF$3-1)=\"\",\"\",VLOOKUP(INDEX(campsByItinerary,numericItinerary($A6),BF$3-1),campInfo,10))","v":"Y"},{"$f":"IF(INDEX(campsByItinerary,numericItinerary($A6),BG$3-1)=\"\",\"\",VLOOKUP(INDEX(campsByItinerary,numericItinerary($A6),BG$3-1),campInfo,10))","v":""},{"$f":"IF(INDEX(campsByItinerary,numericItinerary($A6),BH$3-1)=\"\",\"\",VLOOKUP(INDEX(campsByItinerary,numericItinerary($A6),BH$3-1),campInfo,10))","v":""},{"$f":"IF(INDEX(campsByItinerary,numericItinerary($A6),BI$3-1)=\"\",\"\",VLOOKUP(INDEX(campsByItinerary,numericItinerary($A6),BI$3-1),campInfo,10))","v":"Y"},{"$f":"IF(INDEX(campsByItinerary,numericItinerary($A6),BJ$3-1)=\"\",\"\",VLOOKUP(INDEX(campsByItinerary,numericItinerary($A6),BJ$3-1),campInfo,10))","v":""},{"$f":"IF(INDEX(campsByItinerary,numericItinerary($A6),BK$3-1)=\"\",\"\",VLOOKUP(INDEX(campsByItinerary,numericItinerary($A6),BK$3-1),campInfo,10))","v":""},{"$f":"IF(INDEX(campsByItinerary,numericItinerary($A6),BL$3-1)=\"\",\"\",VLOOKUP(INDEX(campsByItinerary,numericItinerary($A6),BL$3-1),campInfo,10))","v":""},{"$f":"IF(INDEX(campsByItinerary,numericItinerary($A6),BM$3-1)=\"\",\"\",VLOOKUP(INDEX(campsByItinerary,numericItinerary($A6),BM$3-1),campInfo,10))","v":""},null,"","","","","","","","","Y",{"$f":"INDEX(campsByItinerary,numericItinerary($A6),BD$3-1)","v":"Toothache Springs"},{"$f":"IF(INDEX(campsByItinerary,numericItinerary($A6),BE$3-1)=\"\",\"\",VLOOKUP(INDEX(campsByItinerary,numericItinerary($A6),BE$3-1),campInfo,2))","v":"South"},{"$f":"IF(INDEX(campsByItinerary,numericItinerary($A6),BF$3-1)=\"\",\"\",VLOOKUP(INDEX(campsByItinerary,numericItinerary($A6),BF$3-1),campInfo,2))","v":"South"},{"$f":"IF(INDEX(campsByItinerary,numericItinerary($A6),BG$3-1)=\"\",\"\",VLOOKUP(INDEX(campsByItinerary,numericItinerary($A6),BG$3-1),campInfo,2))","v":"South"},{"$f":"IF(INDEX(campsByItinerary,numericItinerary($A6),BH$3-1)=\"\",\"\",VLOOKUP(INDEX(campsByItinerary,numericItinerary($A6),BH$3-1),campInfo,2))","v":"South"},{"$f":"IF(INDEX(campsByItinerary,numericItinerary($A6),BI$3-1)=\"\",\"\",VLOOKUP(INDEX(campsByItinerary,numericItinerary($A6),BI$3-1),campInfo,2))","v":"South"},{"$f":"IF(INDEX(campsByItinerary,numericItinerary($A6),BJ$3-1)=\"\",\"\",VLOOKUP(INDEX(campsByItinerary,numericItinerary($A6),BJ$3-1),campInfo,2))","v":"Central"},{"$f":"IF(INDEX(campsByItinerary,numericItinerary($A6),BK$3-1)=\"\",\"\",VLOOKUP(INDEX(campsByItinerary,numericItinerary($A6),BK$3-1),campInfo,2))","v":"Central"},{"$f":"IF(INDEX(campsByItinerary,numericItinerary($A6),BL$3-1)=\"\",\"\",VLOOKUP(INDEX(campsByItinerary,numericItinerary($A6),BL$3-1),campInfo,2))","v":"Central"},{"$f":"IF(INDEX(campsByItinerary,numericItinerary($A6),BM$3-1)=\"\",\"\",VLOOKUP(INDEX(campsByItinerary,numericItinerary($A6),BM$3-1),campInfo,2))","v":"Central"},{"$f":"IF(INDEX(campsByItinerary,numericItinerary($A6),BD$3-1)=\"\",\"\",VLOOKUP(INDEX(campsByItinerary,numericItinerary($A6),BD$3-1),campInfo,12))","v":"South"},{"$f":"IF(INDEX(campsByItinerary,numericItinerary($A6),BE$3-1)=\"\",\"\",VLOOKUP(INDEX(campsByItinerary,numericItinerary($A6),BE$3-1),campInfo,12))","v":"South"},{"$f":"IF(INDEX(campsByItinerary,numericItinerary($A6),BF$3-1)=\"\",\"\",VLOOKUP(INDEX(campsByItinerary,numericItinerary($A6),BF$3-1),campInfo,12))","v":"South"},{"$f":"IF(INDEX(campsByItinerary,numericItinerary($A6),BG$3-1)=\"\",\"\",VLOOKUP(INDEX(campsByItinerary,numericItinerary($A6),BG$3-1),campInfo,12))","v":"South"},{"$f":"IF(INDEX(campsByItinerary,numericItinerary($A6),BH$3-1)=\"\",\"\",VLOOKUP(INDEX(campsByItinerary,numericItinerary($A6),BH$3-1),campInfo,12))","v":"South"},{"$f":"IF(INDEX(campsByItinerary,numericItinerary($A6),BI$3-1)=\"\",\"\",VLOOKUP(INDEX(campsByItinerary,numericItinerary($A6),BI$3-1),campInfo,12))","v":"South"},{"$f":"IF(INDEX(campsByItinerary,numericItinerary($A6),BJ$3-1)=\"\",\"\",VLOOKUP(INDEX(campsByItinerary,numericItinerary($A6),BJ$3-1),campInfo,12))","v":"South"},{"$f":"IF(INDEX(campsByItinerary,numericItinerary($A6),BK$3-1)=\"\",\"\",VLOOKUP(INDEX(campsByItinerary,numericItinerary($A6),BK$3-1),campInfo,12))","v":"South"},{"$f":"IF(INDEX(campsByItinerary,numericItinerary($A6),BL$3-1)=\"\",\"\",VLOOKUP(INDEX(campsByItinerary,numericItinerary($A6),BL$3-1),campInfo,12))","v":"South"},{"$f":"IF(INDEX(campsByItinerary,numericItinerary($A6),BM$3-1)=\"\",\"\",VLOOKUP(INDEX(campsByItinerary,numericItinerary($A6),BM$3-1),campInfo,12))","v":"South"},{"$f":"getfoodPU(\"First\",numericItinerary($A6))","v":3},{"$f":"getfoodPU(\"Max\",numericItinerary($A6))","v":3}]
["12-4",null,"C",55,"Lovers Leap","Miners Park","Beaubien","Beaubien","Comanche Creek","Comanche Peak","Sawmill","Cyphers Mine","Cimarroncito","Shaefers Pass","Camping HQ","Miners Park",null,null,"Phillips Junction",null,"Sawmill",null,"Cimarroncito",null,"Lovers Leap","Hike In","y",{"$f":"IF(AC7=\"\",\"\",numericItinerary(A7) & \":\" & AC7)","v":""},null,null,null,null,"y","y",null,"y",7469,7977,9330,9330,9600,11070,9193,9302,8137,8724,508,1353,0,270,1470,1877,109,1165,587,{"$f":"IF(INDEX(campsByItinerary,numericItinerary($A7),BD$3-1)=\"\",\"\",VLOOKUP(INDEX(campsByItinerary,numericItinerary($A7),BD$3-1),campInfo,8))","v":""},{"$f":"IF(INDEX(campsByItinerary,numericItinerary($A7),BE$3-1)=\"\",\"\",VLOOKUP(INDEX(campsByItinerary,numericItinerary($A7),BE$3-1),campInfo,8))","v":"Y"},{"$f":"IF(INDEX(campsByItinerary,numericItinerary($A7),BF$3-1)=\"\",\"\",VLOOKUP(INDEX(campsByItinerary,numericItinerary($A7),BF$3-1),campInfo,8))","v":"Y"},{"$f":"IF(INDEX(campsByItinerary,numericItinerary($A7),BG$3-1)=\"\",\"\",VLOOKUP(INDEX(campsByItinerary,numericItinerary($A7),BG$3-1),campInfo,8))","v":"Y"},{"$f":"IF(INDEX(campsByItinerary,numericItinerary($A7),BH$3-1)=\"\",\"\",VLOOKUP(INDEX(campsByItinerary,numericItinerary($A7),BH$3-1),campInfo,8))","v":""},{"$f":"IF(INDEX(campsByItinerary,numericItinerary($A7),BI$3-1)=\"\",\"\",VLOOKUP(INDEX(campsByItinerary,numericItinerary($A7),BI$3-1),campInfo,8))","v":""},{"$f":"IF(INDEX(campsByItinerary,numericItinerary($A7),BJ$3-1)=\"\",\"\",VLOOKUP(INDEX(campsByItinerary,numericItinerary($A7),BJ$3-1),campInfo,8))","v":"Y"},{"$f":"IF(INDEX(campsByItinerary,numericItinerary($A7),BK$3-1)=\"\",\"\",VLOOKUP(INDEX(campsByItinerary,numericItinerary($A7),BK$3-1),campInfo,8))","v":"Y"},{"$f":"IF(INDEX(campsByItinerary,numericItinerary($A7),BL$3-1)=\"\",\"\",VLOOKUP(INDEX(campsByItinerary,numericItinerary($A7),BL$3-1),campInfo,8))","v":"Y"},{"$f":"IF(INDEX(campsByItinerary,numericItinerary($A7),BM$3-1)=\"\",\"\",VLOOKUP(INDEX(campsByItinerary,numericItinerary($A7),BM$3-1),campInfo,8))","v":""},"Y","","","","Y","Y","","","","Y",{"$f":"IF(INDEX(campsByItinerary,numericItinerary($A7),BD$3-1)=\"\",\"\",VLOOKUP(INDEX(campsByItinerary,numericItinerary($A7),BD$3-1),campInfo,10))","v":""},{"$f":"IF(INDEX(campsByItinerary,numericItinerary($A7),BE$3-1)=\"\",\"\",VLOOKUP(INDEX(campsByItinerary,numericItinerary($A7),BE$3-1),campInfo,10))","v":""},{"$f":"IF(INDEX(campsByItinerary,numericItinerary($A7),BF$3-1)=\"\",\"\",VLOOKUP(INDEX(campsByItinerary,numericItinerary($A7),BF$3-1),campInfo,10))","v":""},{"$f":"IF(INDEX(campsByItinerary,numericItinerary($A7),BG$3-1)=\"\",\"\",VLOOKUP(INDEX(campsByItinerary,numericItinerary($A7),BG$3-1),campInfo,10))","v":""},{"$f":"IF(INDEX(campsByItinerary,numericItinerary($A7),BH$3-1)=\"\",\"\",VLOOKUP(INDEX(campsByItinerary,numericItinerary($A7),BH$3-1),campInfo,10))","v":""},{"$f":"IF(INDEX(campsByItinerary,numericItinerary($A7),BI$3-1)=\"\",\"\",VLOOKUP(INDEX(campsByItinerary,numericItinerary($A7),BI$3-1),campInfo,10))","v":"Y"},{"$f":"IF(INDEX(campsByItinerary,numericItinerary($A7),BJ$3-1)=\"\",\"\",VLOOKUP(INDEX(campsByItinerary,numericItinerary($A7),BJ$3-1),campInfo,10))","v":""},{"$f":"IF(INDEX(campsByItinerary,numericItinerary($A7),BK$3-1)=\"\",\"\",VLOOKUP(INDEX(campsByItinerary,numericItinerary($A7),BK$3-1),campInfo,10))","v":""},{"$f":"IF(INDEX(campsByItinerary,numericItinerary($A7),BL$3-1)=\"\",\"\",VLOOKUP(INDEX(campsByItinerary,numericItinerary($A7),BL$3-1),campInfo,10))","v":""},{"$f":"IF(INDEX(campsByItinerary,numericItinerary($A7),BM$3-1)=\"\",\"\",VLOOKUP(INDEX(campsByItinerary,numericItinerary($A7),BM$3-1),campInfo,10))","v":"Y"},null,"","","Y","","","","","","",{"$f":"INDEX(campsByItinerary,numericItinerary($A7),BD$3-1)","v":"Lovers Leap"},{"$f":"IF(INDEX(campsByItinerary,numericItinerary($A7),BE$3-1)=\"\",\"\",VLOOKUP(INDEX(campsByItinerary,numericItinerary($A7),BE$3-1),campInfo,2))","v":"South"},{"$f":"IF(INDEX(campsByItinerary,numericItinerary($A7),BF$3-1)=\"\",\"\",VLOOKUP(INDEX(campsByItinerary,numericItinerary($A7),BF$3-1),campInfo,2))","v":"South"},{"$f":"IF(INDEX(campsByItinerary,numericItinerary($A7),BG$3-1)=\"\",\"\",VLOOKUP(INDEX(campsByItinerary,numericItinerary($A7),BG$3-1),campInfo,2))","v":"South"},{"$f":"IF(INDEX(campsByItinerary,numericItinerary($A7),BH$3-1)=\"\",\"\",VLOOKUP(INDEX(campsByItinerary,numericItinerary($A7),BH$3-1),campInfo,2))","v":"South"},{"$f":"IF(INDEX(campsByItinerary,numericItinerary($A7),BI$3-1)=\"\",\"\",VLOOKUP(INDEX(campsByItinerary,numericItinerary($A7),BI$3-1),campInfo,2))","v":"Central"},{"$f":"IF(INDEX(campsByItinerary,numericItinerary($A7),BJ$3-1)=\"\",\"\",VLOOKUP(INDEX(campsByItinerary,numericItinerary($A7),BJ$3-1),campInfo,2))","v":"Central"},{"$f":"IF(INDEX(campsByItinerary,numericItinerary($A7),BK$3-1)=\"\",\"\",VLOOKUP(INDEX(campsByItinerary,numericItinerary($A7),BK$3-1),campInfo,2))","v":"Central"},{"$f":"IF(INDEX(campsByItinerary,numericItinerary($A7),BL$3-1)=\"\",\"\",VLOOKUP(INDEX(campsByItinerary,numericItinerary($A7),BL$3-1),campInfo,2))","v":"Central"},{"$f":"IF(INDEX(campsByItinerary,numericItinerary($A7),BM$3-1)=\"\",\"\",VLOOKUP(INDEX(campsByItinerary,numericItinerary($A7),BM$3-1),campInfo,2))","v":"Central"},{"$f":"IF(INDEX(campsByItinerary,numericItinerary($A7),BD$3-1)=\"\",\"\",VLOOKUP(INDEX(campsByItinerary,numericItinerary($A7),BD$3-1),campInfo,12))","v":"South"},{"$f":"IF(INDEX(campsByItinerary,numericItinerary($A7),BE$3-1)=\"\",\"\",VLOOKUP(INDEX(campsByItinerary,numericItinerary($A7),BE$3-1),campInfo,12))","v":"South"},{"$f":"IF(INDEX(campsByItinerary,numericItinerary($A7),BF$3-1)=\"\",\"\",VLOOKUP(INDEX(campsByItinerary,numericItinerary($A7),BF$3-1),campInfo,12))","v":"South"},{"$f":"IF(INDEX(campsByItinerary,numericItinerary($A7),BG$3-1)=\"\",\"\",VLOOKUP(INDEX(campsByItinerary,numericItinerary($A7),BG$3-1),campInfo,12))","v":"South"},{"$f":"IF(INDEX(campsByItinerary,numericItinerary($A7),BH$3-1)=\"\",\"\",VLOOKUP(INDEX(campsByItinerary,numericItinerary($A7),BH$3-1),campInfo,12))","v":"South"},{"$f":"IF(INDEX(campsByItinerary,numericItinerary($A7),BI$3-1)=\"\",\"\",VLOOKUP(INDEX(campsByItinerary,numericItinerary($A7),BI$3-1),campInfo,12))","v":"South"},{"$f":"IF(INDEX(campsByItinerary,numericItinerary($A7),BJ$3-1)=\"\",\"\",VLOOKUP(INDEX(campsByItinerary,numericItinerary($A7),BJ$3-1),campInfo,12))","v":"South"},{"$f":"IF(INDEX(campsByItinerary,numericItinerary($A7),BK$3-1)=\"\",\"\",VLOOKUP(INDEX(campsByItinerary,numericItinerary($A7),BK$3-1),campInfo,12))","v":"South"},{"$f":"IF(INDEX(campsByItinerary,numericItinerary($A7),BL$3-1)=\"\",\"\",VLOOKUP(INDEX(campsByItinerary,numericItinerary($A7),BL$3-1),campInfo,12))","v":"South"},{"$f":"IF(INDEX(campsByItinerary,numericItinerary($A7),BM$3-1)=\"\",\"\",VLOOKUP(INDEX(campsByItinerary,numericItinerary($A7),BM$3-1),campInfo,12))","v":"South"},{"$f":"getfoodPU(\"First\",numericItinerary($A7))","v":1},{"$f":"getfoodPU(\"Max\",numericItinerary($A7))","v":3}]
["12-5",null,"C",56,"House Canyon","Indian Writings","Horse Canyon","Ponil","Pueblano","Black Horse Creek","Black Horse Creek","Head of Dean","New Dean","Cimarroncita","Camping HQ",null,null,"Ponil",null,null,"Baldy Town",null,null,"Cimarroncita","Six Mile Gate","Ute Park","",{"$f":"IF(AC8=\"\",\"\",numericItinerary(A8) & \":\" & AC8)","v":"5:11"},11,"Bear Canyon","S","y",null,{"$f":"IF(AA8=\"\",\"\",\"y\")","v":""},null,null,7157,6979,8128,7150,8069,9619,9619,8754,7724,7373,178,1149,978,919,1550,0,865,1030,351,{"$f":"IF(INDEX(campsByItinerary,numericItinerary($A8),BD$3-1)=\"\",\"\",VLOOKUP(INDEX(campsByItinerary,numericItinerary($A8),BD$3-1),campInfo,8))","v":""},{"$f":"IF(INDEX(campsByItinerary,numericItinerary($A8),BE$3-1)=\"\",\"\",VLOOKUP(INDEX(campsByItinerary,numericItinerary($A8),BE$3-1),campInfo,8))","v":"Y"},{"$f":"IF(INDEX(campsByItinerary,numericItinerary($A8),BF$3-1)=\"\",\"\",VLOOKUP(INDEX(campsByItinerary,numericItinerary($A8),BF$3-1),campInfo,8))","v":""},{"$f":"IF(INDEX(campsByItinerary,numericItinerary($A8),BG$3-1)=\"\",\"\",VLOOKUP(INDEX(campsByItinerary,numericItinerary($A8),BG$3-1),campInfo,8))","v":"Y"},{"$f":"IF(INDEX(campsByItinerary,numericItinerary($A8),BH$3-1)=\"\",\"\",VLOOKUP(INDEX(campsByItinerary,numericItinerary($A8),BH$3-1),campInfo,8))","v":"Y"},{"$f":"IF(INDEX(campsByItinerary,numericItinerary($A8),BI$3-1)=\"\",\"\",VLOOKUP(INDEX(campsByItinerary,numericItinerary($A8),BI$3-1),campInfo,8))","v":""},{"$f":"IF(INDEX(campsByItinerary,numericItinerary($A8),BJ$3-1)=\"\",\"\",VLOOKUP(INDEX(campsByItinerary,numericItinerary($A8),BJ$3-1),campInfo,8))","v":""},{"$f":"IF(INDEX(campsByItinerary,numericItinerary($A8),BK$3-1)=\"\",\"\",VLOOKUP(INDEX(campsByItinerary,numericItinerary($A8),BK$3-1),campInfo,8))","v":"Y"},{"$f":"IF(INDEX(campsByItinerary,numericItinerary($A8),BL$3-1)=\"\",\"\",VLOOKUP(INDEX(campsByItinerary,numericItinerary($A8),BL$3-1),campInfo,8))","v":""},{"$f":"IF(INDEX(campsByItinerary,numericItinerary($A8),BM$3-1)=\"\",\"\",VLOOKUP(INDEX(campsByItinerary,numericItinerary($A8),BM$3-1),campInfo,8))","v":"Y"},"Y","","Y","","","Y","Y","","Y","",{"$f":"IF(INDEX(campsByItinerary,numericItinerary($A8),BD$3-1)=\"\",\"\",VLOOKUP(INDEX(campsByItinerary,numericItinerary($A8),BD$3-1),campInfo,10))","v":""},{"$f":"IF(INDEX(campsByItinerary,numericItinerary($A8),BE$3-1)=\"\",\"\",VLOOKUP(INDEX(campsByItinerary,numericItinerary($A8),BE$3-1),campInfo,10))","v":""},{"$f":"IF(INDEX(campsByItinerary,numericItinerary($A8),BF$3-1)=\"\",\"\",VLOOKUP(INDEX(campsByItinerary,numericItinerary($A8),BF$3-1),campInfo,10))","v":""},{"$f":"IF(INDEX(campsByItinerary,numericItinerary($A8),BG$3-1)=\"\",\"\",VLOOKUP(INDEX(campsByItinerary,numericItinerary($A8),BG$3-1),campInfo,10))","v":""},{"$f":"IF(INDEX(campsByItinerary,numericItinerary($A8),BH$3-1)=\"\",\"\",VLOOKUP(INDEX(campsByItinerary,numericItinerary($A8),BH$3-1),campInfo,10))","v":""},{"$f":"IF(INDEX(campsByItinerary,numericItinerary($A8),BI$3-1)=\"\",\"\",VLOOKUP(INDEX(campsByItinerary,numericItinerary($A8),BI$3-1),campInfo,10))","v":""},{"$f":"IF(INDEX(campsByItinerary,numericItinerary($A8),BJ$3-1)=\"\",\"\",VLOOKUP(INDEX(campsByItinerary,numericItinerary($A8),BJ$3-1),campInfo,10))","v":""},{"$f":"IF(INDEX(campsByItinerary,numericItinerary($A8),BK$3-1)=\"\",\"\",VLOOKUP(INDEX(campsByItinerary,numericItinerary($A8),BK$3-1),campInfo,10))","v":""},{"$f":"IF(INDEX(campsByItinerary,numericItinerary($A8),BL$3-1)=\"\",\"\",VLOOKUP(INDEX(campsByItinerary,numericItinerary($A8),BL$3-1),campInfo,10))","v":""},{"$f":"IF(INDEX(campsByItinerary,numericItinerary($A8),BM$3-1)=\"\",\"\",VLOOKUP(INDEX(campsByItinerary,numericItinerary($A8),BM$3-1),campInfo,10))","v":""},null,"","","","","","Y","","","",{"$f":"INDEX(campsByItinerary,numericItinerary($A8),BD$3-1)","v":"House Canyon"},{"$f":"IF(INDEX(campsByItinerary,numericItinerary($A8),BE$3-1)=\"\",\"\",VLOOKUP(INDEX(campsByItinerary,numericItinerary($A8),BE$3-1),campInfo,2))","v":"North"},{"$f":"IF(INDEX(campsByItinerary,numericItinerary($A8),BF$3-1)=\"\",\"\",VLOOKUP(INDEX(campsByItinerary,numericItinerary($A8),BF$3-1),campInfo,2))","v":"North"},{"$f":"IF(INDEX(campsByItinerary,numericItinerary($A8),BG$3-1)=\"\",\"\",VLOOKUP(INDEX(campsByItinerary,numericItinerary($A8),BG$3-1),campInfo,2))","v":"North"},{"$f":"IF(INDEX(campsByItinerary,numericItinerary($A8),BH$3-1)=\"\",\"\",VLOOKUP(INDEX(campsByItinerary,numericItinerary($A8),BH$3-1),campInfo,2))","v":"North"},{"$f":"IF(INDEX(campsByItinerary,numericItinerary($A8),BI$3-1)=\"\",\"\",VLOOKUP(INDEX(campsByItinerary,numericItinerary($A8),BI$3-1),campInfo,2))","v":"North"},{"$f":"IF(INDEX(campsByItinerary,numericItinerary($A8),BJ$3-1)=\"\",\"\",VLOOKUP(INDEX(campsByItinerary,numericItinerary($A8),BJ$3-1),campInfo,2))","v":"North"},{"$f":"IF(INDEX(campsByItinerary,numericItinerary($A8),BK$3-1)=\"\",\"\",VLOOKUP(INDEX(campsByItinerary,numericItinerary($A8),BK$3-1),campInfo,2))","v":"North"},{"$f":"IF(INDEX(campsByItinerary,numericItinerary($A8),BL$3-1)=\"\",\"\",VLOOKUP(INDEX(campsByItinerary,numericItinerary($A8),BL$3-1),campInfo,2))","v":"North"},{"$f":"IF(INDEX(campsByItinerary,numericItinerary($A8),BM$3-1)=\"\",\"\",VLOOKUP(INDEX(campsByItinerary,numericItinerary($A8),BM$3-1),campInfo,2))","v":"Central"},{"$f":"IF(INDEX(campsByItinerary,numericItinerary($A8),BD$3-1)=\"\",\"\",VLOOKUP(INDEX(campsByItinerary,numericItinerary($A8),BD$3-1),campInfo,12))","v":"North"},{"$f":"IF(INDEX(campsByItinerary,numericItinerary($A8),BE$3-1)=\"\",\"\",VLOOKUP(INDEX(campsByItinerary,numericItinerary($A8),BE$3-1),campInfo,12))","v":"North"},{"$f":"IF(INDEX(campsByItinerary,numericItinerary($A8),BF$3-1)=\"\",\"\",VLOOKUP(INDEX(campsByItinerary,numericItinerary($A8),BF$3-1),campInfo,12))","v":"North"},{"$f":"IF(INDEX(campsByItinerary,numericItinerary($A8),BG$3-1)=\"\",\"\",VLOOKUP(INDEX(campsByItinerary,numericItinerary($A8),BG$3-1),campInfo,12))","v":"North"},{"$f":"IF(INDEX(campsByItinerary,numericItinerary($A8),BH$3-1)=\"\",\"\",VLOOKUP(INDEX(campsByItinerary,numericItinerary($A8),BH$3-1),campInfo,12))","v":"North"},{"$f":"IF(INDEX(campsByItinerary,numericItinerary($A8),BI$3-1)=\"\",\"\",VLOOKUP(INDEX(campsByItinerary,numericItinerary($A8),BI$3-1),campInfo,12))","v":"North"},{"$f":"IF(INDEX(campsByItinerary,numericItinerary($A8),BJ$3-1)=\"\",\"\",VLOOKUP(INDEX(campsByItinerary,numericItinerary($A8),BJ$3-1),campInfo,12))","v":"North"},{"$f":"IF(INDEX(campsByItinerary,numericItinerary($A8),BK$3-1)=\"\",\"\",VLOOKUP(INDEX(campsByItinerary,numericItinerary($A8),BK$3-1),campInfo,12))","v":"North"},{"$f":"IF(INDEX(campsByItinerary,numericItinerary($A8),BL$3-1)=\"\",\"\",VLOOKUP(INDEX(campsByItinerary,numericItinerary($A8),BL$3-1),campInfo,12))","v":"North"},{"$f":"IF(INDEX(campsByItinerary,numericItinerary($A8),BM$3-1)=\"\",\"\",VLOOKUP(INDEX(campsByItinerary,numericItinerary($A8),BM$3-1),campInfo,12))","v":"North & South"},{"$f":"getfoodPU(\"First\",numericItinerary($A8))","v":3},{"$f":"getfoodPU(\"Max\",numericItinerary($A8))","v":3}]
["12-6",null,"C",56,"Rimrock Park","Crags","Agua Fria","Apache Springs","Crooked Creek","Red Hills","Beaubien","Beaubien","Miners Park","Stockade Ridge","Camping HQ",null,null,"Apache Springs",null,null,"Phillips Junction",null,"Miners Park",null,"Zastrow","Lovers Leap","y",{"$f":"IF(AC9=\"\",\"\",numericItinerary(A9) & \":\" & AC9)","v":""},null,null,null,null,"y",{"$f":"IF(AA9=\"\",\"\",\"y\")","v":"y"},null,"y",7359,8058,8726,9409,9360,10280,9330,9330,7977,7519,699,668,683,49,920,950,0,1353,458,{"$f":"IF(INDEX(campsByItinerary,numericItinerary($A9),BD$3-1)=\"\",\"\",VLOOKUP(INDEX(campsByItinerary,numericItinerary($A9),BD$3-1),campInfo,8))","v":""},{"$f":"IF(INDEX(campsByItinerary,numericItinerary($A9),BE$3-1)=\"\",\"\",VLOOKUP(INDEX(campsByItinerary,numericItinerary($A9),BE$3-1),campInfo,8))","v":""},{"$f":"IF(INDEX(campsByItinerary,numericItinerary($A9),BF$3-1)=\"\",\"\",VLOOKUP(INDEX(campsByItinerary,numericItinerary($A9),BF$3-1),campInfo,8))","v":""},{"$f":"IF(INDEX(campsByItinerary,numericItinerary($A9),BG$3-1)=\"\",\"\",VLOOKUP(INDEX(campsByItinerary,numericItinerary($A9),BG$3-1),campInfo,8))","v":"Y"},{"$f":"IF(INDEX(campsByItinerary,numericItinerary($A9),BH$3-1)=\"\",\"\",VLOOKUP(INDEX(campsByItinerary,numericItinerary($A9),BH$3-1),campInfo,8))","v":"Y"},{"$f":"IF(INDEX(campsByItinerary,numericItinerary($A9),BI$3-1)=\"\",\"\",VLOOKUP(INDEX(campsByItinerary,numericItinerary($A9),BI$3-1),campInfo,8))","v":""},{"$f":"IF(INDEX(campsByItinerary,numericItinerary($A9),BJ$3-1)=\"\",\"\",VLOOKUP(INDEX(campsByItinerary,numericItinerary($A9),BJ$3-1),campInfo,8))","v":"Y"},{"$f":"IF(INDEX(campsByItinerary,numericItinerary($A9),BK$3-1)=\"\",\"\",VLOOKUP(INDEX(campsByItinerary,numericItinerary($A9),BK$3-1),campInfo,8))","v":"Y"},{"$f":"IF(INDEX(campsByItinerary,numericItinerary($A9),BL$3-1)=\"\",\"\",VLOOKUP(INDEX(campsByItinerary,numericItinerary($A9),BL$3-1),campInfo,8))","v":"Y"},{"$f":"IF(INDEX(campsByItinerary,numericItinerary($A9),BM$3-1)=\"\",\"\",VLOOKUP(INDEX(campsByItinerary,numericItinerary($A9),BM$3-1),campInfo,8))","v":""},"Y","Y","Y","","","Y","","","","Y",{"$f":"IF(INDEX(campsByItinerary,numericItinerary($A9),BD$3-1)=\"\",\"\",VLOOKUP(INDEX(campsByItinerary,numericItinerary($A9),BD$3-1),campInfo,10))","v":"Y"},{"$f":"IF(INDEX(campsByItinerary,numericItinerary($A9),BE$3-1)=\"\",\"\",VLOOKUP(INDEX(campsByItinerary,numericItinerary($A9),BE$3-1),campInfo,10))","v":""},{"$f":"IF(INDEX(campsByItinerary,numericItinerary($A9),BF$3-1)=\"\",\"\",VLOOKUP(INDEX(campsByItinerary,numericItinerary($A9),BF$3-1),campInfo,10))","v":""},{"$f":"IF(INDEX(campsByItinerary,numericItinerary($A9),BG$3-1)=\"\",\"\",VLOOKUP(INDEX(campsByItinerary,numericItinerary($A9),BG$3-1),campInfo,10))","v":""},{"$f":"IF(INDEX(campsByItinerary,numericItinerary($A9),BH$3-1)=\"\",\"\",VLOOKUP(INDEX(campsByItinerary,numericItinerary($A9),BH$3-1),campInfo,10))","v":""},{"$f":"IF(INDEX(campsByItinerary,numericItinerary($A9),BI$3-1)=\"\",\"\",VLOOKUP(INDEX(campsByItinerary,numericItinerary($A9),BI$3-1),campInfo,10))","v":""},{"$f":"IF(INDEX(campsByItinerary,numericItinerary($A9),BJ$3-1)=\"\",\"\",VLOOKUP(INDEX(campsByItinerary,numericItinerary($A9),BJ$3-1),campInfo,10))","v":""},{"$f":"IF(INDEX(campsByItinerary,numericItinerary($A9),BK$3-1)=\"\",\"\",VLOOKUP(INDEX(campsByItinerary,numericItinerary($A9),BK$3-1),campInfo,10))","v":""},{"$f":"IF(INDEX(campsByItinerary,numericItinerary($A9),BL$3-1)=\"\",\"\",VLOOKUP(INDEX(campsByItinerary,numericItinerary($A9),BL$3-1),campInfo,10))","v":""},{"$f":"IF(INDEX(campsByItinerary,numericItinerary($A9),BM$3-1)=\"\",\"\",VLOOKUP(INDEX(campsByItinerary,numericItinerary($A9),BM$3-1),campInfo,10))","v":"Y"},null,"","","","","","","Y","","",{"$f":"INDEX(campsByItinerary,numericItinerary($A9),BD$3-1)","v":"Rimrock Park"},{"$f":"IF(INDEX(campsByItinerary,numericItinerary($A9),BE$3-1)=\"\",\"\",VLOOKUP(INDEX(campsByItinerary,numericItinerary($A9),BE$3-1),campInfo,2))","v":"South"},{"$f":"IF(INDEX(campsByItinerary,numericItinerary($A9),BF$3-1)=\"\",\"\",VLOOKUP(INDEX(campsByItinerary,numericItinerary($A9),BF$3-1),campInfo,2))","v":"South"},{"$f":"IF(INDEX(campsByItinerary,numericItinerary($A9),BG$3-1)=\"\",\"\",VLOOKUP(INDEX(campsByItinerary,numericItinerary($A9),BG$3-1),campInfo,2))","v":"South"},{"$f":"IF(INDEX(campsByItinerary,numericItinerary($A9),BH$3-1)=\"\",\"\",VLOOKUP(INDEX(campsByItinerary,numericItinerary($A9),BH$3-1),campInfo,2))","v":"South"},{"$f":"IF(INDEX(campsByItinerary,numericItinerary($A9),BI$3-1)=\"\",\"\",VLOOKUP(INDEX(campsByItinerary,numericItinerary($A9),BI$3-1),campInfo,2))","v":"South"},{"$f":"IF(INDEX(campsByItinerary,numericItinerary($A9),BJ$3-1)=\"\",\"\",VLOOKUP(INDEX(campsByItinerary,numericItinerary($A9),BJ$3-1),campInfo,2))","v":"South"},{"$f":"IF(INDEX(campsByItinerary,numericItinerary($A9),BK$3-1)=\"\",\"\",VLOOKUP(INDEX(campsByItinerary,numericItinerary($A9),BK$3-1),campInfo,2))","v":"South"},{"$f":"IF(INDEX(campsByItinerary,numericItinerary($A9),BL$3-1)=\"\",\"\",VLOOKUP(INDEX(campsByItinerary,numericItinerary($A9),BL$3-1),campInfo,2))","v":"South"},{"$f":"IF(INDEX(campsByItinerary,numericItinerary($A9),BM$3-1)=\"\",\"\",VLOOKUP(INDEX(campsByItinerary,numericItinerary($A9),BM$3-1),campInfo,2))","v":"South"},{"$f":"IF(INDEX(campsByItinerary,numericItinerary($A9),BD$3-1)=\"\",\"\",VLOOKUP(INDEX(campsByItinerary,numericItinerary($A9),BD$3-1),campInfo,12))","v":"South"},{"$f":"IF(INDEX(campsByItinerary,numericItinerary($A9),BE$3-1)=\"\",\"\",VLOOKUP(INDEX(campsByItinerary,numericItinerary($A9),BE$3-1),campInfo,12))","v":"South"},{"$f":"IF(INDEX(campsByItinerary,numericItinerary($A9),BF$3-1)=\"\",\"\",VLOOKUP(INDEX(campsByItinerary,numericItinerary($A9),BF$3-1),campInfo,12))","v":"South"},{"$f":"IF(INDEX(campsByItinerary,numericItinerary($A9),BG$3-1)=\"\",\"\",VLOOKUP(INDEX(campsByItinerary,numericItinerary($A9),BG$3-1),campInfo,12))","v":"South"},{"$f":"IF(INDEX(campsByItinerary,numericItinerary($A9),BH$3-1)=\"\",\"\",VLOOKUP(INDEX(campsByItinerary,numericItinerary($A9),BH$3-1),campInfo,12))","v":"South"},{"$f":"IF(INDEX(campsByItinerary,numericItinerary($A9),BI$3-1)=\"\",\"\",VLOOKUP(INDEX(campsByItinerary,numericItinerary($A9),BI$3-1),campInfo,12))","v":"South"},{"$f":"IF(INDEX(campsByItinerary,numericItinerary($A9),BJ$3-1)=\"\",\"\",VLOOKUP(INDEX(campsByItinerary,numericItinerary($A9),BJ$3-1),campInfo,12))","v":"South"},{"$f":"IF(INDEX(campsByItinerary,numericItinerary($A9),BK$3-1)=\"\",\"\",VLOOKUP(INDEX(campsByItinerary,numericItinerary($A9),BK$3-1),campInfo,12))","v":"South"},{"$f":"IF(INDEX(campsByItinerary,numericItinerary($A9),BL$3-1)=\"\",\"\",VLOOKUP(INDEX(campsByItinerary,numericItinerary($A9),BL$3-1),campInfo,12))","v":"South"},{"$f":"IF(INDEX(campsByItinerary,numericItinerary($A9),BM$3-1)=\"\",\"\",VLOOKUP(INDEX(campsByItinerary,numericItinerary($A9),BM$3-1),campInfo,12))","v":"South"},{"$f":"getfoodPU(\"First\",numericItinerary($A9))","v":3},{"$f":"getfoodPU(\"Max\",numericItinerary($A9))","v":3}]
["12-7",null,"C",59,"Rimrock Park","Crags","Apache Springs","Wild Horse","Comanche Creek","Beaubien","Beaubien","Bear Caves","Miners Park","Shaefers Pass","Camping HQ",null,"Apache Springs",null,null,"Phillips Junction",null,null,"Miners Park",null,"Zastrow","Hike In","y",{"$f":"IF(AC10=\"\",\"\",numericItinerary(A10) & \":\" & AC10)","v":""},null,null,null,null,null,"y",null,null,7359,8058,9409,10420,9600,9330,9330,8423,7977,8724,699,1351,1011,820,270,0,907,446,747,{"$f":"IF(INDEX(campsByItinerary,numericItinerary($A10),BD$3-1)=\"\",\"\",VLOOKUP(INDEX(campsByItinerary,numericItinerary($A10),BD$3-1),campInfo,8))","v":""},{"$f":"IF(INDEX(campsByItinerary,numericItinerary($A10),BE$3-1)=\"\",\"\",VLOOKUP(INDEX(campsByItinerary,numericItinerary($A10),BE$3-1),campInfo,8))","v":""},{"$f":"IF(INDEX(campsByItinerary,numericItinerary($A10),BF$3-1)=\"\",\"\",VLOOKUP(INDEX(campsByItinerary,numericItinerary($A10),BF$3-1),campInfo,8))","v":"Y"},{"$f":"IF(INDEX(campsByItinerary,numericItinerary($A10),BG$3-1)=\"\",\"\",VLOOKUP(INDEX(campsByItinerary,numericItinerary($A10),BG$3-1),campInfo,8))","v":""},{"$f":"IF(INDEX(campsByItinerary,numericItinerary($A10),BH$3-1)=\"\",\"\",VLOOKUP(INDEX(campsByItinerary,numericItinerary($A10),BH$3-1),campInfo,8))","v":""},{"$f":"IF(INDEX(campsByItinerary,numericItinerary($A10),BI$3-1)=\"\",\"\",VLOOKUP(INDEX(campsByItinerary,numericItinerary($A10),BI$3-1),campInfo,8))","v":"Y"},{"$f":"IF(INDEX(campsByItinerary,numericItinerary($A10),BJ$3-1)=\"\",\"\",VLOOKUP(INDEX(campsByItinerary,numericItinerary($A10),BJ$3-1),campInfo,8))","v":"Y"},{"$f":"IF(INDEX(campsByItinerary,numericItinerary($A10),BK$3-1)=\"\",\"\",VLOOKUP(INDEX(campsByItinerary,numericItinerary($A10),BK$3-1),campInfo,8))","v":""},{"$f":"IF(INDEX(campsByItinerary,numericItinerary($A10),BL$3-1)=\"\",\"\",VLOOKUP(INDEX(campsByItinerary,numericItinerary($A10),BL$3-1),campInfo,8))","v":"Y"},{"$f":"IF(INDEX(campsByItinerary,numericItinerary($A10),BM$3-1)=\"\",\"\",VLOOKUP(INDEX(campsByItinerary,numericItinerary($A10),BM$3-1),campInfo,8))","v":""},"Y","Y","","Y","Y","","","Y","","Y",{"$f":"IF(INDEX(campsByItinerary,numericItinerary($A10),BD$3-1)=\"\",\"\",VLOOKUP(INDEX(campsByItinerary,numericItinerary($A10),BD$3-1),campInfo,10))","v":"Y"},{"$f":"IF(INDEX(campsByItinerary,numericItinerary($A10),BE$3-1)=\"\",\"\",VLOOKUP(INDEX(campsByItinerary,numericItinerary($A10),BE$3-1),campInfo,10))","v":""},{"$f":"IF(INDEX(campsByItinerary,numericItinerary($A10),BF$3-1)=\"\",\"\",VLOOKUP(INDEX(campsByItinerary,numericItinerary($A10),BF$3-1),campInfo,10))","v":""},{"$f":"IF(INDEX(campsByItinerary,numericItinerary($A10),BG$3-1)=\"\",\"\",VLOOKUP(INDEX(campsByItinerary,numericItinerary($A10),BG$3-1),campInfo,10))","v":""},{"$f":"IF(INDEX(campsByItinerary,numericItinerary($A10),BH$3-1)=\"\",\"\",VLOOKUP(INDEX(campsByItinerary,numericItinerary($A10),BH$3-1),campInfo,10))","v":""},{"$f":"IF(INDEX(campsByItinerary,numericItinerary($A10),BI$3-1)=\"\",\"\",VLOOKUP(INDEX(campsByItinerary,numericItinerary($A10),BI$3-1),campInfo,10))","v":""},{"$f":"IF(INDEX(campsByItinerary,numericItinerary($A10),BJ$3-1)=\"\",\"\",VLOOKUP(INDEX(campsByItinerary,numericItinerary($A10),BJ$3-1),campInfo,10))","v":""},{"$f":"IF(INDEX(campsByItinerary,numericItinerary($A10),BK$3-1)=\"\",\"\",VLOOKUP(INDEX(campsByItinerary,numericItinerary($A10),BK$3-1),campInfo,10))","v":""},{"$f":"IF(INDEX(campsByItinerary,numericItinerary($A10),BL$3-1)=\"\",\"\",VLOOKUP(INDEX(campsByItinerary,numericItinerary($A10),BL$3-1),campInfo,10))","v":""},{"$f":"IF(INDEX(campsByItinerary,numericItinerary($A10),BM$3-1)=\"\",\"\",VLOOKUP(INDEX(campsByItinerary,numericItinerary($A10),BM$3-1),campInfo,10))","v":"Y"},null,"","","","","","Y","","","",{"$f":"INDEX(campsByItinerary,numericItinerary($A10),BD$3-1)","v":"Rimrock Park"},{"$f":"IF(INDEX(campsByItinerary,numericItinerary($A10),BE$3-1)=\"\",\"\",VLOOKUP(INDEX(campsByItinerary,numericItinerary($A10),BE$3-1),campInfo,2))","v":"South"},{"$f":"IF(INDEX(campsByItinerary,numericItinerary($A10),BF$3-1)=\"\",\"\",VLOOKUP(INDEX(campsByItinerary,numericItinerary($A10),BF$3-1),campInfo,2))","v":"South"},{"$f":"IF(INDEX(campsByItinerary,numericItinerary($A10),BG$3-1)=\"\",\"\",VLOOKUP(INDEX(campsByItinerary,numericItinerary($A10),BG$3-1),campInfo,2))","v":"South"},{"$f":"IF(INDEX(campsByItinerary,numericItinerary($A10),BH$3-1)=\"\",\"\",VLOOKUP(INDEX(campsByItinerary,numericItinerary($A10),BH$3-1),campInfo,2))","v":"South"},{"$f":"IF(INDEX(campsByItinerary,numericItinerary($A10),BI$3-1)=\"\",\"\",VLOOKUP(INDEX(campsByItinerary,numericItinerary($A10),BI$3-1),campInfo,2))","v":"South"},{"$f":"IF(INDEX(campsByItinerary,numericItinerary($A10),BJ$3-1)=\"\",\"\",VLOOKUP(INDEX(campsByItinerary,numericItinerary($A10),BJ$3-1),campInfo,2))","v":"South"},{"$f":"IF(INDEX(campsByItinerary,numericItinerary($A10),BK$3-1)=\"\",\"\",VLOOKUP(INDEX(campsByItinerary,numericItinerary($A10),BK$3-1),campInfo,2))","v":"South"},{"$f":"IF(INDEX(campsByItinerary,numericItinerary($A10),BL$3-1)=\"\",\"\",VLOOKUP(INDEX(campsByItinerary,numericItinerary($A10),BL$3-1),campInfo,2))","v":"South"},{"$f":"IF(INDEX(campsByItinerary,numericItinerary($A10),BM$3-1)=\"\",\"\",VLOOKUP(INDEX(campsByItinerary,numericItinerary($A10),BM$3-1),campInfo,2))","v":"Central"},{"$f":"IF(INDEX(campsByItinerary,numericItinerary($A10),BD$3-1)=\"\",\"\",VLOOKUP(INDEX(campsByItinerary,numericItinerary($A10),BD$3-1),campInfo,12))","v":"South"},{"$f":"IF(INDEX(campsByItinerary,numericItinerary($A10),BE$3-1)=\"\",\"\",VLOOKUP(INDEX(campsByItinerary,numericItinerary($A10),BE$3-1),campInfo,12))","v":"South"},{"$f":"IF(INDEX(campsByItinerary,numericItinerary($A10),BF$3-1)=\"\",\"\",VLOOKUP(INDEX(campsByItinerary,numericItinerary($A10),BF$3-1),campInfo,12))","v":"South"},{"$f":"IF(INDEX(campsByItinerary,numericItinerary($A10),BG$3-1)=\"\",\"\",VLOOKUP(INDEX(campsByItinerary,numericItinerary($A10),BG$3-1),campInfo,12))","v":"South"},{"$f":"IF(INDEX(campsByItinerary,numericItinerary($A10),BH$3-1)=\"\",\"\",VLOOKUP(INDEX(campsByItinerary,numericItinerary($A10),BH$3-1),campInfo,12))","v":"South"},{"$f":"IF(INDEX(campsByItinerary,numericItinerary($A10),BI$3-1)=\"\",\"\",VLOOKUP(INDEX(campsByItinerary,numericItinerary($A10),BI$3-1),campInfo,12))","v":"South"},{"$f":"IF(INDEX(campsByItinerary,numericItinerary($A10),BJ$3-1)=\"\",\"\",VLOOKUP(INDEX(campsByItinerary,numericItinerary($A10),BJ$3-1),campInfo,12))","v":"South"},{"$f":"IF(INDEX(campsByItinerary,numericItinerary($A10),BK$3-1)=\"\",\"\",VLOOKUP(INDEX(campsByItinerary,numericItinerary($A10),BK$3-1),campInfo,12))","v":"South"},{"$f":"IF(INDEX(campsByItinerary,numericItinerary($A10),BL$3-1)=\"\",\"\",VLOOKUP(INDEX(campsByItinerary,numericItinerary($A10),BL$3-1),campInfo,12))","v":"South"},{"$f":"IF(INDEX(campsByItinerary,numericItinerary($A10),BM$3-1)=\"\",\"\",VLOOKUP(INDEX(campsByItinerary,numericItinerary($A10),BM$3-1),campInfo,12))","v":"South"},{"$f":"getfoodPU(\"First\",numericItinerary($A10))","v":2},{"$f":"getfoodPU(\"Max\",numericItinerary($A10))","v":2}]
["12-8",null,"C",59,"Heck Meadow","Cimarroncito","Thunder Ridge","Clear Creek","Porcupine","Beaubien","Beaubien","Bear Caves","Urraca","Tooth Ridge","Camping HQ","Cimarroncito",null,null,null,"Phillips Junction",null,null,null,null,"Hile Out","Hike In","y",{"$f":"IF(AC11=\"\",\"\",numericItinerary(A11) & \":\" & AC11)","v":""},null,null,null,null,"y","y","y",null,7085,8137,10490,10240,9152,9330,9330,8423,7968,8240,1052,2353,250,1088,178,0,907,455,272,{"$f":"IF(INDEX(campsByItinerary,numericItinerary($A11),BD$3-1)=\"\",\"\",VLOOKUP(INDEX(campsByItinerary,numericItinerary($A11),BD$3-1),campInfo,8))","v":""},{"$f":"IF(INDEX(campsByItinerary,numericItinerary($A11),BE$3-1)=\"\",\"\",VLOOKUP(INDEX(campsByItinerary,numericItinerary($A11),BE$3-1),campInfo,8))","v":"Y"},{"$f":"IF(INDEX(campsByItinerary,numericItinerary($A11),BF$3-1)=\"\",\"\",VLOOKUP(INDEX(campsByItinerary,numericItinerary($A11),BF$3-1),campInfo,8))","v":""},{"$f":"IF(INDEX(campsByItinerary,numericItinerary($A11),BG$3-1)=\"\",\"\",VLOOKUP(INDEX(campsByItinerary,numericItinerary($A11),BG$3-1),campInfo,8))","v":"Y"},{"$f":"IF(INDEX(campsByItinerary,numericItinerary($A11),BH$3-1)=\"\",\"\",VLOOKUP(INDEX(campsByItinerary,numericItinerary($A11),BH$3-1),campInfo,8))","v":""},{"$f":"IF(INDEX(campsByItinerary,numericItinerary($A11),BI$3-1)=\"\",\"\",VLOOKUP(INDEX(campsByItinerary,numericItinerary($A11),BI$3-1),campInfo,8))","v":"Y"},{"$f":"IF(INDEX(campsByItinerary,numericItinerary($A11),BJ$3-1)=\"\",\"\",VLOOKUP(INDEX(campsByItinerary,numericItinerary($A11),BJ$3-1),campInfo,8))","v":"Y"},{"$f":"IF(INDEX(campsByItinerary,numericItinerary($A11),BK$3-1)=\"\",\"\",VLOOKUP(INDEX(campsByItinerary,numericItinerary($A11),BK$3-1),campInfo,8))","v":""},{"$f":"IF(INDEX(campsByItinerary,numericItinerary($A11),BL$3-1)=\"\",\"\",VLOOKUP(INDEX(campsByItinerary,numericItinerary($A11),BL$3-1),campInfo,8))","v":"Y"},{"$f":"IF(INDEX(campsByItinerary,numericItinerary($A11),BM$3-1)=\"\",\"\",VLOOKUP(INDEX(campsByItinerary,numericItinerary($A11),BM$3-1),campInfo,8))","v":""},"Y","","Y","","Y","","","Y","","Y",{"$f":"IF(INDEX(campsByItinerary,numericItinerary($A11),BD$3-1)=\"\",\"\",VLOOKUP(INDEX(campsByItinerary,numericItinerary($A11),BD$3-1),campInfo,10))","v":"Y"},{"$f":"IF(INDEX(campsByItinerary,numericItinerary($A11),BE$3-1)=\"\",\"\",VLOOKUP(INDEX(campsByItinerary,numericItinerary($A11),BE$3-1),campInfo,10))","v":""},{"$f":"IF(INDEX(campsByItinerary,numericItinerary($A11),BF$3-1)=\"\",\"\",VLOOKUP(INDEX(campsByItinerary,numericItinerary($A11),BF$3-1),campInfo,10))","v":"Y"},{"$f":"IF(INDEX(campsByItinerary,numericItinerary($A11),BG$3-1)=\"\",\"\",VLOOKUP(INDEX(campsByItinerary,numericItinerary($A11),BG$3-1),campInfo,10))","v":""},{"$f":"IF(INDEX(campsByItinerary,numericItinerary($A11),BH$3-1)=\"\",\"\",VLOOKUP(INDEX(campsByItinerary,numericItinerary($A11),BH$3-1),campInfo,10))","v":""},{"$f":"IF(INDEX(campsByItinerary,numericItinerary($A11),BI$3-1)=\"\",\"\",VLOOKUP(INDEX(campsByItinerary,numericItinerary($A11),BI$3-1),campInfo,10))","v":""},{"$f":"IF(INDEX(campsByItinerary,numericItinerary($A11),BJ$3-1)=\"\",\"\",VLOOKUP(INDEX(campsByItinerary,numericItinerary($A11),BJ$3-1),campInfo,10))","v":""},{"$f":"IF(INDEX(campsByItinerary,numericItinerary($A11),BK$3-1)=\"\",\"\",VLOOKUP(INDEX(campsByItinerary,numericItinerary($A11),BK$3-1),campInfo,10))","v":""},{"$f":"IF(INDEX(campsByItinerary,numericItinerary($A11),BL$3-1)=\"\",\"\",VLOOKUP(INDEX(campsByItinerary,numericItinerary($A11),BL$3-1),campInfo,10))","v":""},{"$f":"IF(INDEX(campsByItinerary,numericItinerary($A11),BM$3-1)=\"\",\"\",VLOOKUP(INDEX(campsByItinerary,numericItinerary($A11),BM$3-1),campInfo,10))","v":"Y"},null,"","","","","","Y","","","",{"$f":"INDEX(campsByItinerary,numericItinerary($A11),BD$3-1)","v":"Heck Meadow"},{"$f":"IF(INDEX(campsByItinerary,numericItinerary($A11),BE$3-1)=\"\",\"\",VLOOKUP(INDEX(campsByItinerary,numericItinerary($A11),BE$3-1),campInfo,2))","v":"Central"},{"$f":"IF(INDEX(campsByItinerary,numericItinerary($A11),BF$3-1)=\"\",\"\",VLOOKUP(INDEX(campsByItinerary,numericItinerary($A11),BF$3-1),campInfo,2))","v":"Central"},{"$f":"IF(INDEX(campsByItinerary,numericItinerary($A11),BG$3-1)=\"\",\"\",VLOOKUP(INDEX(campsByItinerary,numericItinerary($A11),BG$3-1),campInfo,2))","v":"Central"},{"$f":"IF(INDEX(campsByItinerary,numericItinerary($A11),BH$3-1)=\"\",\"\",VLOOKUP(INDEX(campsByItinerary,numericItinerary($A11),BH$3-1),campInfo,2))","v":"South"},{"$f":"IF(INDEX(campsByItinerary,numericItinerary($A11),BI$3-1)=\"\",\"\",VLOOKUP(INDEX(campsByItinerary,numericItinerary($A11),BI$3-1),campInfo,2))","v":"South"},{"$f":"IF(INDEX(campsByItinerary,numericItinerary($A11),BJ$3-1)=\"\",\"\",VLOOKUP(INDEX(campsByItinerary,numericItinerary($A11),BJ$3-1),campInfo,2))","v":"South"},{"$f":"IF(INDEX(campsByItinerary,numericItinerary($A11),BK$3-1)=\"\",\"\",VLOOKUP(INDEX(campsByItinerary,numericItinerary($A11),BK$3-1),campInfo,2))","v":"South"},{"$f":"IF(INDEX(campsByItinerary,numericItinerary($A11),BL$3-1)=\"\",\"\",VLOOKUP(INDEX(campsByItinerary,numericItinerary($A11),BL$3-1),campInfo,2))","v":"South"},{"$f":"IF(INDEX(campsByItinerary,numericItinerary($A11),BM$3-1)=\"\",\"\",VLOOKUP(INDEX(campsByItinerary,numericItinerary($A11),BM$3-1),campInfo,2))","v":"Central"},{"$f":"IF(INDEX(campsByItinerary,numericItinerary($A11),BD$3-1)=\"\",\"\",VLOOKUP(INDEX(campsByItinerary,numericItinerary($A11),BD$3-1),campInfo,12))","v":"South"},{"$f":"IF(INDEX(campsByItinerary,numericItinerary($A11),BE$3-1)=\"\",\"\",VLOOKUP(INDEX(campsByItinerary,numericItinerary($A11),BE$3-1),campInfo,12))","v":"South"},{"$f":"IF(INDEX(campsByItinerary,numericItinerary($A11),BF$3-1)=\"\",\"\",VLOOKUP(INDEX(campsByItinerary,numericItinerary($A11),BF$3-1),campInfo,12))","v":"South"},{"$f":"IF(INDEX(campsByItinerary,numericItinerary($A11),BG$3-1)=\"\",\"\",VLOOKUP(INDEX(campsByItinerary,numericItinerary($A11),BG$3-1),campInfo,12))","v":"South"},{"$f":"IF(INDEX(campsByItinerary,numericItinerary($A11),BH$3-1)=\"\",\"\",VLOOKUP(INDEX(campsByItinerary,numericItinerary($A11),BH$3-1),campInfo,12))","v":"South"},{"$f":"IF(INDEX(campsByItinerary,numericItinerary($A11),BI$3-1)=\"\",\"\",VLOOKUP(INDEX(campsByItinerary,numericItinerary($A11),BI$3-1),campInfo,12))","v":"South"},{"$f":"IF(INDEX(campsByItinerary,numericItinerary($A11),BJ$3-1)=\"\",\"\",VLOOKUP(INDEX(campsByItinerary,numericItinerary($A11),BJ$3-1),campInfo,12))","v":"South"},{"$f":"IF(INDEX(campsByItinerary,numericItinerary($A11),BK$3-1)=\"\",\"\",VLOOKUP(INDEX(campsByItinerary,numericItinerary($A11),BK$3-1),campInfo,12))","v":"South"},{"$f":"IF(INDEX(campsByItinerary,numericItinerary($A11),BL$3-1)=\"\",\"\",VLOOKUP(INDEX(campsByItinerary,numericItinerary($A11),BL$3-1),campInfo,12))","v":"South"},{"$f":"IF(INDEX(campsByItinerary,numericItinerary($A11),BM$3-1)=\"\",\"\",VLOOKUP(INDEX(campsByItinerary,numericItinerary($A11),BM$3-1),campInfo,12))","v":"South"},{"$f":"getfoodPU(\"First\",numericItinerary($A11))","v":1},{"$f":"getfoodPU(\"Max\",numericItinerary($A11))","v":4}]
["12-9",null,"C",59,"Cimarron River","Black Jacks","Elkhorn","Ponil","Metcalf Station","Dan Beard","Pueblano Ruins","Copper Park","Copper Park","Miranda","Camping HQ",null,null,"Ponil",null,null,null,"Baldy Town",null,null,"Ute Park","Maxwell","",{"$f":"IF(AC12=\"\",\"\",numericItinerary(A12) & \":\" & AC12)","v":"9:3"},3,"Bear Canyon","N","y",null,"",null,null,7282,8211,8496,7150,7220,7896,8359,10530,10530,8898,929,285,1346,70,676,463,2171,0,1632,{"$f":"IF(INDEX(campsByItinerary,numericItinerary($A12),BD$3-1)=\"\",\"\",VLOOKUP(INDEX(campsByItinerary,numericItinerary($A12),BD$3-1),campInfo,8))","v":""},{"$f":"IF(INDEX(campsByItinerary,numericItinerary($A12),BE$3-1)=\"\",\"\",VLOOKUP(INDEX(campsByItinerary,numericItinerary($A12),BE$3-1),campInfo,8))","v":""},{"$f":"IF(INDEX(campsByItinerary,numericItinerary($A12),BF$3-1)=\"\",\"\",VLOOKUP(INDEX(campsByItinerary,numericItinerary($A12),BF$3-1),campInfo,8))","v":""},{"$f":"IF(INDEX(campsByItinerary,numericItinerary($A12),BG$3-1)=\"\",\"\",VLOOKUP(INDEX(campsByItinerary,numericItinerary($A12),BG$3-1),campInfo,8))","v":"Y"},{"$f":"IF(INDEX(campsByItinerary,numericItinerary($A12),BH$3-1)=\"\",\"\",VLOOKUP(INDEX(campsByItinerary,numericItinerary($A12),BH$3-1),campInfo,8))","v":"Y"},{"$f":"IF(INDEX(campsByItinerary,numericItinerary($A12),BI$3-1)=\"\",\"\",VLOOKUP(INDEX(campsByItinerary,numericItinerary($A12),BI$3-1),campInfo,8))","v":"Y"},{"$f":"IF(INDEX(campsByItinerary,numericItinerary($A12),BJ$3-1)=\"\",\"\",VLOOKUP(INDEX(campsByItinerary,numericItinerary($A12),BJ$3-1),campInfo,8))","v":""},{"$f":"IF(INDEX(campsByItinerary,numericItinerary($A12),BK$3-1)=\"\",\"\",VLOOKUP(INDEX(campsByItinerary,numericItinerary($A12),BK$3-1),campInfo,8))","v":""},{"$f":"IF(INDEX(campsByItinerary,numericItinerary($A12),BL$3-1)=\"\",\"\",VLOOKUP(INDEX(campsByItinerary,numericItinerary($A12),BL$3-1),campInfo,8))","v":""},{"$f":"IF(INDEX(campsByItinerary,numericItinerary($A12),BM$3-1)=\"\",\"\",VLOOKUP(INDEX(campsByItinerary,numericItinerary($A12),BM$3-1),campInfo,8))","v":"Y"},"Y","Y","Y","","","","Y","Y","Y","",{"$f":"IF(INDEX(campsByItinerary,numericItinerary($A12),BD$3-1)=\"\",\"\",VLOOKUP(INDEX(campsByItinerary,numericItinerary($A12),BD$3-1),campInfo,10))","v":""},{"$f":"IF(INDEX(campsByItinerary,numericItinerary($A12),BE$3-1)=\"\",\"\",VLOOKUP(INDEX(campsByItinerary,numericItinerary($A12),BE$3-1),campInfo,10))","v":""},{"$f":"IF(INDEX(campsByItinerary,numericItinerary($A12),BF$3-1)=\"\",\"\",VLOOKUP(INDEX(campsByItinerary,numericItinerary($A12),BF$3-1),campInfo,10))","v":""},{"$f":"IF(INDEX(campsByItinerary,numericItinerary($A12),BG$3-1)=\"\",\"\",VLOOKUP(INDEX(campsByItinerary,numericItinerary($A12),BG$3-1),campInfo,10))","v":""},{"$f":"IF(INDEX(campsByItinerary,numericItinerary($A12),BH$3-1)=\"\",\"\",VLOOKUP(INDEX(campsByItinerary,numericItinerary($A12),BH$3-1),campInfo,10))","v":""},{"$f":"IF(INDEX(campsByItinerary,numericItinerary($A12),BI$3-1)=\"\",\"\",VLOOKUP(INDEX(campsByItinerary,numericItinerary($A12),BI$3-1),campInfo,10))","v":""},{"$f":"IF(INDEX(campsByItinerary,numericItinerary($A12),BJ$3-1)=\"\",\"\",VLOOKUP(INDEX(campsByItinerary,numericItinerary($A12),BJ$3-1),campInfo,10))","v":""},{"$f":"IF(INDEX(campsByItinerary,numericItinerary($A12),BK$3-1)=\"\",\"\",VLOOKUP(INDEX(campsByItinerary,numericItinerary($A12),BK$3-1),campInfo,10))","v":""},{"$f":"IF(INDEX(campsByItinerary,numericItinerary($A12),BL$3-1)=\"\",\"\",VLOOKUP(INDEX(campsByItinerary,numericItinerary($A12),BL$3-1),campInfo,10))","v":""},{"$f":"IF(INDEX(campsByItinerary,numericItinerary($A12),BM$3-1)=\"\",\"\",VLOOKUP(INDEX(campsByItinerary,numericItinerary($A12),BM$3-1),campInfo,10))","v":""},null,"","","","","","","","Y","",{"$f":"INDEX(campsByItinerary,numericItinerary($A12),BD$3-1)","v":"Cimarron River"},{"$f":"IF(INDEX(campsByItinerary,numericItinerary($A12),BE$3-1)=\"\",\"\",VLOOKUP(INDEX(campsByItinerary,numericItinerary($A12),BE$3-1),campInfo,2))","v":"North"},{"$f":"IF(INDEX(campsByItinerary,numericItinerary($A12),BF$3-1)=\"\",\"\",VLOOKUP(INDEX(campsByItinerary,numericItinerary($A12),BF$3-1),campInfo,2))","v":"North"},{"$f":"IF(INDEX(campsByItinerary,numericItinerary($A12),BG$3-1)=\"\",\"\",VLOOKUP(INDEX(campsByItinerary,numericItinerary($A12),BG$3-1),campInfo,2))","v":"North"},{"$f":"IF(INDEX(campsByItinerary,numericItinerary($A12),BH$3-1)=\"\",\"\",VLOOKUP(INDEX(campsByItinerary,numericItinerary($A12),BH$3-1),campInfo,2))","v":"North"},{"$f":"IF(INDEX(campsByItinerary,numericItinerary($A12),BI$3-1)=\"\",\"\",VLOOKUP(INDEX(campsByItinerary,numericItinerary($A12),BI$3-1),campInfo,2))","v":"North"},{"$f":"IF(INDEX(campsByItinerary,numericItinerary($A12),BJ$3-1)=\"\",\"\",VLOOKUP(INDEX(campsByItinerary,numericItinerary($A12),BJ$3-1),campInfo,2))","v":"North"},{"$f":"IF(INDEX(campsByItinerary,numericItinerary($A12),BK$3-1)=\"\",\"\",VLOOKUP(INDEX(campsByItinerary,numericItinerary($A12),BK$3-1),campInfo,2))","v":"North"},{"$f":"IF(INDEX(campsByItinerary,numericItinerary($A12),BL$3-1)=\"\",\"\",VLOOKUP(INDEX(campsByItinerary,numericItinerary($A12),BL$3-1),campInfo,2))","v":"North"},{"$f":"IF(INDEX(campsByItinerary,numericItinerary($A12),BM$3-1)=\"\",\"\",VLOOKUP(INDEX(campsByItinerary,numericItinerary($A12),BM$3-1),campInfo,2))","v":"North"},{"$f":"IF(INDEX(campsByItinerary,numericItinerary($A12),BD$3-1)=\"\",\"\",VLOOKUP(INDEX(campsByItinerary,numericItinerary($A12),BD$3-1),campInfo,12))","v":"South"},{"$f":"IF(INDEX(campsByItinerary,numericItinerary($A12),BE$3-1)=\"\",\"\",VLOOKUP(INDEX(campsByItinerary,numericItinerary($A12),BE$3-1),campInfo,12))","v":"North"},{"$f":"IF(INDEX(campsByItinerary,numericItinerary($A12),BF$3-1)=\"\",\"\",VLOOKUP(INDEX(campsByItinerary,numericItinerary($A12),BF$3-1),campInfo,12))","v":"North"},{"$f":"IF(INDEX(campsByItinerary,numericItinerary($A12),BG$3-1)=\"\",\"\",VLOOKUP(INDEX(campsByItinerary,numericItinerary($A12),BG$3-1),campInfo,12))","v":"North"},{"$f":"IF(INDEX(campsByItinerary,numericItinerary($A12),BH$3-1)=\"\",\"\",VLOOKUP(INDEX(campsByItinerary,numericItinerary($A12),BH$3-1),campInfo,12))","v":"North"},{"$f":"IF(INDEX(campsByItinerary,numericItinerary($A12),BI$3-1)=\"\",\"\",VLOOKUP(INDEX(campsByItinerary,numericItinerary($A12),BI$3-1),campInfo,12))","v":"North"},{"$f":"IF(INDEX(campsByItinerary,numericItinerary($A12),BJ$3-1)=\"\",\"\",VLOOKUP(INDEX(campsByItinerary,numericItinerary($A12),BJ$3-1),campInfo,12))","v":"North"},{"$f":"IF(INDEX(campsByItinerary,numericItinerary($A12),BK$3-1)=\"\",\"\",VLOOKUP(INDEX(campsByItinerary,numericItinerary($A12),BK$3-1),campInfo,12))","v":"North"},{"$f":"IF(INDEX(campsByItinerary,numericItinerary($A12),BL$3-1)=\"\",\"\",VLOOKUP(INDEX(campsByItinerary,numericItinerary($A12),BL$3-1),campInfo,12))","v":"North"},{"$f":"IF(INDEX(campsByItinerary,numericItinerary($A12),BM$3-1)=\"\",\"\",VLOOKUP(INDEX(campsByItinerary,numericItinerary($A12),BM$3-1),campInfo,12))","v":"North"},{"$f":"getfoodPU(\"First\",numericItinerary($A12))","v":3},{"$f":"getfoodPU(\"Max\",numericItinerary($A12))","v":3}]
["12-10",null,"R",60,"Flume Canyon","Pueblano Ruins","Baldy Town","Baldy Town","Ringtail","Elkhorn","Ponil","Indian Writings","House Canyon","Chase Cow","Camping HQ",null,null,"Baldy Town",null,null,"Ponil",null,null,null,"Ponil","Chase","",{"$f":"IF(AC13=\"\",\"\",numericItinerary(A13) & \":\" & AC13)","v":""},null,null,null,"y",null,"",null,"y",7715,8359,9851,9851,8600,8496,7150,6979,7157,7177,644,1492,0,1251,104,1346,171,178,20,{"$f":"IF(INDEX(campsByItinerary,numericItinerary($A13),BD$3-1)=\"\",\"\",VLOOKUP(INDEX(campsByItinerary,numericItinerary($A13),BD$3-1),campInfo,8))","v":""},{"$f":"IF(INDEX(campsByItinerary,numericItinerary($A13),BE$3-1)=\"\",\"\",VLOOKUP(INDEX(campsByItinerary,numericItinerary($A13),BE$3-1),campInfo,8))","v":""},{"$f":"IF(INDEX(campsByItinerary,numericItinerary($A13),BF$3-1)=\"\",\"\",VLOOKUP(INDEX(campsByItinerary,numericItinerary($A13),BF$3-1),campInfo,8))","v":"Y"},{"$f":"IF(INDEX(campsByItinerary,numericItinerary($A13),BG$3-1)=\"\",\"\",VLOOKUP(INDEX(campsByItinerary,numericItinerary($A13),BG$3-1),campInfo,8))","v":"Y"},{"$f":"IF(INDEX(campsByItinerary,numericItinerary($A13),BH$3-1)=\"\",\"\",VLOOKUP(INDEX(campsByItinerary,numericItinerary($A13),BH$3-1),campInfo,8))","v":""},{"$f":"IF(INDEX(campsByItinerary,numericItinerary($A13),BI$3-1)=\"\",\"\",VLOOKUP(INDEX(campsByItinerary,numericItinerary($A13),BI$3-1),campInfo,8))","v":""},{"$f":"IF(INDEX(campsByItinerary,numericItinerary($A13),BJ$3-1)=\"\",\"\",VLOOKUP(INDEX(campsByItinerary,numericItinerary($A13),BJ$3-1),campInfo,8))","v":"Y"},{"$f":"IF(INDEX(campsByItinerary,numericItinerary($A13),BK$3-1)=\"\",\"\",VLOOKUP(INDEX(campsByItinerary,numericItinerary($A13),BK$3-1),campInfo,8))","v":"Y"},{"$f":"IF(INDEX(campsByItinerary,numericItinerary($A13),BL$3-1)=\"\",\"\",VLOOKUP(INDEX(campsByItinerary,numericItinerary($A13),BL$3-1),campInfo,8))","v":""},{"$f":"IF(INDEX(campsByItinerary,numericItinerary($A13),BM$3-1)=\"\",\"\",VLOOKUP(INDEX(campsByItinerary,numericItinerary($A13),BM$3-1),campInfo,8))","v":"Y"},"Y","Y","","","Y","Y","","","Y","",{"$f":"IF(INDEX(campsByItinerary,numericItinerary($A13),BD$3-1)=\"\",\"\",VLOOKUP(INDEX(campsByItinerary,numericItinerary($A13),BD$3-1),campInfo,10))","v":""},{"$f":"IF(INDEX(campsByItinerary,numericItinerary($A13),BE$3-1)=\"\",\"\",VLOOKUP(INDEX(campsByItinerary,numericItinerary($A13),BE$3-1),campInfo,10))","v":""},{"$f":"IF(INDEX(campsByItinerary,numericItinerary($A13),BF$3-1)=\"\",\"\",VLOOKUP(INDEX(campsByItinerary,numericItinerary($A13),BF$3-1),campInfo,10))","v":""},{"$f":"IF(INDEX(campsByItinerary,numericItinerary($A13),BG$3-1)=\"\",\"\",VLOOKUP(INDEX(campsByItinerary,numericItinerary($A13),BG$3-1),campInfo,10))","v":""},{"$f":"IF(INDEX(campsByItinerary,numericItinerary($A13),BH$3-1)=\"\",\"\",VLOOKUP(INDEX(campsByItinerary,numericItinerary($A13),BH$3-1),campInfo,10))","v":"Y"},{"$f":"IF(INDEX(campsByItinerary,numericItinerary($A13),BI$3-1)=\"\",\"\",VLOOKUP(INDEX(campsByItinerary,numericItinerary($A13),BI$3-1),campInfo,10))","v":""},{"$f":"IF(INDEX(campsByItinerary,numericItinerary($A13),BJ$3-1)=\"\",\"\",VLOOKUP(INDEX(campsByItinerary,numericItinerary($A13),BJ$3-1),campInfo,10))","v":""},{"$f":"IF(INDEX(campsByItinerary,numericItinerary($A13),BK$3-1)=\"\",\"\",VLOOKUP(INDEX(campsByItinerary,numericItinerary($A13),BK$3-1),campInfo,10))","v":""},{"$f":"IF(INDEX(campsByItinerary,numericItinerary($A13),BL$3-1)=\"\",\"\",VLOOKUP(INDEX(campsByItinerary,numericItinerary($A13),BL$3-1),campInfo,10))","v":""},{"$f":"IF(INDEX(campsByItinerary,numericItinerary($A13),BM$3-1)=\"\",\"\",VLOOKUP(INDEX(campsByItinerary,numericItinerary($A13),BM$3-1),campInfo,10))","v":""},null,"","","Y","","","","","","",{"$f":"INDEX(campsByItinerary,numericItinerary($A13),BD$3-1)","v":"Flume Canyon"},{"$f":"IF(INDEX(campsByItinerary,numericItinerary($A13),BE$3-1)=\"\",\"\",VLOOKUP(INDEX(campsByItinerary,numericItinerary($A13),BE$3-1),campInfo,2))","v":"North"},{"$f":"IF(INDEX(campsByItinerary,numericItinerary($A13),BF$3-1)=\"\",\"\",VLOOKUP(INDEX(campsByItinerary,numericItinerary($A13),BF$3-1),campInfo,2))","v":"North"},{"$f":"IF(INDEX(campsByItinerary,numericItinerary($A13),BG$3-1)=\"\",\"\",VLOOKUP(INDEX(campsByItinerary,numericItinerary($A13),BG$3-1),campInfo,2))","v":"North"},{"$f":"IF(INDEX(campsByItinerary,numericItinerary($A13),BH$3-1)=\"\",\"\",VLOOKUP(INDEX(campsByItinerary,numericItinerary($A13),BH$3-1),campInfo,2))","v":"North"},{"$f":"IF(INDEX(campsByItinerary,numericItinerary($A13),BI$3-1)=\"\",\"\",VLOOKUP(INDEX(campsByItinerary,numericItinerary($A13),BI$3-1),campInfo,2))","v":"North"},{"$f":"IF(INDEX(campsByItinerary,numericItinerary($A13),BJ$3-1)=\"\",\"\",VLOOKUP(INDEX(campsByItinerary,numericItinerary($A13),BJ$3-1),campInfo,2))","v":"North"},{"$f":"IF(INDEX(campsByItinerary,numericItinerary($A13),BK$3-1)=\"\",\"\",VLOOKUP(INDEX(campsByItinerary,numericItinerary($A13),BK$3-1),campInfo,2))","v":"North"},{"$f":"IF(INDEX(campsByItinerary,numericItinerary($A13),BL$3-1)=\"\",\"\",VLOOKUP(INDEX(campsByItinerary,numericItinerary($A13),BL$3-1),campInfo,2))","v":"North"},{"$f":"IF(INDEX(campsByItinerary,numericItinerary($A13),BM$3-1)=\"\",\"\",VLOOKUP(INDEX(campsByItinerary,numericItinerary($A13),BM$3-1),campInfo,2))","v":"North"},{"$f":"IF(INDEX(campsByItinerary,numericItinerary($A13),BD$3-1)=\"\",\"\",VLOOKUP(INDEX(campsByItinerary,numericItinerary($A13),BD$3-1),campInfo,12))","v":"North"},{"$f":"IF(INDEX(campsByItinerary,numericItinerary($A13),BE$3-1)=\"\",\"\",VLOOKUP(INDEX(campsByItinerary,numericItinerary($A13),BE$3-1),campInfo,12))","v":"North"},{"$f":"IF(INDEX(campsByItinerary,numericItinerary($A13),BF$3-1)=\"\",\"\",VLOOKUP(INDEX(campsByItinerary,numericItinerary($A13),BF$3-1),campInfo,12))","v":"North"},{"$f":"IF(INDEX(campsByItinerary,numericItinerary($A13),BG$3-1)=\"\",\"\",VLOOKUP(INDEX(campsByItinerary,numericItinerary($A13),BG$3-1),campInfo,12))","v":"North"},{"$f":"IF(INDEX(campsByItinerary,numericItinerary($A13),BH$3-1)=\"\",\"\",VLOOKUP(INDEX(campsByItinerary,numericItinerary($A13),BH$3-1),campInfo,12))","v":"North"},{"$f":"IF(INDEX(campsByItinerary,numericItinerary($A13),BI$3-1)=\"\",\"\",VLOOKUP(INDEX(campsByItinerary,numericItinerary($A13),BI$3-1),campInfo,12))","v":"North"},{"$f":"IF(INDEX(campsByItinerary,numericItinerary($A13),BJ$3-1)=\"\",\"\",VLOOKUP(INDEX(campsByItinerary,numericItinerary($A13),BJ$3-1),campInfo,12))","v":"North"},{"$f":"IF(INDEX(campsByItinerary,numericItinerary($A13),BK$3-1)=\"\",\"\",VLOOKUP(INDEX(campsByItinerary,numericItinerary($A13),BK$3-1),campInfo,12))","v":"North"},{"$f":"IF(INDEX(campsByItinerary,numericItinerary($A13),BL$3-1)=\"\",\"\",VLOOKUP(INDEX(campsByItinerary,numericItinerary($A13),BL$3-1),campInfo,12))","v":"North"},{"$f":"IF(INDEX(campsByItinerary,numericItinerary($A13),BM$3-1)=\"\",\"\",VLOOKUP(INDEX(campsByItinerary,numericItinerary($A13),BM$3-1),campInfo,12))","v":"North"},{"$f":"getfoodPU(\"First\",numericItinerary($A13))","v":3},{"$f":"getfoodPU(\"Max\",numericItinerary($A13))","v":3}]
["12-11","50 Miler South","R",60,"Arrowhead","Hunting Lodge","Cyphers Mine","Clear Creek","Beaubien","Lower Bonito","Abreu","Bear Caves","Miners Park","Tooth Ridge","Camping HQ",null,"Cimarroncito",null,"Phillips Junction",null,null,null,"Miners Park",null,"Webster","Hike in","y",{"$f":"IF(AC14=\"\",\"\",numericItinerary(A14) & \":\" & AC14)","v":""},null,null,null,null,"y","y","y","y",7644,7776,9302,10240,9330,8962,7217,8423,7977,8240,132,1526,938,910,368,1745,1206,446,263,{"$f":"IF(INDEX(campsByItinerary,numericItinerary($A14),BD$3-1)=\"\",\"\",VLOOKUP(INDEX(campsByItinerary,numericItinerary($A14),BD$3-1),campInfo,8))","v":""},{"$f":"IF(INDEX(campsByItinerary,numericItinerary($A14),BE$3-1)=\"\",\"\",VLOOKUP(INDEX(campsByItinerary,numericItinerary($A14),BE$3-1),campInfo,8))","v":"N"},{"$f":"IF(INDEX(campsByItinerary,numericItinerary($A14),BF$3-1)=\"\",\"\",VLOOKUP(INDEX(campsByItinerary,numericItinerary($A14),BF$3-1),campInfo,8))","v":"Y"},{"$f":"IF(INDEX(campsByItinerary,numericItinerary($A14),BG$3-1)=\"\",\"\",VLOOKUP(INDEX(campsByItinerary,numericItinerary($A14),BG$3-1),campInfo,8))","v":"Y"},{"$f":"IF(INDEX(campsByItinerary,numericItinerary($A14),BH$3-1)=\"\",\"\",VLOOKUP(INDEX(campsByItinerary,numericItinerary($A14),BH$3-1),campInfo,8))","v":"Y"},{"$f":"IF(INDEX(campsByItinerary,numericItinerary($A14),BI$3-1)=\"\",\"\",VLOOKUP(INDEX(campsByItinerary,numericItinerary($A14),BI$3-1),campInfo,8))","v":""},{"$f":"IF(INDEX(campsByItinerary,numericItinerary($A14),BJ$3-1)=\"\",\"\",VLOOKUP(INDEX(campsByItinerary,numericItinerary($A14),BJ$3-1),campInfo,8))","v":"Y"},{"$f":"IF(INDEX(campsByItinerary,numericItinerary($A14),BK$3-1)=\"\",\"\",VLOOKUP(INDEX(campsByItinerary,numericItinerary($A14),BK$3-1),campInfo,8))","v":""},{"$f":"IF(INDEX(campsByItinerary,numericItinerary($A14),BL$3-1)=\"\",\"\",VLOOKUP(INDEX(campsByItinerary,numericItinerary($A14),BL$3-1),campInfo,8))","v":"Y"},{"$f":"IF(INDEX(campsByItinerary,numericItinerary($A14),BM$3-1)=\"\",\"\",VLOOKUP(INDEX(campsByItinerary,numericItinerary($A14),BM$3-1),campInfo,8))","v":""},"Y","Y","","","","Y","","Y","","Y",{"$f":"IF(INDEX(campsByItinerary,numericItinerary($A14),BD$3-1)=\"\",\"\",VLOOKUP(INDEX(campsByItinerary,numericItinerary($A14),BD$3-1),campInfo,10))","v":"Y"},{"$f":"IF(INDEX(campsByItinerary,numericItinerary($A14),BE$3-1)=\"\",\"\",VLOOKUP(INDEX(campsByItinerary,numericItinerary($A14),BE$3-1),campInfo,10))","v":""},{"$f":"IF(INDEX(campsByItinerary,numericItinerary($A14),BF$3-1)=\"\",\"\",VLOOKUP(INDEX(campsByItinerary,numericItinerary($A14),BF$3-1),campInfo,10))","v":""},{"$f":"IF(INDEX(campsByItinerary,numericItinerary($A14),BG$3-1)=\"\",\"\",VLOOKUP(INDEX(campsByItinerary,numericItinerary($A14),BG$3-1),campInfo,10))","v":""},{"$f":"IF(INDEX(campsByItinerary,numericItinerary($A14),BH$3-1)=\"\",\"\",VLOOKUP(INDEX(campsByItinerary,numericItinerary($A14),BH$3-1),campInfo,10))","v":""},{"$f":"IF(INDEX(campsByItinerary,numericItinerary($A14),BI$3-1)=\"\",\"\",VLOOKUP(INDEX(campsByItinerary,numericItinerary($A14),BI$3-1),campInfo,10))","v":""},{"$f":"IF(INDEX(campsByItinerary,numericItinerary($A14),BJ$3-1)=\"\",\"\",VLOOKUP(INDEX(campsByItinerary,numericItinerary($A14),BJ$3-1),campInfo,10))","v":""},{"$f":"IF(INDEX(campsByItinerary,numericItinerary($A14),BK$3-1)=\"\",\"\",VLOOKUP(INDEX(campsByItinerary,numericItinerary($A14),BK$3-1),campInfo,10))","v":""},{"$f":"IF(INDEX(campsByItinerary,numericItinerary($A14),BL$3-1)=\"\",\"\",VLOOKUP(INDEX(campsByItinerary,numericItinerary($A14),BL$3-1),campInfo,10))","v":""},{"$f":"IF(INDEX(campsByItinerary,numericItinerary($A14),BM$3-1)=\"\",\"\",VLOOKUP(INDEX(campsByItinerary,numericItinerary($A14),BM$3-1),campInfo,10))","v":"Y"},null,"","","","","","","","","",{"$f":"INDEX(campsByItinerary,numericItinerary($A14),BD$3-1)","v":"Arrowhead"},{"$f":"IF(INDEX(campsByItinerary,numericItinerary($A14),BE$3-1)=\"\",\"\",VLOOKUP(INDEX(campsByItinerary,numericItinerary($A14),BE$3-1),campInfo,2))","v":"Central"},{"$f":"IF(INDEX(campsByItinerary,numericItinerary($A14),BF$3-1)=\"\",\"\",VLOOKUP(INDEX(campsByItinerary,numericItinerary($A14),BF$3-1),campInfo,2))","v":"Central"},{"$f":"IF(INDEX(campsByItinerary,numericItinerary($A14),BG$3-1)=\"\",\"\",VLOOKUP(INDEX(campsByItinerary,numericItinerary($A14),BG$3-1),campInfo,2))","v":"Central"},{"$f":"IF(INDEX(campsByItinerary,numericItinerary($A14),BH$3-1)=\"\",\"\",VLOOKUP(INDEX(campsByItinerary,numericItinerary($A14),BH$3-1),campInfo,2))","v":"South"},{"$f":"IF(INDEX(campsByItinerary,numericItinerary($A14),BI$3-1)=\"\",\"\",VLOOKUP(INDEX(campsByItinerary,numericItinerary($A14),BI$3-1),campInfo,2))","v":"South"},{"$f":"IF(INDEX(campsByItinerary,numericItinerary($A14),BJ$3-1)=\"\",\"\",VLOOKUP(INDEX(campsByItinerary,numericItinerary($A14),BJ$3-1),campInfo,2))","v":"South"},{"$f":"IF(INDEX(campsByItinerary,numericItinerary($A14),BK$3-1)=\"\",\"\",VLOOKUP(INDEX(campsByItinerary,numericItinerary($A14),BK$3-1),campInfo,2))","v":"South"},{"$f":"IF(INDEX(campsByItinerary,numericItinerary($A14),BL$3-1)=\"\",\"\",VLOOKUP(INDEX(campsByItinerary,numericItinerary($A14),BL$3-1),campInfo,2))","v":"South"},{"$f":"IF(INDEX(campsByItinerary,numericItinerary($A14),BM$3-1)=\"\",\"\",VLOOKUP(INDEX(campsByItinerary,numericItinerary($A14),BM$3-1),campInfo,2))","v":"Central"},{"$f":"IF(INDEX(campsByItinerary,numericItinerary($A14),BD$3-1)=\"\",\"\",VLOOKUP(INDEX(campsByItinerary,numericItinerary($A14),BD$3-1),campInfo,12))","v":"South"},{"$f":"IF(INDEX(campsByItinerary,numericItinerary($A14),BE$3-1)=\"\",\"\",VLOOKUP(INDEX(campsByItinerary,numericItinerary($A14),BE$3-1),campInfo,12))","v":"South"},{"$f":"IF(INDEX(campsByItinerary,numericItinerary($A14),BF$3-1)=\"\",\"\",VLOOKUP(INDEX(campsByItinerary,numericItinerary($A14),BF$3-1),campInfo,12))","v":"South"},{"$f":"IF(INDEX(campsByItinerary,numericItinerary($A14),BG$3-1)=\"\",\"\",VLOOKUP(INDEX(campsByItinerary,numericItinerary($A14),BG$3-1),campInfo,12))","v":"South"},{"$f":"IF(INDEX(campsByItinerary,numericItinerary($A14),BH$3-1)=\"\",\"\",VLOOKUP(INDEX(campsByItinerary,numericItinerary($A14),BH$3-1),campInfo,12))","v":"South"},{"$f":"IF(INDEX(campsByItinerary,numericItinerary($A14),BI$3-1)=\"\",\"\",VLOOKUP(INDEX(campsByItinerary,numericItinerary($A14),BI$3-1),campInfo,12))","v":"South"},{"$f":"IF(INDEX(campsByItinerary,numericItinerary($A14),BJ$3-1)=\"\",\"\",VLOOKUP(INDEX(campsByItinerary,numericItinerary($A14),BJ$3-1),campInfo,12))","v":"South"},{"$f":"IF(INDEX(campsByItinerary,numericItinerary($A14),BK$3-1)=\"\",\"\",VLOOKUP(INDEX(campsByItinerary,numericItinerary($A14),BK$3-1),campInfo,12))","v":"South"},{"$f":"IF(INDEX(campsByItinerary,numericItinerary($A14),BL$3-1)=\"\",\"\",VLOOKUP(INDEX(campsByItinerary,numericItinerary($A14),BL$3-1),campInfo,12))","v":"South"},{"$f":"IF(INDEX(campsByItinerary,numericItinerary($A14),BM$3-1)=\"\",\"\",VLOOKUP(INDEX(campsByItinerary,numericItinerary($A14),BM$3-1),campInfo,12))","v":"South"},{"$f":"getfoodPU(\"First\",numericItinerary($A14))","v":2},{"$f":"getfoodPU(\"Max\",numericItinerary($A14))","v":4}]
["12-12",null,"R",60,"Line","Lower Bonito","Fish Camp","Apache Springs","Comanche Creek","Red Hills","Beaubien","Beaubien","Miners Park","Tooth Ridge","Camping HQ",null,null,"Apache Springs",null,null,"Phillips Junction",null,"Miners Park",null,"Zastrow","Hike In","y",{"$f":"IF(AC15=\"\",\"\",numericItinerary(A15) & \":\" & AC15)","v":""},null,null,null,null,"y","y",null,"y",8125,8962,8564,9409,9600,10280,9330,9330,7977,8240,837,398,845,191,680,950,0,1353,263,{"$f":"IF(INDEX(campsByItinerary,numericItinerary($A15),BD$3-1)=\"\",\"\",VLOOKUP(INDEX(campsByItinerary,numericItinerary($A15),BD$3-1),campInfo,8))","v":""},{"$f":"IF(INDEX(campsByItinerary,numericItinerary($A15),BE$3-1)=\"\",\"\",VLOOKUP(INDEX(campsByItinerary,numericItinerary($A15),BE$3-1),campInfo,8))","v":""},{"$f":"IF(INDEX(campsByItinerary,numericItinerary($A15),BF$3-1)=\"\",\"\",VLOOKUP(INDEX(campsByItinerary,numericItinerary($A15),BF$3-1),campInfo,8))","v":"Y"},{"$f":"IF(INDEX(campsByItinerary,numericItinerary($A15),BG$3-1)=\"\",\"\",VLOOKUP(INDEX(campsByItinerary,numericItinerary($A15),BG$3-1),campInfo,8))","v":"Y"},{"$f":"IF(INDEX(campsByItinerary,numericItinerary($A15),BH$3-1)=\"\",\"\",VLOOKUP(INDEX(campsByItinerary,numericItinerary($A15),BH$3-1),campInfo,8))","v":""},{"$f":"IF(INDEX(campsByItinerary,numericItinerary($A15),BI$3-1)=\"\",\"\",VLOOKUP(INDEX(campsByItinerary,numericItinerary($A15),BI$3-1),campInfo,8))","v":""},{"$f":"IF(INDEX(campsByItinerary,numericItinerary($A15),BJ$3-1)=\"\",\"\",VLOOKUP(INDEX(campsByItinerary,numericItinerary($A15),BJ$3-1),campInfo,8))","v":"Y"},{"$f":"IF(INDEX(campsByItinerary,numericItinerary($A15),BK$3-1)=\"\",\"\",VLOOKUP(INDEX(campsByItinerary,numericItinerary($A15),BK$3-1),campInfo,8))","v":"Y"},{"$f":"IF(INDEX(campsByItinerary,numericItinerary($A15),BL$3-1)=\"\",\"\",VLOOKUP(INDEX(campsByItinerary,numericItinerary($A15),BL$3-1),campInfo,8))","v":"Y"},{"$f":"IF(INDEX(campsByItinerary,numericItinerary($A15),BM$3-1)=\"\",\"\",VLOOKUP(INDEX(campsByItinerary,numericItinerary($A15),BM$3-1),campInfo,8))","v":""},"Y","Y","","","Y","Y","","","","Y",{"$f":"IF(INDEX(campsByItinerary,numericItinerary($A15),BD$3-1)=\"\",\"\",VLOOKUP(INDEX(campsByItinerary,numericItinerary($A15),BD$3-1),campInfo,10))","v":""},{"$f":"IF(INDEX(campsByItinerary,numericItinerary($A15),BE$3-1)=\"\",\"\",VLOOKUP(INDEX(campsByItinerary,numericItinerary($A15),BE$3-1),campInfo,10))","v":""},{"$f":"IF(INDEX(campsByItinerary,numericItinerary($A15),BF$3-1)=\"\",\"\",VLOOKUP(INDEX(campsByItinerary,numericItinerary($A15),BF$3-1),campInfo,10))","v":""},{"$f":"IF(INDEX(campsByItinerary,numericItinerary($A15),BG$3-1)=\"\",\"\",VLOOKUP(INDEX(campsByItinerary,numericItinerary($A15),BG$3-1),campInfo,10))","v":""},{"$f":"IF(INDEX(campsByItinerary,numericItinerary($A15),BH$3-1)=\"\",\"\",VLOOKUP(INDEX(campsByItinerary,numericItinerary($A15),BH$3-1),campInfo,10))","v":""},{"$f":"IF(INDEX(campsByItinerary,numericItinerary($A15),BI$3-1)=\"\",\"\",VLOOKUP(INDEX(campsByItinerary,numericItinerary($A15),BI$3-1),campInfo,10))","v":""},{"$f":"IF(INDEX(campsByItinerary,numericItinerary($A15),BJ$3-1)=\"\",\"\",VLOOKUP(INDEX(campsByItinerary,numericItinerary($A15),BJ$3-1),campInfo,10))","v":""},{"$f":"IF(INDEX(campsByItinerary,numericItinerary($A15),BK$3-1)=\"\",\"\",VLOOKUP(INDEX(campsByItinerary,numericItinerary($A15),BK$3-1),campInfo,10))","v":""},{"$f":"IF(INDEX(campsByItinerary,numericItinerary($A15),BL$3-1)=\"\",\"\",VLOOKUP(INDEX(campsByItinerary,numericItinerary($A15),BL$3-1),campInfo,10))","v":""},{"$f":"IF(INDEX(campsByItinerary,numericItinerary($A15),BM$3-1)=\"\",\"\",VLOOKUP(INDEX(campsByItinerary,numericItinerary($A15),BM$3-1),campInfo,10))","v":"Y"},null,"","","","","","","Y","","",{"$f":"INDEX(campsByItinerary,numericItinerary($A15),BD$3-1)","v":"Line"},{"$f":"IF(INDEX(campsByItinerary,numericItinerary($A15),BE$3-1)=\"\",\"\",VLOOKUP(INDEX(campsByItinerary,numericItinerary($A15),BE$3-1),campInfo,2))","v":"South"},{"$f":"IF(INDEX(campsByItinerary,numericItinerary($A15),BF$3-1)=\"\",\"\",VLOOKUP(INDEX(campsByItinerary,numericItinerary($A15),BF$3-1),campInfo,2))","v":"South"},{"$f":"IF(INDEX(campsByItinerary,numericItinerary($A15),BG$3-1)=\"\",\"\",VLOOKUP(INDEX(campsByItinerary,numericItinerary($A15),BG$3-1),campInfo,2))","v":"South"},{"$f":"IF(INDEX(campsByItinerary,numericItinerary($A15),BH$3-1)=\"\",\"\",VLOOKUP(INDEX(campsByItinerary,numericItinerary($A15),BH$3-1),campInfo,2))","v":"South"},{"$f":"IF(INDEX(campsByItinerary,numericItinerary($A15),BI$3-1)=\"\",\"\",VLOOKUP(INDEX(campsByItinerary,numericItinerary($A15),BI$3-1),campInfo,2))","v":"South"},{"$f":"IF(INDEX(campsByItinerary,numericItinerary($A15),BJ$3-1)=\"\",\"\",VLOOKUP(INDEX(campsByItinerary,numericItinerary($A15),BJ$3-1),campInfo,2))","v":"South"},{"$f":"IF(INDEX(campsByItinerary,numericItinerary($A15),BK$3-1)=\"\",\"\",VLOOKUP(INDEX(campsByItinerary,numericItinerary($A15),BK$3-1),campInfo,2))","v":"South"},{"$f":"IF(INDEX(campsByItinerary,numericItinerary($A15),BL$3-1)=\"\",\"\",VLOOKUP(INDEX(campsByItinerary,numericItinerary($A15),BL$3-1),campInfo,2))","v":"South"},{"$f":"IF(INDEX(campsByItinerary,numericItinerary($A15),BM$3-1)=\"\",\"\",VLOOKUP(INDEX(campsByItinerary,numericItinerary($A15),BM$3-1),campInfo,2))","v":"Central"},{"$f":"IF(INDEX(campsByItinerary,numericItinerary($A15),BD$3-1)=\"\",\"\",VLOOKUP(INDEX(campsByItinerary,numericItinerary($A15),BD$3-1),campInfo,12))","v":"South"},{"$f":"IF(INDEX(campsByItinerary,numericItinerary($A15),BE$3-1)=\"\",\"\",VLOOKUP(INDEX(campsByItinerary,numericItinerary($A15),BE$3-1),campInfo,12))","v":"South"},{"$f":"IF(INDEX(campsByItinerary,numericItinerary($A15),BF$3-1)=\"\",\"\",VLOOKUP(INDEX(campsByItinerary,numericItinerary($A15),BF$3-1),campInfo,12))","v":"South"},{"$f":"IF(INDEX(campsByItinerary,numericItinerary($A15),BG$3-1)=\"\",\"\",VLOOKUP(INDEX(campsByItinerary,numericItinerary($A15),BG$3-1),campInfo,12))","v":"South"},{"$f":"IF(INDEX(campsByItinerary,numericItinerary($A15),BH$3-1)=\"\",\"\",VLOOKUP(INDEX(campsByItinerary,numericItinerary($A15),BH$3-1),campInfo,12))","v":"South"},{"$f":"IF(INDEX(campsByItinerary,numericItinerary($A15),BI$3-1)=\"\",\"\",VLOOKUP(INDEX(campsByItinerary,numericItinerary($A15),BI$3-1),campInfo,12))","v":"South"},{"$f":"IF(INDEX(campsByItinerary,numericItinerary($A15),BJ$3-1)=\"\",\"\",VLOOKUP(INDEX(campsByItinerary,numericItinerary($A15),BJ$3-1),campInfo,12))","v":"South"},{"$f":"IF(INDEX(campsByItinerary,numericItinerary($A15),BK$3-1)=\"\",\"\",VLOOKUP(INDEX(campsByItinerary,numericItinerary($A15),BK$3-1),campInfo,12))","v":"South"},{"$f":"IF(INDEX(campsByItinerary,numericItinerary($A15),BL$3-1)=\"\",\"\",VLOOKUP(INDEX(campsByItinerary,numericItinerary($A15),BL$3-1),campInfo,12))","v":"South"},{"$f":"IF(INDEX(campsByItinerary,numericItinerary($A15),BM$3-1)=\"\",\"\",VLOOKUP(INDEX(campsByItinerary,numericItinerary($A15),BM$3-1),campInfo,12))","v":"South"},{"$f":"getfoodPU(\"First\",numericItinerary($A15))","v":3},{"$f":"getfoodPU(\"Max\",numericItinerary($A15))","v":3}]
["12-13",null,"R",63,"Backache Springs","Line","Agua Fria","Apache Springs","Porcupine","Beaubien","Divide","Black Mountain","Miners Park","Stockade Ridge","Camping HQ",null,null,"Apache Springs",null,"Phillips Junction",null,null,"Miners Park",null,"Zastrow","Hike In","y",{"$f":"IF(AC16=\"\",\"\",numericItinerary(A16) & \":\" & AC16)","v":""},null,null,null,null,"y","y",null,"y",7688,8125,8726,9409,9152,9330,10509,8991,7977,7519,437,601,683,257,178,1179,1518,1014,458,{"$f":"IF(INDEX(campsByItinerary,numericItinerary($A16),BD$3-1)=\"\",\"\",VLOOKUP(INDEX(campsByItinerary,numericItinerary($A16),BD$3-1),campInfo,8))","v":""},{"$f":"IF(INDEX(campsByItinerary,numericItinerary($A16),BE$3-1)=\"\",\"\",VLOOKUP(INDEX(campsByItinerary,numericItinerary($A16),BE$3-1),campInfo,8))","v":""},{"$f":"IF(INDEX(campsByItinerary,numericItinerary($A16),BF$3-1)=\"\",\"\",VLOOKUP(INDEX(campsByItinerary,numericItinerary($A16),BF$3-1),campInfo,8))","v":""},{"$f":"IF(INDEX(campsByItinerary,numericItinerary($A16),BG$3-1)=\"\",\"\",VLOOKUP(INDEX(campsByItinerary,numericItinerary($A16),BG$3-1),campInfo,8))","v":"Y"},{"$f":"IF(INDEX(campsByItinerary,numericItinerary($A16),BH$3-1)=\"\",\"\",VLOOKUP(INDEX(campsByItinerary,numericItinerary($A16),BH$3-1),campInfo,8))","v":""},{"$f":"IF(INDEX(campsByItinerary,numericItinerary($A16),BI$3-1)=\"\",\"\",VLOOKUP(INDEX(campsByItinerary,numericItinerary($A16),BI$3-1),campInfo,8))","v":"Y"},{"$f":"IF(INDEX(campsByItinerary,numericItinerary($A16),BJ$3-1)=\"\",\"\",VLOOKUP(INDEX(campsByItinerary,numericItinerary($A16),BJ$3-1),campInfo,8))","v":""},{"$f":"IF(INDEX(campsByItinerary,numericItinerary($A16),BK$3-1)=\"\",\"\",VLOOKUP(INDEX(campsByItinerary,numericItinerary($A16),BK$3-1),campInfo,8))","v":"Y"},{"$f":"IF(INDEX(campsByItinerary,numericItinerary($A16),BL$3-1)=\"\",\"\",VLOOKUP(INDEX(campsByItinerary,numericItinerary($A16),BL$3-1),campInfo,8))","v":"Y"},{"$f":"IF(INDEX(campsByItinerary,numericItinerary($A16),BM$3-1)=\"\",\"\",VLOOKUP(INDEX(campsByItinerary,numericItinerary($A16),BM$3-1),campInfo,8))","v":""},"Y","Y","Y","","Y","","Y","","","Y",{"$f":"IF(INDEX(campsByItinerary,numericItinerary($A16),BD$3-1)=\"\",\"\",VLOOKUP(INDEX(campsByItinerary,numericItinerary($A16),BD$3-1),campInfo,10))","v":""},{"$f":"IF(INDEX(campsByItinerary,numericItinerary($A16),BE$3-1)=\"\",\"\",VLOOKUP(INDEX(campsByItinerary,numericItinerary($A16),BE$3-1),campInfo,10))","v":""},{"$f":"IF(INDEX(campsByItinerary,numericItinerary($A16),BF$3-1)=\"\",\"\",VLOOKUP(INDEX(campsByItinerary,numericItinerary($A16),BF$3-1),campInfo,10))","v":""},{"$f":"IF(INDEX(campsByItinerary,numericItinerary($A16),BG$3-1)=\"\",\"\",VLOOKUP(INDEX(campsByItinerary,numericItinerary($A16),BG$3-1),campInfo,10))","v":""},{"$f":"IF(INDEX(campsByItinerary,numericItinerary($A16),BH$3-1)=\"\",\"\",VLOOKUP(INDEX(campsByItinerary,numericItinerary($A16),BH$3-1),campInfo,10))","v":""},{"$f":"IF(INDEX(campsByItinerary,numericItinerary($A16),BI$3-1)=\"\",\"\",VLOOKUP(INDEX(campsByItinerary,numericItinerary($A16),BI$3-1),campInfo,10))","v":""},{"$f":"IF(INDEX(campsByItinerary,numericItinerary($A16),BJ$3-1)=\"\",\"\",VLOOKUP(INDEX(campsByItinerary,numericItinerary($A16),BJ$3-1),campInfo,10))","v":"Y"},{"$f":"IF(INDEX(campsByItinerary,numericItinerary($A16),BK$3-1)=\"\",\"\",VLOOKUP(INDEX(campsByItinerary,numericItinerary($A16),BK$3-1),campInfo,10))","v":""},{"$f":"IF(INDEX(campsByItinerary,numericItinerary($A16),BL$3-1)=\"\",\"\",VLOOKUP(INDEX(campsByItinerary,numericItinerary($A16),BL$3-1),campInfo,10))","v":""},{"$f":"IF(INDEX(campsByItinerary,numericItinerary($A16),BM$3-1)=\"\",\"\",VLOOKUP(INDEX(campsByItinerary,numericItinerary($A16),BM$3-1),campInfo,10))","v":"Y"},null,"","","","","","","","","",{"$f":"INDEX(campsByItinerary,numericItinerary($A16),BD$3-1)","v":"Backache Springs"},{"$f":"IF(INDEX(campsByItinerary,numericItinerary($A16),BE$3-1)=\"\",\"\",VLOOKUP(INDEX(campsByItinerary,numericItinerary($A16),BE$3-1),campInfo,2))","v":"South"},{"$f":"IF(INDEX(campsByItinerary,numericItinerary($A16),BF$3-1)=\"\",\"\",VLOOKUP(INDEX(campsByItinerary,numericItinerary($A16),BF$3-1),campInfo,2))","v":"South"},{"$f":"IF(INDEX(campsByItinerary,numericItinerary($A16),BG$3-1)=\"\",\"\",VLOOKUP(INDEX(campsByItinerary,numericItinerary($A16),BG$3-1),campInfo,2))","v":"South"},{"$f":"IF(INDEX(campsByItinerary,numericItinerary($A16),BH$3-1)=\"\",\"\",VLOOKUP(INDEX(campsByItinerary,numericItinerary($A16),BH$3-1),campInfo,2))","v":"South"},{"$f":"IF(INDEX(campsByItinerary,numericItinerary($A16),BI$3-1)=\"\",\"\",VLOOKUP(INDEX(campsByItinerary,numericItinerary($A16),BI$3-1),campInfo,2))","v":"South"},{"$f":"IF(INDEX(campsByItinerary,numericItinerary($A16),BJ$3-1)=\"\",\"\",VLOOKUP(INDEX(campsByItinerary,numericItinerary($A16),BJ$3-1),campInfo,2))","v":"South"},{"$f":"IF(INDEX(campsByItinerary,numericItinerary($A16),BK$3-1)=\"\",\"\",VLOOKUP(INDEX(campsByItinerary,numericItinerary($A16),BK$3-1),campInfo,2))","v":"South"},{"$f":"IF(INDEX(campsByItinerary,numericItinerary($A16),BL$3-1)=\"\",\"\",VLOOKUP(INDEX(campsByItinerary,numericItinerary($A16),BL$3-1),campInfo,2))","v":"South"},{"$f":"IF(INDEX(campsByItinerary,numericItinerary($A16),BM$3-1)=\"\",\"\",VLOOKUP(INDEX(campsByItinerary,numericItinerary($A16),BM$3-1),campInfo,2))","v":"South"},{"$f":"IF(INDEX(campsByItinerary,numericItinerary($A16),BD$3-1)=\"\",\"\",VLOOKUP(INDEX(campsByItinerary,numericItinerary($A16),BD$3-1),campInfo,12))","v":"South"},{"$f":"IF(INDEX(campsByItinerary,numericItinerary($A16),BE$3-1)=\"\",\"\",VLOOKUP(INDEX(campsByItinerary,numericItinerary($A16),BE$3-1),campInfo,12))","v":"South"},{"$f":"IF(INDEX(campsByItinerary,numericItinerary($A16),BF$3-1)=\"\",\"\",VLOOKUP(INDEX(campsByItinerary,numericItinerary($A16),BF$3-1),campInfo,12))","v":"South"},{"$f":"IF(INDEX(campsByItinerary,numericItinerary($A16),BG$3-1)=\"\",\"\",VLOOKUP(INDEX(campsByItinerary,numericItinerary($A16),BG$3-1),campInfo,12))","v":"South"},{"$f":"IF(INDEX(campsByItinerary,numericItinerary($A16),BH$3-1)=\"\",\"\",VLOOKUP(INDEX(campsByItinerary,numericItinerary($A16),BH$3-1),campInfo,12))","v":"South"},{"$f":"IF(INDEX(campsByItinerary,numericItinerary($A16),BI$3-1)=\"\",\"\",VLOOKUP(INDEX(campsByItinerary,numericItinerary($A16),BI$3-1),campInfo,12))","v":"South"},{"$f":"IF(INDEX(campsByItinerary,numericItinerary($A16),BJ$3-1)=\"\",\"\",VLOOKUP(INDEX(campsByItinerary,numericItinerary($A16),BJ$3-1),campInfo,12))","v":"South"},{"$f":"IF(INDEX(campsByItinerary,numericItinerary($A16),BK$3-1)=\"\",\"\",VLOOKUP(INDEX(campsByItinerary,numericItinerary($A16),BK$3-1),campInfo,12))","v":"South"},{"$f":"IF(INDEX(campsByItinerary,numericItinerary($A16),BL$3-1)=\"\",\"\",VLOOKUP(INDEX(campsByItinerary,numericItinerary($A16),BL$3-1),campInfo,12))","v":"South"},{"$f":"IF(INDEX(campsByItinerary,numericItinerary($A16),BM$3-1)=\"\",\"\",VLOOKUP(INDEX(campsByItinerary,numericItinerary($A16),BM$3-1),campInfo,12))","v":"South"},{"$f":"getfoodPU(\"First\",numericItinerary($A16))","v":3},{"$f":"getfoodPU(\"Max\",numericItinerary($A16))","v":3}]
["12-14",null,"R",63,"Abreu","Crater Lake","Beaubien","Beaubien","Bear Creek","Crooked Creek","Red Hills","Hunting Lodge","Clarks Fork","Tooth Ridge","Camping HQ",null,null,null,"Phillips Junction",null,null,null,"Cimarroncito",null,"Zastrow","Hike In","y",{"$f":"IF(AC17=\"\",\"\",numericItinerary(A17) & \":\" & AC17)","v":""},null,null,null,null,"y","y","y","y",7217,8398,9330,9330,9288,9360,10280,7776,7515,8240,1181,932,0,42,72,920,2504,261,725,{"$f":"IF(INDEX(campsByItinerary,numericItinerary($A17),BD$3-1)=\"\",\"\",VLOOKUP(INDEX(campsByItinerary,numericItinerary($A17),BD$3-1),campInfo,8))","v":"Y"},{"$f":"IF(INDEX(campsByItinerary,numericItinerary($A17),BE$3-1)=\"\",\"\",VLOOKUP(INDEX(campsByItinerary,numericItinerary($A17),BE$3-1),campInfo,8))","v":"Y"},{"$f":"IF(INDEX(campsByItinerary,numericItinerary($A17),BF$3-1)=\"\",\"\",VLOOKUP(INDEX(campsByItinerary,numericItinerary($A17),BF$3-1),campInfo,8))","v":"Y"},{"$f":"IF(INDEX(campsByItinerary,numericItinerary($A17),BG$3-1)=\"\",\"\",VLOOKUP(INDEX(campsByItinerary,numericItinerary($A17),BG$3-1),campInfo,8))","v":"Y"},{"$f":"IF(INDEX(campsByItinerary,numericItinerary($A17),BH$3-1)=\"\",\"\",VLOOKUP(INDEX(campsByItinerary,numericItinerary($A17),BH$3-1),campInfo,8))","v":""},{"$f":"IF(INDEX(campsByItinerary,numericItinerary($A17),BI$3-1)=\"\",\"\",VLOOKUP(INDEX(campsByItinerary,numericItinerary($A17),BI$3-1),campInfo,8))","v":"Y"},{"$f":"IF(INDEX(campsByItinerary,numericItinerary($A17),BJ$3-1)=\"\",\"\",VLOOKUP(INDEX(campsByItinerary,numericItinerary($A17),BJ$3-1),campInfo,8))","v":""},{"$f":"IF(INDEX(campsByItinerary,numericItinerary($A17),BK$3-1)=\"\",\"\",VLOOKUP(INDEX(campsByItinerary,numericItinerary($A17),BK$3-1),campInfo,8))","v":"N"},{"$f":"IF(INDEX(campsByItinerary,numericItinerary($A17),BL$3-1)=\"\",\"\",VLOOKUP(INDEX(campsByItinerary,numericItinerary($A17),BL$3-1),campInfo,8))","v":"Y"},{"$f":"IF(INDEX(campsByItinerary,numericItinerary($A17),BM$3-1)=\"\",\"\",VLOOKUP(INDEX(campsByItinerary,numericItinerary($A17),BM$3-1),campInfo,8))","v":""},"","","","","Y","","Y","Y","","Y",{"$f":"IF(INDEX(campsByItinerary,numericItinerary($A17),BD$3-1)=\"\",\"\",VLOOKUP(INDEX(campsByItinerary,numericItinerary($A17),BD$3-1),campInfo,10))","v":""},{"$f":"IF(INDEX(campsByItinerary,numericItinerary($A17),BE$3-1)=\"\",\"\",VLOOKUP(INDEX(campsByItinerary,numericItinerary($A17),BE$3-1),campInfo,10))","v":""},{"$f":"IF(INDEX(campsByItinerary,numericItinerary($A17),BF$3-1)=\"\",\"\",VLOOKUP(INDEX(campsByItinerary,numericItinerary($A17),BF$3-1),campInfo,10))","v":""},{"$f":"IF(INDEX(campsByItinerary,numericItinerary($A17),BG$3-1)=\"\",\"\",VLOOKUP(INDEX(campsByItinerary,numericItinerary($A17),BG$3-1),campInfo,10))","v":""},{"$f":"IF(INDEX(campsByItinerary,numericItinerary($A17),BH$3-1)=\"\",\"\",VLOOKUP(INDEX(campsByItinerary,numericItinerary($A17),BH$3-1),campInfo,10))","v":""},{"$f":"IF(INDEX(campsByItinerary,numericItinerary($A17),BI$3-1)=\"\",\"\",VLOOKUP(INDEX(campsByItinerary,numericItinerary($A17),BI$3-1),campInfo,10))","v":""},{"$f":"IF(INDEX(campsByItinerary,numericItinerary($A17),BJ$3-1)=\"\",\"\",VLOOKUP(INDEX(campsByItinerary,numericItinerary($A17),BJ$3-1),campInfo,10))","v":""},{"$f":"IF(INDEX(campsByItinerary,numericItinerary($A17),BK$3-1)=\"\",\"\",VLOOKUP(INDEX(campsByItinerary,numericItinerary($A17),BK$3-1),campInfo,10))","v":""},{"$f":"IF(INDEX(campsByItinerary,numericItinerary($A17),BL$3-1)=\"\",\"\",VLOOKUP(INDEX(campsByItinerary,numericItinerary($A17),BL$3-1),campInfo,10))","v":""},{"$f":"IF(INDEX(campsByItinerary,numericItinerary($A17),BM$3-1)=\"\",\"\",VLOOKUP(INDEX(campsByItinerary,numericItinerary($A17),BM$3-1),campInfo,10))","v":"Y"},null,"","","Y","","","","","","",{"$f":"INDEX(campsByItinerary,numericItinerary($A17),BD$3-1)","v":"Abreu"},{"$f":"IF(INDEX(campsByItinerary,numericItinerary($A17),BE$3-1)=\"\",\"\",VLOOKUP(INDEX(campsByItinerary,numericItinerary($A17),BE$3-1),campInfo,2))","v":"South"},{"$f":"IF(INDEX(campsByItinerary,numericItinerary($A17),BF$3-1)=\"\",\"\",VLOOKUP(INDEX(campsByItinerary,numericItinerary($A17),BF$3-1),campInfo,2))","v":"South"},{"$f":"IF(INDEX(campsByItinerary,numericItinerary($A17),BG$3-1)=\"\",\"\",VLOOKUP(INDEX(campsByItinerary,numericItinerary($A17),BG$3-1),campInfo,2))","v":"South"},{"$f":"IF(INDEX(campsByItinerary,numericItinerary($A17),BH$3-1)=\"\",\"\",VLOOKUP(INDEX(campsByItinerary,numericItinerary($A17),BH$3-1),campInfo,2))","v":"South"},{"$f":"IF(INDEX(campsByItinerary,numericItinerary($A17),BI$3-1)=\"\",\"\",VLOOKUP(INDEX(campsByItinerary,numericItinerary($A17),BI$3-1),campInfo,2))","v":"South"},{"$f":"IF(INDEX(campsByItinerary,numericItinerary($A17),BJ$3-1)=\"\",\"\",VLOOKUP(INDEX(campsByItinerary,numericItinerary($A17),BJ$3-1),campInfo,2))","v":"South"},{"$f":"IF(INDEX(campsByItinerary,numericItinerary($A17),BK$3-1)=\"\",\"\",VLOOKUP(INDEX(campsByItinerary,numericItinerary($A17),BK$3-1),campInfo,2))","v":"Central"},{"$f":"IF(INDEX(campsByItinerary,numericItinerary($A17),BL$3-1)=\"\",\"\",VLOOKUP(INDEX(campsByItinerary,numericItinerary($A17),BL$3-1),campInfo,2))","v":"Central"},{"$f":"IF(INDEX(campsByItinerary,numericItinerary($A17),BM$3-1)=\"\",\"\",VLOOKUP(INDEX(campsByItinerary,numericItinerary($A17),BM$3-1),campInfo,2))","v":"Central"},{"$f":"IF(INDEX(campsByItinerary,numericItinerary($A17),BD$3-1)=\"\",\"\",VLOOKUP(INDEX(campsByItinerary,numericItinerary($A17),BD$3-1),campInfo,12))","v":"South"},{"$f":"IF(INDEX(campsByItinerary,numericItinerary($A17),BE$3-1)=\"\",\"\",VLOOKUP(INDEX(campsByItinerary,numericItinerary($A17),BE$3-1),campInfo,12))","v":"South"},{"$f":"IF(INDEX(campsByItinerary,numericItinerary($A17),BF$3-1)=\"\",\"\",VLOOKUP(INDEX(campsByItinerary,numericItinerary($A17),BF$3-1),campInfo,12))","v":"South"},{"$f":"IF(INDEX(campsByItinerary,numericItinerary($A17),BG$3-1)=\"\",\"\",VLOOKUP(INDEX(campsByItinerary,numericItinerary($A17),BG$3-1),campInfo,12))","v":"South"},{"$f":"IF(INDEX(campsByItinerary,numericItinerary($A17),BH$3-1)=\"\",\"\",VLOOKUP(INDEX(campsByItinerary,numericItinerary($A17),BH$3-1),campInfo,12))","v":"South"},{"$f":"IF(INDEX(campsByItinerary,numericItinerary($A17),BI$3-1)=\"\",\"\",VLOOKUP(INDEX(campsByItinerary,numericItinerary($A17),BI$3-1),campInfo,12))","v":"South"},{"$f":"IF(INDEX(campsByItinerary,numericItinerary($A17),BJ$3-1)=\"\",\"\",VLOOKUP(INDEX(campsByItinerary,numericItinerary($A17),BJ$3-1),campInfo,12))","v":"South"},{"$f":"IF(INDEX(campsByItinerary,numericItinerary($A17),BK$3-1)=\"\",\"\",VLOOKUP(INDEX(campsByItinerary,numericItinerary($A17),BK$3-1),campInfo,12))","v":"South"},{"$f":"IF(INDEX(campsByItinerary,numericItinerary($A17),BL$3-1)=\"\",\"\",VLOOKUP(INDEX(campsByItinerary,numericItinerary($A17),BL$3-1),campInfo,12))","v":"South"},{"$f":"IF(INDEX(campsByItinerary,numericItinerary($A17),BM$3-1)=\"\",\"\",VLOOKUP(INDEX(campsByItinerary,numericItinerary($A17),BM$3-1),campInfo,12))","v":"South"},{"$f":"getfoodPU(\"First\",numericItinerary($A17))","v":4},{"$f":"getfoodPU(\"Max\",numericItinerary($A17))","v":4}]
["12-15",null,"R",64,"Toothache Springs","Crater Lake","Phillips Junction","Agua Fria","Apache Springs","Crooked Creek","Mount Phillips","Thunder Ridge","Cyphers Mine","Clarks Fork","Camping HQ",null,"Phillips Junction",null,"Apache Springs",null,null,null,null,"Cimarroncito","Zastrow","Hike In","y",{"$f":"IF(AC18=\"\",\"\",numericItinerary(A18) & \":\" & AC18)","v":""},null,null,null,null,"y","y","y","y",7870,8398,8921,8726,9409,9360,11650,10490,9302,7515,528,523,195,683,49,2290,1160,1188,1787,{"$f":"IF(INDEX(campsByItinerary,numericItinerary($A18),BD$3-1)=\"\",\"\",VLOOKUP(INDEX(campsByItinerary,numericItinerary($A18),BD$3-1),campInfo,8))","v":""},{"$f":"IF(INDEX(campsByItinerary,numericItinerary($A18),BE$3-1)=\"\",\"\",VLOOKUP(INDEX(campsByItinerary,numericItinerary($A18),BE$3-1),campInfo,8))","v":"Y"},{"$f":"IF(INDEX(campsByItinerary,numericItinerary($A18),BF$3-1)=\"\",\"\",VLOOKUP(INDEX(campsByItinerary,numericItinerary($A18),BF$3-1),campInfo,8))","v":"Y"},{"$f":"IF(INDEX(campsByItinerary,numericItinerary($A18),BG$3-1)=\"\",\"\",VLOOKUP(INDEX(campsByItinerary,numericItinerary($A18),BG$3-1),campInfo,8))","v":""},{"$f":"IF(INDEX(campsByItinerary,numericItinerary($A18),BH$3-1)=\"\",\"\",VLOOKUP(INDEX(campsByItinerary,numericItinerary($A18),BH$3-1),campInfo,8))","v":"Y"},{"$f":"IF(INDEX(campsByItinerary,numericItinerary($A18),BI$3-1)=\"\",\"\",VLOOKUP(INDEX(campsByItinerary,numericItinerary($A18),BI$3-1),campInfo,8))","v":"Y"},{"$f":"IF(INDEX(campsByItinerary,numericItinerary($A18),BJ$3-1)=\"\",\"\",VLOOKUP(INDEX(campsByItinerary,numericItinerary($A18),BJ$3-1),campInfo,8))","v":""},{"$f":"IF(INDEX(campsByItinerary,numericItinerary($A18),BK$3-1)=\"\",\"\",VLOOKUP(INDEX(campsByItinerary,numericItinerary($A18),BK$3-1),campInfo,8))","v":""},{"$f":"IF(INDEX(campsByItinerary,numericItinerary($A18),BL$3-1)=\"\",\"\",VLOOKUP(INDEX(campsByItinerary,numericItinerary($A18),BL$3-1),campInfo,8))","v":"Y"},{"$f":"IF(INDEX(campsByItinerary,numericItinerary($A18),BM$3-1)=\"\",\"\",VLOOKUP(INDEX(campsByItinerary,numericItinerary($A18),BM$3-1),campInfo,8))","v":"Y"},"Y","","","Y","","","Y","Y","","",{"$f":"IF(INDEX(campsByItinerary,numericItinerary($A18),BD$3-1)=\"\",\"\",VLOOKUP(INDEX(campsByItinerary,numericItinerary($A18),BD$3-1),campInfo,10))","v":""},{"$f":"IF(INDEX(campsByItinerary,numericItinerary($A18),BE$3-1)=\"\",\"\",VLOOKUP(INDEX(campsByItinerary,numericItinerary($A18),BE$3-1),campInfo,10))","v":""},{"$f":"IF(INDEX(campsByItinerary,numericItinerary($A18),BF$3-1)=\"\",\"\",VLOOKUP(INDEX(campsByItinerary,numericItinerary($A18),BF$3-1),campInfo,10))","v":""},{"$f":"IF(INDEX(campsByItinerary,numericItinerary($A18),BG$3-1)=\"\",\"\",VLOOKUP(INDEX(campsByItinerary,numericItinerary($A18),BG$3-1),campInfo,10))","v":""},{"$f":"IF(INDEX(campsByItinerary,numericItinerary($A18),BH$3-1)=\"\",\"\",VLOOKUP(INDEX(campsByItinerary,numericItinerary($A18),BH$3-1),campInfo,10))","v":""},{"$f":"IF(INDEX(campsByItinerary,numericItinerary($A18),BI$3-1)=\"\",\"\",VLOOKUP(INDEX(campsByItinerary,numericItinerary($A18),BI$3-1),campInfo,10))","v":""},{"$f":"IF(INDEX(campsByItinerary,numericItinerary($A18),BJ$3-1)=\"\",\"\",VLOOKUP(INDEX(campsByItinerary,numericItinerary($A18),BJ$3-1),campInfo,10))","v":"Y"},{"$f":"IF(INDEX(campsByItinerary,numericItinerary($A18),BK$3-1)=\"\",\"\",VLOOKUP(INDEX(campsByItinerary,numericItinerary($A18),BK$3-1),campInfo,10))","v":"Y"},{"$f":"IF(INDEX(campsByItinerary,numericItinerary($A18),BL$3-1)=\"\",\"\",VLOOKUP(INDEX(campsByItinerary,numericItinerary($A18),BL$3-1),campInfo,10))","v":""},{"$f":"IF(INDEX(campsByItinerary,numericItinerary($A18),BM$3-1)=\"\",\"\",VLOOKUP(INDEX(campsByItinerary,numericItinerary($A18),BM$3-1),campInfo,10))","v":""},null,"","","","","","","","","",{"$f":"INDEX(campsByItinerary,numericItinerary($A18),BD$3-1)","v":"Toothache Springs"},{"$f":"IF(INDEX(campsByItinerary,numericItinerary($A18),BE$3-1)=\"\",\"\",VLOOKUP(INDEX(campsByItinerary,numericItinerary($A18),BE$3-1),campInfo,2))","v":"South"},{"$f":"IF(INDEX(campsByItinerary,numericItinerary($A18),BF$3-1)=\"\",\"\",VLOOKUP(INDEX(campsByItinerary,numericItinerary($A18),BF$3-1),campInfo,2))","v":"South"},{"$f":"IF(INDEX(campsByItinerary,numericItinerary($A18),BG$3-1)=\"\",\"\",VLOOKUP(INDEX(campsByItinerary,numericItinerary($A18),BG$3-1),campInfo,2))","v":"South"},{"$f":"IF(INDEX(campsByItinerary,numericItinerary($A18),BH$3-1)=\"\",\"\",VLOOKUP(INDEX(campsByItinerary,numericItinerary($A18),BH$3-1),campInfo,2))","v":"South"},{"$f":"IF(INDEX(campsByItinerary,numericItinerary($A18),BI$3-1)=\"\",\"\",VLOOKUP(INDEX(campsByItinerary,numericItinerary($A18),BI$3-1),campInfo,2))","v":"South"},{"$f":"IF(INDEX(campsByItinerary,numericItinerary($A18),BJ$3-1)=\"\",\"\",VLOOKUP(INDEX(campsByItinerary,numericItinerary($A18),BJ$3-1),campInfo,2))","v":"Central"},{"$f":"IF(INDEX(campsByItinerary,numericItinerary($A18),BK$3-1)=\"\",\"\",VLOOKUP(INDEX(campsByItinerary,numericItinerary($A18),BK$3-1),campInfo,2))","v":"Central"},{"$f":"IF(INDEX(campsByItinerary,numericItinerary($A18),BL$3-1)=\"\",\"\",VLOOKUP(INDEX(campsByItinerary,numericItinerary($A18),BL$3-1),campInfo,2))","v":"Central"},{"$f":"IF(INDEX(campsByItinerary,numericItinerary($A18),BM$3-1)=\"\",\"\",VLOOKUP(INDEX(campsByItinerary,numericItinerary($A18),BM$3-1),campInfo,2))","v":"Central"},{"$f":"IF(INDEX(campsByItinerary,numericItinerary($A18),BD$3-1)=\"\",\"\",VLOOKUP(INDEX(campsByItinerary,numericItinerary($A18),BD$3-1),campInfo,12))","v":"South"},{"$f":"IF(INDEX(campsByItinerary,numericItinerary($A18),BE$3-1)=\"\",\"\",VLOOKUP(INDEX(campsByItinerary,numericItinerary($A18),BE$3-1),campInfo,12))","v":"South"},{"$f":"IF(INDEX(campsByItinerary,numericItinerary($A18),BF$3-1)=\"\",\"\",VLOOKUP(INDEX(campsByItinerary,numericItinerary($A18),BF$3-1),campInfo,12))","v":"South"},{"$f":"IF(INDEX(campsByItinerary,numericItinerary($A18),BG$3-1)=\"\",\"\",VLOOKUP(INDEX(campsByItinerary,numericItinerary($A18),BG$3-1),campInfo,12))","v":"South"},{"$f":"IF(INDEX(campsByItinerary,numericItinerary($A18),BH$3-1)=\"\",\"\",VLOOKUP(INDEX(campsByItinerary,numericItinerary($A18),BH$3-1),campInfo,12))","v":"South"},{"$f":"IF(INDEX(campsByItinerary,numericItinerary($A18),BI$3-1)=\"\",\"\",VLOOKUP(INDEX(campsByItinerary,numericItinerary($A18),BI$3-1),campInfo,12))","v":"South"},{"$f":"IF(INDEX(campsByItinerary,numericItinerary($A18),BJ$3-1)=\"\",\"\",VLOOKUP(INDEX(campsByItinerary,numericItinerary($A18),BJ$3-1),campInfo,12))","v":"South"},{"$f":"IF(INDEX(campsByItinerary,numericItinerary($A18),BK$3-1)=\"\",\"\",VLOOKUP(INDEX(campsByItinerary,numericItinerary($A18),BK$3-1),campInfo,12))","v":"South"},{"$f":"IF(INDEX(campsByItinerary,numericItinerary($A18),BL$3-1)=\"\",\"\",VLOOKUP(INDEX(campsByItinerary,numericItinerary($A18),BL$3-1),campInfo,12))","v":"South"},{"$f":"IF(INDEX(campsByItinerary,numericItinerary($A18),BM$3-1)=\"\",\"\",VLOOKUP(INDEX(campsByItinerary,numericItinerary($A18),BM$3-1),campInfo,12))","v":"South"},{"$f":"getfoodPU(\"First\",numericItinerary($A18))","v":2},{"$f":"getfoodPU(\"Max\",numericItinerary($A18))","v":5}]
["12-16",null,"R",65,"Horse Canyon","Metcalf Station","Dan Beard","Ring Place","Iris Park","Upper Greenwood","Baldy Town","Miranda","Baldy Skyline","Ponil","Camping HQ",null,null,"Ring Place",null,null,"Baldy Town",null,null,null,"Six Mile Gate","Ponil","",{"$f":"IF(AC19=\"\",\"\",numericItinerary(A19) & \":\" & AC19)","v":""},null,null,null,"y",null,"",null,null,8128,7220,7896,8124,8571,10262.665999999999,9851,8898,9140,7150,908,676,228,447,1691.6659999999993,411.66599999999926,953,242,1990,{"$f":"IF(INDEX(campsByItinerary,numericItinerary($A19),BD$3-1)=\"\",\"\",VLOOKUP(INDEX(campsByItinerary,numericItinerary($A19),BD$3-1),campInfo,8))","v":""},{"$f":"IF(INDEX(campsByItinerary,numericItinerary($A19),BE$3-1)=\"\",\"\",VLOOKUP(INDEX(campsByItinerary,numericItinerary($A19),BE$3-1),campInfo,8))","v":"Y"},{"$f":"IF(INDEX(campsByItinerary,numericItinerary($A19),BF$3-1)=\"\",\"\",VLOOKUP(INDEX(campsByItinerary,numericItinerary($A19),BF$3-1),campInfo,8))","v":"Y"},{"$f":"IF(INDEX(campsByItinerary,numericItinerary($A19),BG$3-1)=\"\",\"\",VLOOKUP(INDEX(campsByItinerary,numericItinerary($A19),BG$3-1),campInfo,8))","v":"Y"},{"$f":"IF(INDEX(campsByItinerary,numericItinerary($A19),BH$3-1)=\"\",\"\",VLOOKUP(INDEX(campsByItinerary,numericItinerary($A19),BH$3-1),campInfo,8))","v":""},{"$f":"IF(INDEX(campsByItinerary,numericItinerary($A19),BI$3-1)=\"\",\"\",VLOOKUP(INDEX(campsByItinerary,numericItinerary($A19),BI$3-1),campInfo,8))","v":""},{"$f":"IF(INDEX(campsByItinerary,numericItinerary($A19),BJ$3-1)=\"\",\"\",VLOOKUP(INDEX(campsByItinerary,numericItinerary($A19),BJ$3-1),campInfo,8))","v":"Y"},{"$f":"IF(INDEX(campsByItinerary,numericItinerary($A19),BK$3-1)=\"\",\"\",VLOOKUP(INDEX(campsByItinerary,numericItinerary($A19),BK$3-1),campInfo,8))","v":"Y"},{"$f":"IF(INDEX(campsByItinerary,numericItinerary($A19),BL$3-1)=\"\",\"\",VLOOKUP(INDEX(campsByItinerary,numericItinerary($A19),BL$3-1),campInfo,8))","v":""},{"$f":"IF(INDEX(campsByItinerary,numericItinerary($A19),BM$3-1)=\"\",\"\",VLOOKUP(INDEX(campsByItinerary,numericItinerary($A19),BM$3-1),campInfo,8))","v":"Y"},"Y","","","","Y","Y","","","Y","",{"$f":"IF(INDEX(campsByItinerary,numericItinerary($A19),BD$3-1)=\"\",\"\",VLOOKUP(INDEX(campsByItinerary,numericItinerary($A19),BD$3-1),campInfo,10))","v":""},{"$f":"IF(INDEX(campsByItinerary,numericItinerary($A19),BE$3-1)=\"\",\"\",VLOOKUP(INDEX(campsByItinerary,numericItinerary($A19),BE$3-1),campInfo,10))","v":""},{"$f":"IF(INDEX(campsByItinerary,numericItinerary($A19),BF$3-1)=\"\",\"\",VLOOKUP(INDEX(campsByItinerary,numericItinerary($A19),BF$3-1),campInfo,10))","v":""},{"$f":"IF(INDEX(campsByItinerary,numericItinerary($A19),BG$3-1)=\"\",\"\",VLOOKUP(INDEX(campsByItinerary,numericItinerary($A19),BG$3-1),campInfo,10))","v":""},{"$f":"IF(INDEX(campsByItinerary,numericItinerary($A19),BH$3-1)=\"\",\"\",VLOOKUP(INDEX(campsByItinerary,numericItinerary($A19),BH$3-1),campInfo,10))","v":""},{"$f":"IF(INDEX(campsByItinerary,numericItinerary($A19),BI$3-1)=\"\",\"\",VLOOKUP(INDEX(campsByItinerary,numericItinerary($A19),BI$3-1),campInfo,10))","v":""},{"$f":"IF(INDEX(campsByItinerary,numericItinerary($A19),BJ$3-1)=\"\",\"\",VLOOKUP(INDEX(campsByItinerary,numericItinerary($A19),BJ$3-1),campInfo,10))","v":""},{"$f":"IF(INDEX(campsByItinerary,numericItinerary($A19),BK$3-1)=\"\",\"\",VLOOKUP(INDEX(campsByItinerary,numericItinerary($A19),BK$3-1),campInfo,10))","v":""},{"$f":"IF(INDEX(campsByItinerary,numericItinerary($A19),BL$3-1)=\"\",\"\",VLOOKUP(INDEX(campsByItinerary,numericItinerary($A19),BL$3-1),campInfo,10))","v":""},{"$f":"IF(INDEX(campsByItinerary,numericItinerary($A19),BM$3-1)=\"\",\"\",VLOOKUP(INDEX(campsByItinerary,numericItinerary($A19),BM$3-1),campInfo,10))","v":""},null,"","","","","","","","","",{"$f":"INDEX(campsByItinerary,numericItinerary($A19),BD$3-1)","v":"Horse Canyon"},{"$f":"IF(INDEX(campsByItinerary,numericItinerary($A19),BE$3-1)=\"\",\"\",VLOOKUP(INDEX(campsByItinerary,numericItinerary($A19),BE$3-1),campInfo,2))","v":"North"},{"$f":"IF(INDEX(campsByItinerary,numericItinerary($A19),BF$3-1)=\"\",\"\",VLOOKUP(INDEX(campsByItinerary,numericItinerary($A19),BF$3-1),campInfo,2))","v":"North"},{"$f":"IF(INDEX(campsByItinerary,numericItinerary($A19),BG$3-1)=\"\",\"\",VLOOKUP(INDEX(campsByItinerary,numericItinerary($A19),BG$3-1),campInfo,2))","v":"Valle Vidal"},{"$f":"IF(INDEX(campsByItinerary,numericItinerary($A19),BH$3-1)=\"\",\"\",VLOOKUP(INDEX(campsByItinerary,numericItinerary($A19),BH$3-1),campInfo,2))","v":"Valle Vidal"},{"$f":"IF(INDEX(campsByItinerary,numericItinerary($A19),BI$3-1)=\"\",\"\",VLOOKUP(INDEX(campsByItinerary,numericItinerary($A19),BI$3-1),campInfo,2))","v":"Valle Vidal"},{"$f":"IF(INDEX(campsByItinerary,numericItinerary($A19),BJ$3-1)=\"\",\"\",VLOOKUP(INDEX(campsByItinerary,numericItinerary($A19),BJ$3-1),campInfo,2))","v":"North"},{"$f":"IF(INDEX(campsByItinerary,numericItinerary($A19),BK$3-1)=\"\",\"\",VLOOKUP(INDEX(campsByItinerary,numericItinerary($A19),BK$3-1),campInfo,2))","v":"North"},{"$f":"IF(INDEX(campsByItinerary,numericItinerary($A19),BL$3-1)=\"\",\"\",VLOOKUP(INDEX(campsByItinerary,numericItinerary($A19),BL$3-1),campInfo,2))","v":"North"},{"$f":"IF(INDEX(campsByItinerary,numericItinerary($A19),BM$3-1)=\"\",\"\",VLOOKUP(INDEX(campsByItinerary,numericItinerary($A19),BM$3-1),campInfo,2))","v":"North"},{"$f":"IF(INDEX(campsByItinerary,numericItinerary($A19),BD$3-1)=\"\",\"\",VLOOKUP(INDEX(campsByItinerary,numericItinerary($A19),BD$3-1),campInfo,12))","v":"North"},{"$f":"IF(INDEX(campsByItinerary,numericItinerary($A19),BE$3-1)=\"\",\"\",VLOOKUP(INDEX(campsByItinerary,numericItinerary($A19),BE$3-1),campInfo,12))","v":"North"},{"$f":"IF(INDEX(campsByItinerary,numericItinerary($A19),BF$3-1)=\"\",\"\",VLOOKUP(INDEX(campsByItinerary,numericItinerary($A19),BF$3-1),campInfo,12))","v":"North"},{"$f":"IF(INDEX(campsByItinerary,numericItinerary($A19),BG$3-1)=\"\",\"\",VLOOKUP(INDEX(campsByItinerary,numericItinerary($A19),BG$3-1),campInfo,12))","v":"North"},{"$f":"IF(INDEX(campsByItinerary,numericItinerary($A19),BH$3-1)=\"\",\"\",VLOOKUP(INDEX(campsByItinerary,numericItinerary($A19),BH$3-1),campInfo,12))","v":"North"},{"$f":"IF(INDEX(campsByItinerary,numericItinerary($A19),BI$3-1)=\"\",\"\",VLOOKUP(INDEX(campsByItinerary,numericItinerary($A19),BI$3-1),campInfo,12))","v":"North"},{"$f":"IF(INDEX(campsByItinerary,numericItinerary($A19),BJ$3-1)=\"\",\"\",VLOOKUP(INDEX(campsByItinerary,numericItinerary($A19),BJ$3-1),campInfo,12))","v":"North"},{"$f":"IF(INDEX(campsByItinerary,numericItinerary($A19),BK$3-1)=\"\",\"\",VLOOKUP(INDEX(campsByItinerary,numericItinerary($A19),BK$3-1),campInfo,12))","v":"North"},{"$f":"IF(INDEX(campsByItinerary,numericItinerary($A19),BL$3-1)=\"\",\"\",VLOOKUP(INDEX(campsByItinerary,numericItinerary($A19),BL$3-1),campInfo,12))","v":"North"},{"$f":"IF(INDEX(campsByItinerary,numericItinerary($A19),BM$3-1)=\"\",\"\",VLOOKUP(INDEX(campsByItinerary,numericItinerary($A19),BM$3-1),campInfo,12))","v":"North"},{"$f":"getfoodPU(\"First\",numericItinerary($A19))","v":3},{"$f":"getfoodPU(\"Max\",numericItinerary($A19))","v":3}]
["12-17",null,"R",65,"Magpie","Urraca","Crater Lake","Lost Cabins","Wild Horse","Mount Phillips","Sawmill","Cyphers Mine","Clarks Fork","Shaefers Pass","Camping HQ",null,null,null,"Apache Springs",null,null,null,"Cimarroncito",null,"Hike Out","Hike In","y",{"$f":"IF(AC20=\"\",\"\",numericItinerary(A20) & \":\" & AC20)","v":""},null,null,null,null,"y","y",null,"y",7385,7968,8398,9205,10420,11650,9193,9302,7515,8724,583,430,807,1215,1230,2457,109,1787,1209,{"$f":"IF(INDEX(campsByItinerary,numericItinerary($A20),BD$3-1)=\"\",\"\",VLOOKUP(INDEX(campsByItinerary,numericItinerary($A20),BD$3-1),campInfo,8))","v":""},{"$f":"IF(INDEX(campsByItinerary,numericItinerary($A20),BE$3-1)=\"\",\"\",VLOOKUP(INDEX(campsByItinerary,numericItinerary($A20),BE$3-1),campInfo,8))","v":"Y"},{"$f":"IF(INDEX(campsByItinerary,numericItinerary($A20),BF$3-1)=\"\",\"\",VLOOKUP(INDEX(campsByItinerary,numericItinerary($A20),BF$3-1),campInfo,8))","v":"Y"},{"$f":"IF(INDEX(campsByItinerary,numericItinerary($A20),BG$3-1)=\"\",\"\",VLOOKUP(INDEX(campsByItinerary,numericItinerary($A20),BG$3-1),campInfo,8))","v":""},{"$f":"IF(INDEX(campsByItinerary,numericItinerary($A20),BH$3-1)=\"\",\"\",VLOOKUP(INDEX(campsByItinerary,numericItinerary($A20),BH$3-1),campInfo,8))","v":""},{"$f":"IF(INDEX(campsByItinerary,numericItinerary($A20),BI$3-1)=\"\",\"\",VLOOKUP(INDEX(campsByItinerary,numericItinerary($A20),BI$3-1),campInfo,8))","v":""},{"$f":"IF(INDEX(campsByItinerary,numericItinerary($A20),BJ$3-1)=\"\",\"\",VLOOKUP(INDEX(campsByItinerary,numericItinerary($A20),BJ$3-1),campInfo,8))","v":"Y"},{"$f":"IF(INDEX(campsByItinerary,numericItinerary($A20),BK$3-1)=\"\",\"\",VLOOKUP(INDEX(campsByItinerary,numericItinerary($A20),BK$3-1),campInfo,8))","v":"Y"},{"$f":"IF(INDEX(campsByItinerary,numericItinerary($A20),BL$3-1)=\"\",\"\",VLOOKUP(INDEX(campsByItinerary,numericItinerary($A20),BL$3-1),campInfo,8))","v":"Y"},{"$f":"IF(INDEX(campsByItinerary,numericItinerary($A20),BM$3-1)=\"\",\"\",VLOOKUP(INDEX(campsByItinerary,numericItinerary($A20),BM$3-1),campInfo,8))","v":""},"Y","","","Y","Y","Y","","","","Y",{"$f":"IF(INDEX(campsByItinerary,numericItinerary($A20),BD$3-1)=\"\",\"\",VLOOKUP(INDEX(campsByItinerary,numericItinerary($A20),BD$3-1),campInfo,10))","v":"Y"},{"$f":"IF(INDEX(campsByItinerary,numericItinerary($A20),BE$3-1)=\"\",\"\",VLOOKUP(INDEX(campsByItinerary,numericItinerary($A20),BE$3-1),campInfo,10))","v":""},{"$f":"IF(INDEX(campsByItinerary,numericItinerary($A20),BF$3-1)=\"\",\"\",VLOOKUP(INDEX(campsByItinerary,numericItinerary($A20),BF$3-1),campInfo,10))","v":""},{"$f":"IF(INDEX(campsByItinerary,numericItinerary($A20),BG$3-1)=\"\",\"\",VLOOKUP(INDEX(campsByItinerary,numericItinerary($A20),BG$3-1),campInfo,10))","v":""},{"$f":"IF(INDEX(campsByItinerary,numericItinerary($A20),BH$3-1)=\"\",\"\",VLOOKUP(INDEX(campsByItinerary,numericItinerary($A20),BH$3-1),campInfo,10))","v":""},{"$f":"IF(INDEX(campsByItinerary,numericItinerary($A20),BI$3-1)=\"\",\"\",VLOOKUP(INDEX(campsByItinerary,numericItinerary($A20),BI$3-1),campInfo,10))","v":"Y"},{"$f":"IF(INDEX(campsByItinerary,numericItinerary($A20),BJ$3-1)=\"\",\"\",VLOOKUP(INDEX(campsByItinerary,numericItinerary($A20),BJ$3-1),campInfo,10))","v":""},{"$f":"IF(INDEX(campsByItinerary,numericItinerary($A20),BK$3-1)=\"\",\"\",VLOOKUP(INDEX(campsByItinerary,numericItinerary($A20),BK$3-1),campInfo,10))","v":""},{"$f":"IF(INDEX(campsByItinerary,numericItinerary($A20),BL$3-1)=\"\",\"\",VLOOKUP(INDEX(campsByItinerary,numericItinerary($A20),BL$3-1),campInfo,10))","v":""},{"$f":"IF(INDEX(campsByItinerary,numericItinerary($A20),BM$3-1)=\"\",\"\",VLOOKUP(INDEX(campsByItinerary,numericItinerary($A20),BM$3-1),campInfo,10))","v":"Y"},null,"","","","","","","","","",{"$f":"INDEX(campsByItinerary,numericItinerary($A20),BD$3-1)","v":"Magpie"},{"$f":"IF(INDEX(campsByItinerary,numericItinerary($A20),BE$3-1)=\"\",\"\",VLOOKUP(INDEX(campsByItinerary,numericItinerary($A20),BE$3-1),campInfo,2))","v":"South"},{"$f":"IF(INDEX(campsByItinerary,numericItinerary($A20),BF$3-1)=\"\",\"\",VLOOKUP(INDEX(campsByItinerary,numericItinerary($A20),BF$3-1),campInfo,2))","v":"South"},{"$f":"IF(INDEX(campsByItinerary,numericItinerary($A20),BG$3-1)=\"\",\"\",VLOOKUP(INDEX(campsByItinerary,numericItinerary($A20),BG$3-1),campInfo,2))","v":"South"},{"$f":"IF(INDEX(campsByItinerary,numericItinerary($A20),BH$3-1)=\"\",\"\",VLOOKUP(INDEX(campsByItinerary,numericItinerary($A20),BH$3-1),campInfo,2))","v":"South"},{"$f":"IF(INDEX(campsByItinerary,numericItinerary($A20),BI$3-1)=\"\",\"\",VLOOKUP(INDEX(campsByItinerary,numericItinerary($A20),BI$3-1),campInfo,2))","v":"Central"},{"$f":"IF(INDEX(campsByItinerary,numericItinerary($A20),BJ$3-1)=\"\",\"\",VLOOKUP(INDEX(campsByItinerary,numericItinerary($A20),BJ$3-1),campInfo,2))","v":"Central"},{"$f":"IF(INDEX(campsByItinerary,numericItinerary($A20),BK$3-1)=\"\",\"\",VLOOKUP(INDEX(campsByItinerary,numericItinerary($A20),BK$3-1),campInfo,2))","v":"Central"},{"$f":"IF(INDEX(campsByItinerary,numericItinerary($A20),BL$3-1)=\"\",\"\",VLOOKUP(INDEX(campsByItinerary,numericItinerary($A20),BL$3-1),campInfo,2))","v":"Central"},{"$f":"IF(INDEX(campsByItinerary,numericItinerary($A20),BM$3-1)=\"\",\"\",VLOOKUP(INDEX(campsByItinerary,numericItinerary($A20),BM$3-1),campInfo,2))","v":"Central"},{"$f":"IF(INDEX(campsByItinerary,numericItinerary($A20),BD$3-1)=\"\",\"\",VLOOKUP(INDEX(campsByItinerary,numericItinerary($A20),BD$3-1),campInfo,12))","v":"South"},{"$f":"IF(INDEX(campsByItinerary,numericItinerary($A20),BE$3-1)=\"\",\"\",VLOOKUP(INDEX(campsByItinerary,numericItinerary($A20),BE$3-1),campInfo,12))","v":"South"},{"$f":"IF(INDEX(campsByItinerary,numericItinerary($A20),BF$3-1)=\"\",\"\",VLOOKUP(INDEX(campsByItinerary,numericItinerary($A20),BF$3-1),campInfo,12))","v":"South"},{"$f":"IF(INDEX(campsByItinerary,numericItinerary($A20),BG$3-1)=\"\",\"\",VLOOKUP(INDEX(campsByItinerary,numericItinerary($A20),BG$3-1),campInfo,12))","v":"South"},{"$f":"IF(INDEX(campsByItinerary,numericItinerary($A20),BH$3-1)=\"\",\"\",VLOOKUP(INDEX(campsByItinerary,numericItinerary($A20),BH$3-1),campInfo,12))","v":"South"},{"$f":"IF(INDEX(campsByItinerary,numericItinerary($A20),BI$3-1)=\"\",\"\",VLOOKUP(INDEX(campsByItinerary,numericItinerary($A20),BI$3-1),campInfo,12))","v":"South"},{"$f":"IF(INDEX(campsByItinerary,numericItinerary($A20),BJ$3-1)=\"\",\"\",VLOOKUP(INDEX(campsByItinerary,numericItinerary($A20),BJ$3-1),campInfo,12))","v":"South"},{"$f":"IF(INDEX(campsByItinerary,numericItinerary($A20),BK$3-1)=\"\",\"\",VLOOKUP(INDEX(campsByItinerary,numericItinerary($A20),BK$3-1),campInfo,12))","v":"South"},{"$f":"IF(INDEX(campsByItinerary,numericItinerary($A20),BL$3-1)=\"\",\"\",VLOOKUP(INDEX(campsByItinerary,numericItinerary($A20),BL$3-1),campInfo,12))","v":"South"},{"$f":"IF(INDEX(campsByItinerary,numericItinerary($A20),BM$3-1)=\"\",\"\",VLOOKUP(INDEX(campsByItinerary,numericItinerary($A20),BM$3-1),campInfo,12))","v":"South"},{"$f":"getfoodPU(\"First\",numericItinerary($A20))","v":4},{"$f":"getfoodPU(\"Max\",numericItinerary($A20))","v":4}]
["12-18",null,"S",66,"House Canyon","Chase Cow","Coyote Howl","Dan Beard","Ring Place","Iris Park","Rich Cabins","Ewells Park","Ewells Park","Maxwell","Camping HQ",null,null,null,"Ring Place",null,null,null,"Baldy Town",null,"Six Mile Gate","Maxwell","",{"$f":"IF(AC21=\"\",\"\",numericItinerary(A21) & \":\" & AC21)","v":""},null,null,null,"y",null,"",null,null,7157,7177,7560.52,7896,8124,8571,7728,9373,9373,8498,20,383.52000000000044,335.47999999999956,228,447,843,1645,0,875,{"$f":"IF(INDEX(campsByItinerary,numericItinerary($A21),BD$3-1)=\"\",\"\",VLOOKUP(INDEX(campsByItinerary,numericItinerary($A21),BD$3-1),campInfo,8))","v":""},{"$f":"IF(INDEX(campsByItinerary,numericItinerary($A21),BE$3-1)=\"\",\"\",VLOOKUP(INDEX(campsByItinerary,numericItinerary($A21),BE$3-1),campInfo,8))","v":"Y"},{"$f":"IF(INDEX(campsByItinerary,numericItinerary($A21),BF$3-1)=\"\",\"\",VLOOKUP(INDEX(campsByItinerary,numericItinerary($A21),BF$3-1),campInfo,8))","v":""},{"$f":"IF(INDEX(campsByItinerary,numericItinerary($A21),BG$3-1)=\"\",\"\",VLOOKUP(INDEX(campsByItinerary,numericItinerary($A21),BG$3-1),campInfo,8))","v":"Y"},{"$f":"IF(INDEX(campsByItinerary,numericItinerary($A21),BH$3-1)=\"\",\"\",VLOOKUP(INDEX(campsByItinerary,numericItinerary($A21),BH$3-1),campInfo,8))","v":"Y"},{"$f":"IF(INDEX(campsByItinerary,numericItinerary($A21),BI$3-1)=\"\",\"\",VLOOKUP(INDEX(campsByItinerary,numericItinerary($A21),BI$3-1),campInfo,8))","v":""},{"$f":"IF(INDEX(campsByItinerary,numericItinerary($A21),BJ$3-1)=\"\",\"\",VLOOKUP(INDEX(campsByItinerary,numericItinerary($A21),BJ$3-1),campInfo,8))","v":"Y"},{"$f":"IF(INDEX(campsByItinerary,numericItinerary($A21),BK$3-1)=\"\",\"\",VLOOKUP(INDEX(campsByItinerary,numericItinerary($A21),BK$3-1),campInfo,8))","v":""},{"$f":"IF(INDEX(campsByItinerary,numericItinerary($A21),BL$3-1)=\"\",\"\",VLOOKUP(INDEX(campsByItinerary,numericItinerary($A21),BL$3-1),campInfo,8))","v":""},{"$f":"IF(INDEX(campsByItinerary,numericItinerary($A21),BM$3-1)=\"\",\"\",VLOOKUP(INDEX(campsByItinerary,numericItinerary($A21),BM$3-1),campInfo,8))","v":""},"Y","","Y","","","Y","","Y","Y","Y",{"$f":"IF(INDEX(campsByItinerary,numericItinerary($A21),BD$3-1)=\"\",\"\",VLOOKUP(INDEX(campsByItinerary,numericItinerary($A21),BD$3-1),campInfo,10))","v":""},{"$f":"IF(INDEX(campsByItinerary,numericItinerary($A21),BE$3-1)=\"\",\"\",VLOOKUP(INDEX(campsByItinerary,numericItinerary($A21),BE$3-1),campInfo,10))","v":""},{"$f":"IF(INDEX(campsByItinerary,numericItinerary($A21),BF$3-1)=\"\",\"\",VLOOKUP(INDEX(campsByItinerary,numericItinerary($A21),BF$3-1),campInfo,10))","v":""},{"$f":"IF(INDEX(campsByItinerary,numericItinerary($A21),BG$3-1)=\"\",\"\",VLOOKUP(INDEX(campsByItinerary,numericItinerary($A21),BG$3-1),campInfo,10))","v":""},{"$f":"IF(INDEX(campsByItinerary,numericItinerary($A21),BH$3-1)=\"\",\"\",VLOOKUP(INDEX(campsByItinerary,numericItinerary($A21),BH$3-1),campInfo,10))","v":""},{"$f":"IF(INDEX(campsByItinerary,numericItinerary($A21),BI$3-1)=\"\",\"\",VLOOKUP(INDEX(campsByItinerary,numericItinerary($A21),BI$3-1),campInfo,10))","v":""},{"$f":"IF(INDEX(campsByItinerary,numericItinerary($A21),BJ$3-1)=\"\",\"\",VLOOKUP(INDEX(campsByItinerary,numericItinerary($A21),BJ$3-1),campInfo,10))","v":""},{"$f":"IF(INDEX(campsByItinerary,numericItinerary($A21),BK$3-1)=\"\",\"\",VLOOKUP(INDEX(campsByItinerary,numericItinerary($A21),BK$3-1),campInfo,10))","v":""},{"$f":"IF(INDEX(campsByItinerary,numericItinerary($A21),BL$3-1)=\"\",\"\",VLOOKUP(INDEX(campsByItinerary,numericItinerary($A21),BL$3-1),campInfo,10))","v":""},{"$f":"IF(INDEX(campsByItinerary,numericItinerary($A21),BM$3-1)=\"\",\"\",VLOOKUP(INDEX(campsByItinerary,numericItinerary($A21),BM$3-1),campInfo,10))","v":""},null,"","","","","","","","Y","",{"$f":"INDEX(campsByItinerary,numericItinerary($A21),BD$3-1)","v":"House Canyon"},{"$f":"IF(INDEX(campsByItinerary,numericItinerary($A21),BE$3-1)=\"\",\"\",VLOOKUP(INDEX(campsByItinerary,numericItinerary($A21),BE$3-1),campInfo,2))","v":"North"},{"$f":"IF(INDEX(campsByItinerary,numericItinerary($A21),BF$3-1)=\"\",\"\",VLOOKUP(INDEX(campsByItinerary,numericItinerary($A21),BF$3-1),campInfo,2))","v":"North"},{"$f":"IF(INDEX(campsByItinerary,numericItinerary($A21),BG$3-1)=\"\",\"\",VLOOKUP(INDEX(campsByItinerary,numericItinerary($A21),BG$3-1),campInfo,2))","v":"North"},{"$f":"IF(INDEX(campsByItinerary,numericItinerary($A21),BH$3-1)=\"\",\"\",VLOOKUP(INDEX(campsByItinerary,numericItinerary($A21),BH$3-1),campInfo,2))","v":"Valle Vidal"},{"$f":"IF(INDEX(campsByItinerary,numericItinerary($A21),BI$3-1)=\"\",\"\",VLOOKUP(INDEX(campsByItinerary,numericItinerary($A21),BI$3-1),campInfo,2))","v":"Valle Vidal"},{"$f":"IF(INDEX(campsByItinerary,numericItinerary($A21),BJ$3-1)=\"\",\"\",VLOOKUP(INDEX(campsByItinerary,numericItinerary($A21),BJ$3-1),campInfo,2))","v":"Valle Vidal"},{"$f":"IF(INDEX(campsByItinerary,numericItinerary($A21),BK$3-1)=\"\",\"\",VLOOKUP(INDEX(campsByItinerary,numericItinerary($A21),BK$3-1),campInfo,2))","v":"North"},{"$f":"IF(INDEX(campsByItinerary,numericItinerary($A21),BL$3-1)=\"\",\"\",VLOOKUP(INDEX(campsByItinerary,numericItinerary($A21),BL$3-1),campInfo,2))","v":"North"},{"$f":"IF(INDEX(campsByItinerary,numericItinerary($A21),BM$3-1)=\"\",\"\",VLOOKUP(INDEX(campsByItinerary,numericItinerary($A21),BM$3-1),campInfo,2))","v":"North"},{"$f":"IF(INDEX(campsByItinerary,numericItinerary($A21),BD$3-1)=\"\",\"\",VLOOKUP(INDEX(campsByItinerary,numericItinerary($A21),BD$3-1),campInfo,12))","v":"North"},{"$f":"IF(INDEX(campsByItinerary,numericItinerary($A21),BE$3-1)=\"\",\"\",VLOOKUP(INDEX(campsByItinerary,numericItinerary($A21),BE$3-1),campInfo,12))","v":"North"},{"$f":"IF(INDEX(campsByItinerary,numericItinerary($A21),BF$3-1)=\"\",\"\",VLOOKUP(INDEX(campsByItinerary,numericItinerary($A21),BF$3-1),campInfo,12))","v":"North"},{"$f":"IF(INDEX(campsByItinerary,numericItinerary($A21),BG$3-1)=\"\",\"\",VLOOKUP(INDEX(campsByItinerary,numericItinerary($A21),BG$3-1),campInfo,12))","v":"North"},{"$f":"IF(INDEX(campsByItinerary,numericItinerary($A21),BH$3-1)=\"\",\"\",VLOOKUP(INDEX(campsByItinerary,numericItinerary($A21),BH$3-1),campInfo,12))","v":"North"},{"$f":"IF(INDEX(campsByItinerary,numericItinerary($A21),BI$3-1)=\"\",\"\",VLOOKUP(INDEX(campsByItinerary,numericItinerary($A21),BI$3-1),campInfo,12))","v":"North"},{"$f":"IF(INDEX(campsByItinerary,numericItinerary($A21),BJ$3-1)=\"\",\"\",VLOOKUP(INDEX(campsByItinerary,numericItinerary($A21),BJ$3-1),campInfo,12))","v":"North"},{"$f":"IF(INDEX(campsByItinerary,numericItinerary($A21),BK$3-1)=\"\",\"\",VLOOKUP(INDEX(campsByItinerary,numericItinerary($A21),BK$3-1),campInfo,12))","v":"North"},{"$f":"IF(INDEX(campsByItinerary,numericItinerary($A21),BL$3-1)=\"\",\"\",VLOOKUP(INDEX(campsByItinerary,numericItinerary($A21),BL$3-1),campInfo,12))","v":"North"},{"$f":"IF(INDEX(campsByItinerary,numericItinerary($A21),BM$3-1)=\"\",\"\",VLOOKUP(INDEX(campsByItinerary,numericItinerary($A21),BM$3-1),campInfo,12))","v":"North"},{"$f":"getfoodPU(\"First\",numericItinerary($A21))","v":4},{"$f":"getfoodPU(\"Max\",numericItinerary($A21))","v":4}]
["12-19",null,"S",66,"Heck Meadow","Cimarroncito","Cyphers Mine","Mount Phillips","Comanche Creek","Apache Springs","Buck Creek","Lower Bonito","Urraca","Stockade Ridge","Camping HQ",null,"Cimarroncito",null,null,"Apache Springs",null,"Phillips Junction",null,null,"Hike Out","Hike In","y",{"$f":"IF(AC22=\"\",\"\",numericItinerary(A22) & \":\" & AC22)","v":""},null,null,null,null,"y","y",null,null,7085,8137,9302,11650,9600,9409,9131,8962,7968,7519,1052,1165,2348,2050,191,278,169,994,449,{"$f":"IF(INDEX(campsByItinerary,numericItinerary($A22),BD$3-1)=\"\",\"\",VLOOKUP(INDEX(campsByItinerary,numericItinerary($A22),BD$3-1),campInfo,8))","v":""},{"$f":"IF(INDEX(campsByItinerary,numericItinerary($A22),BE$3-1)=\"\",\"\",VLOOKUP(INDEX(campsByItinerary,numericItinerary($A22),BE$3-1),campInfo,8))","v":"Y"},{"$f":"IF(INDEX(campsByItinerary,numericItinerary($A22),BF$3-1)=\"\",\"\",VLOOKUP(INDEX(campsByItinerary,numericItinerary($A22),BF$3-1),campInfo,8))","v":"Y"},{"$f":"IF(INDEX(campsByItinerary,numericItinerary($A22),BG$3-1)=\"\",\"\",VLOOKUP(INDEX(campsByItinerary,numericItinerary($A22),BG$3-1),campInfo,8))","v":""},{"$f":"IF(INDEX(campsByItinerary,numericItinerary($A22),BH$3-1)=\"\",\"\",VLOOKUP(INDEX(campsByItinerary,numericItinerary($A22),BH$3-1),campInfo,8))","v":""},{"$f":"IF(INDEX(campsByItinerary,numericItinerary($A22),BI$3-1)=\"\",\"\",VLOOKUP(INDEX(campsByItinerary,numericItinerary($A22),BI$3-1),campInfo,8))","v":"Y"},{"$f":"IF(INDEX(campsByItinerary,numericItinerary($A22),BJ$3-1)=\"\",\"\",VLOOKUP(INDEX(campsByItinerary,numericItinerary($A22),BJ$3-1),campInfo,8))","v":""},{"$f":"IF(INDEX(campsByItinerary,numericItinerary($A22),BK$3-1)=\"\",\"\",VLOOKUP(INDEX(campsByItinerary,numericItinerary($A22),BK$3-1),campInfo,8))","v":""},{"$f":"IF(INDEX(campsByItinerary,numericItinerary($A22),BL$3-1)=\"\",\"\",VLOOKUP(INDEX(campsByItinerary,numericItinerary($A22),BL$3-1),campInfo,8))","v":"Y"},{"$f":"IF(INDEX(campsByItinerary,numericItinerary($A22),BM$3-1)=\"\",\"\",VLOOKUP(INDEX(campsByItinerary,numericItinerary($A22),BM$3-1),campInfo,8))","v":""},"Y","","","Y","Y","","Y","Y","","Y",{"$f":"IF(INDEX(campsByItinerary,numericItinerary($A22),BD$3-1)=\"\",\"\",VLOOKUP(INDEX(campsByItinerary,numericItinerary($A22),BD$3-1),campInfo,10))","v":"Y"},{"$f":"IF(INDEX(campsByItinerary,numericItinerary($A22),BE$3-1)=\"\",\"\",VLOOKUP(INDEX(campsByItinerary,numericItinerary($A22),BE$3-1),campInfo,10))","v":""},{"$f":"IF(INDEX(campsByItinerary,numericItinerary($A22),BF$3-1)=\"\",\"\",VLOOKUP(INDEX(campsByItinerary,numericItinerary($A22),BF$3-1),campInfo,10))","v":""},{"$f":"IF(INDEX(campsByItinerary,numericItinerary($A22),BG$3-1)=\"\",\"\",VLOOKUP(INDEX(campsByItinerary,numericItinerary($A22),BG$3-1),campInfo,10))","v":"Y"},{"$f":"IF(INDEX(campsByItinerary,numericItinerary($A22),BH$3-1)=\"\",\"\",VLOOKUP(INDEX(campsByItinerary,numericItinerary($A22),BH$3-1),campInfo,10))","v":""},{"$f":"IF(INDEX(campsByItinerary,numericItinerary($A22),BI$3-1)=\"\",\"\",VLOOKUP(INDEX(campsByItinerary,numericItinerary($A22),BI$3-1),campInfo,10))","v":""},{"$f":"IF(INDEX(campsByItinerary,numericItinerary($A22),BJ$3-1)=\"\",\"\",VLOOKUP(INDEX(campsByItinerary,numericItinerary($A22),BJ$3-1),campInfo,10))","v":""},{"$f":"IF(INDEX(campsByItinerary,numericItinerary($A22),BK$3-1)=\"\",\"\",VLOOKUP(INDEX(campsByItinerary,numericItinerary($A22),BK$3-1),campInfo,10))","v":""},{"$f":"IF(INDEX(campsByItinerary,numericItinerary($A22),BL$3-1)=\"\",\"\",VLOOKUP(INDEX(campsByItinerary,numericItinerary($A22),BL$3-1),campInfo,10))","v":""},{"$f":"IF(INDEX(campsByItinerary,numericItinerary($A22),BM$3-1)=\"\",\"\",VLOOKUP(INDEX(campsByItinerary,numericItinerary($A22),BM$3-1),campInfo,10))","v":"Y"},null,"","","","","","","","","",{"$f":"INDEX(campsByItinerary,numericItinerary($A22),BD$3-1)","v":"Heck Meadow"},{"$f":"IF(INDEX(campsByItinerary,numericItinerary($A22),BE$3-1)=\"\",\"\",VLOOKUP(INDEX(campsByItinerary,numericItinerary($A22),BE$3-1),campInfo,2))","v":"Central"},{"$f":"IF(INDEX(campsByItinerary,numericItinerary($A22),BF$3-1)=\"\",\"\",VLOOKUP(INDEX(campsByItinerary,numericItinerary($A22),BF$3-1),campInfo,2))","v":"Central"},{"$f":"IF(INDEX(campsByItinerary,numericItinerary($A22),BG$3-1)=\"\",\"\",VLOOKUP(INDEX(campsByItinerary,numericItinerary($A22),BG$3-1),campInfo,2))","v":"Central"},{"$f":"IF(INDEX(campsByItinerary,numericItinerary($A22),BH$3-1)=\"\",\"\",VLOOKUP(INDEX(campsByItinerary,numericItinerary($A22),BH$3-1),campInfo,2))","v":"South"},{"$f":"IF(INDEX(campsByItinerary,numericItinerary($A22),BI$3-1)=\"\",\"\",VLOOKUP(INDEX(campsByItinerary,numericItinerary($A22),BI$3-1),campInfo,2))","v":"South"},{"$f":"IF(INDEX(campsByItinerary,numericItinerary($A22),BJ$3-1)=\"\",\"\",VLOOKUP(INDEX(campsByItinerary,numericItinerary($A22),BJ$3-1),campInfo,2))","v":"South"},{"$f":"IF(INDEX(campsByItinerary,numericItinerary($A22),BK$3-1)=\"\",\"\",VLOOKUP(INDEX(campsByItinerary,numericItinerary($A22),BK$3-1),campInfo,2))","v":"South"},{"$f":"IF(INDEX(campsByItinerary,numericItinerary($A22),BL$3-1)=\"\",\"\",VLOOKUP(INDEX(campsByItinerary,numericItinerary($A22),BL$3-1),campInfo,2))","v":"South"},{"$f":"IF(INDEX(campsByItinerary,numericItinerary($A22),BM$3-1)=\"\",\"\",VLOOKUP(INDEX(campsByItinerary,numericItinerary($A22),BM$3-1),campInfo,2))","v":"South"},{"$f":"IF(INDEX(campsByItinerary,numericItinerary($A22),BD$3-1)=\"\",\"\",VLOOKUP(INDEX(campsByItinerary,numericItinerary($A22),BD$3-1),campInfo,12))","v":"South"},{"$f":"IF(INDEX(campsByItinerary,numericItinerary($A22),BE$3-1)=\"\",\"\",VLOOKUP(INDEX(campsByItinerary,numericItinerary($A22),BE$3-1),campInfo,12))","v":"South"},{"$f":"IF(INDEX(campsByItinerary,numericItinerary($A22),BF$3-1)=\"\",\"\",VLOOKUP(INDEX(campsByItinerary,numericItinerary($A22),BF$3-1),campInfo,12))","v":"South"},{"$f":"IF(INDEX(campsByItinerary,numericItinerary($A22),BG$3-1)=\"\",\"\",VLOOKUP(INDEX(campsByItinerary,numericItinerary($A22),BG$3-1),campInfo,12))","v":"South"},{"$f":"IF(INDEX(campsByItinerary,numericItinerary($A22),BH$3-1)=\"\",\"\",VLOOKUP(INDEX(campsByItinerary,numericItinerary($A22),BH$3-1),campInfo,12))","v":"South"},{"$f":"IF(INDEX(campsByItinerary,numericItinerary($A22),BI$3-1)=\"\",\"\",VLOOKUP(INDEX(campsByItinerary,numericItinerary($A22),BI$3-1),campInfo,12))","v":"South"},{"$f":"IF(INDEX(campsByItinerary,numericItinerary($A22),BJ$3-1)=\"\",\"\",VLOOKUP(INDEX(campsByItinerary,numericItinerary($A22),BJ$3-1),campInfo,12))","v":"South"},{"$f":"IF(INDEX(campsByItinerary,numericItinerary($A22),BK$3-1)=\"\",\"\",VLOOKUP(INDEX(campsByItinerary,numericItinerary($A22),BK$3-1),campInfo,12))","v":"South"},{"$f":"IF(INDEX(campsByItinerary,numericItinerary($A22),BL$3-1)=\"\",\"\",VLOOKUP(INDEX(campsByItinerary,numericItinerary($A22),BL$3-1),campInfo,12))","v":"South"},{"$f":"IF(INDEX(campsByItinerary,numericItinerary($A22),BM$3-1)=\"\",\"\",VLOOKUP(INDEX(campsByItinerary,numericItinerary($A22),BM$3-1),campInfo,12))","v":"South"},{"$f":"getfoodPU(\"First\",numericItinerary($A22))","v":2},{"$f":"getfoodPU(\"Max\",numericItinerary($A22))","v":2}]
["12-20",null,"S",66,"Herradura","Miners Park","Clarks Fork","Deer Lake","Cimarroncita","Ringtail","Placer","Placer","Pueblano Ruins","Ponil","Camping HQ","Miners Park",null,null,"Cimarroncita",null,null,"Baldy Town",null,null,"Lovers Leap","Ponil","",{"$f":"IF(AC23=\"\",\"\",numericItinerary(A23) & \":\" & AC23)","v":"20:7"},7,"Bear Canyon","N","y",null,"",null,null,7465,7977,7515,8280,7373,8600,9483.43,9483.43,8359,7150,512,462,765,907,1227,883.43000000000029,0,1124.4300000000003,1209,{"$f":"IF(INDEX(campsByItinerary,numericItinerary($A23),BD$3-1)=\"\",\"\",VLOOKUP(INDEX(campsByItinerary,numericItinerary($A23),BD$3-1),campInfo,8))","v":""},{"$f":"IF(INDEX(campsByItinerary,numericItinerary($A23),BE$3-1)=\"\",\"\",VLOOKUP(INDEX(campsByItinerary,numericItinerary($A23),BE$3-1),campInfo,8))","v":"Y"},{"$f":"IF(INDEX(campsByItinerary,numericItinerary($A23),BF$3-1)=\"\",\"\",VLOOKUP(INDEX(campsByItinerary,numericItinerary($A23),BF$3-1),campInfo,8))","v":"Y"},{"$f":"IF(INDEX(campsByItinerary,numericItinerary($A23),BG$3-1)=\"\",\"\",VLOOKUP(INDEX(campsByItinerary,numericItinerary($A23),BG$3-1),campInfo,8))","v":""},{"$f":"IF(INDEX(campsByItinerary,numericItinerary($A23),BH$3-1)=\"\",\"\",VLOOKUP(INDEX(campsByItinerary,numericItinerary($A23),BH$3-1),campInfo,8))","v":"Y"},{"$f":"IF(INDEX(campsByItinerary,numericItinerary($A23),BI$3-1)=\"\",\"\",VLOOKUP(INDEX(campsByItinerary,numericItinerary($A23),BI$3-1),campInfo,8))","v":""},{"$f":"IF(INDEX(campsByItinerary,numericItinerary($A23),BJ$3-1)=\"\",\"\",VLOOKUP(INDEX(campsByItinerary,numericItinerary($A23),BJ$3-1),campInfo,8))","v":""},{"$f":"IF(INDEX(campsByItinerary,numericItinerary($A23),BK$3-1)=\"\",\"\",VLOOKUP(INDEX(campsByItinerary,numericItinerary($A23),BK$3-1),campInfo,8))","v":""},{"$f":"IF(INDEX(campsByItinerary,numericItinerary($A23),BL$3-1)=\"\",\"\",VLOOKUP(INDEX(campsByItinerary,numericItinerary($A23),BL$3-1),campInfo,8))","v":""},{"$f":"IF(INDEX(campsByItinerary,numericItinerary($A23),BM$3-1)=\"\",\"\",VLOOKUP(INDEX(campsByItinerary,numericItinerary($A23),BM$3-1),campInfo,8))","v":"Y"},"Y","","","Y","","Y","Y","Y","Y","",{"$f":"IF(INDEX(campsByItinerary,numericItinerary($A23),BD$3-1)=\"\",\"\",VLOOKUP(INDEX(campsByItinerary,numericItinerary($A23),BD$3-1),campInfo,10))","v":"Y"},{"$f":"IF(INDEX(campsByItinerary,numericItinerary($A23),BE$3-1)=\"\",\"\",VLOOKUP(INDEX(campsByItinerary,numericItinerary($A23),BE$3-1),campInfo,10))","v":""},{"$f":"IF(INDEX(campsByItinerary,numericItinerary($A23),BF$3-1)=\"\",\"\",VLOOKUP(INDEX(campsByItinerary,numericItinerary($A23),BF$3-1),campInfo,10))","v":""},{"$f":"IF(INDEX(campsByItinerary,numericItinerary($A23),BG$3-1)=\"\",\"\",VLOOKUP(INDEX(campsByItinerary,numericItinerary($A23),BG$3-1),campInfo,10))","v":""},{"$f":"IF(INDEX(campsByItinerary,numericItinerary($A23),BH$3-1)=\"\",\"\",VLOOKUP(INDEX(campsByItinerary,numericItinerary($A23),BH$3-1),campInfo,10))","v":""},{"$f":"IF(INDEX(campsByItinerary,numericItinerary($A23),BI$3-1)=\"\",\"\",VLOOKUP(INDEX(campsByItinerary,numericItinerary($A23),BI$3-1),campInfo,10))","v":"Y"},{"$f":"IF(INDEX(campsByItinerary,numericItinerary($A23),BJ$3-1)=\"\",\"\",VLOOKUP(INDEX(campsByItinerary,numericItinerary($A23),BJ$3-1),campInfo,10))","v":""},{"$f":"IF(INDEX(campsByItinerary,numericItinerary($A23),BK$3-1)=\"\",\"\",VLOOKUP(INDEX(campsByItinerary,numericItinerary($A23),BK$3-1),campInfo,10))","v":""},{"$f":"IF(INDEX(campsByItinerary,numericItinerary($A23),BL$3-1)=\"\",\"\",VLOOKUP(INDEX(campsByItinerary,numericItinerary($A23),BL$3-1),campInfo,10))","v":""},{"$f":"IF(INDEX(campsByItinerary,numericItinerary($A23),BM$3-1)=\"\",\"\",VLOOKUP(INDEX(campsByItinerary,numericItinerary($A23),BM$3-1),campInfo,10))","v":""},null,"","","","","","","Y","","",{"$f":"INDEX(campsByItinerary,numericItinerary($A23),BD$3-1)","v":"Herradura"},{"$f":"IF(INDEX(campsByItinerary,numericItinerary($A23),BE$3-1)=\"\",\"\",VLOOKUP(INDEX(campsByItinerary,numericItinerary($A23),BE$3-1),campInfo,2))","v":"South"},{"$f":"IF(INDEX(campsByItinerary,numericItinerary($A23),BF$3-1)=\"\",\"\",VLOOKUP(INDEX(campsByItinerary,numericItinerary($A23),BF$3-1),campInfo,2))","v":"Central"},{"$f":"IF(INDEX(campsByItinerary,numericItinerary($A23),BG$3-1)=\"\",\"\",VLOOKUP(INDEX(campsByItinerary,numericItinerary($A23),BG$3-1),campInfo,2))","v":"Central"},{"$f":"IF(INDEX(campsByItinerary,numericItinerary($A23),BH$3-1)=\"\",\"\",VLOOKUP(INDEX(campsByItinerary,numericItinerary($A23),BH$3-1),campInfo,2))","v":"Central"},{"$f":"IF(INDEX(campsByItinerary,numericItinerary($A23),BI$3-1)=\"\",\"\",VLOOKUP(INDEX(campsByItinerary,numericItinerary($A23),BI$3-1),campInfo,2))","v":"North"},{"$f":"IF(INDEX(campsByItinerary,numericItinerary($A23),BJ$3-1)=\"\",\"\",VLOOKUP(INDEX(campsByItinerary,numericItinerary($A23),BJ$3-1),campInfo,2))","v":"North"},{"$f":"IF(INDEX(campsByItinerary,numericItinerary($A23),BK$3-1)=\"\",\"\",VLOOKUP(INDEX(campsByItinerary,numericItinerary($A23),BK$3-1),campInfo,2))","v":"North"},{"$f":"IF(INDEX(campsByItinerary,numericItinerary($A23),BL$3-1)=\"\",\"\",VLOOKUP(INDEX(campsByItinerary,numericItinerary($A23),BL$3-1),campInfo,2))","v":"North"},{"$f":"IF(INDEX(campsByItinerary,numericItinerary($A23),BM$3-1)=\"\",\"\",VLOOKUP(INDEX(campsByItinerary,numericItinerary($A23),BM$3-1),campInfo,2))","v":"North"},{"$f":"IF(INDEX(campsByItinerary,numericItinerary($A23),BD$3-1)=\"\",\"\",VLOOKUP(INDEX(campsByItinerary,numericItinerary($A23),BD$3-1),campInfo,12))","v":"South"},{"$f":"IF(INDEX(campsByItinerary,numericItinerary($A23),BE$3-1)=\"\",\"\",VLOOKUP(INDEX(campsByItinerary,numericItinerary($A23),BE$3-1),campInfo,12))","v":"South"},{"$f":"IF(INDEX(campsByItinerary,numericItinerary($A23),BF$3-1)=\"\",\"\",VLOOKUP(INDEX(campsByItinerary,numericItinerary($A23),BF$3-1),campInfo,12))","v":"South"},{"$f":"IF(INDEX(campsByItinerary,numericItinerary($A23),BG$3-1)=\"\",\"\",VLOOKUP(INDEX(campsByItinerary,numericItinerary($A23),BG$3-1),campInfo,12))","v":"South"},{"$f":"IF(INDEX(campsByItinerary,numericItinerary($A23),BH$3-1)=\"\",\"\",VLOOKUP(INDEX(campsByItinerary,numericItinerary($A23),BH$3-1),campInfo,12))","v":"North & South"},{"$f":"IF(INDEX(campsByItinerary,numericItinerary($A23),BI$3-1)=\"\",\"\",VLOOKUP(INDEX(campsByItinerary,numericItinerary($A23),BI$3-1),campInfo,12))","v":"North"},{"$f":"IF(INDEX(campsByItinerary,numericItinerary($A23),BJ$3-1)=\"\",\"\",VLOOKUP(INDEX(campsByItinerary,numericItinerary($A23),BJ$3-1),campInfo,12))","v":"North"},{"$f":"IF(INDEX(campsByItinerary,numericItinerary($A23),BK$3-1)=\"\",\"\",VLOOKUP(INDEX(campsByItinerary,numericItinerary($A23),BK$3-1),campInfo,12))","v":"North"},{"$f":"IF(INDEX(campsByItinerary,numericItinerary($A23),BL$3-1)=\"\",\"\",VLOOKUP(INDEX(campsByItinerary,numericItinerary($A23),BL$3-1),campInfo,12))","v":"North"},{"$f":"IF(INDEX(campsByItinerary,numericItinerary($A23),BM$3-1)=\"\",\"\",VLOOKUP(INDEX(campsByItinerary,numericItinerary($A23),BM$3-1),campInfo,12))","v":"North"},{"$f":"getfoodPU(\"First\",numericItinerary($A23))","v":1},{"$f":"getfoodPU(\"Max\",numericItinerary($A23))","v":3}]
["12-21",null,"S",68,"Arrowhead","Cimarroncito","Cyphers Mine","Comanche Peak","Crooked Creek","Lost Cabins","Abreu","Bear Caves","Miners Park","Tooth Ridge","Camping HQ",null,"Cimarroncito",null,null,"Apache Springs",null,null,"Miners Park",null,"Webster","Hike In","y",{"$f":"IF(AC24=\"\",\"\",numericItinerary(A24) & \":\" & AC24)","v":""},null,null,null,null,"y","y",null,"y",7644,8137,9302,11070,9360,9205,7217,8423,7977,8240,493,1165,1768,1710,155,1988,1206,446,263,{"$f":"IF(INDEX(campsByItinerary,numericItinerary($A24),BD$3-1)=\"\",\"\",VLOOKUP(INDEX(campsByItinerary,numericItinerary($A24),BD$3-1),campInfo,8))","v":""},{"$f":"IF(INDEX(campsByItinerary,numericItinerary($A24),BE$3-1)=\"\",\"\",VLOOKUP(INDEX(campsByItinerary,numericItinerary($A24),BE$3-1),campInfo,8))","v":"Y"},{"$f":"IF(INDEX(campsByItinerary,numericItinerary($A24),BF$3-1)=\"\",\"\",VLOOKUP(INDEX(campsByItinerary,numericItinerary($A24),BF$3-1),campInfo,8))","v":"Y"},{"$f":"IF(INDEX(campsByItinerary,numericItinerary($A24),BG$3-1)=\"\",\"\",VLOOKUP(INDEX(campsByItinerary,numericItinerary($A24),BG$3-1),campInfo,8))","v":""},{"$f":"IF(INDEX(campsByItinerary,numericItinerary($A24),BH$3-1)=\"\",\"\",VLOOKUP(INDEX(campsByItinerary,numericItinerary($A24),BH$3-1),campInfo,8))","v":"Y"},{"$f":"IF(INDEX(campsByItinerary,numericItinerary($A24),BI$3-1)=\"\",\"\",VLOOKUP(INDEX(campsByItinerary,numericItinerary($A24),BI$3-1),campInfo,8))","v":""},{"$f":"IF(INDEX(campsByItinerary,numericItinerary($A24),BJ$3-1)=\"\",\"\",VLOOKUP(INDEX(campsByItinerary,numericItinerary($A24),BJ$3-1),campInfo,8))","v":"Y"},{"$f":"IF(INDEX(campsByItinerary,numericItinerary($A24),BK$3-1)=\"\",\"\",VLOOKUP(INDEX(campsByItinerary,numericItinerary($A24),BK$3-1),campInfo,8))","v":""},{"$f":"IF(INDEX(campsByItinerary,numericItinerary($A24),BL$3-1)=\"\",\"\",VLOOKUP(INDEX(campsByItinerary,numericItinerary($A24),BL$3-1),campInfo,8))","v":"Y"},{"$f":"IF(INDEX(campsByItinerary,numericItinerary($A24),BM$3-1)=\"\",\"\",VLOOKUP(INDEX(campsByItinerary,numericItinerary($A24),BM$3-1),campInfo,8))","v":""},"Y","","","Y","","Y","","Y","","Y",{"$f":"IF(INDEX(campsByItinerary,numericItinerary($A24),BD$3-1)=\"\",\"\",VLOOKUP(INDEX(campsByItinerary,numericItinerary($A24),BD$3-1),campInfo,10))","v":"Y"},{"$f":"IF(INDEX(campsByItinerary,numericItinerary($A24),BE$3-1)=\"\",\"\",VLOOKUP(INDEX(campsByItinerary,numericItinerary($A24),BE$3-1),campInfo,10))","v":""},{"$f":"IF(INDEX(campsByItinerary,numericItinerary($A24),BF$3-1)=\"\",\"\",VLOOKUP(INDEX(campsByItinerary,numericItinerary($A24),BF$3-1),campInfo,10))","v":""},{"$f":"IF(INDEX(campsByItinerary,numericItinerary($A24),BG$3-1)=\"\",\"\",VLOOKUP(INDEX(campsByItinerary,numericItinerary($A24),BG$3-1),campInfo,10))","v":"Y"},{"$f":"IF(INDEX(campsByItinerary,numericItinerary($A24),BH$3-1)=\"\",\"\",VLOOKUP(INDEX(campsByItinerary,numericItinerary($A24),BH$3-1),campInfo,10))","v":""},{"$f":"IF(INDEX(campsByItinerary,numericItinerary($A24),BI$3-1)=\"\",\"\",VLOOKUP(INDEX(campsByItinerary,numericItinerary($A24),BI$3-1),campInfo,10))","v":""},{"$f":"IF(INDEX(campsByItinerary,numericItinerary($A24),BJ$3-1)=\"\",\"\",VLOOKUP(INDEX(campsByItinerary,numericItinerary($A24),BJ$3-1),campInfo,10))","v":""},{"$f":"IF(INDEX(campsByItinerary,numericItinerary($A24),BK$3-1)=\"\",\"\",VLOOKUP(INDEX(campsByItinerary,numericItinerary($A24),BK$3-1),campInfo,10))","v":""},{"$f":"IF(INDEX(campsByItinerary,numericItinerary($A24),BL$3-1)=\"\",\"\",VLOOKUP(INDEX(campsByItinerary,numericItinerary($A24),BL$3-1),campInfo,10))","v":""},{"$f":"IF(INDEX(campsByItinerary,numericItinerary($A24),BM$3-1)=\"\",\"\",VLOOKUP(INDEX(campsByItinerary,numericItinerary($A24),BM$3-1),campInfo,10))","v":"Y"},null,"","","","","","","","","",{"$f":"INDEX(campsByItinerary,numericItinerary($A24),BD$3-1)","v":"Arrowhead"},{"$f":"IF(INDEX(campsByItinerary,numericItinerary($A24),BE$3-1)=\"\",\"\",VLOOKUP(INDEX(campsByItinerary,numericItinerary($A24),BE$3-1),campInfo,2))","v":"Central"},{"$f":"IF(INDEX(campsByItinerary,numericItinerary($A24),BF$3-1)=\"\",\"\",VLOOKUP(INDEX(campsByItinerary,numericItinerary($A24),BF$3-1),campInfo,2))","v":"Central"},{"$f":"IF(INDEX(campsByItinerary,numericItinerary($A24),BG$3-1)=\"\",\"\",VLOOKUP(INDEX(campsByItinerary,numericItinerary($A24),BG$3-1),campInfo,2))","v":"Central"},{"$f":"IF(INDEX(campsByItinerary,numericItinerary($A24),BH$3-1)=\"\",\"\",VLOOKUP(INDEX(campsByItinerary,numericItinerary($A24),BH$3-1),campInfo,2))","v":"South"},{"$f":"IF(INDEX(campsByItinerary,numericItinerary($A24),BI$3-1)=\"\",\"\",VLOOKUP(INDEX(campsByItinerary,numericItinerary($A24),BI$3-1),campInfo,2))","v":"South"},{"$f":"IF(INDEX(campsByItinerary,numericItinerary($A24),BJ$3-1)=\"\",\"\",VLOOKUP(INDEX(campsByItinerary,numericItinerary($A24),BJ$3-1),campInfo,2))","v":"South"},{"$f":"IF(INDEX(campsByItinerary,numericItinerary($A24),BK$3-1)=\"\",\"\",VLOOKUP(INDEX(campsByItinerary,numericItinerary($A24),BK$3-1),campInfo,2))","v":"South"},{"$f":"IF(INDEX(campsByItinerary,numericItinerary($A24),BL$3-1)=\"\",\"\",VLOOKUP(INDEX(campsByItinerary,numericItinerary($A24),BL$3-1),campInfo,2))","v":"South"},{"$f":"IF(INDEX(campsByItinerary,numericItinerary($A24),BM$3-1)=\"\",\"\",VLOOKUP(INDEX(campsByItinerary,numericItinerary($A24),BM$3-1),campInfo,2))","v":"Central"},{"$f":"IF(INDEX(campsByItinerary,numericItinerary($A24),BD$3-1)=\"\",\"\",VLOOKUP(INDEX(campsByItinerary,numericItinerary($A24),BD$3-1),campInfo,12))","v":"South"},{"$f":"IF(INDEX(campsByItinerary,numericItinerary($A24),BE$3-1)=\"\",\"\",VLOOKUP(INDEX(campsByItinerary,numericItinerary($A24),BE$3-1),campInfo,12))","v":"South"},{"$f":"IF(INDEX(campsByItinerary,numericItinerary($A24),BF$3-1)=\"\",\"\",VLOOKUP(INDEX(campsByItinerary,numericItinerary($A24),BF$3-1),campInfo,12))","v":"South"},{"$f":"IF(INDEX(campsByItinerary,numericItinerary($A24),BG$3-1)=\"\",\"\",VLOOKUP(INDEX(campsByItinerary,numericItinerary($A24),BG$3-1),campInfo,12))","v":"South"},{"$f":"IF(INDEX(campsByItinerary,numericItinerary($A24),BH$3-1)=\"\",\"\",VLOOKUP(INDEX(campsByItinerary,numericItinerary($A24),BH$3-1),campInfo,12))","v":"South"},{"$f":"IF(INDEX(campsByItinerary,numericItinerary($A24),BI$3-1)=\"\",\"\",VLOOKUP(INDEX(campsByItinerary,numericItinerary($A24),BI$3-1),campInfo,12))","v":"South"},{"$f":"IF(INDEX(campsByItinerary,numericItinerary($A24),BJ$3-1)=\"\",\"\",VLOOKUP(INDEX(campsByItinerary,numericItinerary($A24),BJ$3-1),campInfo,12))","v":"South"},{"$f":"IF(INDEX(campsByItinerary,numericItinerary($A24),BK$3-1)=\"\",\"\",VLOOKUP(INDEX(campsByItinerary,numericItinerary($A24),BK$3-1),campInfo,12))","v":"South"},{"$f":"IF(INDEX(campsByItinerary,numericItinerary($A24),BL$3-1)=\"\",\"\",VLOOKUP(INDEX(campsByItinerary,numericItinerary($A24),BL$3-1),campInfo,12))","v":"South"},{"$f":"IF(INDEX(campsByItinerary,numericItinerary($A24),BM$3-1)=\"\",\"\",VLOOKUP(INDEX(campsByItinerary,numericItinerary($A24),BM$3-1),campInfo,12))","v":"South"},{"$f":"getfoodPU(\"First\",numericItinerary($A24))","v":2},{"$f":"getfoodPU(\"Max\",numericItinerary($A24))","v":2}]
["12-22",null,"S",68,"Magpie","Abreu","Fish Camp","Bear Creek","Wild Horse","Comanche Peak","Sawmill","Cyphers Mine","Cimarroncito","Ponderosa Park","Camping HQ",null,null,"Apache Springs",null,null,"Sawmill",null,"Cimarroncito",null,"Hike Out","Hike In","y",{"$f":"IF(AC25=\"\",\"\",numericItinerary(A25) & \":\" & AC25)","v":""},null,null,null,null,"y","y",null,"y",7385,7217,8564,9288,10420,11070,9193,9302,8137,8004,168,1347,724,1132,650,1877,109,1165,133,{"$f":"IF(INDEX(campsByItinerary,numericItinerary($A25),BD$3-1)=\"\",\"\",VLOOKUP(INDEX(campsByItinerary,numericItinerary($A25),BD$3-1),campInfo,8))","v":""},{"$f":"IF(INDEX(campsByItinerary,numericItinerary($A25),BE$3-1)=\"\",\"\",VLOOKUP(INDEX(campsByItinerary,numericItinerary($A25),BE$3-1),campInfo,8))","v":"Y"},{"$f":"IF(INDEX(campsByItinerary,numericItinerary($A25),BF$3-1)=\"\",\"\",VLOOKUP(INDEX(campsByItinerary,numericItinerary($A25),BF$3-1),campInfo,8))","v":"Y"},{"$f":"IF(INDEX(campsByItinerary,numericItinerary($A25),BG$3-1)=\"\",\"\",VLOOKUP(INDEX(campsByItinerary,numericItinerary($A25),BG$3-1),campInfo,8))","v":""},{"$f":"IF(INDEX(campsByItinerary,numericItinerary($A25),BH$3-1)=\"\",\"\",VLOOKUP(INDEX(campsByItinerary,numericItinerary($A25),BH$3-1),campInfo,8))","v":""},{"$f":"IF(INDEX(campsByItinerary,numericItinerary($A25),BI$3-1)=\"\",\"\",VLOOKUP(INDEX(campsByItinerary,numericItinerary($A25),BI$3-1),campInfo,8))","v":""},{"$f":"IF(INDEX(campsByItinerary,numericItinerary($A25),BJ$3-1)=\"\",\"\",VLOOKUP(INDEX(campsByItinerary,numericItinerary($A25),BJ$3-1),campInfo,8))","v":"Y"},{"$f":"IF(INDEX(campsByItinerary,numericItinerary($A25),BK$3-1)=\"\",\"\",VLOOKUP(INDEX(campsByItinerary,numericItinerary($A25),BK$3-1),campInfo,8))","v":"Y"},{"$f":"IF(INDEX(campsByItinerary,numericItinerary($A25),BL$3-1)=\"\",\"\",VLOOKUP(INDEX(campsByItinerary,numericItinerary($A25),BL$3-1),campInfo,8))","v":"Y"},{"$f":"IF(INDEX(campsByItinerary,numericItinerary($A25),BM$3-1)=\"\",\"\",VLOOKUP(INDEX(campsByItinerary,numericItinerary($A25),BM$3-1),campInfo,8))","v":""},"Y","","","Y","Y","Y","","","","Y",{"$f":"IF(INDEX(campsByItinerary,numericItinerary($A25),BD$3-1)=\"\",\"\",VLOOKUP(INDEX(campsByItinerary,numericItinerary($A25),BD$3-1),campInfo,10))","v":"Y"},{"$f":"IF(INDEX(campsByItinerary,numericItinerary($A25),BE$3-1)=\"\",\"\",VLOOKUP(INDEX(campsByItinerary,numericItinerary($A25),BE$3-1),campInfo,10))","v":""},{"$f":"IF(INDEX(campsByItinerary,numericItinerary($A25),BF$3-1)=\"\",\"\",VLOOKUP(INDEX(campsByItinerary,numericItinerary($A25),BF$3-1),campInfo,10))","v":""},{"$f":"IF(INDEX(campsByItinerary,numericItinerary($A25),BG$3-1)=\"\",\"\",VLOOKUP(INDEX(campsByItinerary,numericItinerary($A25),BG$3-1),campInfo,10))","v":""},{"$f":"IF(INDEX(campsByItinerary,numericItinerary($A25),BH$3-1)=\"\",\"\",VLOOKUP(INDEX(campsByItinerary,numericItinerary($A25),BH$3-1),campInfo,10))","v":""},{"$f":"IF(INDEX(campsByItinerary,numericItinerary($A25),BI$3-1)=\"\",\"\",VLOOKUP(INDEX(campsByItinerary,numericItinerary($A25),BI$3-1),campInfo,10))","v":"Y"},{"$f":"IF(INDEX(campsByItinerary,numericItinerary($A25),BJ$3-1)=\"\",\"\",VLOOKUP(INDEX(campsByItinerary,numericItinerary($A25),BJ$3-1),campInfo,10))","v":""},{"$f":"IF(INDEX(campsByItinerary,numericItinerary($A25),BK$3-1)=\"\",\"\",VLOOKUP(INDEX(campsByItinerary,numericItinerary($A25),BK$3-1),campInfo,10))","v":""},{"$f":"IF(INDEX(campsByItinerary,numericItinerary($A25),BL$3-1)=\"\",\"\",VLOOKUP(INDEX(campsByItinerary,numericItinerary($A25),BL$3-1),campInfo,10))","v":""},{"$f":"IF(INDEX(campsByItinerary,numericItinerary($A25),BM$3-1)=\"\",\"\",VLOOKUP(INDEX(campsByItinerary,numericItinerary($A25),BM$3-1),campInfo,10))","v":"Y"},null,"","","","","","","","","",{"$f":"INDEX(campsByItinerary,numericItinerary($A25),BD$3-1)","v":"Magpie"},{"$f":"IF(INDEX(campsByItinerary,numericItinerary($A25),BE$3-1)=\"\",\"\",VLOOKUP(INDEX(campsByItinerary,numericItinerary($A25),BE$3-1),campInfo,2))","v":"South"},{"$f":"IF(INDEX(campsByItinerary,numericItinerary($A25),BF$3-1)=\"\",\"\",VLOOKUP(INDEX(campsByItinerary,numericItinerary($A25),BF$3-1),campInfo,2))","v":"South"},{"$f":"IF(INDEX(campsByItinerary,numericItinerary($A25),BG$3-1)=\"\",\"\",VLOOKUP(INDEX(campsByItinerary,numericItinerary($A25),BG$3-1),campInfo,2))","v":"South"},{"$f":"IF(INDEX(campsByItinerary,numericItinerary($A25),BH$3-1)=\"\",\"\",VLOOKUP(INDEX(campsByItinerary,numericItinerary($A25),BH$3-1),campInfo,2))","v":"South"},{"$f":"IF(INDEX(campsByItinerary,numericItinerary($A25),BI$3-1)=\"\",\"\",VLOOKUP(INDEX(campsByItinerary,numericItinerary($A25),BI$3-1),campInfo,2))","v":"Central"},{"$f":"IF(INDEX(campsByItinerary,numericItinerary($A25),BJ$3-1)=\"\",\"\",VLOOKUP(INDEX(campsByItinerary,numericItinerary($A25),BJ$3-1),campInfo,2))","v":"Central"},{"$f":"IF(INDEX(campsByItinerary,numericItinerary($A25),BK$3-1)=\"\",\"\",VLOOKUP(INDEX(campsByItinerary,numericItinerary($A25),BK$3-1),campInfo,2))","v":"Central"},{"$f":"IF(INDEX(campsByItinerary,numericItinerary($A25),BL$3-1)=\"\",\"\",VLOOKUP(INDEX(campsByItinerary,numericItinerary($A25),BL$3-1),campInfo,2))","v":"Central"},{"$f":"IF(INDEX(campsByItinerary,numericItinerary($A25),BM$3-1)=\"\",\"\",VLOOKUP(INDEX(campsByItinerary,numericItinerary($A25),BM$3-1),campInfo,2))","v":"Central"},{"$f":"IF(INDEX(campsByItinerary,numericItinerary($A25),BD$3-1)=\"\",\"\",VLOOKUP(INDEX(campsByItinerary,numericItinerary($A25),BD$3-1),campInfo,12))","v":"South"},{"$f":"IF(INDEX(campsByItinerary,numericItinerary($A25),BE$3-1)=\"\",\"\",VLOOKUP(INDEX(campsByItinerary,numericItinerary($A25),BE$3-1),campInfo,12))","v":"South"},{"$f":"IF(INDEX(campsByItinerary,numericItinerary($A25),BF$3-1)=\"\",\"\",VLOOKUP(INDEX(campsByItinerary,numericItinerary($A25),BF$3-1),campInfo,12))","v":"South"},{"$f":"IF(INDEX(campsByItinerary,numericItinerary($A25),BG$3-1)=\"\",\"\",VLOOKUP(INDEX(campsByItinerary,numericItinerary($A25),BG$3-1),campInfo,12))","v":"South"},{"$f":"IF(INDEX(campsByItinerary,numericItinerary($A25),BH$3-1)=\"\",\"\",VLOOKUP(INDEX(campsByItinerary,numericItinerary($A25),BH$3-1),campInfo,12))","v":"South"},{"$f":"IF(INDEX(campsByItinerary,numericItinerary($A25),BI$3-1)=\"\",\"\",VLOOKUP(INDEX(campsByItinerary,numericItinerary($A25),BI$3-1),campInfo,12))","v":"South"},{"$f":"IF(INDEX(campsByItinerary,numericItinerary($A25),BJ$3-1)=\"\",\"\",VLOOKUP(INDEX(campsByItinerary,numericItinerary($A25),BJ$3-1),campInfo,12))","v":"South"},{"$f":"IF(INDEX(campsByItinerary,numericItinerary($A25),BK$3-1)=\"\",\"\",VLOOKUP(INDEX(campsByItinerary,numericItinerary($A25),BK$3-1),campInfo,12))","v":"South"},{"$f":"IF(INDEX(campsByItinerary,numericItinerary($A25),BL$3-1)=\"\",\"\",VLOOKUP(INDEX(campsByItinerary,numericItinerary($A25),BL$3-1),campInfo,12))","v":"South"},{"$f":"IF(INDEX(campsByItinerary,numericItinerary($A25),BM$3-1)=\"\",\"\",VLOOKUP(INDEX(campsByItinerary,numericItinerary($A25),BM$3-1),campInfo,12))","v":"South"},{"$f":"getfoodPU(\"First\",numericItinerary($A25))","v":3},{"$f":"getfoodPU(\"Max\",numericItinerary($A25))","v":3}]
["12-23",null,"S",69,"Little Twin","Indian Writings","Rabbit Ear","Ring Place","Iris Park","Rich Cabins","Flume Canyon","French Henry","Black Horse Mine","Miranda","Camping HQ",null,null,"Ring Place",null,"Rich Cabins",null,null,"Baldy Town",null,"Chase","Maxwell","",{"$f":"IF(AC26=\"\",\"\",numericItinerary(A26) & \":\" & AC26)","v":""},null,null,null,"y",null,"",null,null,7258.9650430000002,6979,8115,8124,8571,7728,7715,9635,10750,8898,279.96504300000015,1136,9,447,843,13,1920,1115,1852,{"$f":"IF(INDEX(campsByItinerary,numericItinerary($A26),BD$3-1)=\"\",\"\",VLOOKUP(INDEX(campsByItinerary,numericItinerary($A26),BD$3-1),campInfo,8))","v":""},{"$f":"IF(INDEX(campsByItinerary,numericItinerary($A26),BE$3-1)=\"\",\"\",VLOOKUP(INDEX(campsByItinerary,numericItinerary($A26),BE$3-1),campInfo,8))","v":"Y"},{"$f":"IF(INDEX(campsByItinerary,numericItinerary($A26),BF$3-1)=\"\",\"\",VLOOKUP(INDEX(campsByItinerary,numericItinerary($A26),BF$3-1),campInfo,8))","v":""},{"$f":"IF(INDEX(campsByItinerary,numericItinerary($A26),BG$3-1)=\"\",\"\",VLOOKUP(INDEX(campsByItinerary,numericItinerary($A26),BG$3-1),campInfo,8))","v":"Y"},{"$f":"IF(INDEX(campsByItinerary,numericItinerary($A26),BH$3-1)=\"\",\"\",VLOOKUP(INDEX(campsByItinerary,numericItinerary($A26),BH$3-1),campInfo,8))","v":""},{"$f":"IF(INDEX(campsByItinerary,numericItinerary($A26),BI$3-1)=\"\",\"\",VLOOKUP(INDEX(campsByItinerary,numericItinerary($A26),BI$3-1),campInfo,8))","v":"Y"},{"$f":"IF(INDEX(campsByItinerary,numericItinerary($A26),BJ$3-1)=\"\",\"\",VLOOKUP(INDEX(campsByItinerary,numericItinerary($A26),BJ$3-1),campInfo,8))","v":""},{"$f":"IF(INDEX(campsByItinerary,numericItinerary($A26),BK$3-1)=\"\",\"\",VLOOKUP(INDEX(campsByItinerary,numericItinerary($A26),BK$3-1),campInfo,8))","v":"Y"},{"$f":"IF(INDEX(campsByItinerary,numericItinerary($A26),BL$3-1)=\"\",\"\",VLOOKUP(INDEX(campsByItinerary,numericItinerary($A26),BL$3-1),campInfo,8))","v":""},{"$f":"IF(INDEX(campsByItinerary,numericItinerary($A26),BM$3-1)=\"\",\"\",VLOOKUP(INDEX(campsByItinerary,numericItinerary($A26),BM$3-1),campInfo,8))","v":"Y"},"Y","","Y","","Y","","Y","","Y","",{"$f":"IF(INDEX(campsByItinerary,numericItinerary($A26),BD$3-1)=\"\",\"\",VLOOKUP(INDEX(campsByItinerary,numericItinerary($A26),BD$3-1),campInfo,10))","v":"Y"},{"$f":"IF(INDEX(campsByItinerary,numericItinerary($A26),BE$3-1)=\"\",\"\",VLOOKUP(INDEX(campsByItinerary,numericItinerary($A26),BE$3-1),campInfo,10))","v":""},{"$f":"IF(INDEX(campsByItinerary,numericItinerary($A26),BF$3-1)=\"\",\"\",VLOOKUP(INDEX(campsByItinerary,numericItinerary($A26),BF$3-1),campInfo,10))","v":"Y"},{"$f":"IF(INDEX(campsByItinerary,numericItinerary($A26),BG$3-1)=\"\",\"\",VLOOKUP(INDEX(campsByItinerary,numericItinerary($A26),BG$3-1),campInfo,10))","v":""},{"$f":"IF(INDEX(campsByItinerary,numericItinerary($A26),BH$3-1)=\"\",\"\",VLOOKUP(INDEX(campsByItinerary,numericItinerary($A26),BH$3-1),campInfo,10))","v":""},{"$f":"IF(INDEX(campsByItinerary,numericItinerary($A26),BI$3-1)=\"\",\"\",VLOOKUP(INDEX(campsByItinerary,numericItinerary($A26),BI$3-1),campInfo,10))","v":""},{"$f":"IF(INDEX(campsByItinerary,numericItinerary($A26),BJ$3-1)=\"\",\"\",VLOOKUP(INDEX(campsByItinerary,numericItinerary($A26),BJ$3-1),campInfo,10))","v":""},{"$f":"IF(INDEX(campsByItinerary,numericItinerary($A26),BK$3-1)=\"\",\"\",VLOOKUP(INDEX(campsByItinerary,numericItinerary($A26),BK$3-1),campInfo,10))","v":""},{"$f":"IF(INDEX(campsByItinerary,numericItinerary($A26),BL$3-1)=\"\",\"\",VLOOKUP(INDEX(campsByItinerary,numericItinerary($A26),BL$3-1),campInfo,10))","v":"Y"},{"$f":"IF(INDEX(campsByItinerary,numericItinerary($A26),BM$3-1)=\"\",\"\",VLOOKUP(INDEX(campsByItinerary,numericItinerary($A26),BM$3-1),campInfo,10))","v":""},null,"","","","","","","","","",{"$f":"INDEX(campsByItinerary,numericItinerary($A26),BD$3-1)","v":"Little Twin"},{"$f":"IF(INDEX(campsByItinerary,numericItinerary($A26),BE$3-1)=\"\",\"\",VLOOKUP(INDEX(campsByItinerary,numericItinerary($A26),BE$3-1),campInfo,2))","v":"North"},{"$f":"IF(INDEX(campsByItinerary,numericItinerary($A26),BF$3-1)=\"\",\"\",VLOOKUP(INDEX(campsByItinerary,numericItinerary($A26),BF$3-1),campInfo,2))","v":"North"},{"$f":"IF(INDEX(campsByItinerary,numericItinerary($A26),BG$3-1)=\"\",\"\",VLOOKUP(INDEX(campsByItinerary,numericItinerary($A26),BG$3-1),campInfo,2))","v":"Valle Vidal"},{"$f":"IF(INDEX(campsByItinerary,numericItinerary($A26),BH$3-1)=\"\",\"\",VLOOKUP(INDEX(campsByItinerary,numericItinerary($A26),BH$3-1),campInfo,2))","v":"Valle Vidal"},{"$f":"IF(INDEX(campsByItinerary,numericItinerary($A26),BI$3-1)=\"\",\"\",VLOOKUP(INDEX(campsByItinerary,numericItinerary($A26),BI$3-1),campInfo,2))","v":"Valle Vidal"},{"$f":"IF(INDEX(campsByItinerary,numericItinerary($A26),BJ$3-1)=\"\",\"\",VLOOKUP(INDEX(campsByItinerary,numericItinerary($A26),BJ$3-1),campInfo,2))","v":"North"},{"$f":"IF(INDEX(campsByItinerary,numericItinerary($A26),BK$3-1)=\"\",\"\",VLOOKUP(INDEX(campsByItinerary,numericItinerary($A26),BK$3-1),campInfo,2))","v":"North"},{"$f":"IF(INDEX(campsByItinerary,numericItinerary($A26),BL$3-1)=\"\",\"\",VLOOKUP(INDEX(campsByItinerary,numericItinerary($A26),BL$3-1),campInfo,2))","v":"North"},{"$f":"IF(INDEX(campsByItinerary,numericItinerary($A26),BM$3-1)=\"\",\"\",VLOOKUP(INDEX(campsByItinerary,numericItinerary($A26),BM$3-1),campInfo,2))","v":"North"},{"$f":"IF(INDEX(campsByItinerary,numericItinerary($A26),BD$3-1)=\"\",\"\",VLOOKUP(INDEX(campsByItinerary,numericItinerary($A26),BD$3-1),campInfo,12))","v":"North"},{"$f":"IF(INDEX(campsByItinerary,numericItinerary($A26),BE$3-1)=\"\",\"\",VLOOKUP(INDEX(campsByItinerary,numericItinerary($A26),BE$3-1),campInfo,12))","v":"North"},{"$f":"IF(INDEX(campsByItinerary,numericItinerary($A26),BF$3-1)=\"\",\"\",VLOOKUP(INDEX(campsByItinerary,numericItinerary($A26),BF$3-1),campInfo,12))","v":"North"},{"$f":"IF(INDEX(campsByItinerary,numericItinerary($A26),BG$3-1)=\"\",\"\",VLOOKUP(INDEX(campsByItinerary,numericItinerary($A26),BG$3-1),campInfo,12))","v":"North"},{"$f":"IF(INDEX(campsByItinerary,numericItinerary($A26),BH$3-1)=\"\",\"\",VLOOKUP(INDEX(campsByItinerary,numericItinerary($A26),BH$3-1),campInfo,12))","v":"North"},{"$f":"IF(INDEX(campsByItinerary,numericItinerary($A26),BI$3-1)=\"\",\"\",VLOOKUP(INDEX(campsByItinerary,numericItinerary($A26),BI$3-1),campInfo,12))","v":"North"},{"$f":"IF(INDEX(campsByItinerary,numericItinerary($A26),BJ$3-1)=\"\",\"\",VLOOKUP(INDEX(campsByItinerary,numericItinerary($A26),BJ$3-1),campInfo,12))","v":"North"},{"$f":"IF(INDEX(campsByItinerary,numericItinerary($A26),BK$3-1)=\"\",\"\",VLOOKUP(INDEX(campsByItinerary,numericItinerary($A26),BK$3-1),campInfo,12))","v":"North"},{"$f":"IF(INDEX(campsByItinerary,numericItinerary($A26),BL$3-1)=\"\",\"\",VLOOKUP(INDEX(campsByItinerary,numericItinerary($A26),BL$3-1),campInfo,12))","v":"North"},{"$f":"IF(INDEX(campsByItinerary,numericItinerary($A26),BM$3-1)=\"\",\"\",VLOOKUP(INDEX(campsByItinerary,numericItinerary($A26),BM$3-1),campInfo,12))","v":"North"},{"$f":"getfoodPU(\"First\",numericItinerary($A26))","v":3},{"$f":"getfoodPU(\"Max\",numericItinerary($A26))","v":3}]
["12-24",null,"S",70,"Magpie","Urraca","Aguila","Miners Park","Black Mountain","Bear Creek","Wild Horse","Divide","Cyphers Mine","Clarks Fork","Camping HQ",null,null,"Miners Park",null,null,"Apache Springs",null,null,null,"Hike Out","Hike In","y",{"$f":"IF(AC27=\"\",\"\",numericItinerary(A27) & \":\" & AC27)","v":""},null,null,null,null,"y","y",null,null,7385,7968,8282,7977,8991,9288,10420,10509,9302,7515,583,314,305,1014,297,1132,89,1207,1787,{"$f":"IF(INDEX(campsByItinerary,numericItinerary($A27),BD$3-1)=\"\",\"\",VLOOKUP(INDEX(campsByItinerary,numericItinerary($A27),BD$3-1),campInfo,8))","v":""},{"$f":"IF(INDEX(campsByItinerary,numericItinerary($A27),BE$3-1)=\"\",\"\",VLOOKUP(INDEX(campsByItinerary,numericItinerary($A27),BE$3-1),campInfo,8))","v":"Y"},{"$f":"IF(INDEX(campsByItinerary,numericItinerary($A27),BF$3-1)=\"\",\"\",VLOOKUP(INDEX(campsByItinerary,numericItinerary($A27),BF$3-1),campInfo,8))","v":""},{"$f":"IF(INDEX(campsByItinerary,numericItinerary($A27),BG$3-1)=\"\",\"\",VLOOKUP(INDEX(campsByItinerary,numericItinerary($A27),BG$3-1),campInfo,8))","v":"Y"},{"$f":"IF(INDEX(campsByItinerary,numericItinerary($A27),BH$3-1)=\"\",\"\",VLOOKUP(INDEX(campsByItinerary,numericItinerary($A27),BH$3-1),campInfo,8))","v":"Y"},{"$f":"IF(INDEX(campsByItinerary,numericItinerary($A27),BI$3-1)=\"\",\"\",VLOOKUP(INDEX(campsByItinerary,numericItinerary($A27),BI$3-1),campInfo,8))","v":""},{"$f":"IF(INDEX(campsByItinerary,numericItinerary($A27),BJ$3-1)=\"\",\"\",VLOOKUP(INDEX(campsByItinerary,numericItinerary($A27),BJ$3-1),campInfo,8))","v":""},{"$f":"IF(INDEX(campsByItinerary,numericItinerary($A27),BK$3-1)=\"\",\"\",VLOOKUP(INDEX(campsByItinerary,numericItinerary($A27),BK$3-1),campInfo,8))","v":""},{"$f":"IF(INDEX(campsByItinerary,numericItinerary($A27),BL$3-1)=\"\",\"\",VLOOKUP(INDEX(campsByItinerary,numericItinerary($A27),BL$3-1),campInfo,8))","v":"Y"},{"$f":"IF(INDEX(campsByItinerary,numericItinerary($A27),BM$3-1)=\"\",\"\",VLOOKUP(INDEX(campsByItinerary,numericItinerary($A27),BM$3-1),campInfo,8))","v":"Y"},"Y","","Y","","","Y","Y","Y","","",{"$f":"IF(INDEX(campsByItinerary,numericItinerary($A27),BD$3-1)=\"\",\"\",VLOOKUP(INDEX(campsByItinerary,numericItinerary($A27),BD$3-1),campInfo,10))","v":"Y"},{"$f":"IF(INDEX(campsByItinerary,numericItinerary($A27),BE$3-1)=\"\",\"\",VLOOKUP(INDEX(campsByItinerary,numericItinerary($A27),BE$3-1),campInfo,10))","v":""},{"$f":"IF(INDEX(campsByItinerary,numericItinerary($A27),BF$3-1)=\"\",\"\",VLOOKUP(INDEX(campsByItinerary,numericItinerary($A27),BF$3-1),campInfo,10))","v":""},{"$f":"IF(INDEX(campsByItinerary,numericItinerary($A27),BG$3-1)=\"\",\"\",VLOOKUP(INDEX(campsByItinerary,numericItinerary($A27),BG$3-1),campInfo,10))","v":""},{"$f":"IF(INDEX(campsByItinerary,numericItinerary($A27),BH$3-1)=\"\",\"\",VLOOKUP(INDEX(campsByItinerary,numericItinerary($A27),BH$3-1),campInfo,10))","v":""},{"$f":"IF(INDEX(campsByItinerary,numericItinerary($A27),BI$3-1)=\"\",\"\",VLOOKUP(INDEX(campsByItinerary,numericItinerary($A27),BI$3-1),campInfo,10))","v":""},{"$f":"IF(INDEX(campsByItinerary,numericItinerary($A27),BJ$3-1)=\"\",\"\",VLOOKUP(INDEX(campsByItinerary,numericItinerary($A27),BJ$3-1),campInfo,10))","v":""},{"$f":"IF(INDEX(campsByItinerary,numericItinerary($A27),BK$3-1)=\"\",\"\",VLOOKUP(INDEX(campsByItinerary,numericItinerary($A27),BK$3-1),campInfo,10))","v":"Y"},{"$f":"IF(INDEX(campsByItinerary,numericItinerary($A27),BL$3-1)=\"\",\"\",VLOOKUP(INDEX(campsByItinerary,numericItinerary($A27),BL$3-1),campInfo,10))","v":""},{"$f":"IF(INDEX(campsByItinerary,numericItinerary($A27),BM$3-1)=\"\",\"\",VLOOKUP(INDEX(campsByItinerary,numericItinerary($A27),BM$3-1),campInfo,10))","v":""},null,"","","","","","","","","",{"$f":"INDEX(campsByItinerary,numericItinerary($A27),BD$3-1)","v":"Magpie"},{"$f":"IF(INDEX(campsByItinerary,numericItinerary($A27),BE$3-1)=\"\",\"\",VLOOKUP(INDEX(campsByItinerary,numericItinerary($A27),BE$3-1),campInfo,2))","v":"South"},{"$f":"IF(INDEX(campsByItinerary,numericItinerary($A27),BF$3-1)=\"\",\"\",VLOOKUP(INDEX(campsByItinerary,numericItinerary($A27),BF$3-1),campInfo,2))","v":"South"},{"$f":"IF(INDEX(campsByItinerary,numericItinerary($A27),BG$3-1)=\"\",\"\",VLOOKUP(INDEX(campsByItinerary,numericItinerary($A27),BG$3-1),campInfo,2))","v":"South"},{"$f":"IF(INDEX(campsByItinerary,numericItinerary($A27),BH$3-1)=\"\",\"\",VLOOKUP(INDEX(campsByItinerary,numericItinerary($A27),BH$3-1),campInfo,2))","v":"South"},{"$f":"IF(INDEX(campsByItinerary,numericItinerary($A27),BI$3-1)=\"\",\"\",VLOOKUP(INDEX(campsByItinerary,numericItinerary($A27),BI$3-1),campInfo,2))","v":"South"},{"$f":"IF(INDEX(campsByItinerary,numericItinerary($A27),BJ$3-1)=\"\",\"\",VLOOKUP(INDEX(campsByItinerary,numericItinerary($A27),BJ$3-1),campInfo,2))","v":"South"},{"$f":"IF(INDEX(campsByItinerary,numericItinerary($A27),BK$3-1)=\"\",\"\",VLOOKUP(INDEX(campsByItinerary,numericItinerary($A27),BK$3-1),campInfo,2))","v":"South"},{"$f":"IF(INDEX(campsByItinerary,numericItinerary($A27),BL$3-1)=\"\",\"\",VLOOKUP(INDEX(campsByItinerary,numericItinerary($A27),BL$3-1),campInfo,2))","v":"Central"},{"$f":"IF(INDEX(campsByItinerary,numericItinerary($A27),BM$3-1)=\"\",\"\",VLOOKUP(INDEX(campsByItinerary,numericItinerary($A27),BM$3-1),campInfo,2))","v":"Central"},{"$f":"IF(INDEX(campsByItinerary,numericItinerary($A27),BD$3-1)=\"\",\"\",VLOOKUP(INDEX(campsByItinerary,numericItinerary($A27),BD$3-1),campInfo,12))","v":"South"},{"$f":"IF(INDEX(campsByItinerary,numericItinerary($A27),BE$3-1)=\"\",\"\",VLOOKUP(INDEX(campsByItinerary,numericItinerary($A27),BE$3-1),campInfo,12))","v":"South"},{"$f":"IF(INDEX(campsByItinerary,numericItinerary($A27),BF$3-1)=\"\",\"\",VLOOKUP(INDEX(campsByItinerary,numericItinerary($A27),BF$3-1),campInfo,12))","v":"South"},{"$f":"IF(INDEX(campsByItinerary,numericItinerary($A27),BG$3-1)=\"\",\"\",VLOOKUP(INDEX(campsByItinerary,numericItinerary($A27),BG$3-1),campInfo,12))","v":"South"},{"$f":"IF(INDEX(campsByItinerary,numericItinerary($A27),BH$3-1)=\"\",\"\",VLOOKUP(INDEX(campsByItinerary,numericItinerary($A27),BH$3-1),campInfo,12))","v":"South"},{"$f":"IF(INDEX(campsByItinerary,numericItinerary($A27),BI$3-1)=\"\",\"\",VLOOKUP(INDEX(campsByItinerary,numericItinerary($A27),BI$3-1),campInfo,12))","v":"South"},{"$f":"IF(INDEX(campsByItinerary,numericItinerary($A27),BJ$3-1)=\"\",\"\",VLOOKUP(INDEX(campsByItinerary,numericItinerary($A27),BJ$3-1),campInfo,12))","v":"South"},{"$f":"IF(INDEX(campsByItinerary,numericItinerary($A27),BK$3-1)=\"\",\"\",VLOOKUP(INDEX(campsByItinerary,numericItinerary($A27),BK$3-1),campInfo,12))","v":"South"},{"$f":"IF(INDEX(campsByItinerary,numericItinerary($A27),BL$3-1)=\"\",\"\",VLOOKUP(INDEX(campsByItinerary,numericItinerary($A27),BL$3-1),campInfo,12))","v":"South"},{"$f":"IF(INDEX(campsByItinerary,numericItinerary($A27),BM$3-1)=\"\",\"\",VLOOKUP(INDEX(campsByItinerary,numericItinerary($A27),BM$3-1),campInfo,12))","v":"South"},{"$f":"getfoodPU(\"First\",numericItinerary($A27))","v":3},{"$f":"getfoodPU(\"Max\",numericItinerary($A27))","v":3}]
["12-25",null,"S",75,"New Dean","Pueblano","Rich Cabins","Middle Ponil","Middle Ponil","Ring Place","Beatty Lakes","Rabbit Ear","Metcalf Station","Chase Cow","Camping HQ",null,"Rich Cabins",null,null,"Ring Place",null,null,null,null,"Ute Park","Chase","",{"$f":"IF(AC28=\"\",\"\",numericItinerary(A28) & \":\" & AC28)","v":"25:2"},2,"Bear Canyon","N",null,null,"",null,"y",7724,8069,7728,9118,9118,8124,8178.6580000000004,8115,7220,7177,345,341,1390,0,994,54.658000000000357,63.658000000000357,895,43,{"$f":"IF(INDEX(campsByItinerary,numericItinerary($A28),BD$3-1)=\"\",\"\",VLOOKUP(INDEX(campsByItinerary,numericItinerary($A28),BD$3-1),campInfo,8))","v":""},{"$f":"IF(INDEX(campsByItinerary,numericItinerary($A28),BE$3-1)=\"\",\"\",VLOOKUP(INDEX(campsByItinerary,numericItinerary($A28),BE$3-1),campInfo,8))","v":"Y"},{"$f":"IF(INDEX(campsByItinerary,numericItinerary($A28),BF$3-1)=\"\",\"\",VLOOKUP(INDEX(campsByItinerary,numericItinerary($A28),BF$3-1),campInfo,8))","v":"Y"},{"$f":"IF(INDEX(campsByItinerary,numericItinerary($A28),BG$3-1)=\"\",\"\",VLOOKUP(INDEX(campsByItinerary,numericItinerary($A28),BG$3-1),campInfo,8))","v":""},{"$f":"IF(INDEX(campsByItinerary,numericItinerary($A28),BH$3-1)=\"\",\"\",VLOOKUP(INDEX(campsByItinerary,numericItinerary($A28),BH$3-1),campInfo,8))","v":""},{"$f":"IF(INDEX(campsByItinerary,numericItinerary($A28),BI$3-1)=\"\",\"\",VLOOKUP(INDEX(campsByItinerary,numericItinerary($A28),BI$3-1),campInfo,8))","v":"Y"},{"$f":"IF(INDEX(campsByItinerary,numericItinerary($A28),BJ$3-1)=\"\",\"\",VLOOKUP(INDEX(campsByItinerary,numericItinerary($A28),BJ$3-1),campInfo,8))","v":""},{"$f":"IF(INDEX(campsByItinerary,numericItinerary($A28),BK$3-1)=\"\",\"\",VLOOKUP(INDEX(campsByItinerary,numericItinerary($A28),BK$3-1),campInfo,8))","v":""},{"$f":"IF(INDEX(campsByItinerary,numericItinerary($A28),BL$3-1)=\"\",\"\",VLOOKUP(INDEX(campsByItinerary,numericItinerary($A28),BL$3-1),campInfo,8))","v":"Y"},{"$f":"IF(INDEX(campsByItinerary,numericItinerary($A28),BM$3-1)=\"\",\"\",VLOOKUP(INDEX(campsByItinerary,numericItinerary($A28),BM$3-1),campInfo,8))","v":"Y"},"Y","","","Y","Y","","Y","Y","","",{"$f":"IF(INDEX(campsByItinerary,numericItinerary($A28),BD$3-1)=\"\",\"\",VLOOKUP(INDEX(campsByItinerary,numericItinerary($A28),BD$3-1),campInfo,10))","v":""},{"$f":"IF(INDEX(campsByItinerary,numericItinerary($A28),BE$3-1)=\"\",\"\",VLOOKUP(INDEX(campsByItinerary,numericItinerary($A28),BE$3-1),campInfo,10))","v":""},{"$f":"IF(INDEX(campsByItinerary,numericItinerary($A28),BF$3-1)=\"\",\"\",VLOOKUP(INDEX(campsByItinerary,numericItinerary($A28),BF$3-1),campInfo,10))","v":""},{"$f":"IF(INDEX(campsByItinerary,numericItinerary($A28),BG$3-1)=\"\",\"\",VLOOKUP(INDEX(campsByItinerary,numericItinerary($A28),BG$3-1),campInfo,10))","v":""},{"$f":"IF(INDEX(campsByItinerary,numericItinerary($A28),BH$3-1)=\"\",\"\",VLOOKUP(INDEX(campsByItinerary,numericItinerary($A28),BH$3-1),campInfo,10))","v":""},{"$f":"IF(INDEX(campsByItinerary,numericItinerary($A28),BI$3-1)=\"\",\"\",VLOOKUP(INDEX(campsByItinerary,numericItinerary($A28),BI$3-1),campInfo,10))","v":""},{"$f":"IF(INDEX(campsByItinerary,numericItinerary($A28),BJ$3-1)=\"\",\"\",VLOOKUP(INDEX(campsByItinerary,numericItinerary($A28),BJ$3-1),campInfo,10))","v":"Y"},{"$f":"IF(INDEX(campsByItinerary,numericItinerary($A28),BK$3-1)=\"\",\"\",VLOOKUP(INDEX(campsByItinerary,numericItinerary($A28),BK$3-1),campInfo,10))","v":"Y"},{"$f":"IF(INDEX(campsByItinerary,numericItinerary($A28),BL$3-1)=\"\",\"\",VLOOKUP(INDEX(campsByItinerary,numericItinerary($A28),BL$3-1),campInfo,10))","v":""},{"$f":"IF(INDEX(campsByItinerary,numericItinerary($A28),BM$3-1)=\"\",\"\",VLOOKUP(INDEX(campsByItinerary,numericItinerary($A28),BM$3-1),campInfo,10))","v":""},null,"","","","Y","","","","","",{"$f":"INDEX(campsByItinerary,numericItinerary($A28),BD$3-1)","v":"New Dean"},{"$f":"IF(INDEX(campsByItinerary,numericItinerary($A28),BE$3-1)=\"\",\"\",VLOOKUP(INDEX(campsByItinerary,numericItinerary($A28),BE$3-1),campInfo,2))","v":"North"},{"$f":"IF(INDEX(campsByItinerary,numericItinerary($A28),BF$3-1)=\"\",\"\",VLOOKUP(INDEX(campsByItinerary,numericItinerary($A28),BF$3-1),campInfo,2))","v":"Valle Vidal"},{"$f":"IF(INDEX(campsByItinerary,numericItinerary($A28),BG$3-1)=\"\",\"\",VLOOKUP(INDEX(campsByItinerary,numericItinerary($A28),BG$3-1),campInfo,2))","v":"Valle Vidal"},{"$f":"IF(INDEX(campsByItinerary,numericItinerary($A28),BH$3-1)=\"\",\"\",VLOOKUP(INDEX(campsByItinerary,numericItinerary($A28),BH$3-1),campInfo,2))","v":"Valle Vidal"},{"$f":"IF(INDEX(campsByItinerary,numericItinerary($A28),BI$3-1)=\"\",\"\",VLOOKUP(INDEX(campsByItinerary,numericItinerary($A28),BI$3-1),campInfo,2))","v":"Valle Vidal"},{"$f":"IF(INDEX(campsByItinerary,numericItinerary($A28),BJ$3-1)=\"\",\"\",VLOOKUP(INDEX(campsByItinerary,numericItinerary($A28),BJ$3-1),campInfo,2))","v":"Valle Vidal"},{"$f":"IF(INDEX(campsByItinerary,numericItinerary($A28),BK$3-1)=\"\",\"\",VLOOKUP(INDEX(campsByItinerary,numericItinerary($A28),BK$3-1),campInfo,2))","v":"North"},{"$f":"IF(INDEX(campsByItinerary,numericItinerary($A28),BL$3-1)=\"\",\"\",VLOOKUP(INDEX(campsByItinerary,numericItinerary($A28),BL$3-1),campInfo,2))","v":"North"},{"$f":"IF(INDEX(campsByItinerary,numericItinerary($A28),BM$3-1)=\"\",\"\",VLOOKUP(INDEX(campsByItinerary,numericItinerary($A28),BM$3-1),campInfo,2))","v":"North"},{"$f":"IF(INDEX(campsByItinerary,numericItinerary($A28),BD$3-1)=\"\",\"\",VLOOKUP(INDEX(campsByItinerary,numericItinerary($A28),BD$3-1),campInfo,12))","v":"North"},{"$f":"IF(INDEX(campsByItinerary,numericItinerary($A28),BE$3-1)=\"\",\"\",VLOOKUP(INDEX(campsByItinerary,numericItinerary($A28),BE$3-1),campInfo,12))","v":"North"},{"$f":"IF(INDEX(campsByItinerary,numericItinerary($A28),BF$3-1)=\"\",\"\",VLOOKUP(INDEX(campsByItinerary,numericItinerary($A28),BF$3-1),campInfo,12))","v":"North"},{"$f":"IF(INDEX(campsByItinerary,numericItinerary($A28),BG$3-1)=\"\",\"\",VLOOKUP(INDEX(campsByItinerary,numericItinerary($A28),BG$3-1),campInfo,12))","v":"North"},{"$f":"IF(INDEX(campsByItinerary,numericItinerary($A28),BH$3-1)=\"\",\"\",VLOOKUP(INDEX(campsByItinerary,numericItinerary($A28),BH$3-1),campInfo,12))","v":"North"},{"$f":"IF(INDEX(campsByItinerary,numericItinerary($A28),BI$3-1)=\"\",\"\",VLOOKUP(INDEX(campsByItinerary,numericItinerary($A28),BI$3-1),campInfo,12))","v":"North"},{"$f":"IF(INDEX(campsByItinerary,numericItinerary($A28),BJ$3-1)=\"\",\"\",VLOOKUP(INDEX(campsByItinerary,numericItinerary($A28),BJ$3-1),campInfo,12))","v":"North"},{"$f":"IF(INDEX(campsByItinerary,numericItinerary($A28),BK$3-1)=\"\",\"\",VLOOKUP(INDEX(campsByItinerary,numericItinerary($A28),BK$3-1),campInfo,12))","v":"North"},{"$f":"IF(INDEX(campsByItinerary,numericItinerary($A28),BL$3-1)=\"\",\"\",VLOOKUP(INDEX(campsByItinerary,numericItinerary($A28),BL$3-1),campInfo,12))","v":"North"},{"$f":"IF(INDEX(campsByItinerary,numericItinerary($A28),BM$3-1)=\"\",\"\",VLOOKUP(INDEX(campsByItinerary,numericItinerary($A28),BM$3-1),campInfo,12))","v":"North"},{"$f":"getfoodPU(\"First\",numericItinerary($A28))","v":2},{"$f":"getfoodPU(\"Max\",numericItinerary($A28))","v":4}]
["12-26","50 Miler North","S",75,"Trail Canyon","Dean Skyline","Pueblano","Copper Park","Greenwood Canyon","Ring Place","Beatty Lakes","Rich Cabins","Ponil","McBride Canyon","Camping HQ",null,null,"Baldy Town",null,"Ring Place",null,null,"Ponil",null,"Nine Mile Gate","Six Mile Gate","",{"$f":"IF(AC29=\"\",\"\",numericItinerary(A29) & \":\" & AC29)","v":""},null,null,null,"y",null,"",null,null,7070,7967,8069,10530,8300,8124,8178.6580000000004,7728,7150,7105,897,102,2461,2230,176,54.658000000000357,450.65800000000036,578,45,{"$f":"IF(INDEX(campsByItinerary,numericItinerary($A29),BD$3-1)=\"\",\"\",VLOOKUP(INDEX(campsByItinerary,numericItinerary($A29),BD$3-1),campInfo,8))","v":""},{"$f":"IF(INDEX(campsByItinerary,numericItinerary($A29),BE$3-1)=\"\",\"\",VLOOKUP(INDEX(campsByItinerary,numericItinerary($A29),BE$3-1),campInfo,8))","v":""},{"$f":"IF(INDEX(campsByItinerary,numericItinerary($A29),BF$3-1)=\"\",\"\",VLOOKUP(INDEX(campsByItinerary,numericItinerary($A29),BF$3-1),campInfo,8))","v":"Y"},{"$f":"IF(INDEX(campsByItinerary,numericItinerary($A29),BG$3-1)=\"\",\"\",VLOOKUP(INDEX(campsByItinerary,numericItinerary($A29),BG$3-1),campInfo,8))","v":""},{"$f":"IF(INDEX(campsByItinerary,numericItinerary($A29),BH$3-1)=\"\",\"\",VLOOKUP(INDEX(campsByItinerary,numericItinerary($A29),BH$3-1),campInfo,8))","v":""},{"$f":"IF(INDEX(campsByItinerary,numericItinerary($A29),BI$3-1)=\"\",\"\",VLOOKUP(INDEX(campsByItinerary,numericItinerary($A29),BI$3-1),campInfo,8))","v":"Y"},{"$f":"IF(INDEX(campsByItinerary,numericItinerary($A29),BJ$3-1)=\"\",\"\",VLOOKUP(INDEX(campsByItinerary,numericItinerary($A29),BJ$3-1),campInfo,8))","v":""},{"$f":"IF(INDEX(campsByItinerary,numericItinerary($A29),BK$3-1)=\"\",\"\",VLOOKUP(INDEX(campsByItinerary,numericItinerary($A29),BK$3-1),campInfo,8))","v":"Y"},{"$f":"IF(INDEX(campsByItinerary,numericItinerary($A29),BL$3-1)=\"\",\"\",VLOOKUP(INDEX(campsByItinerary,numericItinerary($A29),BL$3-1),campInfo,8))","v":"Y"},{"$f":"IF(INDEX(campsByItinerary,numericItinerary($A29),BM$3-1)=\"\",\"\",VLOOKUP(INDEX(campsByItinerary,numericItinerary($A29),BM$3-1),campInfo,8))","v":""},"Y","Y","","Y","Y","","Y","","","Y",{"$f":"IF(INDEX(campsByItinerary,numericItinerary($A29),BD$3-1)=\"\",\"\",VLOOKUP(INDEX(campsByItinerary,numericItinerary($A29),BD$3-1),campInfo,10))","v":""},{"$f":"IF(INDEX(campsByItinerary,numericItinerary($A29),BE$3-1)=\"\",\"\",VLOOKUP(INDEX(campsByItinerary,numericItinerary($A29),BE$3-1),campInfo,10))","v":"Y"},{"$f":"IF(INDEX(campsByItinerary,numericItinerary($A29),BF$3-1)=\"\",\"\",VLOOKUP(INDEX(campsByItinerary,numericItinerary($A29),BF$3-1),campInfo,10))","v":""},{"$f":"IF(INDEX(campsByItinerary,numericItinerary($A29),BG$3-1)=\"\",\"\",VLOOKUP(INDEX(campsByItinerary,numericItinerary($A29),BG$3-1),campInfo,10))","v":""},{"$f":"IF(INDEX(campsByItinerary,numericItinerary($A29),BH$3-1)=\"\",\"\",VLOOKUP(INDEX(campsByItinerary,numericItinerary($A29),BH$3-1),campInfo,10))","v":""},{"$f":"IF(INDEX(campsByItinerary,numericItinerary($A29),BI$3-1)=\"\",\"\",VLOOKUP(INDEX(campsByItinerary,numericItinerary($A29),BI$3-1),campInfo,10))","v":""},{"$f":"IF(INDEX(campsByItinerary,numericItinerary($A29),BJ$3-1)=\"\",\"\",VLOOKUP(INDEX(campsByItinerary,numericItinerary($A29),BJ$3-1),campInfo,10))","v":"Y"},{"$f":"IF(INDEX(campsByItinerary,numericItinerary($A29),BK$3-1)=\"\",\"\",VLOOKUP(INDEX(campsByItinerary,numericItinerary($A29),BK$3-1),campInfo,10))","v":""},{"$f":"IF(INDEX(campsByItinerary,numericItinerary($A29),BL$3-1)=\"\",\"\",VLOOKUP(INDEX(campsByItinerary,numericItinerary($A29),BL$3-1),campInfo,10))","v":""},{"$f":"IF(INDEX(campsByItinerary,numericItinerary($A29),BM$3-1)=\"\",\"\",VLOOKUP(INDEX(campsByItinerary,numericItinerary($A29),BM$3-1),campInfo,10))","v":"Y"},null,"","","","","","","","","",{"$f":"INDEX(campsByItinerary,numericItinerary($A29),BD$3-1)","v":"Trail Canyon"},{"$f":"IF(INDEX(campsByItinerary,numericItinerary($A29),BE$3-1)=\"\",\"\",VLOOKUP(INDEX(campsByItinerary,numericItinerary($A29),BE$3-1),campInfo,2))","v":"North"},{"$f":"IF(INDEX(campsByItinerary,numericItinerary($A29),BF$3-1)=\"\",\"\",VLOOKUP(INDEX(campsByItinerary,numericItinerary($A29),BF$3-1),campInfo,2))","v":"North"},{"$f":"IF(INDEX(campsByItinerary,numericItinerary($A29),BG$3-1)=\"\",\"\",VLOOKUP(INDEX(campsByItinerary,numericItinerary($A29),BG$3-1),campInfo,2))","v":"North"},{"$f":"IF(INDEX(campsByItinerary,numericItinerary($A29),BH$3-1)=\"\",\"\",VLOOKUP(INDEX(campsByItinerary,numericItinerary($A29),BH$3-1),campInfo,2))","v":"Valle Vidal"},{"$f":"IF(INDEX(campsByItinerary,numericItinerary($A29),BI$3-1)=\"\",\"\",VLOOKUP(INDEX(campsByItinerary,numericItinerary($A29),BI$3-1),campInfo,2))","v":"Valle Vidal"},{"$f":"IF(INDEX(campsByItinerary,numericItinerary($A29),BJ$3-1)=\"\",\"\",VLOOKUP(INDEX(campsByItinerary,numericItinerary($A29),BJ$3-1),campInfo,2))","v":"Valle Vidal"},{"$f":"IF(INDEX(campsByItinerary,numericItinerary($A29),BK$3-1)=\"\",\"\",VLOOKUP(INDEX(campsByItinerary,numericItinerary($A29),BK$3-1),campInfo,2))","v":"Valle Vidal"},{"$f":"IF(INDEX(campsByItinerary,numericItinerary($A29),BL$3-1)=\"\",\"\",VLOOKUP(INDEX(campsByItinerary,numericItinerary($A29),BL$3-1),campInfo,2))","v":"North"},{"$f":"IF(INDEX(campsByItinerary,numericItinerary($A29),BM$3-1)=\"\",\"\",VLOOKUP(INDEX(campsByItinerary,numericItinerary($A29),BM$3-1),campInfo,2))","v":"North"},{"$f":"IF(INDEX(campsByItinerary,numericItinerary($A29),BD$3-1)=\"\",\"\",VLOOKUP(INDEX(campsByItinerary,numericItinerary($A29),BD$3-1),campInfo,12))","v":"North"},{"$f":"IF(INDEX(campsByItinerary,numericItinerary($A29),BE$3-1)=\"\",\"\",VLOOKUP(INDEX(campsByItinerary,numericItinerary($A29),BE$3-1),campInfo,12))","v":"North"},{"$f":"IF(INDEX(campsByItinerary,numericItinerary($A29),BF$3-1)=\"\",\"\",VLOOKUP(INDEX(campsByItinerary,numericItinerary($A29),BF$3-1),campInfo,12))","v":"North"},{"$f":"IF(INDEX(campsByItinerary,numericItinerary($A29),BG$3-1)=\"\",\"\",VLOOKUP(INDEX(campsByItinerary,numericItinerary($A29),BG$3-1),campInfo,12))","v":"North"},{"$f":"IF(INDEX(campsByItinerary,numericItinerary($A29),BH$3-1)=\"\",\"\",VLOOKUP(INDEX(campsByItinerary,numericItinerary($A29),BH$3-1),campInfo,12))","v":"North"},{"$f":"IF(INDEX(campsByItinerary,numericItinerary($A29),BI$3-1)=\"\",\"\",VLOOKUP(INDEX(campsByItinerary,numericItinerary($A29),BI$3-1),campInfo,12))","v":"North"},{"$f":"IF(INDEX(campsByItinerary,numericItinerary($A29),BJ$3-1)=\"\",\"\",VLOOKUP(INDEX(campsByItinerary,numericItinerary($A29),BJ$3-1),campInfo,12))","v":"North"},{"$f":"IF(INDEX(campsByItinerary,numericItinerary($A29),BK$3-1)=\"\",\"\",VLOOKUP(INDEX(campsByItinerary,numericItinerary($A29),BK$3-1),campInfo,12))","v":"North"},{"$f":"IF(INDEX(campsByItinerary,numericItinerary($A29),BL$3-1)=\"\",\"\",VLOOKUP(INDEX(campsByItinerary,numericItinerary($A29),BL$3-1),campInfo,12))","v":"North"},{"$f":"IF(INDEX(campsByItinerary,numericItinerary($A29),BM$3-1)=\"\",\"\",VLOOKUP(INDEX(campsByItinerary,numericItinerary($A29),BM$3-1),campInfo,12))","v":"North"},{"$f":"getfoodPU(\"First\",numericItinerary($A29))","v":3},{"$f":"getfoodPU(\"Max\",numericItinerary($A29))","v":3}]
["12-27",null,"S",76,"Hells Fire Canyon","Chase Cow","Coyote Howl","Rabbit Ear","Ring Place","Greenwood Canyon","Azurite","Miranda","Pueblano","Sioux","Camping HQ",null,null,null,"Ring Place",null,null,"Baldy Town",null,null,"Chase","Ponil","",{"$f":"IF(AC30=\"\",\"\",numericItinerary(A30) & \":\" & AC30)","v":""},null,null,null,"y",null,"",null,null,6837,7177,7560.52,8115,8124,8300,10640,8898,8069,7382,340,383.52000000000044,554.47999999999956,9,176,2340,1742,829,687,{"$f":"IF(INDEX(campsByItinerary,numericItinerary($A30),BD$3-1)=\"\",\"\",VLOOKUP(INDEX(campsByItinerary,numericItinerary($A30),BD$3-1),campInfo,8))","v":""},{"$f":"IF(INDEX(campsByItinerary,numericItinerary($A30),BE$3-1)=\"\",\"\",VLOOKUP(INDEX(campsByItinerary,numericItinerary($A30),BE$3-1),campInfo,8))","v":"Y"},{"$f":"IF(INDEX(campsByItinerary,numericItinerary($A30),BF$3-1)=\"\",\"\",VLOOKUP(INDEX(campsByItinerary,numericItinerary($A30),BF$3-1),campInfo,8))","v":""},{"$f":"IF(INDEX(campsByItinerary,numericItinerary($A30),BG$3-1)=\"\",\"\",VLOOKUP(INDEX(campsByItinerary,numericItinerary($A30),BG$3-1),campInfo,8))","v":""},{"$f":"IF(INDEX(campsByItinerary,numericItinerary($A30),BH$3-1)=\"\",\"\",VLOOKUP(INDEX(campsByItinerary,numericItinerary($A30),BH$3-1),campInfo,8))","v":"Y"},{"$f":"IF(INDEX(campsByItinerary,numericItinerary($A30),BI$3-1)=\"\",\"\",VLOOKUP(INDEX(campsByItinerary,numericItinerary($A30),BI$3-1),campInfo,8))","v":""},{"$f":"IF(INDEX(campsByItinerary,numericItinerary($A30),BJ$3-1)=\"\",\"\",VLOOKUP(INDEX(campsByItinerary,numericItinerary($A30),BJ$3-1),campInfo,8))","v":""},{"$f":"IF(INDEX(campsByItinerary,numericItinerary($A30),BK$3-1)=\"\",\"\",VLOOKUP(INDEX(campsByItinerary,numericItinerary($A30),BK$3-1),campInfo,8))","v":"Y"},{"$f":"IF(INDEX(campsByItinerary,numericItinerary($A30),BL$3-1)=\"\",\"\",VLOOKUP(INDEX(campsByItinerary,numericItinerary($A30),BL$3-1),campInfo,8))","v":"Y"},{"$f":"IF(INDEX(campsByItinerary,numericItinerary($A30),BM$3-1)=\"\",\"\",VLOOKUP(INDEX(campsByItinerary,numericItinerary($A30),BM$3-1),campInfo,8))","v":""},"Y","","Y","Y","","Y","Y","","","Y",{"$f":"IF(INDEX(campsByItinerary,numericItinerary($A30),BD$3-1)=\"\",\"\",VLOOKUP(INDEX(campsByItinerary,numericItinerary($A30),BD$3-1),campInfo,10))","v":""},{"$f":"IF(INDEX(campsByItinerary,numericItinerary($A30),BE$3-1)=\"\",\"\",VLOOKUP(INDEX(campsByItinerary,numericItinerary($A30),BE$3-1),campInfo,10))","v":""},{"$f":"IF(INDEX(campsByItinerary,numericItinerary($A30),BF$3-1)=\"\",\"\",VLOOKUP(INDEX(campsByItinerary,numericItinerary($A30),BF$3-1),campInfo,10))","v":""},{"$f":"IF(INDEX(campsByItinerary,numericItinerary($A30),BG$3-1)=\"\",\"\",VLOOKUP(INDEX(campsByItinerary,numericItinerary($A30),BG$3-1),campInfo,10))","v":"Y"},{"$f":"IF(INDEX(campsByItinerary,numericItinerary($A30),BH$3-1)=\"\",\"\",VLOOKUP(INDEX(campsByItinerary,numericItinerary($A30),BH$3-1),campInfo,10))","v":""},{"$f":"IF(INDEX(campsByItinerary,numericItinerary($A30),BI$3-1)=\"\",\"\",VLOOKUP(INDEX(campsByItinerary,numericItinerary($A30),BI$3-1),campInfo,10))","v":""},{"$f":"IF(INDEX(campsByItinerary,numericItinerary($A30),BJ$3-1)=\"\",\"\",VLOOKUP(INDEX(campsByItinerary,numericItinerary($A30),BJ$3-1),campInfo,10))","v":"Y"},{"$f":"IF(INDEX(campsByItinerary,numericItinerary($A30),BK$3-1)=\"\",\"\",VLOOKUP(INDEX(campsByItinerary,numericItinerary($A30),BK$3-1),campInfo,10))","v":""},{"$f":"IF(INDEX(campsByItinerary,numericItinerary($A30),BL$3-1)=\"\",\"\",VLOOKUP(INDEX(campsByItinerary,numericItinerary($A30),BL$3-1),campInfo,10))","v":""},{"$f":"IF(INDEX(campsByItinerary,numericItinerary($A30),BM$3-1)=\"\",\"\",VLOOKUP(INDEX(campsByItinerary,numericItinerary($A30),BM$3-1),campInfo,10))","v":""},null,"","","","","","","","","",{"$f":"INDEX(campsByItinerary,numericItinerary($A30),BD$3-1)","v":"Hells Fire Canyon"},{"$f":"IF(INDEX(campsByItinerary,numericItinerary($A30),BE$3-1)=\"\",\"\",VLOOKUP(INDEX(campsByItinerary,numericItinerary($A30),BE$3-1),campInfo,2))","v":"North"},{"$f":"IF(INDEX(campsByItinerary,numericItinerary($A30),BF$3-1)=\"\",\"\",VLOOKUP(INDEX(campsByItinerary,numericItinerary($A30),BF$3-1),campInfo,2))","v":"North"},{"$f":"IF(INDEX(campsByItinerary,numericItinerary($A30),BG$3-1)=\"\",\"\",VLOOKUP(INDEX(campsByItinerary,numericItinerary($A30),BG$3-1),campInfo,2))","v":"North"},{"$f":"IF(INDEX(campsByItinerary,numericItinerary($A30),BH$3-1)=\"\",\"\",VLOOKUP(INDEX(campsByItinerary,numericItinerary($A30),BH$3-1),campInfo,2))","v":"Valle Vidal"},{"$f":"IF(INDEX(campsByItinerary,numericItinerary($A30),BI$3-1)=\"\",\"\",VLOOKUP(INDEX(campsByItinerary,numericItinerary($A30),BI$3-1),campInfo,2))","v":"Valle Vidal"},{"$f":"IF(INDEX(campsByItinerary,numericItinerary($A30),BJ$3-1)=\"\",\"\",VLOOKUP(INDEX(campsByItinerary,numericItinerary($A30),BJ$3-1),campInfo,2))","v":"North"},{"$f":"IF(INDEX(campsByItinerary,numericItinerary($A30),BK$3-1)=\"\",\"\",VLOOKUP(INDEX(campsByItinerary,numericItinerary($A30),BK$3-1),campInfo,2))","v":"North"},{"$f":"IF(INDEX(campsByItinerary,numericItinerary($A30),BL$3-1)=\"\",\"\",VLOOKUP(INDEX(campsByItinerary,numericItinerary($A30),BL$3-1),campInfo,2))","v":"North"},{"$f":"IF(INDEX(campsByItinerary,numericItinerary($A30),BM$3-1)=\"\",\"\",VLOOKUP(INDEX(campsByItinerary,numericItinerary($A30),BM$3-1),campInfo,2))","v":"North"},{"$f":"IF(INDEX(campsByItinerary,numericItinerary($A30),BD$3-1)=\"\",\"\",VLOOKUP(INDEX(campsByItinerary,numericItinerary($A30),BD$3-1),campInfo,12))","v":"North"},{"$f":"IF(INDEX(campsByItinerary,numericItinerary($A30),BE$3-1)=\"\",\"\",VLOOKUP(INDEX(campsByItinerary,numericItinerary($A30),BE$3-1),campInfo,12))","v":"North"},{"$f":"IF(INDEX(campsByItinerary,numericItinerary($A30),BF$3-1)=\"\",\"\",VLOOKUP(INDEX(campsByItinerary,numericItinerary($A30),BF$3-1),campInfo,12))","v":"North"},{"$f":"IF(INDEX(campsByItinerary,numericItinerary($A30),BG$3-1)=\"\",\"\",VLOOKUP(INDEX(campsByItinerary,numericItinerary($A30),BG$3-1),campInfo,12))","v":"North"},{"$f":"IF(INDEX(campsByItinerary,numericItinerary($A30),BH$3-1)=\"\",\"\",VLOOKUP(INDEX(campsByItinerary,numericItinerary($A30),BH$3-1),campInfo,12))","v":"North"},{"$f":"IF(INDEX(campsByItinerary,numericItinerary($A30),BI$3-1)=\"\",\"\",VLOOKUP(INDEX(campsByItinerary,numericItinerary($A30),BI$3-1),campInfo,12))","v":"North"},{"$f":"IF(INDEX(campsByItinerary,numericItinerary($A30),BJ$3-1)=\"\",\"\",VLOOKUP(INDEX(campsByItinerary,numericItinerary($A30),BJ$3-1),campInfo,12))","v":"North"},{"$f":"IF(INDEX(campsByItinerary,numericItinerary($A30),BK$3-1)=\"\",\"\",VLOOKUP(INDEX(campsByItinerary,numericItinerary($A30),BK$3-1),campInfo,12))","v":"North"},{"$f":"IF(INDEX(campsByItinerary,numericItinerary($A30),BL$3-1)=\"\",\"\",VLOOKUP(INDEX(campsByItinerary,numericItinerary($A30),BL$3-1),campInfo,12))","v":"North"},{"$f":"IF(INDEX(campsByItinerary,numericItinerary($A30),BM$3-1)=\"\",\"\",VLOOKUP(INDEX(campsByItinerary,numericItinerary($A30),BM$3-1),campInfo,12))","v":"North"},{"$f":"getfoodPU(\"First\",numericItinerary($A30))","v":4},{"$f":"getfoodPU(\"Max\",numericItinerary($A30))","v":4}]
["12-28",null,"SS",80,"Hells Fire Canyon","Indian Writings","Ponil","Dean Cow","Harlan","Devil's Wash Basin","Sawmill","Comanche Peak","Hunting Lodge","Tooth Ridge","Camping HQ",null,null,"Ponil",null,null,"Sawmill",null,null,null,"Chase","Hike In","y",{"$f":"IF(AC31=\"\",\"\",numericItinerary(A31) & \":\" & AC31)","v":"28:6"},6,"Bear Canyon","S",null,null,"y",null,"y",6837,6979,7150,7232,7550,8515,9193,11070,7776,8240,142,171,82,318,965,678,1877,3294,464,{"$f":"IF(INDEX(campsByItinerary,numericItinerary($A31),BD$3-1)=\"\",\"\",VLOOKUP(INDEX(campsByItinerary,numericItinerary($A31),BD$3-1),campInfo,8))","v":""},{"$f":"IF(INDEX(campsByItinerary,numericItinerary($A31),BE$3-1)=\"\",\"\",VLOOKUP(INDEX(campsByItinerary,numericItinerary($A31),BE$3-1),campInfo,8))","v":"Y"},{"$f":"IF(INDEX(campsByItinerary,numericItinerary($A31),BF$3-1)=\"\",\"\",VLOOKUP(INDEX(campsByItinerary,numericItinerary($A31),BF$3-1),campInfo,8))","v":"Y"},{"$f":"IF(INDEX(campsByItinerary,numericItinerary($A31),BG$3-1)=\"\",\"\",VLOOKUP(INDEX(campsByItinerary,numericItinerary($A31),BG$3-1),campInfo,8))","v":"Y"},{"$f":"IF(INDEX(campsByItinerary,numericItinerary($A31),BH$3-1)=\"\",\"\",VLOOKUP(INDEX(campsByItinerary,numericItinerary($A31),BH$3-1),campInfo,8))","v":"Y"},{"$f":"IF(INDEX(campsByItinerary,numericItinerary($A31),BI$3-1)=\"\",\"\",VLOOKUP(INDEX(campsByItinerary,numericItinerary($A31),BI$3-1),campInfo,8))","v":""},{"$f":"IF(INDEX(campsByItinerary,numericItinerary($A31),BJ$3-1)=\"\",\"\",VLOOKUP(INDEX(campsByItinerary,numericItinerary($A31),BJ$3-1),campInfo,8))","v":"Y"},{"$f":"IF(INDEX(campsByItinerary,numericItinerary($A31),BK$3-1)=\"\",\"\",VLOOKUP(INDEX(campsByItinerary,numericItinerary($A31),BK$3-1),campInfo,8))","v":""},{"$f":"IF(INDEX(campsByItinerary,numericItinerary($A31),BL$3-1)=\"\",\"\",VLOOKUP(INDEX(campsByItinerary,numericItinerary($A31),BL$3-1),campInfo,8))","v":"N"},{"$f":"IF(INDEX(campsByItinerary,numericItinerary($A31),BM$3-1)=\"\",\"\",VLOOKUP(INDEX(campsByItinerary,numericItinerary($A31),BM$3-1),campInfo,8))","v":""},"Y","","","","","Y","","Y","Y","Y",{"$f":"IF(INDEX(campsByItinerary,numericItinerary($A31),BD$3-1)=\"\",\"\",VLOOKUP(INDEX(campsByItinerary,numericItinerary($A31),BD$3-1),campInfo,10))","v":""},{"$f":"IF(INDEX(campsByItinerary,numericItinerary($A31),BE$3-1)=\"\",\"\",VLOOKUP(INDEX(campsByItinerary,numericItinerary($A31),BE$3-1),campInfo,10))","v":""},{"$f":"IF(INDEX(campsByItinerary,numericItinerary($A31),BF$3-1)=\"\",\"\",VLOOKUP(INDEX(campsByItinerary,numericItinerary($A31),BF$3-1),campInfo,10))","v":""},{"$f":"IF(INDEX(campsByItinerary,numericItinerary($A31),BG$3-1)=\"\",\"\",VLOOKUP(INDEX(campsByItinerary,numericItinerary($A31),BG$3-1),campInfo,10))","v":""},{"$f":"IF(INDEX(campsByItinerary,numericItinerary($A31),BH$3-1)=\"\",\"\",VLOOKUP(INDEX(campsByItinerary,numericItinerary($A31),BH$3-1),campInfo,10))","v":""},{"$f":"IF(INDEX(campsByItinerary,numericItinerary($A31),BI$3-1)=\"\",\"\",VLOOKUP(INDEX(campsByItinerary,numericItinerary($A31),BI$3-1),campInfo,10))","v":"Y"},{"$f":"IF(INDEX(campsByItinerary,numericItinerary($A31),BJ$3-1)=\"\",\"\",VLOOKUP(INDEX(campsByItinerary,numericItinerary($A31),BJ$3-1),campInfo,10))","v":""},{"$f":"IF(INDEX(campsByItinerary,numericItinerary($A31),BK$3-1)=\"\",\"\",VLOOKUP(INDEX(campsByItinerary,numericItinerary($A31),BK$3-1),campInfo,10))","v":"Y"},{"$f":"IF(INDEX(campsByItinerary,numericItinerary($A31),BL$3-1)=\"\",\"\",VLOOKUP(INDEX(campsByItinerary,numericItinerary($A31),BL$3-1),campInfo,10))","v":""},{"$f":"IF(INDEX(campsByItinerary,numericItinerary($A31),BM$3-1)=\"\",\"\",VLOOKUP(INDEX(campsByItinerary,numericItinerary($A31),BM$3-1),campInfo,10))","v":"Y"},null,"","","","","","","","","",{"$f":"INDEX(campsByItinerary,numericItinerary($A31),BD$3-1)","v":"Hells Fire Canyon"},{"$f":"IF(INDEX(campsByItinerary,numericItinerary($A31),BE$3-1)=\"\",\"\",VLOOKUP(INDEX(campsByItinerary,numericItinerary($A31),BE$3-1),campInfo,2))","v":"North"},{"$f":"IF(INDEX(campsByItinerary,numericItinerary($A31),BF$3-1)=\"\",\"\",VLOOKUP(INDEX(campsByItinerary,numericItinerary($A31),BF$3-1),campInfo,2))","v":"North"},{"$f":"IF(INDEX(campsByItinerary,numericItinerary($A31),BG$3-1)=\"\",\"\",VLOOKUP(INDEX(campsByItinerary,numericItinerary($A31),BG$3-1),campInfo,2))","v":"North"},{"$f":"IF(INDEX(campsByItinerary,numericItinerary($A31),BH$3-1)=\"\",\"\",VLOOKUP(INDEX(campsByItinerary,numericItinerary($A31),BH$3-1),campInfo,2))","v":"Central"},{"$f":"IF(INDEX(campsByItinerary,numericItinerary($A31),BI$3-1)=\"\",\"\",VLOOKUP(INDEX(campsByItinerary,numericItinerary($A31),BI$3-1),campInfo,2))","v":"Central"},{"$f":"IF(INDEX(campsByItinerary,numericItinerary($A31),BJ$3-1)=\"\",\"\",VLOOKUP(INDEX(campsByItinerary,numericItinerary($A31),BJ$3-1),campInfo,2))","v":"Central"},{"$f":"IF(INDEX(campsByItinerary,numericItinerary($A31),BK$3-1)=\"\",\"\",VLOOKUP(INDEX(campsByItinerary,numericItinerary($A31),BK$3-1),campInfo,2))","v":"Central"},{"$f":"IF(INDEX(campsByItinerary,numericItinerary($A31),BL$3-1)=\"\",\"\",VLOOKUP(INDEX(campsByItinerary,numericItinerary($A31),BL$3-1),campInfo,2))","v":"Central"},{"$f":"IF(INDEX(campsByItinerary,numericItinerary($A31),BM$3-1)=\"\",\"\",VLOOKUP(INDEX(campsByItinerary,numericItinerary($A31),BM$3-1),campInfo,2))","v":"Central"},{"$f":"IF(INDEX(campsByItinerary,numericItinerary($A31),BD$3-1)=\"\",\"\",VLOOKUP(INDEX(campsByItinerary,numericItinerary($A31),BD$3-1),campInfo,12))","v":"North"},{"$f":"IF(INDEX(campsByItinerary,numericItinerary($A31),BE$3-1)=\"\",\"\",VLOOKUP(INDEX(campsByItinerary,numericItinerary($A31),BE$3-1),campInfo,12))","v":"North"},{"$f":"IF(INDEX(campsByItinerary,numericItinerary($A31),BF$3-1)=\"\",\"\",VLOOKUP(INDEX(campsByItinerary,numericItinerary($A31),BF$3-1),campInfo,12))","v":"North"},{"$f":"IF(INDEX(campsByItinerary,numericItinerary($A31),BG$3-1)=\"\",\"\",VLOOKUP(INDEX(campsByItinerary,numericItinerary($A31),BG$3-1),campInfo,12))","v":"North"},{"$f":"IF(INDEX(campsByItinerary,numericItinerary($A31),BH$3-1)=\"\",\"\",VLOOKUP(INDEX(campsByItinerary,numericItinerary($A31),BH$3-1),campInfo,12))","v":"South"},{"$f":"IF(INDEX(campsByItinerary,numericItinerary($A31),BI$3-1)=\"\",\"\",VLOOKUP(INDEX(campsByItinerary,numericItinerary($A31),BI$3-1),campInfo,12))","v":"South"},{"$f":"IF(INDEX(campsByItinerary,numericItinerary($A31),BJ$3-1)=\"\",\"\",VLOOKUP(INDEX(campsByItinerary,numericItinerary($A31),BJ$3-1),campInfo,12))","v":"South"},{"$f":"IF(INDEX(campsByItinerary,numericItinerary($A31),BK$3-1)=\"\",\"\",VLOOKUP(INDEX(campsByItinerary,numericItinerary($A31),BK$3-1),campInfo,12))","v":"South"},{"$f":"IF(INDEX(campsByItinerary,numericItinerary($A31),BL$3-1)=\"\",\"\",VLOOKUP(INDEX(campsByItinerary,numericItinerary($A31),BL$3-1),campInfo,12))","v":"South"},{"$f":"IF(INDEX(campsByItinerary,numericItinerary($A31),BM$3-1)=\"\",\"\",VLOOKUP(INDEX(campsByItinerary,numericItinerary($A31),BM$3-1),campInfo,12))","v":"South"},{"$f":"getfoodPU(\"First\",numericItinerary($A31))","v":3},{"$f":"getfoodPU(\"Max\",numericItinerary($A31))","v":3}]
["12-29",null,"SS",83,"Bluestem","Pueblano Ruins","Baldy Town","Baldy Town","Mistletoe","Cimarroncita","Whistle Punk","Red Hills","Beaubien","Shaefers Pass","Camping HQ",null,null,"Baldy Town",null,"Cimarroncita",null,null,"Phillips Junction",null,"Ponil","Hike In","y",{"$f":"IF(AC32=\"\",\"\",numericItinerary(A32) & \":\" & AC32)","v":"29:7"},7,"Bear Canyon","S","y","y","y",null,"y",7495,8359,9851,9851,8295,7373,10052,10280,9330,8724,864,1492,0,1556,922,2679,228,950,606,{"$f":"IF(INDEX(campsByItinerary,numericItinerary($A32),BD$3-1)=\"\",\"\",VLOOKUP(INDEX(campsByItinerary,numericItinerary($A32),BD$3-1),campInfo,8))","v":""},{"$f":"IF(INDEX(campsByItinerary,numericItinerary($A32),BE$3-1)=\"\",\"\",VLOOKUP(INDEX(campsByItinerary,numericItinerary($A32),BE$3-1),campInfo,8))","v":""},{"$f":"IF(INDEX(campsByItinerary,numericItinerary($A32),BF$3-1)=\"\",\"\",VLOOKUP(INDEX(campsByItinerary,numericItinerary($A32),BF$3-1),campInfo,8))","v":"Y"},{"$f":"IF(INDEX(campsByItinerary,numericItinerary($A32),BG$3-1)=\"\",\"\",VLOOKUP(INDEX(campsByItinerary,numericItinerary($A32),BG$3-1),campInfo,8))","v":"Y"},{"$f":"IF(INDEX(campsByItinerary,numericItinerary($A32),BH$3-1)=\"\",\"\",VLOOKUP(INDEX(campsByItinerary,numericItinerary($A32),BH$3-1),campInfo,8))","v":""},{"$f":"IF(INDEX(campsByItinerary,numericItinerary($A32),BI$3-1)=\"\",\"\",VLOOKUP(INDEX(campsByItinerary,numericItinerary($A32),BI$3-1),campInfo,8))","v":"Y"},{"$f":"IF(INDEX(campsByItinerary,numericItinerary($A32),BJ$3-1)=\"\",\"\",VLOOKUP(INDEX(campsByItinerary,numericItinerary($A32),BJ$3-1),campInfo,8))","v":""},{"$f":"IF(INDEX(campsByItinerary,numericItinerary($A32),BK$3-1)=\"\",\"\",VLOOKUP(INDEX(campsByItinerary,numericItinerary($A32),BK$3-1),campInfo,8))","v":""},{"$f":"IF(INDEX(campsByItinerary,numericItinerary($A32),BL$3-1)=\"\",\"\",VLOOKUP(INDEX(campsByItinerary,numericItinerary($A32),BL$3-1),campInfo,8))","v":"Y"},{"$f":"IF(INDEX(campsByItinerary,numericItinerary($A32),BM$3-1)=\"\",\"\",VLOOKUP(INDEX(campsByItinerary,numericItinerary($A32),BM$3-1),campInfo,8))","v":""},"Y","Y","","","Y","","Y","Y","","Y",{"$f":"IF(INDEX(campsByItinerary,numericItinerary($A32),BD$3-1)=\"\",\"\",VLOOKUP(INDEX(campsByItinerary,numericItinerary($A32),BD$3-1),campInfo,10))","v":"Y"},{"$f":"IF(INDEX(campsByItinerary,numericItinerary($A32),BE$3-1)=\"\",\"\",VLOOKUP(INDEX(campsByItinerary,numericItinerary($A32),BE$3-1),campInfo,10))","v":""},{"$f":"IF(INDEX(campsByItinerary,numericItinerary($A32),BF$3-1)=\"\",\"\",VLOOKUP(INDEX(campsByItinerary,numericItinerary($A32),BF$3-1),campInfo,10))","v":""},{"$f":"IF(INDEX(campsByItinerary,numericItinerary($A32),BG$3-1)=\"\",\"\",VLOOKUP(INDEX(campsByItinerary,numericItinerary($A32),BG$3-1),campInfo,10))","v":""},{"$f":"IF(INDEX(campsByItinerary,numericItinerary($A32),BH$3-1)=\"\",\"\",VLOOKUP(INDEX(campsByItinerary,numericItinerary($A32),BH$3-1),campInfo,10))","v":"Y"},{"$f":"IF(INDEX(campsByItinerary,numericItinerary($A32),BI$3-1)=\"\",\"\",VLOOKUP(INDEX(campsByItinerary,numericItinerary($A32),BI$3-1),campInfo,10))","v":""},{"$f":"IF(INDEX(campsByItinerary,numericItinerary($A32),BJ$3-1)=\"\",\"\",VLOOKUP(INDEX(campsByItinerary,numericItinerary($A32),BJ$3-1),campInfo,10))","v":""},{"$f":"IF(INDEX(campsByItinerary,numericItinerary($A32),BK$3-1)=\"\",\"\",VLOOKUP(INDEX(campsByItinerary,numericItinerary($A32),BK$3-1),campInfo,10))","v":""},{"$f":"IF(INDEX(campsByItinerary,numericItinerary($A32),BL$3-1)=\"\",\"\",VLOOKUP(INDEX(campsByItinerary,numericItinerary($A32),BL$3-1),campInfo,10))","v":""},{"$f":"IF(INDEX(campsByItinerary,numericItinerary($A32),BM$3-1)=\"\",\"\",VLOOKUP(INDEX(campsByItinerary,numericItinerary($A32),BM$3-1),campInfo,10))","v":"Y"},null,"","","Y","","","","","","",{"$f":"INDEX(campsByItinerary,numericItinerary($A32),BD$3-1)","v":"Bluestem"},{"$f":"IF(INDEX(campsByItinerary,numericItinerary($A32),BE$3-1)=\"\",\"\",VLOOKUP(INDEX(campsByItinerary,numericItinerary($A32),BE$3-1),campInfo,2))","v":"North"},{"$f":"IF(INDEX(campsByItinerary,numericItinerary($A32),BF$3-1)=\"\",\"\",VLOOKUP(INDEX(campsByItinerary,numericItinerary($A32),BF$3-1),campInfo,2))","v":"North"},{"$f":"IF(INDEX(campsByItinerary,numericItinerary($A32),BG$3-1)=\"\",\"\",VLOOKUP(INDEX(campsByItinerary,numericItinerary($A32),BG$3-1),campInfo,2))","v":"North"},{"$f":"IF(INDEX(campsByItinerary,numericItinerary($A32),BH$3-1)=\"\",\"\",VLOOKUP(INDEX(campsByItinerary,numericItinerary($A32),BH$3-1),campInfo,2))","v":"Central"},{"$f":"IF(INDEX(campsByItinerary,numericItinerary($A32),BI$3-1)=\"\",\"\",VLOOKUP(INDEX(campsByItinerary,numericItinerary($A32),BI$3-1),campInfo,2))","v":"Central"},{"$f":"IF(INDEX(campsByItinerary,numericItinerary($A32),BJ$3-1)=\"\",\"\",VLOOKUP(INDEX(campsByItinerary,numericItinerary($A32),BJ$3-1),campInfo,2))","v":"Central"},{"$f":"IF(INDEX(campsByItinerary,numericItinerary($A32),BK$3-1)=\"\",\"\",VLOOKUP(INDEX(campsByItinerary,numericItinerary($A32),BK$3-1),campInfo,2))","v":"South"},{"$f":"IF(INDEX(campsByItinerary,numericItinerary($A32),BL$3-1)=\"\",\"\",VLOOKUP(INDEX(campsByItinerary,numericItinerary($A32),BL$3-1),campInfo,2))","v":"South"},{"$f":"IF(INDEX(campsByItinerary,numericItinerary($A32),BM$3-1)=\"\",\"\",VLOOKUP(INDEX(campsByItinerary,numericItinerary($A32),BM$3-1),campInfo,2))","v":"Central"},{"$f":"IF(INDEX(campsByItinerary,numericItinerary($A32),BD$3-1)=\"\",\"\",VLOOKUP(INDEX(campsByItinerary,numericItinerary($A32),BD$3-1),campInfo,12))","v":"North"},{"$f":"IF(INDEX(campsByItinerary,numericItinerary($A32),BE$3-1)=\"\",\"\",VLOOKUP(INDEX(campsByItinerary,numericItinerary($A32),BE$3-1),campInfo,12))","v":"North"},{"$f":"IF(INDEX(campsByItinerary,numericItinerary($A32),BF$3-1)=\"\",\"\",VLOOKUP(INDEX(campsByItinerary,numericItinerary($A32),BF$3-1),campInfo,12))","v":"North"},{"$f":"IF(INDEX(campsByItinerary,numericItinerary($A32),BG$3-1)=\"\",\"\",VLOOKUP(INDEX(campsByItinerary,numericItinerary($A32),BG$3-1),campInfo,12))","v":"North"},{"$f":"IF(INDEX(campsByItinerary,numericItinerary($A32),BH$3-1)=\"\",\"\",VLOOKUP(INDEX(campsByItinerary,numericItinerary($A32),BH$3-1),campInfo,12))","v":"North & South"},{"$f":"IF(INDEX(campsByItinerary,numericItinerary($A32),BI$3-1)=\"\",\"\",VLOOKUP(INDEX(campsByItinerary,numericItinerary($A32),BI$3-1),campInfo,12))","v":"North & South"},{"$f":"IF(INDEX(campsByItinerary,numericItinerary($A32),BJ$3-1)=\"\",\"\",VLOOKUP(INDEX(campsByItinerary,numericItinerary($A32),BJ$3-1),campInfo,12))","v":"South"},{"$f":"IF(INDEX(campsByItinerary,numericItinerary($A32),BK$3-1)=\"\",\"\",VLOOKUP(INDEX(campsByItinerary,numericItinerary($A32),BK$3-1),campInfo,12))","v":"South"},{"$f":"IF(INDEX(campsByItinerary,numericItinerary($A32),BL$3-1)=\"\",\"\",VLOOKUP(INDEX(campsByItinerary,numericItinerary($A32),BL$3-1),campInfo,12))","v":"South"},{"$f":"IF(INDEX(campsByItinerary,numericItinerary($A32),BM$3-1)=\"\",\"\",VLOOKUP(INDEX(campsByItinerary,numericItinerary($A32),BM$3-1),campInfo,12))","v":"South"},{"$f":"getfoodPU(\"First\",numericItinerary($A32))","v":3},{"$f":"getfoodPU(\"Max\",numericItinerary($A32))","v":3}]
["12-30",null,"SS",84,"Bluestem","Pueblano","Azurite","Greenwood Canyon","Little Costilla","Little Costilla","Ring Place","Dan Beard","Coyote Howl","Chase Cow","Camping HQ",null,"Baldy Town",null,null,null,"Ring Place",null,null,null,"Ponil","Chase","",{"$f":"IF(AC33=\"\",\"\",numericItinerary(A33) & \":\" & AC33)","v":""},null,null,null,"y",null,"",null,"y",7495,8069,10640,8300,10200.69,10200.69,8124,7896,7560.52,7177,574,2571,2340,1900.6900000000005,0,2076.6900000000005,228,335.47999999999956,383.52000000000044,{"$f":"IF(INDEX(campsByItinerary,numericItinerary($A33),BD$3-1)=\"\",\"\",VLOOKUP(INDEX(campsByItinerary,numericItinerary($A33),BD$3-1),campInfo,8))","v":""},{"$f":"IF(INDEX(campsByItinerary,numericItinerary($A33),BE$3-1)=\"\",\"\",VLOOKUP(INDEX(campsByItinerary,numericItinerary($A33),BE$3-1),campInfo,8))","v":"Y"},{"$f":"IF(INDEX(campsByItinerary,numericItinerary($A33),BF$3-1)=\"\",\"\",VLOOKUP(INDEX(campsByItinerary,numericItinerary($A33),BF$3-1),campInfo,8))","v":""},{"$f":"IF(INDEX(campsByItinerary,numericItinerary($A33),BG$3-1)=\"\",\"\",VLOOKUP(INDEX(campsByItinerary,numericItinerary($A33),BG$3-1),campInfo,8))","v":""},{"$f":"IF(INDEX(campsByItinerary,numericItinerary($A33),BH$3-1)=\"\",\"\",VLOOKUP(INDEX(campsByItinerary,numericItinerary($A33),BH$3-1),campInfo,8))","v":""},{"$f":"IF(INDEX(campsByItinerary,numericItinerary($A33),BI$3-1)=\"\",\"\",VLOOKUP(INDEX(campsByItinerary,numericItinerary($A33),BI$3-1),campInfo,8))","v":""},{"$f":"IF(INDEX(campsByItinerary,numericItinerary($A33),BJ$3-1)=\"\",\"\",VLOOKUP(INDEX(campsByItinerary,numericItinerary($A33),BJ$3-1),campInfo,8))","v":"Y"},{"$f":"IF(INDEX(campsByItinerary,numericItinerary($A33),BK$3-1)=\"\",\"\",VLOOKUP(INDEX(campsByItinerary,numericItinerary($A33),BK$3-1),campInfo,8))","v":"Y"},{"$f":"IF(INDEX(campsByItinerary,numericItinerary($A33),BL$3-1)=\"\",\"\",VLOOKUP(INDEX(campsByItinerary,numericItinerary($A33),BL$3-1),campInfo,8))","v":""},{"$f":"IF(INDEX(campsByItinerary,numericItinerary($A33),BM$3-1)=\"\",\"\",VLOOKUP(INDEX(campsByItinerary,numericItinerary($A33),BM$3-1),campInfo,8))","v":"Y"},"Y","","Y","Y","Y","Y","","","Y","",{"$f":"IF(INDEX(campsByItinerary,numericItinerary($A33),BD$3-1)=\"\",\"\",VLOOKUP(INDEX(campsByItinerary,numericItinerary($A33),BD$3-1),campInfo,10))","v":"Y"},{"$f":"IF(INDEX(campsByItinerary,numericItinerary($A33),BE$3-1)=\"\",\"\",VLOOKUP(INDEX(campsByItinerary,numericItinerary($A33),BE$3-1),campInfo,10))","v":""},{"$f":"IF(INDEX(campsByItinerary,numericItinerary($A33),BF$3-1)=\"\",\"\",VLOOKUP(INDEX(campsByItinerary,numericItinerary($A33),BF$3-1),campInfo,10))","v":"Y"},{"$f":"IF(INDEX(campsByItinerary,numericItinerary($A33),BG$3-1)=\"\",\"\",VLOOKUP(INDEX(campsByItinerary,numericItinerary($A33),BG$3-1),campInfo,10))","v":""},{"$f":"IF(INDEX(campsByItinerary,numericItinerary($A33),BH$3-1)=\"\",\"\",VLOOKUP(INDEX(campsByItinerary,numericItinerary($A33),BH$3-1),campInfo,10))","v":""},{"$f":"IF(INDEX(campsByItinerary,numericItinerary($A33),BI$3-1)=\"\",\"\",VLOOKUP(INDEX(campsByItinerary,numericItinerary($A33),BI$3-1),campInfo,10))","v":""},{"$f":"IF(INDEX(campsByItinerary,numericItinerary($A33),BJ$3-1)=\"\",\"\",VLOOKUP(INDEX(campsByItinerary,numericItinerary($A33),BJ$3-1),campInfo,10))","v":""},{"$f":"IF(INDEX(campsByItinerary,numericItinerary($A33),BK$3-1)=\"\",\"\",VLOOKUP(INDEX(campsByItinerary,numericItinerary($A33),BK$3-1),campInfo,10))","v":""},{"$f":"IF(INDEX(campsByItinerary,numericItinerary($A33),BL$3-1)=\"\",\"\",VLOOKUP(INDEX(campsByItinerary,numericItinerary($A33),BL$3-1),campInfo,10))","v":""},{"$f":"IF(INDEX(campsByItinerary,numericItinerary($A33),BM$3-1)=\"\",\"\",VLOOKUP(INDEX(campsByItinerary,numericItinerary($A33),BM$3-1),campInfo,10))","v":""},null,"","","","","Y","","","","",{"$f":"INDEX(campsByItinerary,numericItinerary($A33),BD$3-1)","v":"Bluestem"},{"$f":"IF(INDEX(campsByItinerary,numericItinerary($A33),BE$3-1)=\"\",\"\",VLOOKUP(INDEX(campsByItinerary,numericItinerary($A33),BE$3-1),campInfo,2))","v":"North"},{"$f":"IF(INDEX(campsByItinerary,numericItinerary($A33),BF$3-1)=\"\",\"\",VLOOKUP(INDEX(campsByItinerary,numericItinerary($A33),BF$3-1),campInfo,2))","v":"North"},{"$f":"IF(INDEX(campsByItinerary,numericItinerary($A33),BG$3-1)=\"\",\"\",VLOOKUP(INDEX(campsByItinerary,numericItinerary($A33),BG$3-1),campInfo,2))","v":"Valle Vidal"},{"$f":"IF(INDEX(campsByItinerary,numericItinerary($A33),BH$3-1)=\"\",\"\",VLOOKUP(INDEX(campsByItinerary,numericItinerary($A33),BH$3-1),campInfo,2))","v":"Valle Vidal"},{"$f":"IF(INDEX(campsByItinerary,numericItinerary($A33),BI$3-1)=\"\",\"\",VLOOKUP(INDEX(campsByItinerary,numericItinerary($A33),BI$3-1),campInfo,2))","v":"Valle Vidal"},{"$f":"IF(INDEX(campsByItinerary,numericItinerary($A33),BJ$3-1)=\"\",\"\",VLOOKUP(INDEX(campsByItinerary,numericItinerary($A33),BJ$3-1),campInfo,2))","v":"Valle Vidal"},{"$f":"IF(INDEX(campsByItinerary,numericItinerary($A33),BK$3-1)=\"\",\"\",VLOOKUP(INDEX(campsByItinerary,numericItinerary($A33),BK$3-1),campInfo,2))","v":"North"},{"$f":"IF(INDEX(campsByItinerary,numericItinerary($A33),BL$3-1)=\"\",\"\",VLOOKUP(INDEX(campsByItinerary,numericItinerary($A33),BL$3-1),campInfo,2))","v":"North"},{"$f":"IF(INDEX(campsByItinerary,numericItinerary($A33),BM$3-1)=\"\",\"\",VLOOKUP(INDEX(campsByItinerary,numericItinerary($A33),BM$3-1),campInfo,2))","v":"North"},{"$f":"IF(INDEX(campsByItinerary,numericItinerary($A33),BD$3-1)=\"\",\"\",VLOOKUP(INDEX(campsByItinerary,numericItinerary($A33),BD$3-1),campInfo,12))","v":"North"},{"$f":"IF(INDEX(campsByItinerary,numericItinerary($A33),BE$3-1)=\"\",\"\",VLOOKUP(INDEX(campsByItinerary,numericItinerary($A33),BE$3-1),campInfo,12))","v":"North"},{"$f":"IF(INDEX(campsByItinerary,numericItinerary($A33),BF$3-1)=\"\",\"\",VLOOKUP(INDEX(campsByItinerary,numericItinerary($A33),BF$3-1),campInfo,12))","v":"North"},{"$f":"IF(INDEX(campsByItinerary,numericItinerary($A33),BG$3-1)=\"\",\"\",VLOOKUP(INDEX(campsByItinerary,numericItinerary($A33),BG$3-1),campInfo,12))","v":"North"},{"$f":"IF(INDEX(campsByItinerary,numericItinerary($A33),BH$3-1)=\"\",\"\",VLOOKUP(INDEX(campsByItinerary,numericItinerary($A33),BH$3-1),campInfo,12))","v":"North"},{"$f":"IF(INDEX(campsByItinerary,numericItinerary($A33),BI$3-1)=\"\",\"\",VLOOKUP(INDEX(campsByItinerary,numericItinerary($A33),BI$3-1),campInfo,12))","v":"North"},{"$f":"IF(INDEX(campsByItinerary,numericItinerary($A33),BJ$3-1)=\"\",\"\",VLOOKUP(INDEX(campsByItinerary,numericItinerary($A33),BJ$3-1),campInfo,12))","v":"North"},{"$f":"IF(INDEX(campsByItinerary,numericItinerary($A33),BK$3-1)=\"\",\"\",VLOOKUP(INDEX(campsByItinerary,numericItinerary($A33),BK$3-1),campInfo,12))","v":"North"},{"$f":"IF(INDEX(campsByItinerary,numericItinerary($A33),BL$3-1)=\"\",\"\",VLOOKUP(INDEX(campsByItinerary,numericItinerary($A33),BL$3-1),campInfo,12))","v":"North"},{"$f":"IF(INDEX(campsByItinerary,numericItinerary($A33),BM$3-1)=\"\",\"\",VLOOKUP(INDEX(campsByItinerary,numericItinerary($A33),BM$3-1),campInfo,12))","v":"North"},{"$f":"getfoodPU(\"First\",numericItinerary($A33))","v":2},{"$f":"getfoodPU(\"Max\",numericItinerary($A33))","v":4}]
["12-31",null,"SS",84,"Heck Meadow","Clarks Fork","Clarks Fork","Lamberts Mine","Sawmill","Cimarroncita","Elkhorn","Ewells Park","Ewells Park","Maxwell","Camping HQ",null,null,"Cimarroncito",null,"Cimarroncita",null,null,"Baldy Town",null,"Hike Out","Maxwell","",{"$f":"IF(AC34=\"\",\"\",numericItinerary(A34) & \":\" & AC34)","v":"31:8"},8,"Bear Canyon","N","y",null,"y",null,"y",7085,7515,7515,8957,9193,7373,8496,9373,9373,8498,430,0,1442,236,1820,1123,877,0,875,{"$f":"IF(INDEX(campsByItinerary,numericItinerary($A34),BD$3-1)=\"\",\"\",VLOOKUP(INDEX(campsByItinerary,numericItinerary($A34),BD$3-1),campInfo,8))","v":""},{"$f":"IF(INDEX(campsByItinerary,numericItinerary($A34),BE$3-1)=\"\",\"\",VLOOKUP(INDEX(campsByItinerary,numericItinerary($A34),BE$3-1),campInfo,8))","v":"Y"},{"$f":"IF(INDEX(campsByItinerary,numericItinerary($A34),BF$3-1)=\"\",\"\",VLOOKUP(INDEX(campsByItinerary,numericItinerary($A34),BF$3-1),campInfo,8))","v":"Y"},{"$f":"IF(INDEX(campsByItinerary,numericItinerary($A34),BG$3-1)=\"\",\"\",VLOOKUP(INDEX(campsByItinerary,numericItinerary($A34),BG$3-1),campInfo,8))","v":""},{"$f":"IF(INDEX(campsByItinerary,numericItinerary($A34),BH$3-1)=\"\",\"\",VLOOKUP(INDEX(campsByItinerary,numericItinerary($A34),BH$3-1),campInfo,8))","v":"Y"},{"$f":"IF(INDEX(campsByItinerary,numericItinerary($A34),BI$3-1)=\"\",\"\",VLOOKUP(INDEX(campsByItinerary,numericItinerary($A34),BI$3-1),campInfo,8))","v":"Y"},{"$f":"IF(INDEX(campsByItinerary,numericItinerary($A34),BJ$3-1)=\"\",\"\",VLOOKUP(INDEX(campsByItinerary,numericItinerary($A34),BJ$3-1),campInfo,8))","v":""},{"$f":"IF(INDEX(campsByItinerary,numericItinerary($A34),BK$3-1)=\"\",\"\",VLOOKUP(INDEX(campsByItinerary,numericItinerary($A34),BK$3-1),campInfo,8))","v":""},{"$f":"IF(INDEX(campsByItinerary,numericItinerary($A34),BL$3-1)=\"\",\"\",VLOOKUP(INDEX(campsByItinerary,numericItinerary($A34),BL$3-1),campInfo,8))","v":""},{"$f":"IF(INDEX(campsByItinerary,numericItinerary($A34),BM$3-1)=\"\",\"\",VLOOKUP(INDEX(campsByItinerary,numericItinerary($A34),BM$3-1),campInfo,8))","v":""},"Y","","","Y","","","Y","Y","Y","Y",{"$f":"IF(INDEX(campsByItinerary,numericItinerary($A34),BD$3-1)=\"\",\"\",VLOOKUP(INDEX(campsByItinerary,numericItinerary($A34),BD$3-1),campInfo,10))","v":"Y"},{"$f":"IF(INDEX(campsByItinerary,numericItinerary($A34),BE$3-1)=\"\",\"\",VLOOKUP(INDEX(campsByItinerary,numericItinerary($A34),BE$3-1),campInfo,10))","v":""},{"$f":"IF(INDEX(campsByItinerary,numericItinerary($A34),BF$3-1)=\"\",\"\",VLOOKUP(INDEX(campsByItinerary,numericItinerary($A34),BF$3-1),campInfo,10))","v":""},{"$f":"IF(INDEX(campsByItinerary,numericItinerary($A34),BG$3-1)=\"\",\"\",VLOOKUP(INDEX(campsByItinerary,numericItinerary($A34),BG$3-1),campInfo,10))","v":""},{"$f":"IF(INDEX(campsByItinerary,numericItinerary($A34),BH$3-1)=\"\",\"\",VLOOKUP(INDEX(campsByItinerary,numericItinerary($A34),BH$3-1),campInfo,10))","v":""},{"$f":"IF(INDEX(campsByItinerary,numericItinerary($A34),BI$3-1)=\"\",\"\",VLOOKUP(INDEX(campsByItinerary,numericItinerary($A34),BI$3-1),campInfo,10))","v":""},{"$f":"IF(INDEX(campsByItinerary,numericItinerary($A34),BJ$3-1)=\"\",\"\",VLOOKUP(INDEX(campsByItinerary,numericItinerary($A34),BJ$3-1),campInfo,10))","v":""},{"$f":"IF(INDEX(campsByItinerary,numericItinerary($A34),BK$3-1)=\"\",\"\",VLOOKUP(INDEX(campsByItinerary,numericItinerary($A34),BK$3-1),campInfo,10))","v":""},{"$f":"IF(INDEX(campsByItinerary,numericItinerary($A34),BL$3-1)=\"\",\"\",VLOOKUP(INDEX(campsByItinerary,numericItinerary($A34),BL$3-1),campInfo,10))","v":""},{"$f":"IF(INDEX(campsByItinerary,numericItinerary($A34),BM$3-1)=\"\",\"\",VLOOKUP(INDEX(campsByItinerary,numericItinerary($A34),BM$3-1),campInfo,10))","v":""},null,"","Y","","","","","","Y","",{"$f":"INDEX(campsByItinerary,numericItinerary($A34),BD$3-1)","v":"Heck Meadow"},{"$f":"IF(INDEX(campsByItinerary,numericItinerary($A34),BE$3-1)=\"\",\"\",VLOOKUP(INDEX(campsByItinerary,numericItinerary($A34),BE$3-1),campInfo,2))","v":"Central"},{"$f":"IF(INDEX(campsByItinerary,numericItinerary($A34),BF$3-1)=\"\",\"\",VLOOKUP(INDEX(campsByItinerary,numericItinerary($A34),BF$3-1),campInfo,2))","v":"Central"},{"$f":"IF(INDEX(campsByItinerary,numericItinerary($A34),BG$3-1)=\"\",\"\",VLOOKUP(INDEX(campsByItinerary,numericItinerary($A34),BG$3-1),campInfo,2))","v":"Central"},{"$f":"IF(INDEX(campsByItinerary,numericItinerary($A34),BH$3-1)=\"\",\"\",VLOOKUP(INDEX(campsByItinerary,numericItinerary($A34),BH$3-1),campInfo,2))","v":"Central"},{"$f":"IF(INDEX(campsByItinerary,numericItinerary($A34),BI$3-1)=\"\",\"\",VLOOKUP(INDEX(campsByItinerary,numericItinerary($A34),BI$3-1),campInfo,2))","v":"Central"},{"$f":"IF(INDEX(campsByItinerary,numericItinerary($A34),BJ$3-1)=\"\",\"\",VLOOKUP(INDEX(campsByItinerary,numericItinerary($A34),BJ$3-1),campInfo,2))","v":"North"},{"$f":"IF(INDEX(campsByItinerary,numericItinerary($A34),BK$3-1)=\"\",\"\",VLOOKUP(INDEX(campsByItinerary,numericItinerary($A34),BK$3-1),campInfo,2))","v":"North"},{"$f":"IF(INDEX(campsByItinerary,numericItinerary($A34),BL$3-1)=\"\",\"\",VLOOKUP(INDEX(campsByItinerary,numericItinerary($A34),BL$3-1),campInfo,2))","v":"North"},{"$f":"IF(INDEX(campsByItinerary,numericItinerary($A34),BM$3-1)=\"\",\"\",VLOOKUP(INDEX(campsByItinerary,numericItinerary($A34),BM$3-1),campInfo,2))","v":"North"},{"$f":"IF(INDEX(campsByItinerary,numericItinerary($A34),BD$3-1)=\"\",\"\",VLOOKUP(INDEX(campsByItinerary,numericItinerary($A34),BD$3-1),campInfo,12))","v":"South"},{"$f":"IF(INDEX(campsByItinerary,numericItinerary($A34),BE$3-1)=\"\",\"\",VLOOKUP(INDEX(campsByItinerary,numericItinerary($A34),BE$3-1),campInfo,12))","v":"South"},{"$f":"IF(INDEX(campsByItinerary,numericItinerary($A34),BF$3-1)=\"\",\"\",VLOOKUP(INDEX(campsByItinerary,numericItinerary($A34),BF$3-1),campInfo,12))","v":"South"},{"$f":"IF(INDEX(campsByItinerary,numericItinerary($A34),BG$3-1)=\"\",\"\",VLOOKUP(INDEX(campsByItinerary,numericItinerary($A34),BG$3-1),campInfo,12))","v":"South"},{"$f":"IF(INDEX(campsByItinerary,numericItinerary($A34),BH$3-1)=\"\",\"\",VLOOKUP(INDEX(campsByItinerary,numericItinerary($A34),BH$3-1),campInfo,12))","v":"South"},{"$f":"IF(INDEX(campsByItinerary,numericItinerary($A34),BI$3-1)=\"\",\"\",VLOOKUP(INDEX(campsByItinerary,numericItinerary($A34),BI$3-1),campInfo,12))","v":"North & South"},{"$f":"IF(INDEX(campsByItinerary,numericItinerary($A34),BJ$3-1)=\"\",\"\",VLOOKUP(INDEX(campsByItinerary,numericItinerary($A34),BJ$3-1),campInfo,12))","v":"North"},{"$f":"IF(INDEX(campsByItinerary,numericItinerary($A34),BK$3-1)=\"\",\"\",VLOOKUP(INDEX(campsByItinerary,numericItinerary($A34),BK$3-1),campInfo,12))","v":"North"},{"$f":"IF(INDEX(campsByItinerary,numericItinerary($A34),BL$3-1)=\"\",\"\",VLOOKUP(INDEX(campsByItinerary,numericItinerary($A34),BL$3-1),campInfo,12))","v":"North"},{"$f":"IF(INDEX(campsByItinerary,numericItinerary($A34),BM$3-1)=\"\",\"\",VLOOKUP(INDEX(campsByItinerary,numericItinerary($A34),BM$3-1),campInfo,12))","v":"North"},{"$f":"getfoodPU(\"First\",numericItinerary($A34))","v":3},{"$f":"getfoodPU(\"Max\",numericItinerary($A34))","v":3}]
["12-32",null,"SS",87,"McBride Canyon","Metcalf Station","Sioux","Pueblano","Maxwell","Maxwell","Black Jacks","Harlan","Hunting Lodge","Ponderosa Park","Camping HQ",null,"Ponil",null,null,"Baldy Town",null,null,"Cimarroncito",null,"Six Mile Gate","Hike in","y",{"$f":"IF(AC35=\"\",\"\",numericItinerary(A35) & \":\" & AC35)","v":"32:9"},9,"Turkey Creek","S","y",null,"y",null,"y",7105,7220,7382,8069,8498,8498,8211,7550,7776,8004,115,162,687,429,0,287,661,226,228,{"$f":"IF(INDEX(campsByItinerary,numericItinerary($A35),BD$3-1)=\"\",\"\",VLOOKUP(INDEX(campsByItinerary,numericItinerary($A35),BD$3-1),campInfo,8))","v":""},{"$f":"IF(INDEX(campsByItinerary,numericItinerary($A35),BE$3-1)=\"\",\"\",VLOOKUP(INDEX(campsByItinerary,numericItinerary($A35),BE$3-1),campInfo,8))","v":"Y"},{"$f":"IF(INDEX(campsByItinerary,numericItinerary($A35),BF$3-1)=\"\",\"\",VLOOKUP(INDEX(campsByItinerary,numericItinerary($A35),BF$3-1),campInfo,8))","v":""},{"$f":"IF(INDEX(campsByItinerary,numericItinerary($A35),BG$3-1)=\"\",\"\",VLOOKUP(INDEX(campsByItinerary,numericItinerary($A35),BG$3-1),campInfo,8))","v":"Y"},{"$f":"IF(INDEX(campsByItinerary,numericItinerary($A35),BH$3-1)=\"\",\"\",VLOOKUP(INDEX(campsByItinerary,numericItinerary($A35),BH$3-1),campInfo,8))","v":""},{"$f":"IF(INDEX(campsByItinerary,numericItinerary($A35),BI$3-1)=\"\",\"\",VLOOKUP(INDEX(campsByItinerary,numericItinerary($A35),BI$3-1),campInfo,8))","v":""},{"$f":"IF(INDEX(campsByItinerary,numericItinerary($A35),BJ$3-1)=\"\",\"\",VLOOKUP(INDEX(campsByItinerary,numericItinerary($A35),BJ$3-1),campInfo,8))","v":""},{"$f":"IF(INDEX(campsByItinerary,numericItinerary($A35),BK$3-1)=\"\",\"\",VLOOKUP(INDEX(campsByItinerary,numericItinerary($A35),BK$3-1),campInfo,8))","v":"Y"},{"$f":"IF(INDEX(campsByItinerary,numericItinerary($A35),BL$3-1)=\"\",\"\",VLOOKUP(INDEX(campsByItinerary,numericItinerary($A35),BL$3-1),campInfo,8))","v":"N"},{"$f":"IF(INDEX(campsByItinerary,numericItinerary($A35),BM$3-1)=\"\",\"\",VLOOKUP(INDEX(campsByItinerary,numericItinerary($A35),BM$3-1),campInfo,8))","v":""},"Y","","Y","","Y","Y","Y","","Y","Y",{"$f":"IF(INDEX(campsByItinerary,numericItinerary($A35),BD$3-1)=\"\",\"\",VLOOKUP(INDEX(campsByItinerary,numericItinerary($A35),BD$3-1),campInfo,10))","v":"Y"},{"$f":"IF(INDEX(campsByItinerary,numericItinerary($A35),BE$3-1)=\"\",\"\",VLOOKUP(INDEX(campsByItinerary,numericItinerary($A35),BE$3-1),campInfo,10))","v":""},{"$f":"IF(INDEX(campsByItinerary,numericItinerary($A35),BF$3-1)=\"\",\"\",VLOOKUP(INDEX(campsByItinerary,numericItinerary($A35),BF$3-1),campInfo,10))","v":""},{"$f":"IF(INDEX(campsByItinerary,numericItinerary($A35),BG$3-1)=\"\",\"\",VLOOKUP(INDEX(campsByItinerary,numericItinerary($A35),BG$3-1),campInfo,10))","v":""},{"$f":"IF(INDEX(campsByItinerary,numericItinerary($A35),BH$3-1)=\"\",\"\",VLOOKUP(INDEX(campsByItinerary,numericItinerary($A35),BH$3-1),campInfo,10))","v":""},{"$f":"IF(INDEX(campsByItinerary,numericItinerary($A35),BI$3-1)=\"\",\"\",VLOOKUP(INDEX(campsByItinerary,numericItinerary($A35),BI$3-1),campInfo,10))","v":""},{"$f":"IF(INDEX(campsByItinerary,numericItinerary($A35),BJ$3-1)=\"\",\"\",VLOOKUP(INDEX(campsByItinerary,numericItinerary($A35),BJ$3-1),campInfo,10))","v":""},{"$f":"IF(INDEX(campsByItinerary,numericItinerary($A35),BK$3-1)=\"\",\"\",VLOOKUP(INDEX(campsByItinerary,numericItinerary($A35),BK$3-1),campInfo,10))","v":""},{"$f":"IF(INDEX(campsByItinerary,numericItinerary($A35),BL$3-1)=\"\",\"\",VLOOKUP(INDEX(campsByItinerary,numericItinerary($A35),BL$3-1),campInfo,10))","v":""},{"$f":"IF(INDEX(campsByItinerary,numericItinerary($A35),BM$3-1)=\"\",\"\",VLOOKUP(INDEX(campsByItinerary,numericItinerary($A35),BM$3-1),campInfo,10))","v":"Y"},null,"","","","","Y","","","","",{"$f":"INDEX(campsByItinerary,numericItinerary($A35),BD$3-1)","v":"McBride Canyon"},{"$f":"IF(INDEX(campsByItinerary,numericItinerary($A35),BE$3-1)=\"\",\"\",VLOOKUP(INDEX(campsByItinerary,numericItinerary($A35),BE$3-1),campInfo,2))","v":"North"},{"$f":"IF(INDEX(campsByItinerary,numericItinerary($A35),BF$3-1)=\"\",\"\",VLOOKUP(INDEX(campsByItinerary,numericItinerary($A35),BF$3-1),campInfo,2))","v":"North"},{"$f":"IF(INDEX(campsByItinerary,numericItinerary($A35),BG$3-1)=\"\",\"\",VLOOKUP(INDEX(campsByItinerary,numericItinerary($A35),BG$3-1),campInfo,2))","v":"North"},{"$f":"IF(INDEX(campsByItinerary,numericItinerary($A35),BH$3-1)=\"\",\"\",VLOOKUP(INDEX(campsByItinerary,numericItinerary($A35),BH$3-1),campInfo,2))","v":"North"},{"$f":"IF(INDEX(campsByItinerary,numericItinerary($A35),BI$3-1)=\"\",\"\",VLOOKUP(INDEX(campsByItinerary,numericItinerary($A35),BI$3-1),campInfo,2))","v":"North"},{"$f":"IF(INDEX(campsByItinerary,numericItinerary($A35),BJ$3-1)=\"\",\"\",VLOOKUP(INDEX(campsByItinerary,numericItinerary($A35),BJ$3-1),campInfo,2))","v":"North"},{"$f":"IF(INDEX(campsByItinerary,numericItinerary($A35),BK$3-1)=\"\",\"\",VLOOKUP(INDEX(campsByItinerary,numericItinerary($A35),BK$3-1),campInfo,2))","v":"Central"},{"$f":"IF(INDEX(campsByItinerary,numericItinerary($A35),BL$3-1)=\"\",\"\",VLOOKUP(INDEX(campsByItinerary,numericItinerary($A35),BL$3-1),campInfo,2))","v":"Central"},{"$f":"IF(INDEX(campsByItinerary,numericItinerary($A35),BM$3-1)=\"\",\"\",VLOOKUP(INDEX(campsByItinerary,numericItinerary($A35),BM$3-1),campInfo,2))","v":"Central"},{"$f":"IF(INDEX(campsByItinerary,numericItinerary($A35),BD$3-1)=\"\",\"\",VLOOKUP(INDEX(campsByItinerary,numericItinerary($A35),BD$3-1),campInfo,12))","v":"North"},{"$f":"IF(INDEX(campsByItinerary,numericItinerary($A35),BE$3-1)=\"\",\"\",VLOOKUP(INDEX(campsByItinerary,numericItinerary($A35),BE$3-1),campInfo,12))","v":"North"},{"$f":"IF(INDEX(campsByItinerary,numericItinerary($A35),BF$3-1)=\"\",\"\",VLOOKUP(INDEX(campsByItinerary,numericItinerary($A35),BF$3-1),campInfo,12))","v":"North"},{"$f":"IF(INDEX(campsByItinerary,numericItinerary($A35),BG$3-1)=\"\",\"\",VLOOKUP(INDEX(campsByItinerary,numericItinerary($A35),BG$3-1),campInfo,12))","v":"North"},{"$f":"IF(INDEX(campsByItinerary,numericItinerary($A35),BH$3-1)=\"\",\"\",VLOOKUP(INDEX(campsByItinerary,numericItinerary($A35),BH$3-1),campInfo,12))","v":"North"},{"$f":"IF(INDEX(campsByItinerary,numericItinerary($A35),BI$3-1)=\"\",\"\",VLOOKUP(INDEX(campsByItinerary,numericItinerary($A35),BI$3-1),campInfo,12))","v":"North"},{"$f":"IF(INDEX(campsByItinerary,numericItinerary($A35),BJ$3-1)=\"\",\"\",VLOOKUP(INDEX(campsByItinerary,numericItinerary($A35),BJ$3-1),campInfo,12))","v":"North"},{"$f":"IF(INDEX(campsByItinerary,numericItinerary($A35),BK$3-1)=\"\",\"\",VLOOKUP(INDEX(campsByItinerary,numericItinerary($A35),BK$3-1),campInfo,12))","v":"South"},{"$f":"IF(INDEX(campsByItinerary,numericItinerary($A35),BL$3-1)=\"\",\"\",VLOOKUP(INDEX(campsByItinerary,numericItinerary($A35),BL$3-1),campInfo,12))","v":"South"},{"$f":"IF(INDEX(campsByItinerary,numericItinerary($A35),BM$3-1)=\"\",\"\",VLOOKUP(INDEX(campsByItinerary,numericItinerary($A35),BM$3-1),campInfo,12))","v":"South"},{"$f":"getfoodPU(\"First\",numericItinerary($A35))","v":2},{"$f":"getfoodPU(\"Max\",numericItinerary($A35))","v":2}]
["12-33",null,"SS",88,"Sioux","Rich Cabins","Head of Dean","Copper Park","Copper Park","Elkhorn","Cimarroncita","Whistle Punk","Cimarroncito","Ponderosa Park","Camping HQ",null,null,"Baldy Town",null,null,"Cimarroncita",null,"Cimarroncito",null,"Ponil","Hike In","y",{"$f":"IF(AC36=\"\",\"\",numericItinerary(A36) & \":\" & AC36)","v":"33:8"},8,"Bear Canyon","S","y",null,"y",null,"y",7382,7728,8754,10530,10530,8496,7373,10052,8137,8004,346,1026,1776,0,2034,1123,2679,1915,133,{"$f":"IF(INDEX(campsByItinerary,numericItinerary($A36),BD$3-1)=\"\",\"\",VLOOKUP(INDEX(campsByItinerary,numericItinerary($A36),BD$3-1),campInfo,8))","v":""},{"$f":"IF(INDEX(campsByItinerary,numericItinerary($A36),BE$3-1)=\"\",\"\",VLOOKUP(INDEX(campsByItinerary,numericItinerary($A36),BE$3-1),campInfo,8))","v":"Y"},{"$f":"IF(INDEX(campsByItinerary,numericItinerary($A36),BF$3-1)=\"\",\"\",VLOOKUP(INDEX(campsByItinerary,numericItinerary($A36),BF$3-1),campInfo,8))","v":"Y"},{"$f":"IF(INDEX(campsByItinerary,numericItinerary($A36),BG$3-1)=\"\",\"\",VLOOKUP(INDEX(campsByItinerary,numericItinerary($A36),BG$3-1),campInfo,8))","v":""},{"$f":"IF(INDEX(campsByItinerary,numericItinerary($A36),BH$3-1)=\"\",\"\",VLOOKUP(INDEX(campsByItinerary,numericItinerary($A36),BH$3-1),campInfo,8))","v":""},{"$f":"IF(INDEX(campsByItinerary,numericItinerary($A36),BI$3-1)=\"\",\"\",VLOOKUP(INDEX(campsByItinerary,numericItinerary($A36),BI$3-1),campInfo,8))","v":""},{"$f":"IF(INDEX(campsByItinerary,numericItinerary($A36),BJ$3-1)=\"\",\"\",VLOOKUP(INDEX(campsByItinerary,numericItinerary($A36),BJ$3-1),campInfo,8))","v":"Y"},{"$f":"IF(INDEX(campsByItinerary,numericItinerary($A36),BK$3-1)=\"\",\"\",VLOOKUP(INDEX(campsByItinerary,numericItinerary($A36),BK$3-1),campInfo,8))","v":""},{"$f":"IF(INDEX(campsByItinerary,numericItinerary($A36),BL$3-1)=\"\",\"\",VLOOKUP(INDEX(campsByItinerary,numericItinerary($A36),BL$3-1),campInfo,8))","v":"Y"},{"$f":"IF(INDEX(campsByItinerary,numericItinerary($A36),BM$3-1)=\"\",\"\",VLOOKUP(INDEX(campsByItinerary,numericItinerary($A36),BM$3-1),campInfo,8))","v":""},{"$f":"IF(BD36=\"Y\",\"\",\"Y\")","v":"Y"},{"$f":"IF(BE36=\"Y\",\"\",\"Y\")","v":""},{"$f":"IF(BF36=\"Y\",\"\",\"Y\")","v":""},{"$f":"IF(BG36=\"Y\",\"\",\"Y\")","v":"Y"},{"$f":"IF(BH36=\"Y\",\"\",\"Y\")","v":"Y"},{"$f":"IF(BI36=\"Y\",\"\",\"Y\")","v":"Y"},{"$f":"IF(BJ36=\"Y\",\"\",\"Y\")","v":""},{"$f":"IF(BK36=\"Y\",\"\",\"Y\")","v":"Y"},{"$f":"IF(BL36=\"Y\",\"\",\"Y\")","v":""},{"$f":"IF(BM36=\"Y\",\"\",\"Y\")","v":"Y"},{"$f":"IF(INDEX(campsByItinerary,numericItinerary($A36),BD$3-1)=\"\",\"\",VLOOKUP(INDEX(campsByItinerary,numericItinerary($A36),BD$3-1),campInfo,10))","v":""},{"$f":"IF(INDEX(campsByItinerary,numericItinerary($A36),BE$3-1)=\"\",\"\",VLOOKUP(INDEX(campsByItinerary,numericItinerary($A36),BE$3-1),campInfo,10))","v":""},{"$f":"IF(INDEX(campsByItinerary,numericItinerary($A36),BF$3-1)=\"\",\"\",VLOOKUP(INDEX(campsByItinerary,numericItinerary($A36),BF$3-1),campInfo,10))","v":""},{"$f":"IF(INDEX(campsByItinerary,numericItinerary($A36),BG$3-1)=\"\",\"\",VLOOKUP(INDEX(campsByItinerary,numericItinerary($A36),BG$3-1),campInfo,10))","v":""},{"$f":"IF(INDEX(campsByItinerary,numericItinerary($A36),BH$3-1)=\"\",\"\",VLOOKUP(INDEX(campsByItinerary,numericItinerary($A36),BH$3-1),campInfo,10))","v":""},{"$f":"IF(INDEX(campsByItinerary,numericItinerary($A36),BI$3-1)=\"\",\"\",VLOOKUP(INDEX(campsByItinerary,numericItinerary($A36),BI$3-1),campInfo,10))","v":""},{"$f":"IF(INDEX(campsByItinerary,numericItinerary($A36),BJ$3-1)=\"\",\"\",VLOOKUP(INDEX(campsByItinerary,numericItinerary($A36),BJ$3-1),campInfo,10))","v":""},{"$f":"IF(INDEX(campsByItinerary,numericItinerary($A36),BK$3-1)=\"\",\"\",VLOOKUP(INDEX(campsByItinerary,numericItinerary($A36),BK$3-1),campInfo,10))","v":""},{"$f":"IF(INDEX(campsByItinerary,numericItinerary($A36),BL$3-1)=\"\",\"\",VLOOKUP(INDEX(campsByItinerary,numericItinerary($A36),BL$3-1),campInfo,10))","v":""},{"$f":"IF(INDEX(campsByItinerary,numericItinerary($A36),BM$3-1)=\"\",\"\",VLOOKUP(INDEX(campsByItinerary,numericItinerary($A36),BM$3-1),campInfo,10))","v":"Y"},null,{"$f":"IF(E36=F36,\"Y\",\"\")","v":""},{"$f":"IF(F36=G36,\"Y\",\"\")","v":""},{"$f":"IF(G36=H36,\"Y\",\"\")","v":""},{"$f":"IF(H36=I36,\"Y\",\"\")","v":"Y"},{"$f":"IF(I36=J36,\"Y\",\"\")","v":""},{"$f":"IF(J36=K36,\"Y\",\"\")","v":""},{"$f":"IF(K36=L36,\"Y\",\"\")","v":""},{"$f":"IF(L36=M36,\"Y\",\"\")","v":""},{"$f":"IF(M36=N36,\"Y\",\"\")","v":""},{"$f":"INDEX(campsByItinerary,numericItinerary($A36),BD$3-1)","v":"Sioux"},{"$f":"IF(INDEX(campsByItinerary,numericItinerary($A36),BE$3-1)=\"\",\"\",VLOOKUP(INDEX(campsByItinerary,numericItinerary($A36),BE$3-1),campInfo,2))","v":"Valle Vidal"},{"$f":"IF(INDEX(campsByItinerary,numericItinerary($A36),BF$3-1)=\"\",\"\",VLOOKUP(INDEX(campsByItinerary,numericItinerary($A36),BF$3-1),campInfo,2))","v":"North"},{"$f":"IF(INDEX(campsByItinerary,numericItinerary($A36),BG$3-1)=\"\",\"\",VLOOKUP(INDEX(campsByItinerary,numericItinerary($A36),BG$3-1),campInfo,2))","v":"North"},{"$f":"IF(INDEX(campsByItinerary,numericItinerary($A36),BH$3-1)=\"\",\"\",VLOOKUP(INDEX(campsByItinerary,numericItinerary($A36),BH$3-1),campInfo,2))","v":"North"},{"$f":"IF(INDEX(campsByItinerary,numericItinerary($A36),BI$3-1)=\"\",\"\",VLOOKUP(INDEX(campsByItinerary,numericItinerary($A36),BI$3-1),campInfo,2))","v":"North"},{"$f":"IF(INDEX(campsByItinerary,numericItinerary($A36),BJ$3-1)=\"\",\"\",VLOOKUP(INDEX(campsByItinerary,numericItinerary($A36),BJ$3-1),campInfo,2))","v":"Central"},{"$f":"IF(INDEX(campsByItinerary,numericItinerary($A36),BK$3-1)=\"\",\"\",VLOOKUP(INDEX(campsByItinerary,numericItinerary($A36),BK$3-1),campInfo,2))","v":"Central"},{"$f":"IF(INDEX(campsByItinerary,numericItinerary($A36),BL$3-1)=\"\",\"\",VLOOKUP(INDEX(campsByItinerary,numericItinerary($A36),BL$3-1),campInfo,2))","v":"Central"},{"$f":"IF(INDEX(campsByItinerary,numericItinerary($A36),BM$3-1)=\"\",\"\",VLOOKUP(INDEX(campsByItinerary,numericItinerary($A36),BM$3-1),campInfo,2))","v":"Central"},{"$f":"IF(INDEX(campsByItinerary,numericItinerary($A36),BD$3-1)=\"\",\"\",VLOOKUP(INDEX(campsByItinerary,numericItinerary($A36),BD$3-1),campInfo,12))","v":"North"},{"$f":"IF(INDEX(campsByItinerary,numericItinerary($A36),BE$3-1)=\"\",\"\",VLOOKUP(INDEX(campsByItinerary,numericItinerary($A36),BE$3-1),campInfo,12))","v":"North"},{"$f":"IF(INDEX(campsByItinerary,numericItinerary($A36),BF$3-1)=\"\",\"\",VLOOKUP(INDEX(campsByItinerary,numericItinerary($A36),BF$3-1),campInfo,12))","v":"North"},{"$f":"IF(INDEX(campsByItinerary,numericItinerary($A36),BG$3-1)=\"\",\"\",VLOOKUP(INDEX(campsByItinerary,numericItinerary($A36),BG$3-1),campInfo,12))","v":"North"},{"$f":"IF(INDEX(campsByItinerary,numericItinerary($A36),BH$3-1)=\"\",\"\",VLOOKUP(INDEX(campsByItinerary,numericItinerary($A36),BH$3-1),campInfo,12))","v":"North"},{"$f":"IF(INDEX(campsByItinerary,numericItinerary($A36),BI$3-1)=\"\",\"\",VLOOKUP(INDEX(campsByItinerary,numericItinerary($A36),BI$3-1),campInfo,12))","v":"North"},{"$f":"IF(INDEX(campsByItinerary,numericItinerary($A36),BJ$3-1)=\"\",\"\",VLOOKUP(INDEX(campsByItinerary,numericItinerary($A36),BJ$3-1),campInfo,12))","v":"North & South"},{"$f":"IF(INDEX(campsByItinerary,numericItinerary($A36),BK$3-1)=\"\",\"\",VLOOKUP(INDEX(campsByItinerary,numericItinerary($A36),BK$3-1),campInfo,12))","v":"South"},{"$f":"IF(INDEX(campsByItinerary,numericItinerary($A36),BL$3-1)=\"\",\"\",VLOOKUP(INDEX(campsByItinerary,numericItinerary($A36),BL$3-1),campInfo,12))","v":"South"},{"$f":"IF(INDEX(campsByItinerary,numericItinerary($A36),BM$3-1)=\"\",\"\",VLOOKUP(INDEX(campsByItinerary,numericItinerary($A36),BM$3-1),campInfo,12))","v":"South"},{"$f":"getfoodPU(\"First\",numericItinerary($A36))","v":3},{"$f":"getfoodPU(\"Max\",numericItinerary($A36))","v":3}]
["12-34",null,"SS",90,"Mistletoe","Baldy Skyline","French Henry","Upper Greenwood","Rich Cabins","Elkhorn","Dean Cow","Harlan","Cimarroncito","Clarks Fork","Camping HQ",null,"Baldy Town",null,"Rich Cabins",null,null,null,"Cimarroncito",null,"Ute Park","Hike In","y",{"$f":"IF(AC37=\"\",\"\",numericItinerary(A37) & \":\" & AC37)","v":"34:9"},9,"Bear Canyon","S","y",null,"y",null,null,8295,9140,9635,10262.665999999999,7728,8496,7232,7550,8137,7515,845,495,627.66599999999926,2534.6659999999993,768,1264,318,587,622,{"$f":"IF(INDEX(campsByItinerary,numericItinerary($A37),BD$3-1)=\"\",\"\",VLOOKUP(INDEX(campsByItinerary,numericItinerary($A37),BD$3-1),campInfo,8))","v":""},{"$f":"IF(INDEX(campsByItinerary,numericItinerary($A37),BE$3-1)=\"\",\"\",VLOOKUP(INDEX(campsByItinerary,numericItinerary($A37),BE$3-1),campInfo,8))","v":""},{"$f":"IF(INDEX(campsByItinerary,numericItinerary($A37),BF$3-1)=\"\",\"\",VLOOKUP(INDEX(campsByItinerary,numericItinerary($A37),BF$3-1),campInfo,8))","v":"Y"},{"$f":"IF(INDEX(campsByItinerary,numericItinerary($A37),BG$3-1)=\"\",\"\",VLOOKUP(INDEX(campsByItinerary,numericItinerary($A37),BG$3-1),campInfo,8))","v":""},{"$f":"IF(INDEX(campsByItinerary,numericItinerary($A37),BH$3-1)=\"\",\"\",VLOOKUP(INDEX(campsByItinerary,numericItinerary($A37),BH$3-1),campInfo,8))","v":"Y"},{"$f":"IF(INDEX(campsByItinerary,numericItinerary($A37),BI$3-1)=\"\",\"\",VLOOKUP(INDEX(campsByItinerary,numericItinerary($A37),BI$3-1),campInfo,8))","v":""},{"$f":"IF(INDEX(campsByItinerary,numericItinerary($A37),BJ$3-1)=\"\",\"\",VLOOKUP(INDEX(campsByItinerary,numericItinerary($A37),BJ$3-1),campInfo,8))","v":"Y"},{"$f":"IF(INDEX(campsByItinerary,numericItinerary($A37),BK$3-1)=\"\",\"\",VLOOKUP(INDEX(campsByItinerary,numericItinerary($A37),BK$3-1),campInfo,8))","v":"Y"},{"$f":"IF(INDEX(campsByItinerary,numericItinerary($A37),BL$3-1)=\"\",\"\",VLOOKUP(INDEX(campsByItinerary,numericItinerary($A37),BL$3-1),campInfo,8))","v":"Y"},{"$f":"IF(INDEX(campsByItinerary,numericItinerary($A37),BM$3-1)=\"\",\"\",VLOOKUP(INDEX(campsByItinerary,numericItinerary($A37),BM$3-1),campInfo,8))","v":"Y"},"Y","Y","","Y","","Y","","","","",{"$f":"IF(INDEX(campsByItinerary,numericItinerary($A37),BD$3-1)=\"\",\"\",VLOOKUP(INDEX(campsByItinerary,numericItinerary($A37),BD$3-1),campInfo,10))","v":"Y"},{"$f":"IF(INDEX(campsByItinerary,numericItinerary($A37),BE$3-1)=\"\",\"\",VLOOKUP(INDEX(campsByItinerary,numericItinerary($A37),BE$3-1),campInfo,10))","v":""},{"$f":"IF(INDEX(campsByItinerary,numericItinerary($A37),BF$3-1)=\"\",\"\",VLOOKUP(INDEX(campsByItinerary,numericItinerary($A37),BF$3-1),campInfo,10))","v":""},{"$f":"IF(INDEX(campsByItinerary,numericItinerary($A37),BG$3-1)=\"\",\"\",VLOOKUP(INDEX(campsByItinerary,numericItinerary($A37),BG$3-1),campInfo,10))","v":""},{"$f":"IF(INDEX(campsByItinerary,numericItinerary($A37),BH$3-1)=\"\",\"\",VLOOKUP(INDEX(campsByItinerary,numericItinerary($A37),BH$3-1),campInfo,10))","v":""},{"$f":"IF(INDEX(campsByItinerary,numericItinerary($A37),BI$3-1)=\"\",\"\",VLOOKUP(INDEX(campsByItinerary,numericItinerary($A37),BI$3-1),campInfo,10))","v":""},{"$f":"IF(INDEX(campsByItinerary,numericItinerary($A37),BJ$3-1)=\"\",\"\",VLOOKUP(INDEX(campsByItinerary,numericItinerary($A37),BJ$3-1),campInfo,10))","v":""},{"$f":"IF(INDEX(campsByItinerary,numericItinerary($A37),BK$3-1)=\"\",\"\",VLOOKUP(INDEX(campsByItinerary,numericItinerary($A37),BK$3-1),campInfo,10))","v":""},{"$f":"IF(INDEX(campsByItinerary,numericItinerary($A37),BL$3-1)=\"\",\"\",VLOOKUP(INDEX(campsByItinerary,numericItinerary($A37),BL$3-1),campInfo,10))","v":""},{"$f":"IF(INDEX(campsByItinerary,numericItinerary($A37),BM$3-1)=\"\",\"\",VLOOKUP(INDEX(campsByItinerary,numericItinerary($A37),BM$3-1),campInfo,10))","v":""},null,"","","","","","","","","",{"$f":"INDEX(campsByItinerary,numericItinerary($A37),BD$3-1)","v":"Mistletoe"},{"$f":"IF(INDEX(campsByItinerary,numericItinerary($A37),BE$3-1)=\"\",\"\",VLOOKUP(INDEX(campsByItinerary,numericItinerary($A37),BE$3-1),campInfo,2))","v":"North"},{"$f":"IF(INDEX(campsByItinerary,numericItinerary($A37),BF$3-1)=\"\",\"\",VLOOKUP(INDEX(campsByItinerary,numericItinerary($A37),BF$3-1),campInfo,2))","v":"North"},{"$f":"IF(INDEX(campsByItinerary,numericItinerary($A37),BG$3-1)=\"\",\"\",VLOOKUP(INDEX(campsByItinerary,numericItinerary($A37),BG$3-1),campInfo,2))","v":"Valle Vidal"},{"$f":"IF(INDEX(campsByItinerary,numericItinerary($A37),BH$3-1)=\"\",\"\",VLOOKUP(INDEX(campsByItinerary,numericItinerary($A37),BH$3-1),campInfo,2))","v":"Valle Vidal"},{"$f":"IF(INDEX(campsByItinerary,numericItinerary($A37),BI$3-1)=\"\",\"\",VLOOKUP(INDEX(campsByItinerary,numericItinerary($A37),BI$3-1),campInfo,2))","v":"North"},{"$f":"IF(INDEX(campsByItinerary,numericItinerary($A37),BJ$3-1)=\"\",\"\",VLOOKUP(INDEX(campsByItinerary,numericItinerary($A37),BJ$3-1),campInfo,2))","v":"North"},{"$f":"IF(INDEX(campsByItinerary,numericItinerary($A37),BK$3-1)=\"\",\"\",VLOOKUP(INDEX(campsByItinerary,numericItinerary($A37),BK$3-1),campInfo,2))","v":"Central"},{"$f":"IF(INDEX(campsByItinerary,numericItinerary($A37),BL$3-1)=\"\",\"\",VLOOKUP(INDEX(campsByItinerary,numericItinerary($A37),BL$3-1),campInfo,2))","v":"Central"},{"$f":"IF(INDEX(campsByItinerary,numericItinerary($A37),BM$3-1)=\"\",\"\",VLOOKUP(INDEX(campsByItinerary,numericItinerary($A37),BM$3-1),campInfo,2))","v":"Central"},{"$f":"IF(INDEX(campsByItinerary,numericItinerary($A37),BD$3-1)=\"\",\"\",VLOOKUP(INDEX(campsByItinerary,numericItinerary($A37),BD$3-1),campInfo,12))","v":"North & South"},{"$f":"IF(INDEX(campsByItinerary,numericItinerary($A37),BE$3-1)=\"\",\"\",VLOOKUP(INDEX(campsByItinerary,numericItinerary($A37),BE$3-1),campInfo,12))","v":"North"},{"$f":"IF(INDEX(campsByItinerary,numericItinerary($A37),BF$3-1)=\"\",\"\",VLOOKUP(INDEX(campsByItinerary,numericItinerary($A37),BF$3-1),campInfo,12))","v":"North"},{"$f":"IF(INDEX(campsByItinerary,numericItinerary($A37),BG$3-1)=\"\",\"\",VLOOKUP(INDEX(campsByItinerary,numericItinerary($A37),BG$3-1),campInfo,12))","v":"North"},{"$f":"IF(INDEX(campsByItinerary,numericItinerary($A37),BH$3-1)=\"\",\"\",VLOOKUP(INDEX(campsByItinerary,numericItinerary($A37),BH$3-1),campInfo,12))","v":"North"},{"$f":"IF(INDEX(campsByItinerary,numericItinerary($A37),BI$3-1)=\"\",\"\",VLOOKUP(INDEX(campsByItinerary,numericItinerary($A37),BI$3-1),campInfo,12))","v":"North"},{"$f":"IF(INDEX(campsByItinerary,numericItinerary($A37),BJ$3-1)=\"\",\"\",VLOOKUP(INDEX(campsByItinerary,numericItinerary($A37),BJ$3-1),campInfo,12))","v":"North"},{"$f":"IF(INDEX(campsByItinerary,numericItinerary($A37),BK$3-1)=\"\",\"\",VLOOKUP(INDEX(campsByItinerary,numericItinerary($A37),BK$3-1),campInfo,12))","v":"South"},{"$f":"IF(INDEX(campsByItinerary,numericItinerary($A37),BL$3-1)=\"\",\"\",VLOOKUP(INDEX(campsByItinerary,numericItinerary($A37),BL$3-1),campInfo,12))","v":"South"},{"$f":"IF(INDEX(campsByItinerary,numericItinerary($A37),BM$3-1)=\"\",\"\",VLOOKUP(INDEX(campsByItinerary,numericItinerary($A37),BM$3-1),campInfo,12))","v":"South"},{"$f":"getfoodPU(\"First\",numericItinerary($A37))","v":2},{"$f":"getfoodPU(\"Max\",numericItinerary($A37))","v":4}]
[null,null,null,null,null,null,null,null,null,null,null,null,null,null,null,null,null,null,null,null,null,null,null,null,null,null,null,null,null,null,null,{"$f":"COUNTIF(AF4:AF37,\"y\")","v":15},{"$f":"COUNTIF(AG4:AG37,\"y\")","v":17},{"$f":"COUNTIF(AH4:AH37,\"y\")","v":23},{"$f":"COUNTIF(AI4:AI37,\"y\")","v":4},{"$f":"COUNTIF(AJ4:AJ37,\"y\")","v":21}]
[null,null,null,null,null,null,null,null,null,null,null,null,null,null,null,null,null,null,null,null,null,null,null,null,null,null,null,null,null,null,null,"Mountaineering includes itineraries that climb Big Red, Black Mountain, Bonito Peak, Comanche Peak, Hart Mountain, Little Costilla Peak, Lookout Peak, or Shaefers Peak.",null,null,null,null," ",null,null,null,null,null,null,null,null,null,null,null,null,null,null,null,null,null,null,null,null,null,null,null,null,null,null,null,null,null,null,null,null,null,null,null,null,null,null,null,null,null,null,null,null,null,null,null,null,null,null,null,null,null,null,null,null,null,null,null,null,null,null,null,null,null,null,null,null,null,null,null,null,null,null,null,null,null,"Min",{"$f":"MIN(foodPUfirst)","v":1},{"$f":"MIN(foodPUdays)","v":2}]
[null,null,null,null,null,null,null,null,null,null,null,null,null,null,null,null,null,null,null,null,null,null,null,null,null,null,null,null,null,null,null,null,null,null,null,null," ",null,null,null,null,null,null,null,null,null,null,null,null,null,null,null,null,null,null,null,null,null,null,null,null,null,null,null,null,null,null,null,null,null,null,null,null,null,null,null,null,null,null,null,null,null,null,null,null,null,null,null,null,null,null,null,null,null,null,null,null,null,null,null,null,null,null,null,null,null,null,null,null,null,null,null,null,null,"Max",{"$f":"MAX(DL5:DL37)","v":4},{"$f":"MAX(foodPUdays)","v":5}]

{"sheet":"ItineraryPrograms","index":11,"n_rows":38,"n_cols":51,"rows_kept":38,"cut":false,"hidden":true,"merged":[[0,0,1,0]]}
["Itinerary",1,{"$f":"B1+1","v":2},{"$f":"C1+1","v":3},4,5,6,7,8,9,10,11,12,13,14,15,16,17,18,19,20,21,22,23,24,25,26,27,28,29,30,31,32,33,34,35,36,37,38,39,40,41,42,43,44,45,46,47,48,49,50]
[null,{"$f":"INDEX(program_table,B1,1)","v":"Archaeology"},"Archery - 3 Dimensional",{"$f":"INDEX(program_table,D1,1)","v":"Astronomy"},"Atlatl (Dart-throwing)","Baldy Mountain","Blacksmithing","Bouldering","Burro Packing","Campfire (evening)","Cantina","Challenge Events","Chuckwagon Dinner","Cowboy Action Shooting","Demonstration Forest","Fishing","Fly Tying","Fur Trapper Rendezvous","Gold Mining & Panning","High Ropes & Climbing Tower","Historic Chase Ranch","Homesteading","Horse Rides","Hunter Safety","Inspiration Point Hike","Jicarilla Apache Life","Kit Carson/Rayado Rancho","Laser Shot Shooting Range","Lodge/Cabin Tours","Low Impact Camping","Mexican Dinner","Mine Tour","Mount Phillips","Mountain Biking","Mountaineering","Muzzle Loading Rifle","New Mexico Homestead","Petroglyph Tour","Post Civil War Encampment","Railroading","Rock Climbing & Rappelling","Rocky Mountain Fur Co.","Search & Rescue/Wild. Medicine","Shooting/Reloading - .30-06","Shotgun Shooting/Reloading - 12 Gauge","Spar Pole Climbing","Tie Making & Crosscut Saws","Tomahawk Throwing","Tooth of Time","Trail Peak","Western Lore/Branding"]
[{"$f":"Itineraries!A3","v":"12-1"},null,null,null,null,null,"y",null,null,"y",null,"y","y",null,null,null,null,null,null,"y",null,"y","y",null,"y",null,null,null,null,null,null,null,"y",null,"y","y",null,null,"y",null,"N","y",null,null,null,null,null,"y","y",null,"y"]
[{"$f":"Itineraries!A4","v":"12-2"},null,"y",null,null,null,"y",null,null,"y",null,null,"y",null,"y","N",null,null,"y",null,null,"y","N",null,null,"y",null,null,"y",null,null,"y","y",null,"y",null,null,null,null,null,"y","y",null,null,null,null,"y","y","y",null,"y"]
[{"$f":"Itineraries!A5","v":"12-3"},null,null,null,null,null,"y",null,null,"y",null,"y",null,null,"y",null,null,null,"y","y",null,null,null,null,"y",null,null,null,null,null,null,null,"y",null,"y","y",null,null,"y",null,"y",null,null,"y",null,null,null,"y","y"]
[{"$f":"Itineraries!A6","v":"12-4"},null,null,null,null,null,"y",null,null,"y",null,null,"y",null,"y",null,null,null,"y",null,null,"y","y",null,null,null,null,null,"y",null,null,"y","y",null,"y","y",null,null,"y",null,"y","y",null,"y",null,null,null,"y","y",null,"y"]
[{"$f":"Itineraries!A7","v":"12-5"},"y","y",null,"y","y","y",null,"y","y","y","y","y","N",null,null,null,"y","y",null,null,null,"y","y",null,null,null,"y",null,null,null,"y",null,null,null,null,null,"y",null,"y",null,null,null,null,null,"y","y",null,"",null,"y"]
[{"$f":"Itineraries!A8","v":"12-6"},null,"y",null,null,{"$f":"IF(INDEX(baldyMountainHike,numericItinerary($A8))=\"y\",\"y\",\"\")","v":""},null,null,null,"y","y",null,"y",null,null,"y","y",null,null,null,null,"y","y",null,null,"y",null,null,"y",null,null,null,{"$f":"IF(INDEX(mountPhillipsHike,numericItinerary($A8))=\"y\",\"y\",\"\")","v":"y"},null,{"$f":"IF(INDEX(mountaineeringHike,numericItinerary($A8))=\"y\",\"y\",\"\")","v":"y"},null,"y",null,null,null,"y","y",null,null,null,null,"y","y",{"$f":"IF(INDEX(toothOfTimeHike,numericItinerary($A8))=\"y\",\"y\",\"\")","v":"y"},{"$f":"IF(INDEX(trailPeakHike,numericItinerary($A8))=\"y\",\"y\",\"\")","v":""},"y"]
[{"$f":"Itineraries!A9","v":"12-7"},null,"y",null,null,{"$f":"IF(INDEX(baldyMountainHike,numericItinerary($A9))=\"y\",\"y\",\"\")","v":""},null,null,null,"y","y",null,"y",null,null,null,null,null,null,null,null,null,"y",null,null,"y",null,null,"y",null,null,null,{"$f":"IF(INDEX(mountPhillipsHike,numericItinerary($A9))=\"y\",\"y\",\"\")","v":""},null,{"$f":"IF(INDEX(mountaineeringHike,numericItinerary($A9))=\"y\",\"y\",\"\")","v":""},null,"y",null,null,null,"y","y","y",null,null,null,"y","y",{"$f":"IF(INDEX(toothOfTimeHike,numericItinerary($A9))=\"y\",\"y\",\"\")","v":"y"},{"$f":"IF(INDEX(trailPeakHike,numericItinerary($A9))=\"y\",\"y\",\"\")","v":""},"y"]
[{"$f":"Itineraries!A10","v":"12-8"},null,null,null,null,{"$f":"IF(INDEX(baldyMountainHike,numericItinerary($A10))=\"y\",\"y\",\"\")","v":""},null,null,null,"y",null,"y","y",null,"y",null,null,null,"y",null,null,"y","y",null,"y",null,null,null,null,null,null,"y",{"$f":"IF(INDEX(mountPhillipsHike,numericItinerary($A10))=\"y\",\"y\",\"\")","v":"y"},null,{"$f":"IF(INDEX(mountaineeringHike,numericItinerary($A10))=\"y\",\"y\",\"\")","v":""},"y",null,null,null,null,"y","y",null,null,null,null,"y","y",{"$f":"IF(INDEX(toothOfTimeHike,numericItinerary($A10))=\"y\",\"y\",\"\")","v":"y"},{"$f":"IF(INDEX(trailPeakHike,numericItinerary($A10))=\"y\",\"y\",\"\")","v":"y"},"y"]
[{"$f":"Itineraries!A11","v":"12-9"},null,"y",null,null,{"$f":"IF(INDEX(baldyMountainHike,numericItinerary($A11))=\"y\",\"y\",\"\")","v":"y"},"y",null,"N","y","y","y","y","y",null,null,null,"y","y",null,null,"y","y",null,null,null,null,"y",null,null,null,null,{"$f":"IF(INDEX(mountPhillipsHike,numericItinerary($A11))=\"y\",\"y\",\"\")","v":""},null,{"$f":"IF(INDEX(mountaineeringHike,numericItinerary($A11))=\"y\",\"y\",\"\")","v":""},"y",null,null,null,"y",null,null,null,null,null,null,"y","y",{"$f":"IF(INDEX(toothOfTimeHike,numericItinerary($A11))=\"y\",\"y\",\"\")","v":""},{"$f":"IF(INDEX(trailPeakHike,numericItinerary($A11))=\"y\",\"y\",\"\")","v":""},"y"]
[{"$f":"Itineraries!A12","v":"12-10"},"y",null,null,"y",{"$f":"IF(INDEX(baldyMountainHike,numericItinerary($A12))=\"y\",\"y\",\"\")","v":"y"},"y","y","N","y","y","y","y","y",null,null,null,"y","y",null,"y",null,"N",null,null,null,null,null,"y",null,null,"y",{"$f":"IF(INDEX(mountPhillipsHike,numericItinerary($A12))=\"y\",\"y\",\"\")","v":""},"y",{"$f":"IF(INDEX(mountaineeringHike,numericItinerary($A12))=\"y\",\"y\",\"\")","v":"y"},null,null,"y",null,null,"y",null,null,null,null,"y","y","y",{"$f":"IF(INDEX(toothOfTimeHike,numericItinerary($A12))=\"y\",\"y\",\"\")","v":""},{"$f":"IF(INDEX(trailPeakHike,numericItinerary($A12))=\"y\",\"y\",\"\")","v":""},"y"]
[{"$f":"Itineraries!A13","v":"12-11"},null,null,null,null,{"$f":"IF(INDEX(baldyMountainHike,numericItinerary($A13))=\"y\",\"y\",\"\")","v":""},"y",null,null,"y","y",null,"y",null,"y","N",null,null,"y",null,null,null,"N",null,null,null,null,null,"N",null,"y","y",{"$f":"IF(INDEX(mountPhillipsHike,numericItinerary($A13))=\"y\",\"y\",\"\")","v":"y"},null,{"$f":"IF(INDEX(mountaineeringHike,numericItinerary($A13))=\"y\",\"y\",\"\")","v":"y"},"y","y",null,null,null,"y","y",null,null,null,"y","y","y",{"$f":"IF(INDEX(toothOfTimeHike,numericItinerary($A13))=\"y\",\"y\",\"\")","v":"y"},{"$f":"IF(INDEX(trailPeakHike,numericItinerary($A13))=\"y\",\"y\",\"\")","v":"y"},"y"]
[{"$f":"Itineraries!A14","v":"12-12"},null,"y",null,null,{"$f":"IF(INDEX(baldyMountainHike,numericItinerary($A14))=\"y\",\"y\",\"\")","v":""},null,null,null,"y","y",null,"y",null,null,"y","y",null,null,null,null,"y","y",null,null,"y",null,null,"y",null,null,null,{"$f":"IF(INDEX(mountPhillipsHike,numericItinerary($A14))=\"y\",\"y\",\"\")","v":"y"},null,{"$f":"IF(INDEX(mountaineeringHike,numericItinerary($A14))=\"y\",\"y\",\"\")","v":"y"},null,"y",null,null,null,"y","y",null,null,null,null,"y","y",{"$f":"IF(INDEX(toothOfTimeHike,numericItinerary($A14))=\"y\",\"y\",\"\")","v":"y"},{"$f":"IF(INDEX(trailPeakHike,numericItinerary($A14))=\"y\",\"y\",\"\")","v":""},"y"]
[{"$f":"Itineraries!A15","v":"12-13"},null,"y",null,null,{"$f":"IF(INDEX(baldyMountainHike,numericItinerary($A15))=\"y\",\"y\",\"\")","v":""},"y",null,null,"y","y",null,"y",null,null,null,null,null,null,"y",null,"y","N",null,null,"y",null,null,"y",null,null,null,{"$f":"IF(INDEX(mountPhillipsHike,numericItinerary($A15))=\"y\",\"y\",\"\")","v":"y"},null,{"$f":"IF(INDEX(mountaineeringHike,numericItinerary($A15))=\"y\",\"y\",\"\")","v":"y"},"y","y",null,"y",null,"y",null,null,null,null,null,null,null,{"$f":"IF(INDEX(toothOfTimeHike,numericItinerary($A15))=\"y\",\"y\",\"\")","v":"y"},{"$f":"IF(INDEX(trailPeakHike,numericItinerary($A15))=\"y\",\"y\",\"\")","v":""},"y"]
[{"$f":"Itineraries!A16","v":"12-14"},null,"y",null,null,{"$f":"IF(INDEX(baldyMountainHike,numericItinerary($A16))=\"y\",\"y\",\"\")","v":""},"y",null,null,"y","y",null,"y",null,"y",null,null,null,"y",null,null,"y","y",null,null,"y",null,null,"y",null,"N",null,{"$f":"IF(INDEX(mountPhillipsHike,numericItinerary($A16))=\"y\",\"y\",\"\")","v":"y"},null,{"$f":"IF(INDEX(mountaineeringHike,numericItinerary($A16))=\"y\",\"y\",\"\")","v":"y"},null,"y",null,null,null,"y","y",null,null,null,"y","y","y",{"$f":"IF(INDEX(toothOfTimeHike,numericItinerary($A16))=\"y\",\"y\",\"\")","v":"y"},{"$f":"IF(INDEX(trailPeakHike,numericItinerary($A16))=\"y\",\"y\",\"\")","v":"y"},"y"]
[{"$f":"Itineraries!A17","v":"12-15"},null,"y",null,null,{"$f":"IF(INDEX(baldyMountainHike,numericItinerary($A17))=\"y\",\"y\",\"\")","v":""},"y",null,null,"y",null,null,"y",null,"y","y",null,null,"y",null,null,"y","y",null,null,"y",null,null,"y","y",null,"y",{"$f":"IF(INDEX(mountPhillipsHike,numericItinerary($A17))=\"y\",\"y\",\"\")","v":"y"},null,{"$f":"IF(INDEX(mountaineeringHike,numericItinerary($A17))=\"y\",\"y\",\"\")","v":"y"},null,null,null,null,null,null,"y",null,null,null,"y","y","y",{"$f":"IF(INDEX(toothOfTimeHike,numericItinerary($A17))=\"y\",\"y\",\"\")","v":"y"},{"$f":"IF(INDEX(trailPeakHike,numericItinerary($A17))=\"y\",\"y\",\"\")","v":"y"},"y"]
[{"$f":"Itineraries!A18","v":"12-16"},"y",null,"y",null,{"$f":"IF(INDEX(baldyMountainHike,numericItinerary($A18))=\"y\",\"y\",\"\")","v":"y"},"y",null,"y","y","y","y","y","y",null,null,null,"y","y",null,null,null,"N",null,null,null,null,null,null,"y",null,"y",{"$f":"IF(INDEX(mountPhillipsHike,numericItinerary($A18))=\"y\",\"y\",\"\")","v":""},"N",{"$f":"IF(INDEX(mountaineeringHike,numericItinerary($A18))=\"y\",\"y\",\"\")","v":""},"y",null,"y",null,"y",null,null,null,null,null,null,"y","y",{"$f":"IF(INDEX(toothOfTimeHike,numericItinerary($A18))=\"y\",\"y\",\"\")","v":""},{"$f":"IF(INDEX(trailPeakHike,numericItinerary($A18))=\"y\",\"y\",\"\")","v":""},"y"]
[{"$f":"Itineraries!A19","v":"12-17"},null,"y",null,null,{"$f":"IF(INDEX(baldyMountainHike,numericItinerary($A19))=\"y\",\"y\",\"\")","v":""},"y",null,null,"y",null,"y","y",null,"y","y","y",null,"y",null,null,"y","y",null,"y","y",null,null,"y",null,null,"y",{"$f":"IF(INDEX(mountPhillipsHike,numericItinerary($A19))=\"y\",\"y\",\"\")","v":"y"},null,{"$f":"IF(INDEX(mountaineeringHike,numericItinerary($A19))=\"y\",\"y\",\"\")","v":"y"},null,null,null,null,null,"y","y",null,"y",null,"y","y","y",{"$f":"IF(INDEX(toothOfTimeHike,numericItinerary($A19))=\"y\",\"y\",\"\")","v":"y"},{"$f":"IF(INDEX(trailPeakHike,numericItinerary($A19))=\"y\",\"y\",\"\")","v":""},"y"]
[{"$f":"Itineraries!A20","v":"12-18"},"y",null,"y","y",{"$f":"IF(INDEX(baldyMountainHike,numericItinerary($A20))=\"y\",\"y\",\"\")","v":"y"},"y","y",null,"y",null,"y",null,null,null,null,null,"y","y",null,null,"y",null,null,null,null,null,null,"y","y",null,null,{"$f":"IF(INDEX(mountPhillipsHike,numericItinerary($A20))=\"y\",\"y\",\"\")","v":""},"y",{"$f":"IF(INDEX(mountaineeringHike,numericItinerary($A20))=\"y\",\"y\",\"\")","v":""},"y",null,"y",null,"y","y",null,null,null,null,null,"y","y",{"$f":"IF(INDEX(toothOfTimeHike,numericItinerary($A20))=\"y\",\"y\",\"\")","v":""},{"$f":"IF(INDEX(trailPeakHike,numericItinerary($A20))=\"y\",\"y\",\"\")","v":""}]
[{"$f":"Itineraries!A21","v":"12-19"},null,"y",null,null,{"$f":"IF(INDEX(baldyMountainHike,numericItinerary($A21))=\"y\",\"y\",\"\")","v":""},"y",null,null,"y","y","y",null,null,"y",null,null,null,"y","y",null,"y",null,null,"N","y",null,null,"y",null,null,"y",{"$f":"IF(INDEX(mountPhillipsHike,numericItinerary($A21))=\"y\",\"y\",\"\")","v":"y"},null,{"$f":"IF(INDEX(mountaineeringHike,numericItinerary($A21))=\"y\",\"y\",\"\")","v":""},"y","y",null,null,null,"y","y",null,null,null,null,null,"y",{"$f":"IF(INDEX(toothOfTimeHike,numericItinerary($A21))=\"y\",\"y\",\"\")","v":"y"},{"$f":"IF(INDEX(trailPeakHike,numericItinerary($A21))=\"y\",\"y\",\"\")","v":""},"y"]
[{"$f":"Itineraries!A22","v":"12-20"},null,"y",null,null,{"$f":"IF(INDEX(baldyMountainHike,numericItinerary($A22))=\"y\",\"y\",\"\")","v":"y"},"y",null,"N","y","y","y","y","N",null,null,null,"y","y",null,null,null,"y","N",null,null,null,"y",null,null,null,"y",{"$f":"IF(INDEX(mountPhillipsHike,numericItinerary($A22))=\"y\",\"y\",\"\")","v":""},null,{"$f":"IF(INDEX(mountaineeringHike,numericItinerary($A22))=\"y\",\"y\",\"\")","v":""},null,null,null,null,null,"y",null,null,null,"y",null,"y","y",{"$f":"IF(INDEX(toothOfTimeHike,numericItinerary($A22))=\"y\",\"y\",\"\")","v":""},{"$f":"IF(INDEX(trailPeakHike,numericItinerary($A22))=\"y\",\"y\",\"\")","v":""},"y"]
[{"$f":"Itineraries!A23","v":"12-21"},null,"y",null,null,{"$f":"IF(INDEX(baldyMountainHike,numericItinerary($A23))=\"y\",\"y\",\"\")","v":""},"y",null,null,"y","y",null,null,null,"y","y",null,null,"y",null,null,"y",null,null,null,"y",null,null,"y",null,"y","y",{"$f":"IF(INDEX(mountPhillipsHike,numericItinerary($A23))=\"y\",\"y\",\"\")","v":"y"},null,{"$f":"IF(INDEX(mountaineeringHike,numericItinerary($A23))=\"y\",\"y\",\"\")","v":"y"},null,"y",null,null,null,"y","y",null,null,null,null,"y","y",{"$f":"IF(INDEX(toothOfTimeHike,numericItinerary($A23))=\"y\",\"y\",\"\")","v":"y"},{"$f":"IF(INDEX(trailPeakHike,numericItinerary($A23))=\"y\",\"y\",\"\")","v":""},"y"]
[{"$f":"Itineraries!A24","v":"12-22"},null,"y",null,null,{"$f":"IF(INDEX(baldyMountainHike,numericItinerary($A24))=\"y\",\"y\",\"\")","v":""},"y",null,null,"y","y","y","y",null,"y","y","y",null,"y",null,null,"y","y",null,null,"y",null,null,"y",null,"y","y",{"$f":"IF(INDEX(mountPhillipsHike,numericItinerary($A24))=\"y\",\"y\",\"\")","v":"y"},null,{"$f":"IF(INDEX(mountaineeringHike,numericItinerary($A24))=\"y\",\"y\",\"\")","v":"y"},null,"y",null,null,null,"y","y",null,"y",null,null,null,"y",{"$f":"IF(INDEX(toothOfTimeHike,numericItinerary($A24))=\"y\",\"y\",\"\")","v":"y"},{"$f":"IF(INDEX(trailPeakHike,numericItinerary($A24))=\"y\",\"y\",\"\")","v":""},"y"]
[{"$f":"Itineraries!A25","v":"12-23"},"y",null,"y","y",{"$f":"IF(INDEX(baldyMountainHike,numericItinerary($A25))=\"y\",\"y\",\"\")","v":"y"},"y","y","N","y",null,"y",null,null,null,null,null,"y","y",null,"y","y",null,null,null,null,null,null,"y","y",null,"y",{"$f":"IF(INDEX(mountPhillipsHike,numericItinerary($A25))=\"y\",\"y\",\"\")","v":""},"y",{"$f":"IF(INDEX(mountaineeringHike,numericItinerary($A25))=\"y\",\"y\",\"\")","v":""},"y",null,"y",null,"y",null,null,null,null,null,null,"y","y",{"$f":"IF(INDEX(toothOfTimeHike,numericItinerary($A25))=\"y\",\"y\",\"\")","v":""},{"$f":"IF(INDEX(trailPeakHike,numericItinerary($A25))=\"y\",\"y\",\"\")","v":""}]
[{"$f":"Itineraries!A26","v":"12-24"},null,null,null,null,{"$f":"IF(INDEX(baldyMountainHike,numericItinerary($A26))=\"y\",\"y\",\"\")","v":""},"y",null,null,"y","y","y","y",null,"y",null,null,null,"y",null,null,"y","y",null,"y","y",null,null,null,null,null,"N",{"$f":"IF(INDEX(mountPhillipsHike,numericItinerary($A26))=\"y\",\"y\",\"\")","v":"y"},null,{"$f":"IF(INDEX(mountaineeringHike,numericItinerary($A26))=\"y\",\"y\",\"\")","v":""},"y","y",null,"y",null,"y","y",null,null,null,null,"y","y",{"$f":"IF(INDEX(toothOfTimeHike,numericItinerary($A26))=\"y\",\"y\",\"\")","v":"y"},{"$f":"IF(INDEX(trailPeakHike,numericItinerary($A26))=\"y\",\"y\",\"\")","v":""},"y"]
[{"$f":"Itineraries!A27","v":"12-25"},null,null,"y",null,{"$f":"IF(INDEX(baldyMountainHike,numericItinerary($A27))=\"y\",\"y\",\"\")","v":""},"y","y",null,"y",null,"y",null,null,null,null,null,null,null,null,"y","y",null,null,null,null,null,null,"y","y",null,null,{"$f":"IF(INDEX(mountPhillipsHike,numericItinerary($A27))=\"y\",\"y\",\"\")","v":""},"y",{"$f":"IF(INDEX(mountaineeringHike,numericItinerary($A27))=\"y\",\"y\",\"\")","v":"y"},null,null,"y",null,"y","y",null,null,null,null,"y","y",null,{"$f":"IF(INDEX(toothOfTimeHike,numericItinerary($A27))=\"y\",\"y\",\"\")","v":""},{"$f":"IF(INDEX(trailPeakHike,numericItinerary($A27))=\"y\",\"y\",\"\")","v":""}]
[{"$f":"Itineraries!A28","v":"12-26"},null,null,"y",null,{"$f":"IF(INDEX(baldyMountainHike,numericItinerary($A28))=\"y\",\"y\",\"\")","v":"y"},null,null,"N","y","y",null,"y","y",null,null,null,null,"y",null,null,"y","N",null,null,null,null,null,"N","y",null,null,{"$f":"IF(INDEX(mountPhillipsHike,numericItinerary($A28))=\"y\",\"y\",\"\")","v":""},"y",{"$f":"IF(INDEX(mountaineeringHike,numericItinerary($A28))=\"y\",\"y\",\"\")","v":""},null,null,null,null,null,null,null,null,null,null,"y","y",null,{"$f":"IF(INDEX(toothOfTimeHike,numericItinerary($A28))=\"y\",\"y\",\"\")","v":""},{"$f":"IF(INDEX(trailPeakHike,numericItinerary($A28))=\"y\",\"y\",\"\")","v":""},"y"]
[{"$f":"Itineraries!A29","v":"12-27"},"y",null,"y","y",{"$f":"IF(INDEX(baldyMountainHike,numericItinerary($A29))=\"y\",\"y\",\"\")","v":"y"},null,"y","y","y","y","y","y",null,null,null,null,"y","y",null,"y",null,"y",null,null,null,null,null,"y","y",null,null,{"$f":"IF(INDEX(mountPhillipsHike,numericItinerary($A29))=\"y\",\"y\",\"\")","v":""},"y",{"$f":"IF(INDEX(mountaineeringHike,numericItinerary($A29))=\"y\",\"y\",\"\")","v":""},"y",null,"y",null,"y","y",null,null,null,null,"y","y","y",{"$f":"IF(INDEX(toothOfTimeHike,numericItinerary($A29))=\"y\",\"y\",\"\")","v":""},{"$f":"IF(INDEX(trailPeakHike,numericItinerary($A29))=\"y\",\"y\",\"\")","v":""},"y"]
[{"$f":"Itineraries!A30","v":"12-28"},"y",null,null,"y",{"$f":"IF(INDEX(baldyMountainHike,numericItinerary($A30))=\"y\",\"y\",\"\")","v":""},null,"y","N","y","y",null,"y","N","y","N",null,null,"y",null,"y",null,"y",null,null,null,null,null,"y",null,null,"y",{"$f":"IF(INDEX(mountPhillipsHike,numericItinerary($A30))=\"y\",\"y\",\"\")","v":""},null,{"$f":"IF(INDEX(mountaineeringHike,numericItinerary($A30))=\"y\",\"y\",\"\")","v":"y"},"y",null,"y",null,null,null,null,null,"y","y",null,null,null,{"$f":"IF(INDEX(toothOfTimeHike,numericItinerary($A30))=\"y\",\"y\",\"\")","v":"y"},{"$f":"IF(INDEX(trailPeakHike,numericItinerary($A30))=\"y\",\"y\",\"\")","v":""},"y"]
[{"$f":"Itineraries!A31","v":"12-29"},null,"y",null,null,{"$f":"IF(INDEX(baldyMountainHike,numericItinerary($A31))=\"y\",\"y\",\"\")","v":"y"},"y",null,null,"y","y","y","y",null,null,null,null,null,"y",null,null,null,"N","y",null,null,null,"y",null,null,null,"y",{"$f":"IF(INDEX(mountPhillipsHike,numericItinerary($A31))=\"y\",\"y\",\"\")","v":"y"},null,{"$f":"IF(INDEX(mountaineeringHike,numericItinerary($A31))=\"y\",\"y\",\"\")","v":"y"},null,null,null,"y",null,null,null,null,"y",null,null,"y",null,{"$f":"IF(INDEX(toothOfTimeHike,numericItinerary($A31))=\"y\",\"y\",\"\")","v":"y"},{"$f":"IF(INDEX(trailPeakHike,numericItinerary($A31))=\"y\",\"y\",\"\")","v":""},"y"]
[{"$f":"Itineraries!A32","v":"12-30"},"y",null,"y",null,{"$f":"IF(INDEX(baldyMountainHike,numericItinerary($A32))=\"y\",\"y\",\"\")","v":"y"},"y","y",null,"y",null,"y",null,null,null,null,null,null,"y",null,"y",null,null,null,null,null,null,null,"y","y",null,"y",{"$f":"IF(INDEX(mountPhillipsHike,numericItinerary($A32))=\"y\",\"y\",\"\")","v":""},"y",{"$f":"IF(INDEX(mountaineeringHike,numericItinerary($A32))=\"y\",\"y\",\"\")","v":"y"},null,null,"y",null,"y","y",null,null,null,null,"y","N",null,{"$f":"IF(INDEX(toothOfTimeHike,numericItinerary($A32))=\"y\",\"y\",\"\")","v":""},{"$f":"IF(INDEX(trailPeakHike,numericItinerary($A32))=\"y\",\"y\",\"\")","v":""}]
[{"$f":"Itineraries!A33","v":"12-31"},null,"y",null,null,{"$f":"IF(INDEX(baldyMountainHike,numericItinerary($A33))=\"y\",\"y\",\"\")","v":"y"},null,null,null,"y",null,"y","y",null,null,null,null,null,"y",null,null,null,"y","y",null,null,null,"y",null,null,null,null,{"$f":"IF(INDEX(mountPhillipsHike,numericItinerary($A33))=\"y\",\"y\",\"\")","v":""},null,{"$f":"IF(INDEX(mountaineeringHike,numericItinerary($A33))=\"y\",\"y\",\"\")","v":"y"},"y",null,null,null,null,null,null,null,"y",null,null,null,null,{"$f":"IF(INDEX(toothOfTimeHike,numericItinerary($A33))=\"y\",\"y\",\"\")","v":"y"},{"$f":"IF(INDEX(trailPeakHike,numericItinerary($A33))=\"y\",\"y\",\"\")","v":""},"y"]
[{"$f":"Itineraries!A34","v":"12-32"},null,null,null,null,{"$f":"IF(INDEX(baldyMountainHike,numericItinerary($A34))=\"y\",\"y\",\"\")","v":"y"},"y",null,"y","y","y","y","y",null,"y","N",null,"y","y",null,null,null,"y",null,null,null,null,null,"N",null,null,null,{"$f":"IF(INDEX(mountPhillipsHike,numericItinerary($A34))=\"y\",\"y\",\"\")","v":""},null,{"$f":"IF(INDEX(mountaineeringHike,numericItinerary($A34))=\"y\",\"y\",\"\")","v":"y"},"y",null,"y",null,"y","y",null,null,null,"y","y","y","y",{"$f":"IF(INDEX(toothOfTimeHike,numericItinerary($A34))=\"y\",\"y\",\"\")","v":"y"},{"$f":"IF(INDEX(trailPeakHike,numericItinerary($A34))=\"y\",\"y\",\"\")","v":""},"y"]
[{"$f":"Itineraries!A35","v":"12-33"},null,"y",null,null,{"$f":"IF(INDEX(baldyMountainHike,numericItinerary($A35))=\"y\",\"y\",\"\")","v":"y"},"y",null,null,"y",null,"y",null,null,"y",null,null,"y","y",null,null,"y","y","N",null,null,null,"y","y","y",null,"y",{"$f":"IF(INDEX(mountPhillipsHike,numericItinerary($A35))=\"y\",\"y\",\"\")","v":""},null,{"$f":"IF(INDEX(mountaineeringHike,numericItinerary($A35))=\"y\",\"y\",\"\")","v":"y"},null,null,null,null,null,"y",null,null,"y",null,null,"y",null,{"$f":"IF(INDEX(toothOfTimeHike,numericItinerary($A35))=\"y\",\"y\",\"\")","v":"y"},{"$f":"IF(INDEX(trailPeakHike,numericItinerary($A35))=\"y\",\"y\",\"\")","v":""},"y"]
[{"$f":"Itineraries!A36","v":"12-34"},null,null,null,null,{"$f":"IF(INDEX(baldyMountainHike,numericItinerary($A36))=\"y\",\"y\",\"\")","v":"y"},"y",null,null,"y",null,"y","y",null,"y",null,null,null,"N",null,null,"y","y",null,null,null,null,null,"y","y",null,"y",{"$f":"IF(INDEX(mountPhillipsHike,numericItinerary($A36))=\"y\",\"y\",\"\")","v":""},null,{"$f":"IF(INDEX(mountaineeringHike,numericItinerary($A36))=\"y\",\"y\",\"\")","v":""},null,null,null,null,null,"y",null,null,null,"y",null,"y",null,{"$f":"IF(INDEX(toothOfTimeHike,numericItinerary($A36))=\"y\",\"y\",\"\")","v":"y"},{"$f":"IF(INDEX(trailPeakHike,numericItinerary($A36))=\"y\",\"y\",\"\")","v":""},"y"]
[null,{"$f":"COUNTIF(B3:B36,\"y\")","v":8},17,7,6,15,26,7,4,34,20,22,26,4,16,6,4,10,27,4,6,21,20,3,5,12,0,6,21,10,3,{"$f":"COUNTIF(AF3:AF36,\"y\")","v":19},{"$f":"COUNTIF(AG3:AG36,\"y\")","v":17},7,21,16,10,10,6,9,24,{"$f":"COUNTIF(AP3:AP36,\"y\")","v":15},1,8,4,{"$f":"COUNTIF(AT3:AT36,\"y\")","v":11},25,24,23,4,29]
[null,{"$f":"B2","v":"Archaeology"},"Archery - 3 Dimensional","Astronomy","Atlatl (Dart-throwing)","Baldy Mountain","Blacksmithing","Bouldering","Burro Packing","Campfire (evening)","Cantina","Challenge Events","Chuckwagon Dinner","Cowboy Action Shooting","Demonstration Forest","Fishing","Fly Tying","Fur Trapper Rendezvous","Gold Mining & Panning","High Ropes & Climbing Tower","Historic Chase Ranch","Homesteading","Horse Rides","Hunter Safety","Inspiration Point Hike","Jicarilla Apache Life","Kit Carson/Rayado Rancho","Laser Shot Shooting Range","Lodge/Cabin Tours","Low Impact Camping","Mexican Dinner",{"$f":"AF2","v":"Mine Tour"},{"$f":"AG2","v":"Mount Phillips"},"Mountain Biking","Mountaineering","Muzzle Loading Rifle","New Mexico Homestead","Petroglyph Tour","Post Civil War Encampment","Railroading","Rock Climbing & Rappelling",{"$f":"AP2","v":"Rocky Mountain Fur Co."},"Search & Rescue/Wild. Medicine","Shooting/Reloading - .30-06","Shotgun Shooting/Reloading - 12 Gauge",{"$f":"AT2","v":"Spar Pole Climbing"},"Tie Making & Crosscut Saws","Tomahawk Throwing",{"$f":"AW2","v":"Tooth of Time"},"Trail Peak","Western Lore/Branding"]

{"sheet":"Descriptions","index":12,"n_rows":35,"n_cols":4,"rows_kept":35,"cut":false,"hidden":true,"merged":[]}
["Length","Itinerary","Description"," "]
[{"$f":"LEN(C2)","v":1832},{"$f":"Itineraries!A3","v":"12-1"},"This peaks filled trek will give you and your crew the opportunity to conquer 5 different peaks in one journey! Start this South Country traverse with a night at scenic Toothache Springs to train with your Ranger. Head to Urraca where you will participate in challenge events that will help your crew work together for the duration of your trek. Get an early start the next morning to enjoy the sunrise at Inspiration Point, then make your way to the High Ropes Course & Climbing Tower at Rocky Mountain Scout Camp for some high COPE program. You will then make your way to Stockade Ridge Camp to prepare for your first two summits. You’ll top the Tooth of Time and Shaefers Peak on the way to Miners Park Camp. The next morning take the beautiful hike up the North Fork Urraca Creek to Black Mountain's Post Civil War encampment. Work in the forge and shoot muzzle loading rifles while you are there. Visit the cowboys at Beaubien for a little branding and enjoy the Chuckwagon Dinner and Cowboy Campfire to top off the day. The next day you are waking up for horse rides and a quick hike for resupply at Phillips Junction and resting up at Porcupine for the night. The next day, make your way down to visit the homesteaders at Crooked Creek. Help them tend the chickens, goats, and cows, then check out their rustic cabin, then make your way to your next peak: Big Red. You’ll camp at Divide for the night to prepare to knock out two more peaks the next day. Enjoy the sweeping views from Comanche Peak and Mt. Phillips and then stay the night with the Rocky Mountain Fur Co. at Clear Creek. Participate in a friendly tomahawk throwing competition while you are there. Your next day will take you through part of the historic CS Ranch before hiking out the Colin Neblett Wildlife Area to the Tolby Trailhead. Next stop… Base Camp!"," "]
[{"$f":"LEN(C3)","v":1687},{"$f":"Itineraries!A4","v":"12-2"},"This challenging trek will take your crew on a program filled loop through Philmont’s South Country. You will spend your first night on the trail at Lovers Leap Camp before hiking to Miners Park to enjoy rock climbing and rappelling. Visit the Continental Tie and Lumber Company at Crater Lake on your way to spend the evening on the edge of the glorious Lower Bonito Meadow. Tour Fish Camp to discover why Waite Phillips enjoyed spending so much time there before you head to Lost Cabins. The next morning, pick up food and learn about the Jicarilla Apache at Apache Springs and try some 3-D Archery. From Apache you will head to the homestead at Crooked Creek where you can check out the cabin built by hand and help take care of the various animals and important daily life tasks. Your next morning takes you to Wild Horse Camp for the night. Next, be sure to visit the Rocky Mountain Fur Co. before climbing Mt. Phillips and camping just past the peak at the highest trail camp at Philmont. The next day, hike to Cyphers Mine to tour the historic Contention Mine and enjoy the evening Stomp. In the morning you will head down Cimarroncito Creek to camp near one of Waite Phillips’ other beautiful cabins called Hunting Lodge. You'll side hike to pick up food at Cimarroncito, and if you have time, check out the climbing gym and traverse wall before making your way back to camp for the night. Check out the Demonstration Forest before heading off to Clarks Fork for roping and branding. Top the day off with a chuckwagon dinner and their cowboy campfire. Get up early for your final challenge- Shaefers Peak and the Tooth of Time! Hike victoriously into Base Camp – You all made it!"," "]
[1582,{"$f":"Itineraries!A5","v":"12-3"},"If your crew is interested in rock climbing, rappelling, COPE, and climbing mountains then this is the itinerary for you! Your crew’s journey will begin with a night at the scenic Toothache Springs to train with your Ranger. Head to Urraca where you will participate in Challenge events that will help your crew work together for the duration of the trek. Get an early start the next morning to enjoy the sunrise at Inspiration Point then make your way to the High Ropes Course and Climbing Tower at Rocky Mountain Scout Camp for some high COPE program and climbing on the tower. You will then climb the Tooth of Time and Shaefers Peak on your way to Miners Park Camp for your first opportunity to climb on rock. Enjoy a beautiful hike up the North Fork Urraca to Black Mountain Camp for some blacksmithing and muzzle loading rifles. Climb up Big Red for a night at Divide and get your rest to get up early the next day to side hike Mt. Phillips before packing up your camp to hike to Sawmill. At Sawmill you will get to experience reloading ammunition, then firing those rounds though their .30-06 rifles. Leaving Sawmill hike down to Lamberts Mine to spend a night before hiking down the Cito Creek which will lead you to your two-day stay at Cimarroncito. Your layover at Cimarroncito will give you a chance to climb their legendary rock routes and expand your climbing knowledge with Advanced rock climbing instruction on the rocks and in the climbing gym. Your final day of hiking will take you around the Cito Reservoir to the Webster Trailhead for your bus back to Base Camp."," "]
[2289,{"$f":"Itineraries!A6","v":"12-4"},"This challenging itinerary will take you to some of the south country’s most iconic peaks with great program opportunities along the way. Start out at Lovers Leap Trailhead and receive Ranger training during your stay at Lovers Leap that night. Next, hike through Miners Park and participate in rock climbing before hiking up the North Fork Urraca the next day. Enjoy the beautiful hike and be sure to look for the Grizzly Tooth rock formation! Ultimately, you will reach the post-Civil War encampment at Black Mountain and participate in .58-caliber muzzle loading rifle shooting and blacksmithing before heading to Beaubien for a two-night layover. At Beaubien you will learn all about life on the cattle trail, ride horses, eat a hearty chuckwagon dinner, and listen to the sounds of western music at their campfires. Next, you’ll begin your approach towards Mt. Phillips by spending a night at Comanche Creek camp, but not before you stop by and visit the homestead at Crooked Creek. Get your rest, as you will be hitting two peaks of over 11,000 ft. each the next day! Throw some tomahawks with the fur trappers at Clear Creek and then take the new Order of the Arrow trail to summit Mt. Phillips, then you will take a short hike to Comanche Peak before finally bedding down for the night. Sawmill is next on your journey, where you will get to experience reloading ammunition, then firing those rounds through their .30-06 rifles. Make your way to Cyphers Mine to immerse yourself in mining history, take a tour of the Contention Mine, and try your hand at blacksmithing. Be ready after dinner for their evening musical performance: The Stomp. Next, enjoy a hike down Cito Creek to Cimarroncito for your food pickup and some time in the climbing gym or on the rocks. Your journey is not over yet, as you must journey towards your final night on the trail at Shaefers Pass Camp. Get plenty of water at Clarks Fork, as you will need it as you make your ascent to Shaefers Peak and the Tooth of Time. Enjoy the views across the plains to the East, and the beautiful mountains of Philmont to the North and West, reflecting on the journey you have taken and the challenges you have conquered as a crew. Then, make your way across Tooth Ridge and down to your final destination, Base Camp!"," "]
[2045,{"$f":"Itineraries!A7","v":"12-5"},"This traverse of the North Country historical timeline starts off by exploring the site of the first confirmed T-Rex track in the world! Move on to Indian Writings the next day to learn about some of the oldest historical sites on the ranch, the many petroglyphs found in the canyon, as well as the pit house excavation site. Continue up the North Ponil Canyon to the site of Metcalf Station and try your hands as a railroader for the day before settling in to Horse Canyon trail camp. Hike down beautiful Horse Canyon to the original base camp and headquarters of Philmont at Ponil. Ride horses, enjoy a nice cold root beer at the Cantina and spend the rest of the day enjoying the western lore programs, a delicious chuckwagon dinner, and an exciting Cantina Show to top off the day. Pick up your burros then head over to Pueblano to spend time with the loggers of the Continental Tie & Lumber Co. to experience the thrill of spar pole climbing and enjoy a great campfire program. Get ready, as the next morning you will be heading up into the mountains and cooler nights at higher elevations. First, drop off your burros at Miranda and get a glimpse of what a Fur Trapper Rendezvous might have looked like and enjoy a friendly tomahawk throwing competition. Your next two nights are at Black Horse Creek Camp, in the shadow of Baldy Mountain. You will have a layover day where you can summit Baldy Mountain, and then, if you are up for the challenge, hike down through Copper Park and French Henry to visit Lucien Maxwell’s Aztec Mine. Get some rest after a long day and make your way via Baldy Skyline, then down the trail to Head of Dean to test your crew's teamwork skills. You'll stop at New Dean for the night before making your way to your last night on the trail at Cimarroncita. Here you will learn marksmanship with a bow and arrow on their 3-D archery range, and try out the new Laser Shooting Range, too! You'll make the short hike the next morning to the Ute Park Trailhead to load up on the bus for the journey back to Base Camp."," "]
[2021,{"$f":"Itineraries!A8","v":"12-6"},"Hop off the bus with your Ranger at the Zastrow Trailhead and hike to Rimrock Park where you will learn backcountry camping skills from your Ranger. Spend some time with the Abreu family and learn about New Mexico homesteading. From there you will hike to Crags through massive geologic strata representing ancient landscapes from oceans to volcanoes. Crags Camp is a unique spot off the beaten path, and the hike to Agua Fria follows the path of a river that has spent countless eons cutting the entire valley you see before you today. Pull over at Fish Camp to visit Waite Phillips’ historic Rayado Lodge. From Agua Fria to Apache Springs, you will be traversing Philmont’s southern boundary. Enjoy 3-D Archery, and the history and lore of the Jicarilla Apache before you leave Apache and make your way to Crooked Creek, where you will learn how early homesteaders lived off the land and cared for their animals. The next day’s climb of Mt. Phillips is steep and an early start is needed to avoid afternoon weather. After summitting Philmont’s second highest peak, you will get a break as you bed down at Red Hills for the night. Next, make a side trip to Big Red, and head to Phillips Junction and Beaubien and take a load off when you get there - you earned it! Sit in a saddle for a horse ride, pass the time with western lore, enjoy a chuckwagon dinner as big as the West, and get ready for wild evening performances. As you leave Beaubien, take advantage of the rare opportunity to see the wreckage of the WWII B-24 Liberator that crashed on Trail Peak. Stop by Crater Lake to work with the loggers, then it's off to Miners Park and try your hand at rock climbing. Finally, hike from Miners Park to your final camp at Stockade Ridge. Get up early and maximize your opportunity for your hike up to the iconic Tooth of Time summit. Enjoy the views and reflect on your amazing experience before heading to Base Camp; either hiking in on the Tooth Ridge Trail or heading to the Lovers Leap Trailhead for your bus ride."," "]
[1435,{"$f":"Itineraries!A9","v":"12-7"},"Looking for a trek that follows rushing streams, discovers mountain meadows, and traverses lofty peaks across Philmont’s South Country? This is it! You’ll be dropped off at the Zastrow Trailhead before camping at Rimrock Park, which is near the historic Abreu family homestead. From there, enjoy the hike through the Notch to Crags and be one of the lucky few to sleep at the bottom of Rayado Canyon. Stellar views of Rayado, Crater, and Lookout Peaks will be seen from the trail on your way to Fish Camp where you will get to tour Waite Phillips' Rayado Lodge at the confluence of the Agua Fria and Rayado Creeks. Enjoy the hike up the Agua Fria to the beautiful meadows of Apache Springs. The sunset hike is not to be missed as well! The next morning, learn about the Jicarilla Apache and shoot 3-D archery targets at Apache Springs. Restock on food and supplies before setting off to Wild Horse Camp the next day. The fur trappers of the Rocky Mountain Fur Co. await you at Clear Creek with their tall tales and tomahawk throwing competitions. Spend a night on the trail at Comanche Creek before swinging down to Beaubien for roping, branding, horseback rides, a chuckwagon dinner, and cowboy campfire. Don’t forget to visit Crater Lake and the loggers of the Continental Tie & Lumber Co. as you make your way to Miners Park for some rock climbing and rappelling. Your final challenges await you…Shaefers Peak and the Tooth of Time!"," "]
[2066,{"$f":"Itineraries!A10","v":"12-8"},"This challenging itinerary will take you to some of the South Country’s most scenic camps with excellent mountain top experiences, a plethora of evening campfires, and great program opportunities along the way. You will start your itinerary by hiking out of base camp to spend the night at one of Philmont’s newest trail camps, Heck Meadow. Enjoy the beautiful sunrise before hiking for a quick visit with the forester at the Demonstration Forest but move quickly to Cimarroncito so you can get scheduled for rock climbing! Your next day takes you to on a nice hike up to Thunder Ridge. If you like, you can make a stop at Cyphers Mine to try your luck at panning for gold or take a mine tour! The next day, your crew will climb over Comanche Peak on your way to your summit of Mount Phillips. Enjoy the wonderful views on top of Philmont's second highest peak, then hike down and visit the Rocky Mountain Fur Co. at Clear Creek for some tomahawks and muzzle loading rifles. Say hello to the homesteaders at Crooked Creek as you head to the scenic and tranquil Porcupine camp along the banks of Rayado Creek before heading to Beaubien for a layover for the next two days. While at Beaubien, your crew will enjoy seeing what life was like for the cowboys of the old west. Here you can go horseback riding, eat a chuckwagon dinner, and listen to western music at the campfire program in the evening. They have two different shows, catch them both! The next day takes you over Trail Peak at 10,250 ft. above sea level and the site of a B-24 plane crash before you hike down to Bear Caves for the evening. Your crew should hike back to Crater Lake that evening for the Continental Tie and Lumber Company’s company meeting campfire with the iconic view of Tooth Ridge as the backdrop. Your crew will enjoy the challenge course of Urraca and their evening campfire the following day before hiking on to Tooth Ridge for your last night in the backcountry. After summitting your final challenge, the famous Tooth of Time, your final stop is right in front of you… Base Camp!"," "]
[2065,{"$f":"Itineraries!A11","v":"12-9"},"This challenging itinerary will have you hiking through some of the most scenic parts of the North Country with many great program opportunities. You will start your trek off with a bus to the Ute Park Trailhead and pass through Cimarroncita Camp for either the Laser Shooting Range or 3-D Archery program. You'll spend your first night on the trail at Cimarron River Camp, where your Ranger will continue your Ranger training. After enjoying the stars at Black Jacks and Elkhorn trail camps the next two nights, you'll journey to Ponil where you get the full western experience, ride horses, and participate in one of Philmont's coolest programs: Cowboy Action Shooting! After a hearty chuckwagon dinner and an evening of enjoying root beer at the Ponil Cantina Show, you will hike over to Metcalf Station to work on the railroad and attend the evening campfire. From here, you'll hike to Dan Beard to work on team building skills on their challenge course. The next day, stop by for a visit at the Rich Cabins homestead and check out their farm and historic cabin; then it's over Wilson Mesa and the breath-taking views as you make your way to Pueblano Ruins trail camp. Take the short hike to Pueblano for the Continental Tie and Lumber Co. campfire and watch the loggers have their company meeting that evening. The next day gets you closer to the pinnacle of your trek…Baldy Mountain. You’ll pass through Ewells Park on your way to Baldy Town, and on the way see the fire break that was created during the 2002 Ponil Complex Fire. Be sure to enjoy the mining history of the area during your visit to Baldy Town for your food pickup. You'll have a layover at Copper Park, where you will setup for your summit of Philmont’s highest peak! If you have time, visit French Henry to pan for gold or to see Lucien Maxwell's Aztec Mine. Your last day on the trail will bring you through the Fur Trapper Rendezvous at Miranda. Throw a few tomahawks, shoot some muzzle loading rifles, then make your way down to the Maxwell Trailhead for your bus. Next stop... Base Camp!"," "]
[1807,{"$f":"Itineraries!A12","v":"12-10"},"This challenging North Country itinerary will take you to Philmont’s highest point and get you great program opportunities along the way. You will start your trek off at Ponil Trailhead before hiking on to Flume Canyon for the night. The next day you will hike to Pueblano Ruins but make sure to hike back to Pueblano to learn logging skills with the Continental Tie and Lumber Co. and to experience their company meeting campfire that night for a great musical experience. You will hike to Baldy Town the next day to prepare for the following day’s summit: Baldy Mountain at 12,441 ft. above sea level. Loop around to Copper Park and down to French Henry to explore the Aztec Mine or do some gold panning, as well! Wake up early to get down to the Fur Trapper Rendezvous at Miranda before hiking to Ringtail, where you will get a great view to reflect upon your accomplishment the previous day. After spending the night there, pass through Head of Dean and work with the facilitators to conquer some of their challenge course events. Next, you will spend the night at Elkhorn, before heading to Ponil the following day to see what life was like for the cowboys of the old west. Do some Cowboy Action shooting, work on your Conservation Project, eat a chuckwagon dinner, and listen to western music at the Cantina Show in the evening. The next day’s hike takes your crew over Hart Peak with excellent views of the Sangre de Cristo Mountains before heading down to Indian Writings for some archaeology and petroglyphs, then off to House Canyon with a stop at the T-Rex track. Your last night in the backcountry will be at Chase Cow, one of Philmont’s newest staffed camps. Here your crew will enjoy rock climbing before hiking to the historic Chase Ranch for a tour and your bus pickup. Next stop… Base Camp!"," "]
[2830,{"$f":"Itineraries!A13","v":"12-11"},"Spending time in the heart of Philmont’s South Country, this itinerary gives crews the opportunity to complete all requirements for their 50-Miler award. Starting in basecamp, hike to Arrowhead Camp, and spend time working on your camping skills in the shadow of the Tooth of Time! The next morning, pass through the Demonstration Forest on your way to Hunting Lodge Camp. At the Demonstration Forest, spend one hour learning about historical and modern forestry practices, and set the stage for the remainder of your conservation work to fulfil your 50-Miler requirement. The next morning, wake up early and hike to Cimarroncito to pick up food and spend time in the bouldering gym. Don’t linger too long, or you will be late to the Stomp show at Cyphers Mine! Enjoy the music and stories before heading to bed in one of the mining camp's muck shacks. Wake up early the next morning and pack extra water, as you climb up and over Mt. Phillips to Clear Creek Camp. Spend time at the summit enjoying the view of the Moreno Valley and Wheeler Massif before descending into old growth forests and the headwaters of the Rayado River. The next morning, try your hand at fur trapping and muzzle loading rifle shooting before packing up and hiking down the Rayado Creek Canyon to Phillips Junction for food. Spend time relaxing on the porch before hiking the mile and a half to Beaubien for their chuckwagon dinner and Cowboy Campfire show! The next morning side hike Trail Peak and then head down to Lower Bonito Camp to set up camp. Meet up with the stream restoration team the next morning to complete your next six hours of conservation program. Spend the day working to restore the Bonito Creek to its healthy, historic conditions by building erosion control features and fencing to prevent animals from causing further damage. Following your day of hard work, hike down to the Abreu family homestead to spend time with their animals and enjoy the New Mexican dinner and a tall mug of root beer. Enjoy the next day's hike to Crater Lake Camp, where you can learn to climb spar poles and take part in the company meeting of the Continental Tie & Lumber Co. Hike the short distance to Miners Park Camp and set up camp before hiking to the natural rock climbing area to enjoy spectacular views of the great plains and the Urraca Watershed. Relax in the evening, before waking up early to reach the North Fork Urraca Conservation project, completing your last three hours of work on a new hiking trail that will connect the heart of the South Country to the plains and Basecamp. Spend the rest of the day traversing the ridgeline to Tooth Ridge Camp for the night. Spend your last morning in the backcountry side-hiking the Tooth of Time, and take in the views before heading back to camp and hiking down the Tooth Ridge into Basecamp!!"," "]
[1768,{"$f":"Itineraries!A14","v":"12-12"},"This rugged trek will let your crew hike, shoot, ride, and climb your way into Base Camp via the Tooth of Time! Begin your journey from the Zastrow trailhead to Line Camp, where your Ranger will continue your training. Then, enjoy the homestead of a historic New Mexican family at Abreu before heading up to one of the most beautiful meadows at Philmont at Lower Bonito. Tour Rayado Lodge at Fish Camp to discover why Waite Phillips enjoyed spending so much time in the backcountry, tie a fly and give fly fishing a try. Next, your crew will shoot 3-D archery targets and explore Jicarilla Apache life at Apache Springs, ending the day with a spectacular sunset. Visit the homesteaders at remote Crooked Creek on your way to Comanche Creek Camp. Continue on for a visit to the Rocky Mountain Fur Co. at Clear Creek before making your ascent of Mount Phillips. This is Philmont's second highest peak, and once you are at the summit, the views of the Moreno Valley, Wheeler Peak, and Baldy Mountain will leave lasting memories for your crew! From there, enjoy the view from Big Red, then hike to Phillips Junction for a resupply before heading up to Beaubien for branding, roping, a chuckwagon dinner, a cowboy campfire, conservation, and horse riding down one of the most beautiful canyons the southwest has to offer. Hike over Trail Peak to see the wreckage of a B-24 Liberator that crashed in 1942. Feel free to stop by and work with the loggers of the Continental Tie & Lumber Co. at Crater Lake and try out their crosscut saws or broad axes. Then, rock climb and rappel at Miners Park before your last night on the trail at Tooth Ridge Camp. Rest up and prepare for the final challenge...the Tooth of Time! Hike in via Tooth Ridge and celebrate your accomplishment."," "]
[2071,{"$f":"Itineraries!A15","v":"12-13"},"This great South Country itinerary will take you through pristine parts of Philmont with a variety of great program opportunities. Start at Zastrow Trailhead and make your way up the back side of Urraca Mesa to Backache Springs for more training with your Ranger. After a peaceful night of enjoying the stars and your first night on the trail, head for a visit to the Abreu family and their New Mexican Homestead. Help with caring for the animals, tour their beautiful adobe home, and get an ice-cold root beer before heading to Line Camp for the night. The next day you’ll hike through the scenic Rayado Canyon on your way through Fish Camp to Agua Fria. Learn about the history of Rayado Lodge, one of Waite Phillips’ favorite places! Enjoy the beautiful hike from Agua Fria to Apache Springs. While at Apache, you'll learn about the life of the Jicarilla through the tipi tour and then get to try out some 3-D archery. Your next day will bring you for a visit to the homesteaders at Crooked Creek before making your way for a beautiful camping spot at Porcupine. Get your rest, you’ll need it the next few days as you hike up to Beaubien for some Western Lore and Branding and then the next day you’ll hike Big Red on your way to Divide for the night. Get up early to side hike up to Mount Phillips before dropping down into Black Mountain camp where you’ll enjoy the muzzle loading rifle and blacksmithing programs. During your beautiful yet challenging hike down the North Fork Urraca Creek the next morning for your Conservation Project. Look for the Grizzly Tooth rock formation as you make your way to Miners Park where you will rock climb and rappel. Your last night will be at Stockade Ridge with a great view of the Tooth of Time. Make your way down to Rocky Mountain Scout Camp and enjoy the High Ropes Course & Climbing Tower; they'll be waiting for you! Get some rest as you’ll be up early on your last morning to hike the Tooth! Then hike in to base on Tooth Ridge Trail or hike back down to Lovers Leap Trailhead for a bus ride to Base Camp. Welcome back!"," "]
[2063,{"$f":"Itineraries!A16","v":"12-14"},"From the ancient waters of the Rayado River to the prehistoric Tooth of Time, this itinerary has it all! After training the crew, your Ranger will escort you from the musical waters of the Rayado River at Abreu and their New Mexican homestead to Crater Lake. You’ll be drawn into the mystique of the Continental Tie & Lumber Co., especially during the evening campfire. Next, make your way over Trail Peak to pay respects to the bomber crew that crashed in a B-24 Liberator on this site in 1942. Then, head up the gorgeous meadows to Beaubien, one of Philmont’s Western Lore camps. Here your crew will get to experience horseback rides and a hearty chuckwagon dinner. Plus, both of their campfire shows are not to be missed! The next two days will go deeper into Philmont’s wilderness where you will enjoy the beauty of Apache Springs and learn about the Jicarilla Apache, then be the guests of the homesteading family at Crooked Creek. Your next day can be a big one, so be sure to get some rest! Pass through the Rocky Mountain Fur Co. at Clear Creek prior to your ascent of Mt. Phillips. Rest at Red Hills as you get ready to tackle Comanche Peak the next morning and then make your way down to Cyphers Mine for a chance to pan for gold or try your hand at the forge! Then head downhill to camp at Hunting Lodge and pick up some food and do some climbing at Cimarroncito the next morning. As you pass through the Demonstration Forest, stop for a visit with our visiting forester. Learn about the New Mexico landscape including fire, water, trees, rocks, and more! Cathedral Rock will especially move your soul! The night at Clarks Fork is the ‘quiet before the storm’ and an opportunity to prepare for the pinnacle of your journey. Tomorrow you will climb up Shaefers Pass, and then traverse along Tooth Ridge. Upon reaching Tooth Ridge Camp, rest easy and take it all in as this is the perfect staging point for a dramatic finish atop the legendary Tooth of Time. Your next step is the descent back to Philmont Base Camp, and a victory ice cream at Base Camp!"," "]
[1901,{"$f":"Itineraries!A17","v":"12-15"},"This trek tours Philmont's South Country, and the adventure begins at the Zastrow Trailhead to Toothache Springs for more Ranger Training. Your next day wraps you around Fowler Mesa to Crater Lake where you can live like a logger, climb spar poles and swing a broad axe to make cross ties. Get your rest, a big day of hiking takes you over Fowlers Pass, over Trail Peak, and down the long open meadows to Beaubien. Take a load off and learn western skills before taking the short hike to Phillips Junction for the night. Head to Fish Camp where you can learn about Waite Phillips and his Rayado Lodge and then head up the river to stay at Aqua Fria camp. Apache Springs awaits you the next day, where you can try 3-D Archery and learn about the history of the Jicarilla Apache. The sunset hike and view of the Garcia Park meadows from the fence line is not to be missed! Your next day will have you pay a visit to the homesteaders at Crooked Creek and help them with their daily tasks. The fur trappers of the Rocky Mountain Fur Co. at Clear Creek will test your skill at tomahawk throwing before you begin your ascent of Mt. Phillips. After a night of rest, head down the mountain to summit Comanche Peak on your way to Thunder Ridge for the night. Your next stop brings you to the prospectors and miners at Cyphers Mine. Try your luck in the mine or panning for gold and enjoy the evening Stomp! On the next leg of your journey, stop at Cimarroncito for their climbing gym. Stop at the Demonstration Forest on your way to Clarks Fork for roping, branding, and horse rides. The Chuckwagon dinner and campfire is sure to make for a memorable final night! Fill up with water and hit the trail early to finish your trek strong with a summit of Shaefers Peak and the famed Tooth of Time. Conjure up your memories from your trek as you hike the ridge down to Base Camp to complete this amazing experience."," "]
[2365,{"$f":"Itineraries!A18","v":"12-16"},"This program packed itinerary loops through the Philmont North Country and combines high peaks and beautiful vistas with southwest history. The adventure begins with a bus from Base Camp to the Six-Mile Gate Trailhead and a short hike to the first confirmed T-Rex footprint in the world. You’ll make your way to Horse Canyon trail camp where your Ranger will pass on important skills. Head up the North Ponil Canyon to Indian Writings where you will see ancestral Puebloan petroglyphs and archeology sites. Listen for the echo of the mauls striking spikes as you make your way to Metcalf Station to learn what life was like on the railroad and enjoy great music and stories at the evening campfire. Your next day at Dan Beard will put your crew to the test on their challenge course. With your teamwork solidified, you’ll head into the Valle Vidal the next morning and make your way to Ring Place Camp. Here you will get to enjoy the excitement of Mountain Biking during the day and the splendor of the night sky during their astronomy program. Put your Leave No Trace skills to use at Iris Park the next night and again at Upper Greenwood camp where you'll stage for your ascent of Baldy. Climbing to the top of the 12,441 ft. Baldy Mountain is sure to be the highlight of your Philmont adventure! You’ll also enjoy the loop through Copper Park and on to the Aztec Mine at French Henry, eventually ending up back at the old mining town at Baldy Town for a mining history lesson. Your next day is just a short hike to Miranda where you will have plenty of time for muzzle loading rifles, tomahawks and the Fur Trapper rendezvous. You’ll be assigned your burro the next morning and learn how to care for it and pack it properly before you head up to Baldy Skyline. Your crew and your beast of burden will then head over to the Continental Tie and Lumber Co. at Pueblano where your crew can learn the history of the logging operation and try your hands at cutting and forming a rail tie or other project. Ultimately, you will head to Ponil, where you drop off your burro and reward yourself with a cold root beer at the cantina. Chow down on a delicious chuckwagon dinner and prepare to be entertained at the evening show. The next morning you can try your hand at Cowboy Action Shooting before hiking to the trailhead for the bus ride back to base camp. What a trek!"," "]
[2612,{"$f":"Itineraries!A19","v":"12-17"},"Begin your adventure by hiking out of Base Camp and make your way uphill to Magpie Camp. Learn valuable camping procedures from your Ranger. The next day you're headed up to Urraca Mesa. The staff at Urraca is trained in teambuilding skills and is ready to turn your crew into a high performing machine! Get up early the next morning for a quick trip to Inspiration Point for sunrise and then take the short jaunt over to Crater Lake and the Continental Tie & Lumber Co. for spar pole climbing and logging activities. Finish the evening with the most scenic campfire you’ve ever experienced! The next morning, lace up your boots and head up to Fowler Pass, down to Bonito Creek, up to Webster Pass, and down again to Fish Camp; Waite Phillips’ favorite backcountry retreat. After a quick fly-tying lesson, use your fly to try and catch a trout. Press on towards Lost Cabins trail camp for the night. Stop in the next morning at Apache Springs for resupply and Jicarilla Apache Lore and 3-D Archery. Philmont’s rugged western boundary awaits you, so enjoy the beautiful views as you hike to Wild Horse Camp for the night. On the way, though, be sure to visit the homestead at Crooked Creek and tour their rustic homestead and help with chopping wood or tending to the chickens. Rest up for the night so you can be ready to tackle Philmont's second highest peak, Mount Phillips. Along the way you’ll meet the fur trappers of the Rocky Mountain Fur Co. at Clear Creek and throw tomahawks with them before making your way up the mountain. After a memorable hike you’ll camp near the summit and prepare for the next days’ summit of Comanche Peak and on to Sawmill for a unique experience in reloading 30.06 ammunition and firing it on the range. Make your way down the valley the next morning to visit the gold prospectors and miners near Cyphers Mine! Try your hand at panning for gold and blacksmithing and then get a tour of the Contention Mine. Wake up early and head to Cimarroncito for resupply, and to enjoy their Rock Climbing program. On your way to Clarks Fork, you’ll pass right by Waite Phillips’ Hunting Lodge and the Demonstration Forest. Get to Clarks Fork in time for some Western Lore program, a delicious Chuckwagon dinner, and their traditional cowboy campfire. Ride horses the next morning before heading up to your last trail camp, Shaefers Pass. With the end in sight, your crew will be tired, but motivated as you hike the scenic traverse past Shaefers Peak towards the Tooth. Enjoy the view atop the iconic Tooth of Time, then traverse Tooth Ridge Trail as you make your way back to Base Camp."," "]
[2105,{"$f":"Itineraries!A20","v":"12-18"},"This adventure packed itinerary provides a variety of opportunities for mileage, adventure, and traversing breathtaking vistas. Enjoy a variety of side hikes, participate in unique programs and try your skills with Leave No Trace camping in the Valle Vidal Unit of the Carson National Forest. The trip will begin with a bus drop off at Six Mile Gate Trailhead and a hike to the first confirmed T-Rex track in the world, and a quick hike to House Canyon Camp where your Ranger will continue your training. Day 2 will take you up and over the ridge to Philmont's newest rock-climbing camp at Chase Cow Camp. Enjoy the views as you make your way out of Chase Canyon and hike the ridgeline above the North Ponil before dropping down and enjoying a secluded night at Coyote Howl Camp. Hike in the cool morning hours to Indian Writings for a Petroglyph tour and atlatls, and then up to the canyon to Metcalf Station to help build a railroad. Make your way to Dan Beard, where the Challenge Course and initiative games will help to build teamwork that your crew will utilize the rest of your trek. Leave Philmont Property and enter the beautiful Valle Vidal and head to Ring Place for Mountain Biking and Astronomy, and then on to Iris Park for Leave No Trace camping. Enjoy the blanket of stars in the Valle and get your rest before dropping in on the Rich Family and help them with their animals and see their historic cabin. Head over Wilson Mesa and check in on the loggers of the Continental Tie and Lumber Co. and help them make a tie for Metcalf Station. Your layover waits you at Ewells Park, which will give you plenty of time to summit Philmont's highest peak, Baldy Mountain, and visit the historic mining areas of Baldy Town and French Henry. Your next adventure is at the Fur Trapper Rendezvous at Miranda where you can compete with your crew at tomahawk throwing and muzzle loading rifle shooting. Stay the night at Maxwell and enjoy your last night on the trail. Alas, your journey is coming to an end as you make your way to the Maxwell Trailhead and load your bus for the ride back to base camp."," "]
[1897,{"$f":"Itineraries!A21","v":"12-19"},"This itinerary provides a tour of the beauty and splendor of the South Country, plus a great variety of program. Start by hiking out of base camp to one of Philmont’s newest trail camps, Heck Meadow. Be sure to be up early to enjoy the sunrise and so you can make your way directly to Cimarroncito, where you will have a hands-on rock-climbing experience. After you finish at Cito, head to the headwaters of Cimarroncito Creek at Cyphers Mine. This golden opportunity allows you to become a blacksmith’s apprentice and deep tunnel miner. As the cold darkness of night seeps in, the lights and lively music of The Stomp fill the air. Wake up early and ascend both Comanche Peak and Mount Phillips. These views will provide an unparalleled reward the next day as you descend to the Rocky Mountain Fur Co. at Clear Creek, then down to Comanche Creek. Next, take the time to visit the homestead at Crooked Creek before reaching Apache Springs and enjoy 3-D Archery, the sweat lodge, and an amazing sunset hike. Then, make your way to beautiful Buck Creek campsite for the night so you can head to Beaubien the next morning for conservation. Get your boots branded while you are there before you bed down at Lower Bonito trail camp that night. Continuing downstream toward Abreu you will visit a traditional New Mexican homestead and learn more about this region’s history and heritage over a glass of refreshing root beer at the cantina! Don’t chase too many chickens as the day’s hike will get you up and over Urraca Mesa for some challenge course events and their spooky campfire! Hike through Rocky Mountain Scout camp for their high COPE program and a tremendous view of the Tooth of Time at the top of their tower. Rest up on your final night on the trail at Stockade Ridge Camp before you make your triumphant ascent of the Tooth of Time and hike into Base Camp on the final leg of your journey."," "]
[1911,{"$f":"Itineraries!A22","v":"12-20"},"Be ready to put in some miles on this trek that will take you from one end of the ranch to the other with loads of program opportunities! Start out at Lovers Leap Trailhead and receive Ranger training during your stay in Herradura which boasts a spectacular view of the Tooth of Time. Next, enjoy the beautiful hike over to Miners Park and participate in rock climbing. Be sure to look for the Grizzly Tooth rock formation! You'll need to get up early the next morning to get to your conservation project at North Fork Urraca; then head up to Shaefers Pass on your way to Clarks Fork for an afternoon horse ride, a delicious Chuckwagon dinner, and an entertaining campfire program. Next up is Deer Lake Camp deep in the 2018 Ute Park Fire burn scar. Stop in Harlan on the way for the 12-gauge shotgun programs. Continue through the burn scar over Ute Park Pass to get to Cimarroncita for 3-D Archery and the Laser Shooting Range. The next morning you'll be crossing over into the north part of the ranch with a stop at Head of Dean for Challenge Course Events before getting to Ringtail. The Fur Trapper Rendezvous will be in full swing in Miranda; be sure to throw a 'hawk or two! Spend that night and the next in Placer with a summit of Baldy Mountain, Philmont's highest peak, sandwiched in between. Hike down the South Ponil canyon through French Henry for Blacksmithing, Gold Panning, and an Aztec Mine Tour as you head for Pueblano Ruins. The next day you can stop in Pueblano to learn how to make railroad ties from the Continental Tie and Lumber personnel before making it to your last backcountry camp at Ponil, the original base camp in 1939. Enjoy a chuckwagon meal and wash it down during the Cantina show with a cold root beer as you and your crew celebrate your accomplishments. After a horse ride the next morning, head to the Ponil Trailhead to catch a ride to your final destination, Base Camp!"," "]
[2068,{"$f":"Itineraries!A23","v":"12-21"},"This itinerary highlights much of the South, including high peaks and frequent opportunities for wildlife viewing. Take the short bus ride to the Webster Trailhead and hike to Arrowhead trail camp in the shadow of the iconic Tooth of Time. Your Ranger will train you on skills you will need for the rest of your adventure before taking you through Clarks Fork and up to Cimarroncito, where you can try out some climbing on natural rock formations. Cyphers Mine is up next, where you can tour the Contention Mine, practice blacksmithing, gold panning and enjoy the famous Stomp. Begin your tour of Philmont's peaks with a hike to Comanche Peak. Get your rest, enjoy the sunrise, and then tackle the highest peak in Philmont's South Country, Mount Phillips. On the way down, visit the fur trappers at Clear Creek for a tomahawk throwing competition before following the Rayado River to visit the Crooked Creek homestead. Your next day will take you through Apache Springs for 3-D archery and a tipi tour before continuing to Lost Cabins trail camp. Hit the trail early to allow plenty of time to learn the history of Rayado Lodge at Fish Camp and try to catch a trout in the Rayado and Agua Fria Rivers. After traversing the ridge trail high above the Rayado, you'll drop into the New Mexican Homestead at Abreu. Tend to the chickens and goats and reward yourselves with a cold root beer at the cantina before heading to Bear Caves trail camp the next morning. Visit with the loggers of the Continental Tie & Lumber Co. and try out their crosscut saws and broad-axes and enjoy their Company Meeting Campfire if you get the chance. Look for the Tooth of Time as you make your way to Miners Park, where you can check out their amazing climbing programs, under the guidance of Philmont's trained staff. Tooth Ridge is your next destination for the breathtaking view from atop the Tooth of Time. Take a few minutes to look back over how far your crew has come in the past 10 days before heading down the ridgeline to Base Camp on your last day to end this amazing adventure."," "]
[2056,{"$f":"Itineraries!A24","v":"12-22"},"This trek follows rushing streams, discovers mountain meadows, and traverses lofty peaks across Philmont’s South and Central Country. You will start your trek with a hike out of Base Camp to Magpie, one of Philmont's newest trail camps. Break camp early in the morning so the crew can try some Challenge Course activities at Urraca, then up and over the mesa for your stop at Abreu for a cool root beer and Mexican Dinner that night. Hike west to The Notch and enjoy the overlook of Rayado and Bonito Canyons. Stellar views of Rayado, Crater, and Lookout Peaks will then be seen from the south side of the canyon as you continue to Fish Camp. Enjoy fishing the same banks of the Rayado and Agua Fria Creeks as Waite Phillips. From there, your crew will enjoy time in some of the most pristine country the Southwest has to offer at Apache Springs. You will learn about the Jicarilla Apache and test your archery skills on the sporting arrows range. Enjoy the sweat lodge before leaving Apache Springs. Your hike and stay at Wild Horse is guaranteed to be memorable, as it is one of our most beautiful trail camps. Next, the mountain men of the Rocky Mountain Fur Co. await you at Clear Creek before the challenging hike up Mt. Phillips and Comanche Peak. The hike will be tough but seeing the sunrise from the overlook just northeast of Comanche Peak Camp will be an unparalleled reward. Next, head on to Sawmill and Shoot .30-06 rifles using cartridges you reload yourself. Enjoy a stop at Cyphers Mine to pan for gold, and blacksmith or tour the Contention Mine before staying the night in a muckshack. Then, make your to Cimarroncito for resupply and some time climbing on their natural rock surfaces. Take the short hike to Clarks Fork for some horse rides, branding, and a chuckwagon dinner. You'll rest up for the night at nearby Ponderosa Park for your big day of summiting Shaefers Peak and the Tooth of Time the next day. Enjoy the views before descending the Tooth of Time and hiking along Tooth Ridge into Base Camp on your last day on the trail!"," "]
[2447,{"$f":"Itineraries!A25","v":"12-23"},"This itinerary covers some ground, getting you onto four different properties and to the top of Baldy Mountain before it is all said and done! Begin your journey at the historic Chase Ranch, where you will get a tour of the Main House before heading to Little Twin Camp to continue your Ranger training. Climb at Chase Cow the next morning, then enjoy the scenic hike as you follow the ridgeline and drop down to Indian Writings to learn about the Ancestral Puebloans, take a petroglyph tour and even do some atlatl throwing. The next leg of your journey takes you through Metcalf Station for some railroad construction, then to Rabbit Ear camp for the night. Before crossing into the vast beauty of the Valle Vidal Unit of the Carson National Forest, work with our trained facilitators at Dan Beard and their challenge course activities. You will have two nights in the Valle Vidal, giving you a bit of a unique 'layover' opportunity. Your first night in the Valle will be at Ring Place, where you can ride mountain bikes and check out the stars! Your next day is a short hike that takes you to Iris Park, which is another beautiful and quiet camp you will enjoy. Next up is a visit to Rich Cabins and the Rich family homestead. Help with some chores and be rewarded with a family gathering with music and family stories that will keep you entertained through the evening. You are in for a treat the next day as you enter the Barker Wildlife Area then up and over Wilson Mesa. Get your cameras out, you will love the views here! Your next night is at Flume Canyon, then you'll pass through Pueblano to become honorary loggers of the Continental Tie & Lumber Co. Work on your logging skills and try your hands at creating a railroad tie! Immerse yourself in mining history at French Henry and tour the Aztec Mine, pan for gold, and work in their forge. Pass through Baldy Town next and learn about the history of this once bustling gold rush era town before camping at your Baldy summit staging camp at Black Horse Mine. Get ready, as your next day brings you to your ascent of Badly Mountain! After your summit, break camp and make your way down to Miranda for a Fur Trapper Rendezvous, muzzle loading rifles, and some tomahawks! Enjoy your last night on the trail and reflect on the many challenges and great experiences you have enjoyed on your trek. Your last hike of the trek takes you to the Maxwell Trailhead for your bus trip back to base."," "]
[2112,{"$f":"Itineraries!A26","v":"12-24"},"This action-packed itinerary will take you through some of the South Country’s most challenging terrain with great mountain top views along the way. Start out your trek by hiking out of Base Camp to begin your training at Magpie trail camp, then off to Urraca Mesa to work with the highly trained staff and their challenge course. Listen to ghost stories, music and more during their evening campfire. Stop for a visit with the Abreu family and see their homestead on the Rayado. Enjoy a nice cold root beer in the cantina and get your photo opportunity with the burros and chickens! The following day takes you through Crater Lake to learn about the Continental Tie and Lumber Co., and then on to Miners Park for their adrenaline pumping rock climbing program. Enjoy a spectacular hike on the North Fork Urraca trail up to Black Mountain, shoot their .58-caliber muzzle loading rifles, and test your metal working skills in the forge. Stop for some Western Lore and Branding at Beaubien on your way to Bear Creek trail camp. You will make a loop to Apache Springs to learn about the Jicarilla Apache, and then on to the homesteaders at Crooked Creek. Help them care for the animals, the garden, and tour their wonderful old cabin and see how the pioneers lived in the 1800’s. Rest up at Wild Horse that night, as the next day takes you through Clear Creek for a visit to the Rocky Mountain Fur Co., then it is up and over Philmont's second highest peak Mt. Phillips, and then on to Divide. Hike on to Cyphers Mine the next day for a tour of the Contention Mine, pan for gold, and see the iconic campfire program: The Stomp. The next day you will hike down to Waite Phillips' Hunting Lodge before making your way to Clarks Fork. Enjoy the hospitality of the cowboys at Clarks Fork and get in on an afternoon horse ride. That night you can fill up on the chuckwagon dinner and kick back to the setting sun and the tunes from their campfire program. Be sure to fill up your water before hitting the trail the next day! One final obstacle stands between you and Base Camp on your last day… the iconic Tooth of Time!"," "]
[1846,{"$f":"Itineraries!A27","v":"12-25"},"This itinerary is packed with great program, great vistas, and what is bound to be a great adventure of a lifetime! Start your journey with a bus from the Welcome Center to the Ute Park Trailhead and then a hike to New Dean Camp. Pay close attention to the training provided by your Ranger who will teach you everything you need to know for a successful trek. Your destination the next day is Pueblano where you'll get the opportunity to climb a spar pole and make a railroad tie. Be sure to attend the Continental Tie and Lumber Company meeting that night. Hike up and over Wilson Mesa the following morning to Rich Cabins and spend a day as a homesteader. Now you're heading into the Valle Vidal tract of the Carson National Forest to Middle Ponil Camp to some of the most beautiful country you'll ever see. If you are there in June (the elk will be calving until July 1st), you'll camp at Middle Ponil for one night and then head over to Ring Place the next day to get in an extra day of Mountain Biking. In July and August you will make camp at Middle Ponil Camp for two nights with a summit of Little Costilla peak on your layover day. Either way, enjoy the Mountain Biking and Astronomy programs at Ring Place. Before leaving for the Leave No Trace camp at Beatty Lakes the next morning, you'll do your conservation project. From there it's on to Rabbit Ear with Challenge Course Events at Dan Beard. Get a good night's sleep as you'll be working on the railroad and at the forge at Metcalf Station 'all the live long' next day. The evening company meeting there is rumored to be quite entertaining. Hike through Indian Writings and take the Petroglyph Tour before heading over to Chase Cow Camp for Climbing, Rappelling, and Bouldering. Your last hike is to the Chase Ranch Trailhead for a triumphant bus ride back to Base Camp! WELL DONE!"," "]
[2321,{"$f":"Itineraries!A28","v":"12-26"},"This itinerary gives crews the opportunity to complete all requirements for their BSA 50-Miler award! Starting at 9-Mile Trailhead, crews will begin their trek at Trail Canyon camp and spend the evening taking in the beautiful sunset with their Ranger. The next morning you will begin hiking through the beautiful canyonlands of the north country while taking in views only available from the Dean skyline. Spend the night at Dean Skyline camp before descending into the South Ponil Canyon. On your way to Pueblano for the evening, stop and take part in your first three hours of conservation program at the Elkhorn project site. Learn to climb spar poles and enjoy the company meeting of The Continental Tire & Lumber Co. at Pueblano. The next day, pass through Baldy Town on your way to Copper Park. While at Baldy Town, you will stop at the commissary for resupply and visit with the geologist for your 1-hour Geology Education session. Get a good night's sleep and wake up early to summit Baldy! Be sure to enjoy the trip to the summit and stay as a crew as you traverse the northern ridge before dropping down into the Greenwood Low Impact Area. The next day you're headed into the Valle Vidal with Ring Place as your destination where you will ride mountain bikes and participate in the Astronomy program. Perform your next three hours of conservation before hiking on to Beatty Lakes. Enjoy the short hike to Rich Cabins the next day and relax as your crew interacts with the animals and homesteaders of the Rich Family. Have fun as they welcome you into their home for their family meeting in the evening and enjoy the crickets chirping as the sun sets. The next day, hike down the Middle Ponil Canyon before climbing up to Sioux Camp for your last three hours of conservation work continuing the new hiking trail to the top of Wilson Mesa. Spend the afternoon in the Ponil Cantina, enjoying the coldest root beer in the County! Chow down at the chuckwagon dinner and take in the Cantina Show that evening. The next morning, try your hand at Cowboy Action Shooting before hiking over Heart Peak on your way to McBride Canyon Camp where your crew can reminisce and celebrate your accomplishments. Hike your last miles in the backcountry as you head down to the Six Mile Gate Trailhead and onto a bus for Base Camp!"," "]
[2391,{"$f":"Itineraries!A29","v":"12-27"},"This strenuous north country itinerary will take your crew through some of the most challenging terrain on Philmont while getting great program opportunities along the way. You will start off your trek at the Chase Trailhead where you can see what living on a ranch in the 1800’s was like at the Chase Ranch House. After your first night at Hells Fire Canyon, you will rock climb and try some bouldering on some unique rock formations at Chase Cow. Enjoy the scenic hike across the rim of the North Ponil Canyon and stay at Coyote Howl. Drop into the canyon the next morning to learn about the Ancestral Puebloans that lived in the area, and see the petroglyphs scattered through the camp. You'll then make your way up the canyon to visit the Railroaders of the Cimarron & Northwestern Railway at Metcalf Station. Give them a hand with some rail construction before getting to Rabbit Ear for the night. The next morning you can try your hand at challenge course events at Dan Beard before crossing over into the Valle! Be ready to be engulfed by the scenic meadows of the Valle as you make your way to Ring Place. Ride some mountain bikes and enjoy the wide-open sky and starry night during the Astronomy Program. You'll continue the next night in practicing your low impact camping skills at Greenwood Canyon. Get your rest, as your crew will make the ascent towards the historic Baldy Mining District the following morning. Hang your bear bags and side hike to the summit of Philmont's highest peak, Baldy Mountain before you head down to Azurite to set up camp for the night. After a night of rest, hike through Baldy Town and soak in the mining history of this former gold mining town, pick up food and head to the Rendezvous at Miranda and throw some tomahawks and shoot muzzle loading rifles while you are there! Your burro pick up is the next morning before you make your way to see the loggers at Pueblano. The Continental Tie and Lumber Company will teach you spar pole climbing, tie making, and invites you to the company meeting campfire. The next day you will hike to Ponil and drop off your burro and grab an ice-cold root beer at the Cantina. Enjoy a night of a hearty chuckwagon dinner and the always exciting Cantina Show. Your last morning on the trail offers you the chance to ride horses before you hike to Ponil Trailhead to be picked up by the bus. Next stop… Base Camp!"," "]
[1547,{"$f":"Itineraries!A30","v":"12-28"},"This program intense trek covers a lot of ground in Philmont’s rugged North and Central Country. Start off by visiting the Historic Chase Ranch on your way to your first trail camp. From there, stop by Chase Cow for a unique Bouldering program and then go visit the fascinating petroglyphs left by the Ancestral Puebloan people at Indian Writings and test your hunting skills with an atlatl. Next, your crew will climb Hart Peak and visit historic Ponil where you will learn to rope, eat a chuckwagon dinner, and enjoy a cantina show before hiking to Dean Cow along Dean Skyline for some tremendous views. Get an early start on your way to Harlan for the exciting shotgun shooting and reloading programs. You’ll hike to Devil’s Wash Basin for a night of rest before hiking through Ute Park Pass on your way to Sawmill. There you will find Philmont's world class .30-06 reloading room and shooting range, which are guaranteed to be a highlight of your trek. From there, hike over Comanche Peak Camp and setup camp. The side hike to Comanche Peak and Mt. Phillips will be challenging, but viewing Wheeler Peak, the Moreno Valley, and Baldy Mountain will be an unparalleled reward. Stop in at Cyphers Mine for Gold Panning and a Mine Tour before heading down to Mr. Phillips' Hunting Lodge. Be sure to visit the Forester at the Demonstration Forest while you are there. You’ll pass through Clarks Fork on your way to your final test…the Tooth of Time! Enjoy this famous peak and your last night on the trail before hiking triumphantly into Base Camp."," "]
[1899,{"$f":"Itineraries!A31","v":"12-29"},"If you like bagging peaks, this itinerary is definitely for you and your crew! A motivated crew could potentially scale EIGHT (8) of Philmont’s most iconic peaks! Start with a bus ride to Ponil Trailhead and hike to Bluestem for Ranger training and your first starry night in the backcountry. Your next night on the trail is at Pueblano Ruins but don’t miss the nearby logging operations at Pueblano’s Continental Tie & Lumber Company. Similarly, the next destination of Baldy Town has the nearby gold panning and mining operations at French Henry. Check out the mining history and ruins at Baldy Town, but go to bed early, because the next day highlights Philmont’s tallest peak, (1) Baldy Mountain. Then, enjoy the long steady descent to Mistletoe camp with a pitstop at Head of Dean for challenge events. A hop, skip, and jump over the Cimarron River is all it will take the next day to reach Cimarroncita, which premieres 3-D archery and a laser shooting range. Get an early start and observe fire ecology through Ute Park Pass and the 2018 wildfire impact zone. Reaching Whistle Punk, you’ll be close to an opportunity to side hike the new trail to reach the top of (2) Cito Peak. Head over to Divide via (3) Comanche Peak and, if you’re in for an extra challenge, side-hike (4) Mt. Phillips. (5) Big Red will start your next day but feel free to tackle (6) Bonito Peak as a side hike (adds 2.5 miles) as you aim towards Porcupine then Phillips Junction for resupply. Your night at Beaubien gives you dinner and a show: the chuckwagon dinner and boot stomping cowboy campfire. Finally, follow the flow of the North Fork after visiting Black Mountain Camp and then climb to Shaefers Pass for one more chance to reflect on endless stars and countless memories. You’ll wake up the next morning to begin your long and triumphant march into Base Camp via (7) Shaefers Peak and (8) the Tooth of Time!"," "]
[2083,{"$f":"Itineraries!A32","v":"12-30"},"This MOUNTAINTOP trek will give your crew an opportunity to climb 12,441 ft. Baldy Mountain and venture into the Valle Vidal unit of the Carson National Forest! Begin by hiking to Bluestem camp for your Ranger Training before heading off to Pueblano the next morning. Climb spar poles and enjoy the Company Meeting Campfire with the loggers of the Continental Tie & Lumber Company. On the hike to Baldy Town to pick up food, spend some time in French Henry to mine for gold, blacksmith, and explore the Aztec Mine, and then ultimately camp at Azurite for the night. Wake up early and hike to the ridge above Copper Park, where you will hang bear bags and day hike rugged Baldy Mountain before camping at Greenwood Canyon. Enjoy waking up in the cool canyon and then make your way into the Valle Vidal! Enjoy the spectacular views of the Carson National Forest and camp near Little Costilla Peak. In June the mountain is closed due to elk calving season, so you will hike on to Ring Place to enjoy multiple rides in their Mountain Biking program. However, if you are here in July you will layover for your climb of Little Costilla Peak. Ring Place is your next destination, where you will get to enjoy their bikes in the day and their Astronomy program in some of the darkest night skies in the country! The next day, make your way to Dan Beard for some team building challenge events and learn skills to help your crew work together as a team. Wake up early and head east until you hear the pinging of mauls driving rail spikes echo off the canyon walls at Metcalf Station. Once you are done building a railroad, head off to Indian Writings where you can check out the Ancestral Puebloan petroglyphs from 1300 CE before bedding down at Coyote Howl Camp for the night. Your last night on the trail brings you to Chase Cow so you can enjoy their rock-climbing and bouldering programs, and maybe play a little “Cow Ball”, too! Once you make it to the trailhead, be sure to take a tour of the historic Chase Ranch House, it is full of amazing artifacts and history! Next stop… Base Camp!"," "]
[1514,{"$f":"Itineraries!A33","v":"12-31"},"This itinerary has a good mix of mileage and program, as well as the opportunity to hike through the area burned during the 2018 Ute Park fire and summit both the Tooth of Time and Baldy Mountain! Start your trek by hiking out of Base Camp to Heck Meadow trail camp where your Ranger will provide training on all things Philmont. Head over to Clarks Fork to enjoy the scenery from the back of a horse, enjoy their Chuckwagon Dinner and campfire program to end the day. Be sure to get an early start the next day to hike Shaefers Peak and the iconic Tooth of Time. Hike into the central country to stay at Lamberts Mine and take in The Stomp music show at Cyphers Mine. Sawmill is your next stop where you’ll reload and shoot 30.06 rounds. Get up early the next day to make your way across the Ute Park fire burn scar to Cimarroncita for 3-D archery, and the new laser shooting range. Rest up at Elkhorn as the next day gets you through Head of Dean for a Challenge Course, then stages you at Ewells Park for an early morning ascent of Philmont’s pinnacle peak, Baldy Mountain! After spending a little time pondering the world below and relishing on your accomplishment, dig down deep into the valley to reach French Henry mining and gold panning camp. Enjoy some time at the Fur Trapper Rendezvous at Miranda before spending your last night on the trail at Maxwell. Reflect on your crew’s accomplishments before making the short hike to the nearby trailhead where you will meet your bus and roll home to Base Camp!"," "]
[1728,{"$f":"Itineraries!A34","v":"12-32"},"This exciting trek offers a variety of great program elements, as well as a chance to summit Philmont's highest peak. Your adventure begins at Six Mile Gate Trailhead with a short hike to McBride Canyon camp, setting you up for easy access to Hart Peak the next morning. The North Ponil is a timeline in history as you make your way to see the petroglyphs and archeological sites at Indian Writings. Head up the canyon to work on the railroad and in the forge at Metcalf Station and their evening campfire show! Head up and over the ridge to the Middle Ponil Canyon and a night at Sioux. Visit the Cantina at Ponil for an ice-cold root beer and their evening program before picking up burros the next morning. Continue to Pueblano where you will climb spar poles, cut cross ties, and be entertained at the Company Meeting Campfire by the staff of the Continental Tie & Lumber Company. Return burros at Miranda and throw tomahawks before camping at Maxwell for the night. A two-day stay there will enable your crew to climb Baldy Mountain and visit historic Baldy Town. Enjoy passing by the site of an old sawmill at New Dean, camp at Black Jacks, and explore outlaw Black Jack Ketchum's hideout on the following day! Hike down beautiful Turkey Creek Canyon and up to Harlan to reload your own shotgun shells before firing them at a scenic shooting range. Next, head over to Cimarroncito and test your skills on several rock-climbing routes. Be sure to try out the climbing gym and see if you can make it around the wall. Camp near Mr. Phillips' Hunting Lodge, then ride horses and eat a chuckwagon dinner at Clarks Fork before camping at Ponderosa Park for the night. Rest up because one last challenge awaits…the Tooth of Time!"," "]
[{"$f":"LEN(C34)","v":1800},{"$f":"Itineraries!A35","v":"12-33"},"If your crew is looking for a challenge, this brand new itinerary may be just what you're looking for. In addition to opportunities to conquer Baldy Mountain and the Tooth of Time, you'll be hiking the Ute Park Pass through the 2018 wildfire impact zone. After a bus ride to the Ponil trailhead you will make your way to Sioux for Ranger Training and your first night in the backcountry. Head northwest from Sioux to Rich Cabins and learn all about homesteading. Be sure to take in the evening family get together! Get up early the next day for a hike over scenic Wilson Mesa and be sure to say hi to the folks at the Continental Tie & Lumber Company in Pueblano before continuing on to Head of Dean for some crew-building challenge events. The next day you'll be heading to Baldy country for a two-night stay in Copper Park. Get a good night's rest so you'll be ready to tackle 12,442 foot Baldy Mountain! Next, head over to Elkhorn for the night and head to Cimarroncita the next morning where you can try out 3-D archery and the laser shooting range. Get an early start the next morning for your hike over the Ute Park Pass and observe how Mother Nature is healing herself after the 2018 fire. Be sure to stop in at Sawmill for 30.06 reloading and shooting before making your way to Whistle Punk. If you didn't get a chance to pan for gold or blacksmith at French Henry, now's your chance to experience a miner's life at Cyphers Mine. Next stop is Cimarroncito for their rock climbing and rappelling programs. Get the crew together to reminisce about your journey at Ponderosa Park and then get to bed early. You'll finish your adventure by climbing the Tooth of Time to take in the spectacular views on your way back to Camping Headquarters and through the 'We All Made It' gate! Congratulations!"," "]
[1831,{"$f":"Itineraries!A36","v":"12-34"},"This program filled trek will give you a chance to pass over Wilson Mesa, climb Baldy Mountain, and hike the Tooth of Time! Start your trek at the Ute Park Trailhead and go on up to Mistletoe. Stop for some Challenge Course and team building exercises before spending the night at Baldy Skyline Camp. The next few days has you venturing deeper into the mining history of Baldy Country. Stop in at Baldy Town for resupply and some mining history before heading over to French Henry for a mine tour. The next morning has you hiking through Copper Park as you make your way up Philmont’s highest peak. Hike to the Baldy ridgeline and hang your smellables, then side hike the northern shoulder of Baldy Mountain to the summit! Return to your packs and continue to Upper Greenwood. Enjoy the downhill hike to Rich Cabins where a welcoming homestead and evening of music and stories await you. Climb Wilson Mesa, enjoy the view, and venture on to visit the loggers at Pueblano for some Crosscut Saw action! Elkhorn Camp is your destination for the for the night, before you make your way over the Dean Skyline to Dean Cow. Your next stop is Harlan, where you will have the chance to reload shotshells and shoot 12-gauge shotguns. The next leg of your journey is Cimarroncito, where you will get to experience rock climbing and rappelling with an amazing staff. Make your way through the Demonstration Forest the next morning, where you can learn about forestry from a trained expert! Camping at Clarks Fork will let you test your roping skills, enjoy a chuckwagon dinner, and cap off the evening with a cowboy campfire. Be sure to wake up early, fill your water bottles, and hit the trail towards Shaefers Peak and the Tooth of Time! Enjoy this famous peak and reflect on your journey as you make your way into base camp. We all made it!"," "]

{"sheet":"Calculator","index":13,"n_rows":45,"n_cols":73,"rows_kept":45,"cut":false,"hidden":true,"merged":[[39,0,39,1]]}
["Calculate Individual Values Based on Tables & Scores",null,null,null,null,null,null,null,null,null,null,null,null,null,null,null,null,null,null,null,null,null,null,1,{"$f":"X1+1","v":2},{"$f":"Y1+1","v":3},4,5,6,7,8,9,10,11,12,13,14,15,16,17,18,19,20,21,22,23,24,25,26,27,28,29,30,31,32,33,34,35,36,37,{"$f":"BH1+1","v":38},{"$f":"BI1+1","v":39},{"$f":"BJ1+1","v":40},{"$f":"BK1+1","v":41},42,{"$f":"BM1+1","v":43},{"$f":"BN1+1","v":44},{"$f":"BO1+1","v":45},{"$f":"BP1+1","v":46},{"$f":"BQ1+1","v":47},{"$f":"BR1+1","v":48},{"$f":"BS1+1","v":49},{"$f":"BT1+1","v":50}]
[{"$f":"Itineraries!A2","v":"Itinerary"},"Ranking","Difficulty","Distance","Food from HQ","Days Food","Trail Camps","Dry Camps","Total Camps","Max Altitude","Total Gain","Daily Change","Hike Out","Hike In","Baldy Mountain","Mount Phillips","Tooth of Time","Trail Peak","Mountaineering","South","Central","North","Valle Vidal",{"$f":"INDEX(program_table,X$1)","v":"Archaeology"},{"$f":"INDEX(program_table,Y$1)","v":"Archery - 3 Dimensional"},{"$f":"INDEX(program_table,Z$1)","v":"Astronomy"},{"$f":"INDEX(program_table,AA$1)","v":"Atlatl (Dart-throwing)"},{"$f":"INDEX(program_table,AB$1)","v":"Baldy Mountain"},{"$f":"INDEX(program_table,AC$1)","v":"Blacksmithing"},{"$f":"INDEX(program_table,AD$1)","v":"Bouldering"},{"$f":"INDEX(program_table,AE$1)","v":"Burro Packing"},{"$f":"INDEX(program_table,AF$1)","v":"Campfire (evening)"},{"$f":"INDEX(program_table,AG$1)","v":"Cantina"},{"$f":"INDEX(program_table,AH$1)","v":"Challenge Events"},{"$f":"INDEX(program_table,AI$1)","v":"Chuckwagon Dinner"},{"$f":"INDEX(program_table,AJ$1)","v":"Cowboy Action Shooting"},{"$f":"INDEX(program_table,AK$1)","v":"Demonstration Forest"},{"$f":"INDEX(program_table,AL$1)","v":"Fishing"},{"$f":"INDEX(program_table,AM$1)","v":"Fly Tying"},{"$f":"INDEX(program_table,AN$1)","v":"Fur Trapper Rendezvous"},{"$f":"INDEX(program_table,AO$1)","v":"Gold Mining & Panning"},{"$f":"INDEX(program_table,AP$1)","v":"High Ropes & Climbing Tower"},{"$f":"INDEX(program_table,AQ$1)","v":"Historic Chase Ranch"},{"$f":"INDEX(program_table,AR$1)","v":"Homesteading"},{"$f":"INDEX(program_table,AS$1)","v":"Horse Rides"},{"$f":"INDEX(program_table,AT$1)","v":"Hunter Safety"},{"$f":"INDEX(program_table,AU$1)","v":"Inspiration Point Hike"},{"$f":"INDEX(program_table,AV$1)","v":"Jicarilla Apache Life"},{"$f":"INDEX(program_table,AW$1)","v":"Kit Carson/Rayado Rancho"},{"$f":"INDEX(program_table,AX$1)","v":"Laser Shot Shooting Range"},{"$f":"INDEX(program_table,AY$1)","v":"Lodge/Cabin Tours"},{"$f":"INDEX(program_table,AZ$1)","v":"Low Impact Camping"},{"$f":"INDEX(program_table,BA$1)","v":"Mexican Dinner"},{"$f":"INDEX(program_table,BB$1)","v":"Mine Tour"},{"$f":"INDEX(program_table,BC$1)","v":"Mount Phillips"},{"$f":"INDEX(program_table,BD$1)","v":"Mountain Biking"},{"$f":"INDEX(program_table,BE$1)","v":"Mountaineering"},{"$f":"INDEX(program_table,BF$1)","v":"Muzzle Loading Rifle"},{"$f":"INDEX(program_table,BG$1)","v":"New Mexico Homestead"},{"$f":"INDEX(program_table,BH$1)","v":"Petroglyph Tour"},{"$f":"INDEX(program_table,BI$1)","v":"Post Civil War Encampment"},{"$f":"INDEX(program_table,BJ$1)","v":"Railroading"},{"$f":"INDEX(program_table,BK$1)","v":"Rock Climbing & Rappelling"},{"$f":"INDEX(program_table,BL$1)","v":"Rocky Mountain Fur Co."},{"$f":"INDEX(program_table,BM$1)","v":"Search & Rescue/Wild. Medicine"},{"$f":"INDEX(program_table,BN$1)","v":"Shooting/Reloading - .30-06"},{"$f":"INDEX(program_table,BO$1)","v":"Shotgun Shooting/Reloading - 12 Gauge"},{"$f":"INDEX(program_table,BP$1)","v":"Spar Pole Climbing"},{"$f":"INDEX(program_table,BQ$1)","v":"Tie Making & Crosscut Saws"},{"$f":"INDEX(program_table,BR$1)","v":"Tomahawk Throwing"},{"$f":"INDEX(program_table,BS$1)","v":"Tooth of Time"},{"$f":"INDEX(program_table,BT$1)","v":"Trail Peak"},{"$f":"INDEX(program_table,BU$1)","v":"Western Lore/Branding"}]
[{"$f":"Itineraries!A3","v":"12-1"},{"$f":"SUM(C3:BT3)","v":10035.25},{"$f":"getScoreFactor(C$2,itineraryCamps!C4)","v":4000},{"$f":"getScoreFactor(D$2,\"Miles\") *itineraryCamps!D4","v":5000},{"$f":"getScoreFactor(E$2,Itineraries!B3)","v":40},{"$f":"getScoreFactor(F$2,Itineraries!C3)","v":80},{"$f":"getScoreFactor(G$2,Itineraries!E3)","v":100},{"$f":"getScoreFactor(H$2,Itineraries!H3)","v":225},{"$f":"getScoreFactor(I$2,Itineraries!G3)","v":50},{"$f":"getScoreFactor(J$2,Itineraries!J3)","v":80},{"$f":"getScoreFactor(K$2,Itineraries!K3)","v":70},{"$f":"getScoreFactor(L$2,Itineraries!L3)","v":100},{"$f":"IF(INDEX(startingTA,numericItinerary($A3))=$M$2,getScoreFactor(M$2,\"y\"),getScoreFactor(M$2,\"n\"))","v":0},{"$f":"IF(INDEX(startingTA,numericItinerary($A3))=$M$2,getScoreFactor(N$2,\"y\"),getScoreFactor(N$2,\"n\"))","v":0},{"$f":"IF(INDEX(baldyMountainHike,numericItinerary($A3))=\"\",\"\",getPeakScore(O$2))","v":""},{"$f":"IF(INDEX(mountPhillipsHike,numericItinerary($A3))=\"\",\"\",getPeakScore(P$2))","v":11.25},{"$f":"IF(INDEX(toothOfTimeHike,numericItinerary($A3))=\"\",\"\",getPeakScore(Q$2))","v":40.5},{"$f":"IF(INDEX(trailPeakHike,numericItinerary($A3))=\"\",\"\",getPeakScore(R$2))","v":""},{"$f":"IF(INDEX(mountaineeringHike,numericItinerary($A3))=\"\",\"\",getPeakScore(S$2))","v":0},{"$f":"IF(areaImportant<>\"y\",\"\",IF(Itineraries!P3<>\"Y\",\"\",getareascore(T$2)))","v":""},{"$f":"IF(areaImportant<>\"y\",\"\",IF(Itineraries!Q3<>\"Y\",\"\",getareascore(U$2)))","v":""},{"$f":"IF(areaImportant<>\"y\",\"\",IF(Itineraries!R3<>\"Y\",\"\",getareascore(V$2)))","v":""},{"$f":"IF(areaImportant<>\"y\",\"\",IF(Itineraries!S3<>\"Y\",\"\",getareascore(W$2)))","v":""},{"$f":"IF(ItineraryPrograms!B3=\"y\",getScoreFactor(\"Program\",X$2),\"\")","v":""},{"$f":"IF(ItineraryPrograms!C3=\"y\",getScoreFactor(\"Program\",Y$2),\"\")","v":""},{"$f":"IF(ItineraryPrograms!D3=\"y\",getScoreFactor(\"Program\",Z$2),\"\")","v":""},{"$f":"IF(ItineraryPrograms!E3=\"y\",getScoreFactor(\"Program\",AA$2),\"\")","v":""},{"$f":"IF(ItineraryPrograms!F3=\"y\",getScoreFactor(\"Program\",AB$2),\"\")","v":""},{"$f":"IF(ItineraryPrograms!G3=\"y\",getScoreFactor(\"Program\",AC$2),\"\")","v":14.25},{"$f":"IF(ItineraryPrograms!H3=\"y\",getScoreFactor(\"Program\",AD$2),\"\")","v":""},{"$f":"IF(ItineraryPrograms!I3=\"y\",getScoreFactor(\"Program\",AE$2),\"\")","v":""},{"$f":"IF(ItineraryPrograms!J3=\"y\",getScoreFactor(\"Program\",AF$2),\"\")","v":13.5},{"$f":"IF(ItineraryPrograms!K3=\"y\",getScoreFactor(\"Program\",AG$2),\"\")","v":""},{"$f":"IF(ItineraryPrograms!L3=\"y\",getScoreFactor(\"Program\",AH$2),\"\")","v":7.5},{"$f":"IF(ItineraryPrograms!M3=\"y\",getScoreFactor(\"Program\",AI$2),\"\")","v":15.75},{"$f":"IF(ItineraryPrograms!N3=\"y\",getScoreFactor(\"Program\",AJ$2),\"\")","v":""},{"$f":"IF(ItineraryPrograms!O3=\"y\",getScoreFactor(\"Program\",AK$2),\"\")","v":""},{"$f":"IF(ItineraryPrograms!P3=\"y\",getScoreFactor(\"Program\",AL$2),\"\")","v":""},{"$f":"IF(ItineraryPrograms!Q3=\"y\",getScoreFactor(\"Program\",AM$2),\"\")","v":""},{"$f":"IF(ItineraryPrograms!R3=\"y\",getScoreFactor(\"Program\",AN$2),\"\")","v":""},{"$f":"IF(ItineraryPrograms!S3=\"y\",getScoreFactor(\"Program\",AO$2),\"\")","v":""},{"$f":"IF(ItineraryPrograms!T3=\"y\",getScoreFactor(\"Program\",AP$2),\"\")","v":6},{"$f":"IF(ItineraryPrograms!U3=\"y\",getScoreFactor(\"Program\",AQ$2),\"\")","v":""},{"$f":"IF(ItineraryPrograms!V3=\"y\",getScoreFactor(\"Program\",AR$2),\"\")","v":6},{"$f":"IF(ItineraryPrograms!W3=\"y\",getScoreFactor(\"Program\",AS$2),\"\")","v":9.75},{"$f":"IF(ItineraryPrograms!X3=\"y\",getScoreFactor(\"Program\",AT$2),\"\")","v":""},{"$f":"IF(ItineraryPrograms!Y3=\"y\",getScoreFactor(\"Program\",AU$2),\"\")","v":22.5},{"$f":"IF(ItineraryPrograms!Z3=\"y\",getScoreFactor(\"Program\",AV$2),\"\")","v":""},{"$f":"IF(ItineraryPrograms!AA3=\"y\",getScoreFactor(\"Program\",AW$2),\"\")","v":""},{"$f":"IF(ItineraryPrograms!AB3=\"y\",getScoreFactor(\"Program\",AX$2),\"\")","v":""},{"$f":"IF(ItineraryPrograms!AC3=\"y\",getScoreFactor(\"Program\",AY$2),\"\")","v":""},{"$f":"IF(ItineraryPrograms!AD3=\"y\",getScoreFactor(\"Program\",AZ$2),\"\")","v":""},{"$f":"IF(ItineraryPrograms!AE3=\"y\",getScoreFactor(\"Program\",BA$2),\"\")","v":""},{"$f":"IF(ItineraryPrograms!AF3=\"y\",getScoreFactor(\"Program\",BB$2),\"\")","v":""},{"$f":"IF(ItineraryPrograms!AG3=\"y\",getScoreFactor(\"Program\",BC$2),\"\")","v":7.5},{"$f":"IF(ItineraryPrograms!AH3=\"y\",getScoreFactor(\"Program\",BD$2),\"\")","v":""},{"$f":"IF(ItineraryPrograms!AI3=\"y\",getScoreFactor(\"Program\",BE$2),\"\")","v":18},{"$f":"IF(ItineraryPrograms!AJ3=\"y\",getScoreFactor(\"Program\",BF$2),\"\")","v":21},{"$f":"IF(ItineraryPrograms!AK3=\"y\",getScoreFactor(\"Program\",BG$2),\"\")","v":""},{"$f":"IF(ItineraryPrograms!AL3=\"y\",getScoreFactor(\"Program\",BH$2),\"\")","v":""},{"$f":"IF(ItineraryPrograms!AM3=\"y\",getScoreFactor(\"Program\",BI$2),\"\")","v":18},{"$f":"IF(ItineraryPrograms!AN3=\"y\",getScoreFactor(\"Program\",BJ$2),\"\")","v":""},{"$f":"IF(ItineraryPrograms!AO3=\"y\",getScoreFactor(\"Program\",BK$2),\"\")","v":""},{"$f":"IF(ItineraryPrograms!AP3=\"y\",getScoreFactor(\"Program\",BL$2),\"\")","v":19.5},{"$f":"IF(ItineraryPrograms!AR3=\"y\",getScoreFactor(\"Program\",BM$2),\"\")","v":""},{"$f":"IF(ItineraryPrograms!AS3=\"y\",getScoreFactor(\"Program\",BN$2),\"\")","v":""},{"$f":"IF(ItineraryPrograms!AU3=\"y\",getScoreFactor(\"Program\",BO$2),\"\")","v":""},{"$f":"IF(ItineraryPrograms!AV3=\"y\",getScoreFactor(\"Program\",BP$2),\"\")","v":7.5},{"$f":"IF(ItineraryPrograms!AW3=\"y\",getScoreFactor(\"Program\",BQ$2),\"\")","v":24.75},{"$f":"IF(ItineraryPrograms!AX3=\"y\",getScoreFactor(\"Program\",BR$2),\"\")","v":""},{"$f":"IF(ItineraryPrograms!AY3=\"y\",getScoreFactor(\"Program\",BS$2),\"\")","v":27},{"$f":"IF(ItineraryPrograms!AZ3=\"y\",getScoreFactor(\"Program\",BT$2),\"\")","v":""},{"$f":"IF(ItineraryPrograms!BA3=\"y\",getScoreFactor(\"Program\",BU$2),\"\")","v":""}]
[{"$f":"Itineraries!A4","v":"12-2"},{"$f":"SUM(C4:BT4)","v":10429.25},{"$f":"getScoreFactor(C$2,itineraryCamps!C5)","v":4000},{"$f":"getScoreFactor(D$2,\"Miles\") *itineraryCamps!D5","v":5200},{"$f":"getScoreFactor(E$2,Itineraries!B4)","v":20},{"$f":"getScoreFactor(F$2,Itineraries!C4)","v":80},{"$f":"getScoreFactor(G$2,Itineraries!E4)","v":75},{"$f":"getScoreFactor(H$2,Itineraries!H4)","v":250},{"$f":"getScoreFactor(I$2,Itineraries!G4)","v":50},{"$f":"getScoreFactor(J$2,Itineraries!J4)","v":110},{"$f":"getScoreFactor(K$2,Itineraries!K4)","v":100},{"$f":"getScoreFactor(L$2,Itineraries!L4)","v":200},{"$f":"IF(INDEX(startingTA,numericItinerary($A4))=$M$2,getScoreFactor(M$2,\"y\"),getScoreFactor(M$2,\"n\"))","v":0},{"$f":"IF(INDEX(startingTA,numericItinerary($A4))=$M$2,getScoreFactor(N$2,\"y\"),getScoreFactor(N$2,\"n\"))","v":0},{"$f":"IF(INDEX(baldyMountainHike,numericItinerary($A4))=\"\",\"\",getPeakScore(O$2))","v":""},{"$f":"IF(INDEX(mountPhillipsHike,numericItinerary($A4))=\"\",\"\",getPeakScore(P$2))","v":11.25},{"$f":"IF(INDEX(toothOfTimeHike,numericItinerary($A4))=\"\",\"\",getPeakScore(Q$2))","v":40.5},{"$f":"IF(INDEX(trailPeakHike,numericItinerary($A4))=\"\",\"\",getPeakScore(R$2))","v":""},{"$f":"IF(INDEX(mountaineeringHike,numericItinerary($A4))=\"\",\"\",getPeakScore(S$2))","v":0},{"$f":"IF(areaImportant<>\"y\",\"\",IF(Itineraries!P4<>\"Y\",\"\",getareascore(T$2)))","v":""},{"$f":"IF(areaImportant<>\"y\",\"\",IF(Itineraries!Q4<>\"Y\",\"\",getareascore(U$2)))","v":""},{"$f":"IF(areaImportant<>\"y\",\"\",IF(Itineraries!R4<>\"Y\",\"\",getareascore(V$2)))","v":""},{"$f":"IF(areaImportant<>\"y\",\"\",IF(Itineraries!S4<>\"Y\",\"\",getareascore(W$2)))","v":""},{"$f":"IF(ItineraryPrograms!B4=\"y\",getScoreFactor(\"Program\",X$2),\"\")","v":""},{"$f":"IF(ItineraryPrograms!C4=\"y\",getScoreFactor(\"Program\",Y$2),\"\")","v":30},{"$f":"IF(ItineraryPrograms!D4=\"y\",getScoreFactor(\"Program\",Z$2),\"\")","v":""},{"$f":"IF(ItineraryPrograms!E4=\"y\",getScoreFactor(\"Program\",AA$2),\"\")","v":""},{"$f":"IF(ItineraryPrograms!F4=\"y\",getScoreFactor(\"Program\",AB$2),\"\")","v":""},{"$f":"IF(ItineraryPrograms!G4=\"y\",getScoreFactor(\"Program\",AC$2),\"\")","v":14.25},{"$f":"IF(ItineraryPrograms!H4=\"y\",getScoreFactor(\"Program\",AD$2),\"\")","v":""},{"$f":"IF(ItineraryPrograms!I4=\"y\",getScoreFactor(\"Program\",AE$2),\"\")","v":""},{"$f":"IF(ItineraryPrograms!J4=\"y\",getScoreFactor(\"Program\",AF$2),\"\")","v":13.5},{"$f":"IF(ItineraryPrograms!K4=\"y\",getScoreFactor(\"Program\",AG$2),\"\")","v":""},{"$f":"IF(ItineraryPrograms!L4=\"y\",getScoreFactor(\"Program\",AH$2),\"\")","v":""},{"$f":"IF(ItineraryPrograms!M4=\"y\",getScoreFactor(\"Program\",AI$2),\"\")","v":15.75},{"$f":"IF(ItineraryPrograms!N4=\"y\",getScoreFactor(\"Program\",AJ$2),\"\")","v":""},{"$f":"IF(ItineraryPrograms!O4=\"y\",getScoreFactor(\"Program\",AK$2),\"\")","v":10.5},{"$f":"IF(ItineraryPrograms!P4=\"y\",getScoreFactor(\"Program\",AL$2),\"\")","v":""},{"$f":"IF(ItineraryPrograms!Q4=\"y\",getScoreFactor(\"Program\",AM$2),\"\")","v":""},{"$f":"IF(ItineraryPrograms!R4=\"y\",getScoreFactor(\"Program\",AN$2),\"\")","v":""},{"$f":"IF(ItineraryPrograms!S4=\"y\",getScoreFactor(\"Program\",AO$2),\"\")","v":15},{"$f":"IF(ItineraryPrograms!T4=\"y\",getScoreFactor(\"Program\",AP$2),\"\")","v":""},{"$f":"IF(ItineraryPrograms!U4=\"y\",getScoreFactor(\"Program\",AQ$2),\"\")","v":""},{"$f":"IF(ItineraryPrograms!V4=\"y\",getScoreFactor(\"Program\",AR$2),\"\")","v":6},{"$f":"IF(ItineraryPrograms!W4=\"y\",getScoreFactor(\"Program\",AS$2),\"\")","v":""},{"$f":"IF(ItineraryPrograms!X4=\"y\",getScoreFactor(\"Program\",AT$2),\"\")","v":""},{"$f":"IF(ItineraryPrograms!Y4=\"y\",getScoreFactor(\"Program\",AU$2),\"\")","v":""},{"$f":"IF(ItineraryPrograms!Z4=\"y\",getScoreFactor(\"Program\",AV$2),\"\")","v":18.75},{"$f":"IF(ItineraryPrograms!AA4=\"y\",getScoreFactor(\"Program\",AW$2),\"\")","v":""},{"$f":"IF(ItineraryPrograms!AB4=\"y\",getScoreFactor(\"Program\",AX$2),\"\")","v":""},{"$f":"IF(ItineraryPrograms!AC4=\"y\",getScoreFactor(\"Program\",AY$2),\"\")","v":18},{"$f":"IF(ItineraryPrograms!AD4=\"y\",getScoreFactor(\"Program\",AZ$2),\"\")","v":""},{"$f":"IF(ItineraryPrograms!AE4=\"y\",getScoreFactor(\"Program\",BA$2),\"\")","v":""},{"$f":"IF(ItineraryPrograms!AF4=\"y\",getScoreFactor(\"Program\",BB$2),\"\")","v":19.5},{"$f":"IF(ItineraryPrograms!AG4=\"y\",getScoreFactor(\"Program\",BC$2),\"\")","v":7.5},{"$f":"IF(ItineraryPrograms!AH4=\"y\",getScoreFactor(\"Program\",BD$2),\"\")","v":""},{"$f":"IF(ItineraryPrograms!AI4=\"y\",getScoreFactor(\"Program\",BE$2),\"\")","v":18},{"$f":"IF(ItineraryPrograms!AJ4=\"y\",getScoreFactor(\"Program\",BF$2),\"\")","v":""},{"$f":"IF(ItineraryPrograms!AK4=\"y\",getScoreFactor(\"Program\",BG$2),\"\")","v":""},{"$f":"IF(ItineraryPrograms!AL4=\"y\",getScoreFactor(\"Program\",BH$2),\"\")","v":""},{"$f":"IF(ItineraryPrograms!AM4=\"y\",getScoreFactor(\"Program\",BI$2),\"\")","v":""},{"$f":"IF(ItineraryPrograms!AN4=\"y\",getScoreFactor(\"Program\",BJ$2),\"\")","v":""},{"$f":"IF(ItineraryPrograms!AO4=\"y\",getScoreFactor(\"Program\",BK$2),\"\")","v":9},{"$f":"IF(ItineraryPrograms!AP4=\"y\",getScoreFactor(\"Program\",BL$2),\"\")","v":19.5},{"$f":"IF(ItineraryPrograms!AR4=\"y\",getScoreFactor(\"Program\",BM$2),\"\")","v":""},{"$f":"IF(ItineraryPrograms!AS4=\"y\",getScoreFactor(\"Program\",BN$2),\"\")","v":""},{"$f":"IF(ItineraryPrograms!AU4=\"y\",getScoreFactor(\"Program\",BO$2),\"\")","v":18},{"$f":"IF(ItineraryPrograms!AV4=\"y\",getScoreFactor(\"Program\",BP$2),\"\")","v":7.5},{"$f":"IF(ItineraryPrograms!AW4=\"y\",getScoreFactor(\"Program\",BQ$2),\"\")","v":24.75},{"$f":"IF(ItineraryPrograms!AX4=\"y\",getScoreFactor(\"Program\",BR$2),\"\")","v":""},{"$f":"IF(ItineraryPrograms!AY4=\"y\",getScoreFactor(\"Program\",BS$2),\"\")","v":27},{"$f":"IF(ItineraryPrograms!AZ4=\"y\",getScoreFactor(\"Program\",BT$2),\"\")","v":""},{"$f":"IF(ItineraryPrograms!BA4=\"y\",getScoreFactor(\"Program\",BU$2),\"\")","v":""}]
[{"$f":"Itineraries!A5","v":"12-3"},10644.75,{"$f":"getScoreFactor(C$2,itineraryCamps!C6)","v":4000},{"$f":"getScoreFactor(D$2,\"Miles\") *itineraryCamps!D6","v":5400},{"$f":"getScoreFactor(E$2,Itineraries!B5)","v":40},{"$f":"getScoreFactor(F$2,Itineraries!C5)","v":80},{"$f":"getScoreFactor(G$2,Itineraries!E5)","v":125},{"$f":"getScoreFactor(H$2,Itineraries!H5)","v":225},{"$f":"getScoreFactor(I$2,Itineraries!G5)","v":60},{"$f":"getScoreFactor(J$2,Itineraries!J5)","v":80},{"$f":"getScoreFactor(K$2,Itineraries!K5)","v":70},{"$f":"getScoreFactor(L$2,Itineraries!L5)","v":300},{"$f":"IF(INDEX(startingTA,numericItinerary($A5))=$M$2,getScoreFactor(M$2,\"y\"),getScoreFactor(M$2,\"n\"))","v":0},{"$f":"IF(INDEX(startingTA,numericItinerary($A5))=$M$2,getScoreFactor(N$2,\"y\"),getScoreFactor(N$2,\"n\"))","v":0},{"$f":"IF(INDEX(baldyMountainHike,numericItinerary($A5))=\"\",\"\",getPeakScore(O$2))","v":""},{"$f":"IF(INDEX(mountPhillipsHike,numericItinerary($A5))=\"\",\"\",getPeakScore(P$2))","v":11.25},{"$f":"IF(INDEX(toothOfTimeHike,numericItinerary($A5))=\"\",\"\",getPeakScore(Q$2))","v":40.5},{"$f":"IF(INDEX(trailPeakHike,numericItinerary($A5))=\"\",\"\",getPeakScore(R$2))","v":""},{"$f":"IF(INDEX(mountaineeringHike,numericItinerary($A5))=\"\",\"\",getPeakScore(S$2))","v":0},{"$f":"IF(areaImportant<>\"y\",\"\",IF(Itineraries!P5<>\"Y\",\"\",getareascore(T$2)))","v":""},{"$f":"IF(areaImportant<>\"y\",\"\",IF(Itineraries!Q5<>\"Y\",\"\",getareascore(U$2)))","v":""},{"$f":"IF(areaImportant<>\"y\",\"\",IF(Itineraries!R5<>\"Y\",\"\",getareascore(V$2)))","v":""},{"$f":"IF(areaImportant<>\"y\",\"\",IF(Itineraries!S5<>\"Y\",\"\",getareascore(W$2)))","v":""},{"$f":"IF(ItineraryPrograms!B5=\"y\",getScoreFactor(\"Program\",X$2),\"\")","v":""},{"$f":"IF(ItineraryPrograms!C5=\"y\",getScoreFactor(\"Program\",Y$2),\"\")","v":""},{"$f":"IF(ItineraryPrograms!D5=\"y\",getScoreFactor(\"Program\",Z$2),\"\")","v":""},{"$f":"IF(ItineraryPrograms!E5=\"y\",getScoreFactor(\"Program\",AA$2),\"\")","v":""},{"$f":"IF(ItineraryPrograms!F5=\"y\",getScoreFactor(\"Program\",AB$2),\"\")","v":""},{"$f":"IF(ItineraryPrograms!G5=\"y\",getScoreFactor(\"Program\",AC$2),\"\")","v":14.25},{"$f":"IF(ItineraryPrograms!H5=\"y\",getScoreFactor(\"Program\",AD$2),\"\")","v":""},{"$f":"IF(ItineraryPrograms!I5=\"y\",getScoreFactor(\"Program\",AE$2),\"\")","v":""},{"$f":"IF(ItineraryPrograms!J5=\"y\",getScoreFactor(\"Program\",AF$2),\"\")","v":13.5},{"$f":"IF(ItineraryPrograms!K5=\"y\",getScoreFactor(\"Program\",AG$2),\"\")","v":""},{"$f":"IF(ItineraryPrograms!L5=\"y\",getScoreFactor(\"Program\",AH$2),\"\")","v":7.5},{"$f":"IF(ItineraryPrograms!M5=\"y\",getScoreFactor(\"Program\",AI$2),\"\")","v":""},{"$f":"IF(ItineraryPrograms!N5=\"y\",getScoreFactor(\"Program\",AJ$2),\"\")","v":""},{"$f":"IF(ItineraryPrograms!O5=\"y\",getScoreFactor(\"Program\",AK$2),\"\")","v":10.5},{"$f":"IF(ItineraryPrograms!P5=\"y\",getScoreFactor(\"Program\",AL$2),\"\")","v":""},{"$f":"IF(ItineraryPrograms!Q5=\"y\",getScoreFactor(\"Program\",AM$2),\"\")","v":""},{"$f":"IF(ItineraryPrograms!R5=\"y\",getScoreFactor(\"Program\",AN$2),\"\")","v":""},{"$f":"IF(ItineraryPrograms!S5=\"y\",getScoreFactor(\"Program\",AO$2),\"\")","v":15},{"$f":"IF(ItineraryPrograms!T5=\"y\",getScoreFactor(\"Program\",AP$2),\"\")","v":6},{"$f":"IF(ItineraryPrograms!U5=\"y\",getScoreFactor(\"Program\",AQ$2),\"\")","v":""},{"$f":"IF(ItineraryPrograms!V5=\"y\",getScoreFactor(\"Program\",AR$2),\"\")","v":""},{"$f":"IF(ItineraryPrograms!W5=\"y\",getScoreFactor(\"Program\",AS$2),\"\")","v":""},{"$f":"IF(ItineraryPrograms!X5=\"y\",getScoreFactor(\"Program\",AT$2),\"\")","v":""},{"$f":"IF(ItineraryPrograms!Y5=\"y\",getScoreFactor(\"Program\",AU$2),\"\")","v":22.5},{"$f":"IF(ItineraryPrograms!Z5=\"y\",getScoreFactor(\"Program\",AV$2),\"\")","v":""},{"$f":"IF(ItineraryPrograms!AA5=\"y\",getScoreFactor(\"Program\",AW$2),\"\")","v":""},{"$f":"IF(ItineraryPrograms!AB5=\"y\",getScoreFactor(\"Program\",AX$2),\"\")","v":""},{"$f":"IF(ItineraryPrograms!AC5=\"y\",getScoreFactor(\"Program\",AY$2),\"\")","v":""},{"$f":"IF(ItineraryPrograms!AD5=\"y\",getScoreFactor(\"Program\",AZ$2),\"\")","v":""},{"$f":"IF(ItineraryPrograms!AE5=\"y\",getScoreFactor(\"Program\",BA$2),\"\")","v":""},{"$f":"IF(ItineraryPrograms!AF5=\"y\",getScoreFactor(\"Program\",BB$2),\"\")","v":""},{"$f":"IF(ItineraryPrograms!AG5=\"y\",getScoreFactor(\"Program\",BC$2),\"\")","v":7.5},{"$f":"IF(ItineraryPrograms!AH5=\"y\",getScoreFactor(\"Program\",BD$2),\"\")","v":""},{"$f":"IF(ItineraryPrograms!AI5=\"y\",getScoreFactor(\"Program\",BE$2),\"\")","v":18},{"$f":"IF(ItineraryPrograms!AJ5=\"y\",getScoreFactor(\"Program\",BF$2),\"\")","v":21},{"$f":"IF(ItineraryPrograms!AK5=\"y\",getScoreFactor(\"Program\",BG$2),\"\")","v":""},{"$f":"IF(ItineraryPrograms!AL5=\"y\",getScoreFactor(\"Program\",BH$2),\"\")","v":""},{"$f":"IF(ItineraryPrograms!AM5=\"y\",getScoreFactor(\"Program\",BI$2),\"\")","v":18},{"$f":"IF(ItineraryPrograms!AN5=\"y\",getScoreFactor(\"Program\",BJ$2),\"\")","v":""},{"$f":"IF(ItineraryPrograms!AO5=\"y\",getScoreFactor(\"Program\",BK$2),\"\")","v":9},{"$f":"IF(ItineraryPrograms!AP5=\"y\",getScoreFactor(\"Program\",BL$2),\"\")","v":""},{"$f":"IF(ItineraryPrograms!AR5=\"y\",getScoreFactor(\"Program\",BM$2),\"\")","v":18},{"$f":"IF(ItineraryPrograms!AS5=\"y\",getScoreFactor(\"Program\",BN$2),\"\")","v":""},{"$f":"IF(ItineraryPrograms!AU5=\"y\",getScoreFactor(\"Program\",BO$2),\"\")","v":""},{"$f":"IF(ItineraryPrograms!AV5=\"y\",getScoreFactor(\"Program\",BP$2),\"\")","v":7.5},{"$f":"IF(ItineraryPrograms!AW5=\"y\",getScoreFactor(\"Program\",BQ$2),\"\")","v":24.75},{"$f":"IF(ItineraryPrograms!AX5=\"y\",getScoreFactor(\"Program\",BR$2),\"\")","v":""},{"$f":"IF(ItineraryPrograms!AY5=\"y\",getScoreFactor(\"Program\",BS$2),\"\")","v":""},{"$f":"IF(ItineraryPrograms!AZ5=\"y\",getScoreFactor(\"Program\",BT$2),\"\")","v":""},{"$f":"IF(ItineraryPrograms!BA5=\"y\",getScoreFactor(\"Program\",BU$2),\"\")","v":""}]
[{"$f":"Itineraries!A6","v":"12-4"},10854.25,{"$f":"getScoreFactor(C$2,itineraryCamps!C7)","v":4000},{"$f":"getScoreFactor(D$2,\"Miles\") *itineraryCamps!D7","v":5500},{"$f":"getScoreFactor(E$2,Itineraries!B6)","v":20},{"$f":"getScoreFactor(F$2,Itineraries!C6)","v":80},{"$f":"getScoreFactor(G$2,Itineraries!E6)","v":125},{"$f":"getScoreFactor(H$2,Itineraries!H6)","v":225},{"$f":"getScoreFactor(I$2,Itineraries!G6)","v":60},{"$f":"getScoreFactor(J$2,Itineraries!J6)","v":110},{"$f":"getScoreFactor(K$2,Itineraries!K6)","v":90},{"$f":"getScoreFactor(L$2,Itineraries!L6)","v":300},{"$f":"IF(INDEX(startingTA,numericItinerary($A6))=$M$2,getScoreFactor(M$2,\"y\"),getScoreFactor(M$2,\"n\"))","v":0},{"$f":"IF(INDEX(startingTA,numericItinerary($A6))=$M$2,getScoreFactor(N$2,\"y\"),getScoreFactor(N$2,\"n\"))","v":0},{"$f":"IF(INDEX(baldyMountainHike,numericItinerary($A6))=\"\",\"\",getPeakScore(O$2))","v":""},{"$f":"IF(INDEX(mountPhillipsHike,numericItinerary($A6))=\"\",\"\",getPeakScore(P$2))","v":11.25},{"$f":"IF(INDEX(toothOfTimeHike,numericItinerary($A6))=\"\",\"\",getPeakScore(Q$2))","v":40.5},{"$f":"IF(INDEX(trailPeakHike,numericItinerary($A6))=\"\",\"\",getPeakScore(R$2))","v":""},{"$f":"IF(INDEX(mountaineeringHike,numericItinerary($A6))=\"\",\"\",getPeakScore(S$2))","v":0},{"$f":"IF(areaImportant<>\"y\",\"\",IF(Itineraries!P6<>\"Y\",\"\",getareascore(T$2)))","v":""},{"$f":"IF(areaImportant<>\"y\",\"\",IF(Itineraries!Q6<>\"Y\",\"\",getareascore(U$2)))","v":""},{"$f":"IF(areaImportant<>\"y\",\"\",IF(Itineraries!R6<>\"Y\",\"\",getareascore(V$2)))","v":""},{"$f":"IF(areaImportant<>\"y\",\"\",IF(Itineraries!S6<>\"Y\",\"\",getareascore(W$2)))","v":""},{"$f":"IF(ItineraryPrograms!B6=\"y\",getScoreFactor(\"Program\",X$2),\"\")","v":""},{"$f":"IF(ItineraryPrograms!C6=\"y\",getScoreFactor(\"Program\",Y$2),\"\")","v":""},{"$f":"IF(ItineraryPrograms!D6=\"y\",getScoreFactor(\"Program\",Z$2),\"\")","v":""},{"$f":"IF(ItineraryPrograms!E6=\"y\",getScoreFactor(\"Program\",AA$2),\"\")","v":""},{"$f":"IF(ItineraryPrograms!F6=\"y\",getScoreFactor(\"Program\",AB$2),\"\")","v":""},{"$f":"IF(ItineraryPrograms!G6=\"y\",getScoreFactor(\"Program\",AC$2),\"\")","v":14.25},{"$f":"IF(ItineraryPrograms!H6=\"y\",getScoreFactor(\"Program\",AD$2),\"\")","v":""},{"$f":"IF(ItineraryPrograms!I6=\"y\",getScoreFactor(\"Program\",AE$2),\"\")","v":""},{"$f":"IF(ItineraryPrograms!J6=\"y\",getScoreFactor(\"Program\",AF$2),\"\")","v":13.5},{"$f":"IF(ItineraryPrograms!K6=\"y\",getScoreFactor(\"Program\",AG$2),\"\")","v":""},{"$f":"IF(ItineraryPrograms!L6=\"y\",getScoreFactor(\"Program\",AH$2),\"\")","v":""},{"$f":"IF(ItineraryPrograms!M6=\"y\",getScoreFactor(\"Program\",AI$2),\"\")","v":15.75},{"$f":"IF(ItineraryPrograms!N6=\"y\",getScoreFactor(\"Program\",AJ$2),\"\")","v":""},{"$f":"IF(ItineraryPrograms!O6=\"y\",getScoreFactor(\"Program\",AK$2),\"\")","v":10.5},{"$f":"IF(ItineraryPrograms!P6=\"y\",getScoreFactor(\"Program\",AL$2),\"\")","v":""},{"$f":"IF(ItineraryPrograms!Q6=\"y\",getScoreFactor(\"Program\",AM$2),\"\")","v":""},{"$f":"IF(ItineraryPrograms!R6=\"y\",getScoreFactor(\"Program\",AN$2),\"\")","v":""},{"$f":"IF(ItineraryPrograms!S6=\"y\",getScoreFactor(\"Program\",AO$2),\"\")","v":15},{"$f":"IF(ItineraryPrograms!T6=\"y\",getScoreFactor(\"Program\",AP$2),\"\")","v":""},{"$f":"IF(ItineraryPrograms!U6=\"y\",getScoreFactor(\"Program\",AQ$2),\"\")","v":""},{"$f":"IF(ItineraryPrograms!V6=\"y\",getScoreFactor(\"Program\",AR$2),\"\")","v":6},{"$f":"IF(ItineraryPrograms!W6=\"y\",getScoreFactor(\"Program\",AS$2),\"\")","v":9.75},{"$f":"IF(ItineraryPrograms!X6=\"y\",getScoreFactor(\"Program\",AT$2),\"\")","v":""},{"$f":"IF(ItineraryPrograms!Y6=\"y\",getScoreFactor(\"Program\",AU$2),\"\")","v":""},{"$f":"IF(ItineraryPrograms!Z6=\"y\",getScoreFactor(\"Program\",AV$2),\"\")","v":""},{"$f":"IF(ItineraryPrograms!AA6=\"y\",getScoreFactor(\"Program\",AW$2),\"\")","v":""},{"$f":"IF(ItineraryPrograms!AB6=\"y\",getScoreFactor(\"Program\",AX$2),\"\")","v":""},{"$f":"IF(ItineraryPrograms!AC6=\"y\",getScoreFactor(\"Program\",AY$2),\"\")","v":18},{"$f":"IF(ItineraryPrograms!AD6=\"y\",getScoreFactor(\"Program\",AZ$2),\"\")","v":""},{"$f":"IF(ItineraryPrograms!AE6=\"y\",getScoreFactor(\"Program\",BA$2),\"\")","v":""},{"$f":"IF(ItineraryPrograms!AF6=\"y\",getScoreFactor(\"Program\",BB$2),\"\")","v":19.5},{"$f":"IF(ItineraryPrograms!AG6=\"y\",getScoreFactor(\"Program\",BC$2),\"\")","v":7.5},{"$f":"IF(ItineraryPrograms!AH6=\"y\",getScoreFactor(\"Program\",BD$2),\"\")","v":""},{"$f":"IF(ItineraryPrograms!AI6=\"y\",getScoreFactor(\"Program\",BE$2),\"\")","v":18},{"$f":"IF(ItineraryPrograms!AJ6=\"y\",getScoreFactor(\"Program\",BF$2),\"\")","v":21},{"$f":"IF(ItineraryPrograms!AK6=\"y\",getScoreFactor(\"Program\",BG$2),\"\")","v":""},{"$f":"IF(ItineraryPrograms!AL6=\"y\",getScoreFactor(\"Program\",BH$2),\"\")","v":""},{"$f":"IF(ItineraryPrograms!AM6=\"y\",getScoreFactor(\"Program\",BI$2),\"\")","v":18},{"$f":"IF(ItineraryPrograms!AN6=\"y\",getScoreFactor(\"Program\",BJ$2),\"\")","v":""},{"$f":"IF(ItineraryPrograms!AO6=\"y\",getScoreFactor(\"Program\",BK$2),\"\")","v":9},{"$f":"IF(ItineraryPrograms!AP6=\"y\",getScoreFactor(\"Program\",BL$2),\"\")","v":19.5},{"$f":"IF(ItineraryPrograms!AR6=\"y\",getScoreFactor(\"Program\",BM$2),\"\")","v":18},{"$f":"IF(ItineraryPrograms!AS6=\"y\",getScoreFactor(\"Program\",BN$2),\"\")","v":""},{"$f":"IF(ItineraryPrograms!AU6=\"y\",getScoreFactor(\"Program\",BO$2),\"\")","v":""},{"$f":"IF(ItineraryPrograms!AV6=\"y\",getScoreFactor(\"Program\",BP$2),\"\")","v":7.5},{"$f":"IF(ItineraryPrograms!AW6=\"y\",getScoreFactor(\"Program\",BQ$2),\"\")","v":24.75},{"$f":"IF(ItineraryPrograms!AX6=\"y\",getScoreFactor(\"Program\",BR$2),\"\")","v":""},{"$f":"IF(ItineraryPrograms!AY6=\"y\",getScoreFactor(\"Program\",BS$2),\"\")","v":27},{"$f":"IF(ItineraryPrograms!AZ6=\"y\",getScoreFactor(\"Program\",BT$2),\"\")","v":""},{"$f":"IF(ItineraryPrograms!BA6=\"y\",getScoreFactor(\"Program\",BU$2),\"\")","v":""}]
[{"$f":"Itineraries!A7","v":"12-5"},10945.75,{"$f":"getScoreFactor(C$2,itineraryCamps!C8)","v":4000},{"$f":"getScoreFactor(D$2,\"Miles\") *itineraryCamps!D8","v":5600},{"$f":"getScoreFactor(E$2,Itineraries!B7)","v":40},{"$f":"getScoreFactor(F$2,Itineraries!C7)","v":80},{"$f":"getScoreFactor(G$2,Itineraries!E7)","v":100},{"$f":"getScoreFactor(H$2,Itineraries!H7)","v":300},{"$f":"getScoreFactor(I$2,Itineraries!G7)","v":60},{"$f":"getScoreFactor(J$2,Itineraries!J7)","v":50},{"$f":"getScoreFactor(K$2,Itineraries!K7)","v":70},{"$f":"getScoreFactor(L$2,Itineraries!L7)","v":300},{"$f":"IF(INDEX(startingTA,numericItinerary($A7))=$M$2,getScoreFactor(M$2,\"y\"),getScoreFactor(M$2,\"n\"))","v":0},{"$f":"IF(INDEX(startingTA,numericItinerary($A7))=$M$2,getScoreFactor(N$2,\"y\"),getScoreFactor(N$2,\"n\"))","v":0},{"$f":"IF(INDEX(baldyMountainHike,numericItinerary($A7))=\"\",\"\",getPeakScore(O$2))","v":25.5},{"$f":"IF(INDEX(mountPhillipsHike,numericItinerary($A7))=\"\",\"\",getPeakScore(P$2))","v":""},{"$f":"IF(INDEX(toothOfTimeHike,numericItinerary($A7))=\"\",\"\",getPeakScore(Q$2))","v":""},{"$f":"IF(INDEX(trailPeakHike,numericItinerary($A7))=\"\",\"\",getPeakScore(R$2))","v":""},{"$f":"IF(INDEX(mountaineeringHike,numericItinerary($A7))=\"\",\"\",getPeakScore(S$2))","v":""},{"$f":"IF(areaImportant<>\"y\",\"\",IF(Itineraries!P7<>\"Y\",\"\",getareascore(T$2)))","v":""},{"$f":"IF(areaImportant<>\"y\",\"\",IF(Itineraries!Q7<>\"Y\",\"\",getareascore(U$2)))","v":""},{"$f":"IF(areaImportant<>\"y\",\"\",IF(Itineraries!R7<>\"Y\",\"\",getareascore(V$2)))","v":""},{"$f":"IF(areaImportant<>\"y\",\"\",IF(Itineraries!S7<>\"Y\",\"\",getareascore(W$2)))","v":""},{"$f":"IF(ItineraryPrograms!B7=\"y\",getScoreFactor(\"Program\",X$2),\"\")","v":22.5},{"$f":"IF(ItineraryPrograms!C7=\"y\",getScoreFactor(\"Program\",Y$2),\"\")","v":30},{"$f":"IF(ItineraryPrograms!D7=\"y\",getScoreFactor(\"Program\",Z$2),\"\")","v":""},{"$f":"IF(ItineraryPrograms!E7=\"y\",getScoreFactor(\"Program\",AA$2),\"\")","v":27},{"$f":"IF(ItineraryPrograms!F7=\"y\",getScoreFactor(\"Program\",AB$2),\"\")","v":12.75},{"$f":"IF(ItineraryPrograms!G7=\"y\",getScoreFactor(\"Program\",AC$2),\"\")","v":14.25},{"$f":"IF(ItineraryPrograms!H7=\"y\",getScoreFactor(\"Program\",AD$2),\"\")","v":""},{"$f":"IF(ItineraryPrograms!I7=\"y\",getScoreFactor(\"Program\",AE$2),\"\")","v":9},{"$f":"IF(ItineraryPrograms!J7=\"y\",getScoreFactor(\"Program\",AF$2),\"\")","v":13.5},{"$f":"IF(ItineraryPrograms!K7=\"y\",getScoreFactor(\"Program\",AG$2),\"\")","v":7.5},{"$f":"IF(ItineraryPrograms!L7=\"y\",getScoreFactor(\"Program\",AH$2),\"\")","v":7.5},{"$f":"IF(ItineraryPrograms!M7=\"y\",getScoreFactor(\"Program\",AI$2),\"\")","v":15.75},{"$f":"IF(ItineraryPrograms!N7=\"y\",getScoreFactor(\"Program\",AJ$2),\"\")","v":""},{"$f":"IF(ItineraryPrograms!O7=\"y\",getScoreFactor(\"Program\",AK$2),\"\")","v":""},{"$f":"IF(ItineraryPrograms!P7=\"y\",getScoreFactor(\"Program\",AL$2),\"\")","v":""},{"$f":"IF(ItineraryPrograms!Q7=\"y\",getScoreFactor(\"Program\",AM$2),\"\")","v":""},{"$f":"IF(ItineraryPrograms!R7=\"y\",getScoreFactor(\"Program\",AN$2),\"\")","v":6},{"$f":"IF(ItineraryPrograms!S7=\"y\",getScoreFactor(\"Program\",AO$2),\"\")","v":15},{"$f":"IF(ItineraryPrograms!T7=\"y\",getScoreFactor(\"Program\",AP$2),\"\")","v":""},{"$f":"IF(ItineraryPrograms!U7=\"y\",getScoreFactor(\"Program\",AQ$2),\"\")","v":""},{"$f":"IF(ItineraryPrograms!V7=\"y\",getScoreFactor(\"Program\",AR$2),\"\")","v":""},{"$f":"IF(ItineraryPrograms!W7=\"y\",getScoreFactor(\"Program\",AS$2),\"\")","v":9.75},{"$f":"IF(ItineraryPrograms!X7=\"y\",getScoreFactor(\"Program\",AT$2),\"\")","v":9.75},{"$f":"IF(ItineraryPrograms!Y7=\"y\",getScoreFactor(\"Program\",AU$2),\"\")","v":""},{"$f":"IF(ItineraryPrograms!Z7=\"y\",getScoreFactor(\"Program\",AV$2),\"\")","v":""},{"$f":"IF(ItineraryPrograms!AA7=\"y\",getScoreFactor(\"Program\",AW$2),\"\")","v":""},{"$f":"IF(ItineraryPrograms!AB7=\"y\",getScoreFactor(\"Program\",AX$2),\"\")","v":18},{"$f":"IF(ItineraryPrograms!AC7=\"y\",getScoreFactor(\"Program\",AY$2),\"\")","v":""},{"$f":"IF(ItineraryPrograms!AD7=\"y\",getScoreFactor(\"Program\",AZ$2),\"\")","v":""},{"$f":"IF(ItineraryPrograms!AE7=\"y\",getScoreFactor(\"Program\",BA$2),\"\")","v":""},{"$f":"IF(ItineraryPrograms!AF7=\"y\",getScoreFactor(\"Program\",BB$2),\"\")","v":19.5},{"$f":"IF(ItineraryPrograms!AG7=\"y\",getScoreFactor(\"Program\",BC$2),\"\")","v":""},{"$f":"IF(ItineraryPrograms!AH7=\"y\",getScoreFactor(\"Program\",BD$2),\"\")","v":""},{"$f":"IF(ItineraryPrograms!AI7=\"y\",getScoreFactor(\"Program\",BE$2),\"\")","v":""},{"$f":"IF(ItineraryPrograms!AJ7=\"y\",getScoreFactor(\"Program\",BF$2),\"\")","v":""},{"$f":"IF(ItineraryPrograms!AK7=\"y\",getScoreFactor(\"Program\",BG$2),\"\")","v":""},{"$f":"IF(ItineraryPrograms!AL7=\"y\",getScoreFactor(\"Program\",BH$2),\"\")","v":22.5},{"$f":"IF(ItineraryPrograms!AM7=\"y\",getScoreFactor(\"Program\",BI$2),\"\")","v":""},{"$f":"IF(ItineraryPrograms!AN7=\"y\",getScoreFactor(\"Program\",BJ$2),\"\")","v":15},{"$f":"IF(ItineraryPrograms!AO7=\"y\",getScoreFactor(\"Program\",BK$2),\"\")","v":""},{"$f":"IF(ItineraryPrograms!AP7=\"y\",getScoreFactor(\"Program\",BL$2),\"\")","v":""},{"$f":"IF(ItineraryPrograms!AR7=\"y\",getScoreFactor(\"Program\",BM$2),\"\")","v":""},{"$f":"IF(ItineraryPrograms!AS7=\"y\",getScoreFactor(\"Program\",BN$2),\"\")","v":""},{"$f":"IF(ItineraryPrograms!AU7=\"y\",getScoreFactor(\"Program\",BO$2),\"\")","v":18},{"$f":"IF(ItineraryPrograms!AV7=\"y\",getScoreFactor(\"Program\",BP$2),\"\")","v":""},{"$f":"IF(ItineraryPrograms!AW7=\"y\",getScoreFactor(\"Program\",BQ$2),\"\")","v":""},{"$f":"IF(ItineraryPrograms!AX7=\"y\",getScoreFactor(\"Program\",BR$2),\"\")","v":""},{"$f":"IF(ItineraryPrograms!AY7=\"y\",getScoreFactor(\"Program\",BS$2),\"\")","v":27},{"$f":"IF(ItineraryPrograms!AZ7=\"y\",getScoreFactor(\"Program\",BT$2),\"\")","v":""},{"$f":"IF(ItineraryPrograms!BA7=\"y\",getScoreFactor(\"Program\",BU$2),\"\")","v":""}]
[{"$f":"Itineraries!A8","v":"12-6"},10893.75,{"$f":"getScoreFactor(C$2,itineraryCamps!C9)","v":4000},{"$f":"getScoreFactor(D$2,\"Miles\") *itineraryCamps!D9","v":5600},{"$f":"getScoreFactor(E$2,Itineraries!B8)","v":40},{"$f":"getScoreFactor(F$2,Itineraries!C8)","v":80},{"$f":"getScoreFactor(G$2,Itineraries!E8)","v":100},{"$f":"getScoreFactor(H$2,Itineraries!H8)","v":225},{"$f":"getScoreFactor(I$2,Itineraries!G8)","v":60},{"$f":"getScoreFactor(J$2,Itineraries!J8)","v":70},{"$f":"getScoreFactor(K$2,Itineraries!K8)","v":70},{"$f":"getScoreFactor(L$2,Itineraries!L8)","v":300},{"$f":"IF(INDEX(startingTA,numericItinerary($A8))=$M$2,getScoreFactor(M$2,\"y\"),getScoreFactor(M$2,\"n\"))","v":0},{"$f":"IF(INDEX(startingTA,numericItinerary($A8))=$M$2,getScoreFactor(N$2,\"y\"),getScoreFactor(N$2,\"n\"))","v":0},{"$f":"IF(INDEX(baldyMountainHike,numericItinerary($A8))=\"\",\"\",getPeakScore(O$2))","v":""},{"$f":"IF(INDEX(mountPhillipsHike,numericItinerary($A8))=\"\",\"\",getPeakScore(P$2))","v":11.25},{"$f":"IF(INDEX(toothOfTimeHike,numericItinerary($A8))=\"\",\"\",getPeakScore(Q$2))","v":40.5},{"$f":"IF(INDEX(trailPeakHike,numericItinerary($A8))=\"\",\"\",getPeakScore(R$2))","v":""},{"$f":"IF(INDEX(mountaineeringHike,numericItinerary($A8))=\"\",\"\",getPeakScore(S$2))","v":0},{"$f":"IF(areaImportant<>\"y\",\"\",IF(Itineraries!P8<>\"Y\",\"\",getareascore(T$2)))","v":""},{"$f":"IF(areaImportant<>\"y\",\"\",IF(Itineraries!Q8<>\"Y\",\"\",getareascore(U$2)))","v":""},{"$f":"IF(areaImportant<>\"y\",\"\",IF(Itineraries!R8<>\"Y\",\"\",getareascore(V$2)))","v":""},{"$f":"IF(areaImportant<>\"y\",\"\",IF(Itineraries!S8<>\"Y\",\"\",getareascore(W$2)))","v":""},{"$f":"IF(ItineraryPrograms!B8=\"y\",getScoreFactor(\"Program\",X$2),\"\")","v":""},{"$f":"IF(ItineraryPrograms!C8=\"y\",getScoreFactor(\"Program\",Y$2),\"\")","v":30},{"$f":"IF(ItineraryPrograms!D8=\"y\",getScoreFactor(\"Program\",Z$2),\"\")","v":""},{"$f":"IF(ItineraryPrograms!E8=\"y\",getScoreFactor(\"Program\",AA$2),\"\")","v":""},{"$f":"IF(ItineraryPrograms!F8=\"y\",getScoreFactor(\"Program\",AB$2),\"\")","v":""},{"$f":"IF(ItineraryPrograms!G8=\"y\",getScoreFactor(\"Program\",AC$2),\"\")","v":""},{"$f":"IF(ItineraryPrograms!H8=\"y\",getScoreFactor(\"Program\",AD$2),\"\")","v":""},{"$f":"IF(ItineraryPrograms!I8=\"y\",getScoreFactor(\"Program\",AE$2),\"\")","v":""},{"$f":"IF(ItineraryPrograms!J8=\"y\",getScoreFactor(\"Program\",AF$2),\"\")","v":13.5},{"$f":"IF(ItineraryPrograms!K8=\"y\",getScoreFactor(\"Program\",AG$2),\"\")","v":7.5},{"$f":"IF(ItineraryPrograms!L8=\"y\",getScoreFactor(\"Program\",AH$2),\"\")","v":""},{"$f":"IF(ItineraryPrograms!M8=\"y\",getScoreFactor(\"Program\",AI$2),\"\")","v":15.75},{"$f":"IF(ItineraryPrograms!N8=\"y\",getScoreFactor(\"Program\",AJ$2),\"\")","v":""},{"$f":"IF(ItineraryPrograms!O8=\"y\",getScoreFactor(\"Program\",AK$2),\"\")","v":""},{"$f":"IF(ItineraryPrograms!P8=\"y\",getScoreFactor(\"Program\",AL$2),\"\")","v":7.5},{"$f":"IF(ItineraryPrograms!Q8=\"y\",getScoreFactor(\"Program\",AM$2),\"\")","v":12},{"$f":"IF(ItineraryPrograms!R8=\"y\",getScoreFactor(\"Program\",AN$2),\"\")","v":""},{"$f":"IF(ItineraryPrograms!S8=\"y\",getScoreFactor(\"Program\",AO$2),\"\")","v":""},{"$f":"IF(ItineraryPrograms!T8=\"y\",getScoreFactor(\"Program\",AP$2),\"\")","v":""},{"$f":"IF(ItineraryPrograms!U8=\"y\",getScoreFactor(\"Program\",AQ$2),\"\")","v":""},{"$f":"IF(ItineraryPrograms!V8=\"y\",getScoreFactor(\"Program\",AR$2),\"\")","v":6},{"$f":"IF(ItineraryPrograms!W8=\"y\",getScoreFactor(\"Program\",AS$2),\"\")","v":9.75},{"$f":"IF(ItineraryPrograms!X8=\"y\",getScoreFactor(\"Program\",AT$2),\"\")","v":""},{"$f":"IF(ItineraryPrograms!Y8=\"y\",getScoreFactor(\"Program\",AU$2),\"\")","v":""},{"$f":"IF(ItineraryPrograms!Z8=\"y\",getScoreFactor(\"Program\",AV$2),\"\")","v":18.75},{"$f":"IF(ItineraryPrograms!AA8=\"y\",getScoreFactor(\"Program\",AW$2),\"\")","v":""},{"$f":"IF(ItineraryPrograms!AB8=\"y\",getScoreFactor(\"Program\",AX$2),\"\")","v":""},{"$f":"IF(ItineraryPrograms!AC8=\"y\",getScoreFactor(\"Program\",AY$2),\"\")","v":18},{"$f":"IF(ItineraryPrograms!AD8=\"y\",getScoreFactor(\"Program\",AZ$2),\"\")","v":""},{"$f":"IF(ItineraryPrograms!AE8=\"y\",getScoreFactor(\"Program\",BA$2),\"\")","v":""},{"$f":"IF(ItineraryPrograms!AF8=\"y\",getScoreFactor(\"Program\",BB$2),\"\")","v":""},{"$f":"IF(ItineraryPrograms!AG8=\"y\",getScoreFactor(\"Program\",BC$2),\"\")","v":7.5},{"$f":"IF(ItineraryPrograms!AH8=\"y\",getScoreFactor(\"Program\",BD$2),\"\")","v":""},{"$f":"IF(ItineraryPrograms!AI8=\"y\",getScoreFactor(\"Program\",BE$2),\"\")","v":18},{"$f":"IF(ItineraryPrograms!AJ8=\"y\",getScoreFactor(\"Program\",BF$2),\"\")","v":""},{"$f":"IF(ItineraryPrograms!AK8=\"y\",getScoreFactor(\"Program\",BG$2),\"\")","v":27},{"$f":"IF(ItineraryPrograms!AL8=\"y\",getScoreFactor(\"Program\",BH$2),\"\")","v":""},{"$f":"IF(ItineraryPrograms!AM8=\"y\",getScoreFactor(\"Program\",BI$2),\"\")","v":""},{"$f":"IF(ItineraryPrograms!AN8=\"y\",getScoreFactor(\"Program\",BJ$2),\"\")","v":""},{"$f":"IF(ItineraryPrograms!AO8=\"y\",getScoreFactor(\"Program\",BK$2),\"\")","v":9},{"$f":"IF(ItineraryPrograms!AP8=\"y\",getScoreFactor(\"Program\",BL$2),\"\")","v":19.5},{"$f":"IF(ItineraryPrograms!AR8=\"y\",getScoreFactor(\"Program\",BM$2),\"\")","v":""},{"$f":"IF(ItineraryPrograms!AS8=\"y\",getScoreFactor(\"Program\",BN$2),\"\")","v":""},{"$f":"IF(ItineraryPrograms!AU8=\"y\",getScoreFactor(\"Program\",BO$2),\"\")","v":18},{"$f":"IF(ItineraryPrograms!AV8=\"y\",getScoreFactor(\"Program\",BP$2),\"\")","v":7.5},{"$f":"IF(ItineraryPrograms!AW8=\"y\",getScoreFactor(\"Program\",BQ$2),\"\")","v":24.75},{"$f":"IF(ItineraryPrograms!AX8=\"y\",getScoreFactor(\"Program\",BR$2),\"\")","v":""},{"$f":"IF(ItineraryPrograms!AY8=\"y\",getScoreFactor(\"Program\",BS$2),\"\")","v":27},{"$f":"IF(ItineraryPrograms!AZ8=\"y\",getScoreFactor(\"Program\",BT$2),\"\")","v":""},{"$f":"IF(ItineraryPrograms!BA8=\"y\",getScoreFactor(\"Program\",BU$2),\"\")","v":""}]
[{"$f":"Itineraries!A9","v":"12-7"},11116.5,{"$f":"getScoreFactor(C$2,itineraryCamps!C10)","v":4000},{"$f":"getScoreFactor(D$2,\"Miles\") *itineraryCamps!D10","v":5900},{"$f":"getScoreFactor(E$2,Itineraries!B9)","v":30},{"$f":"getScoreFactor(F$2,Itineraries!C9)","v":90},{"$f":"getScoreFactor(G$2,Itineraries!E9)","v":75},{"$f":"getScoreFactor(H$2,Itineraries!H9)","v":225},{"$f":"getScoreFactor(I$2,Itineraries!G9)","v":60},{"$f":"getScoreFactor(J$2,Itineraries!J9)","v":70},{"$f":"getScoreFactor(K$2,Itineraries!K9)","v":80},{"$f":"getScoreFactor(L$2,Itineraries!L9)","v":300},{"$f":"IF(INDEX(startingTA,numericItinerary($A9))=$M$2,getScoreFactor(M$2,\"y\"),getScoreFactor(M$2,\"n\"))","v":0},{"$f":"IF(INDEX(startingTA,numericItinerary($A9))=$M$2,getScoreFactor(N$2,\"y\"),getScoreFactor(N$2,\"n\"))","v":0},{"$f":"IF(INDEX(baldyMountainHike,numericItinerary($A9))=\"\",\"\",getPeakScore(O$2))","v":""},{"$f":"IF(INDEX(mountPhillipsHike,numericItinerary($A9))=\"\",\"\",getPeakScore(P$2))","v":""},{"$f":"IF(INDEX(toothOfTimeHike,numericItinerary($A9))=\"\",\"\",getPeakScore(Q$2))","v":40.5},{"$f":"IF(INDEX(trailPeakHike,numericItinerary($A9))=\"\",\"\",getPeakScore(R$2))","v":""},{"$f":"IF(INDEX(mountaineeringHike,numericItinerary($A9))=\"\",\"\",getPeakScore(S$2))","v":""},{"$f":"IF(areaImportant<>\"y\",\"\",IF(Itineraries!P9<>\"Y\",\"\",getareascore(T$2)))","v":""},{"$f":"IF(areaImportant<>\"y\",\"\",IF(Itineraries!Q9<>\"Y\",\"\",getareascore(U$2)))","v":""},{"$f":"IF(areaImportant<>\"y\",\"\",IF(Itineraries!R9<>\"Y\",\"\",getareascore(V$2)))","v":""},{"$f":"IF(areaImportant<>\"y\",\"\",IF(Itineraries!S9<>\"Y\",\"\",getareascore(W$2)))","v":""},{"$f":"IF(ItineraryPrograms!B9=\"y\",getScoreFactor(\"Program\",X$2),\"\")","v":""},{"$f":"IF(ItineraryPrograms!C9=\"y\",getScoreFactor(\"Program\",Y$2),\"\")","v":30},{"$f":"IF(ItineraryPrograms!D9=\"y\",getScoreFactor(\"Program\",Z$2),\"\")","v":""},{"$f":"IF(ItineraryPrograms!E9=\"y\",getScoreFactor(\"Program\",AA$2),\"\")","v":""},{"$f":"IF(ItineraryPrograms!F9=\"y\",getScoreFactor(\"Program\",AB$2),\"\")","v":""},{"$f":"IF(ItineraryPrograms!G9=\"y\",getScoreFactor(\"Program\",AC$2),\"\")","v":""},{"$f":"IF(ItineraryPrograms!H9=\"y\",getScoreFactor(\"Program\",AD$2),\"\")","v":""},{"$f":"IF(ItineraryPrograms!I9=\"y\",getScoreFactor(\"Program\",AE$2),\"\")","v":""},{"$f":"IF(ItineraryPrograms!J9=\"y\",getScoreFactor(\"Program\",AF$2),\"\")","v":13.5},{"$f":"IF(ItineraryPrograms!K9=\"y\",getScoreFactor(\"Program\",AG$2),\"\")","v":7.5},{"$f":"IF(ItineraryPrograms!L9=\"y\",getScoreFactor(\"Program\",AH$2),\"\")","v":""},{"$f":"IF(ItineraryPrograms!M9=\"y\",getScoreFactor(\"Program\",AI$2),\"\")","v":15.75},{"$f":"IF(ItineraryPrograms!N9=\"y\",getScoreFactor(\"Program\",AJ$2),\"\")","v":""},{"$f":"IF(ItineraryPrograms!O9=\"y\",getScoreFactor(\"Program\",AK$2),\"\")","v":""},{"$f":"IF(ItineraryPrograms!P9=\"y\",getScoreFactor(\"Program\",AL$2),\"\")","v":""},{"$f":"IF(ItineraryPrograms!Q9=\"y\",getScoreFactor(\"Program\",AM$2),\"\")","v":""},{"$f":"IF(ItineraryPrograms!R9=\"y\",getScoreFactor(\"Program\",AN$2),\"\")","v":""},{"$f":"IF(ItineraryPrograms!S9=\"y\",getScoreFactor(\"Program\",AO$2),\"\")","v":""},{"$f":"IF(ItineraryPrograms!T9=\"y\",getScoreFactor(\"Program\",AP$2),\"\")","v":""},{"$f":"IF(ItineraryPrograms!U9=\"y\",getScoreFactor(\"Program\",AQ$2),\"\")","v":""},{"$f":"IF(ItineraryPrograms!V9=\"y\",getScoreFactor(\"Program\",AR$2),\"\")","v":""},{"$f":"IF(ItineraryPrograms!W9=\"y\",getScoreFactor(\"Program\",AS$2),\"\")","v":9.75},{"$f":"IF(ItineraryPrograms!X9=\"y\",getScoreFactor(\"Program\",AT$2),\"\")","v":""},{"$f":"IF(ItineraryPrograms!Y9=\"y\",getScoreFactor(\"Program\",AU$2),\"\")","v":""},{"$f":"IF(ItineraryPrograms!Z9=\"y\",getScoreFactor(\"Program\",AV$2),\"\")","v":18.75},{"$f":"IF(ItineraryPrograms!AA9=\"y\",getScoreFactor(\"Program\",AW$2),\"\")","v":""},{"$f":"IF(ItineraryPrograms!AB9=\"y\",getScoreFactor(\"Program\",AX$2),\"\")","v":""},{"$f":"IF(ItineraryPrograms!AC9=\"y\",getScoreFactor(\"Program\",AY$2),\"\")","v":18},{"$f":"IF(ItineraryPrograms!AD9=\"y\",getScoreFactor(\"Program\",AZ$2),\"\")","v":""},{"$f":"IF(ItineraryPrograms!AE9=\"y\",getScoreFactor(\"Program\",BA$2),\"\")","v":""},{"$f":"IF(ItineraryPrograms!AF9=\"y\",getScoreFactor(\"Program\",BB$2),\"\")","v":""},{"$f":"IF(ItineraryPrograms!AG9=\"y\",getScoreFactor(\"Program\",BC$2),\"\")","v":""},{"$f":"IF(ItineraryPrograms!AH9=\"y\",getScoreFactor(\"Program\",BD$2),\"\")","v":""},{"$f":"IF(ItineraryPrograms!AI9=\"y\",getScoreFactor(\"Program\",BE$2),\"\")","v":""},{"$f":"IF(ItineraryPrograms!AJ9=\"y\",getScoreFactor(\"Program\",BF$2),\"\")","v":""},{"$f":"IF(ItineraryPrograms!AK9=\"y\",getScoreFactor(\"Program\",BG$2),\"\")","v":27},{"$f":"IF(ItineraryPrograms!AL9=\"y\",getScoreFactor(\"Program\",BH$2),\"\")","v":""},{"$f":"IF(ItineraryPrograms!AM9=\"y\",getScoreFactor(\"Program\",BI$2),\"\")","v":""},{"$f":"IF(ItineraryPrograms!AN9=\"y\",getScoreFactor(\"Program\",BJ$2),\"\")","v":""},{"$f":"IF(ItineraryPrograms!AO9=\"y\",getScoreFactor(\"Program\",BK$2),\"\")","v":9},{"$f":"IF(ItineraryPrograms!AP9=\"y\",getScoreFactor(\"Program\",BL$2),\"\")","v":19.5},{"$f":"IF(ItineraryPrograms!AR9=\"y\",getScoreFactor(\"Program\",BM$2),\"\")","v":""},{"$f":"IF(ItineraryPrograms!AS9=\"y\",getScoreFactor(\"Program\",BN$2),\"\")","v":""},{"$f":"IF(ItineraryPrograms!AU9=\"y\",getScoreFactor(\"Program\",BO$2),\"\")","v":18},{"$f":"IF(ItineraryPrograms!AV9=\"y\",getScoreFactor(\"Program\",BP$2),\"\")","v":7.5},{"$f":"IF(ItineraryPrograms!AW9=\"y\",getScoreFactor(\"Program\",BQ$2),\"\")","v":24.75},{"$f":"IF(ItineraryPrograms!AX9=\"y\",getScoreFactor(\"Program\",BR$2),\"\")","v":""},{"$f":"IF(ItineraryPrograms!AY9=\"y\",getScoreFactor(\"Program\",BS$2),\"\")","v":27},{"$f":"IF(ItineraryPrograms!AZ9=\"y\",getScoreFactor(\"Program\",BT$2),\"\")","v":""},{"$f":"IF(ItineraryPrograms!BA9=\"y\",getScoreFactor(\"Program\",BU$2),\"\")","v":""}]
[{"$f":"Itineraries!A10","v":"12-8"},11121.75,{"$f":"getScoreFactor(C$2,itineraryCamps!C11)","v":4000},{"$f":"getScoreFactor(D$2,\"Miles\") *itineraryCamps!D11","v":5900},{"$f":"getScoreFactor(E$2,Itineraries!B10)","v":20},{"$f":"getScoreFactor(F$2,Itineraries!C10)","v":70},{"$f":"getScoreFactor(G$2,Itineraries!E10)","v":100},{"$f":"getScoreFactor(H$2,Itineraries!H10)","v":200},{"$f":"getScoreFactor(I$2,Itineraries!G10)","v":60},{"$f":"getScoreFactor(J$2,Itineraries!J10)","v":70},{"$f":"getScoreFactor(K$2,Itineraries!K10)","v":80},{"$f":"getScoreFactor(L$2,Itineraries!L10)","v":300},{"$f":"IF(INDEX(startingTA,numericItinerary($A10))=$M$2,getScoreFactor(M$2,\"y\"),getScoreFactor(M$2,\"n\"))","v":0},{"$f":"IF(INDEX(startingTA,numericItinerary($A10))=$M$2,getScoreFactor(N$2,\"y\"),getScoreFactor(N$2,\"n\"))","v":0},{"$f":"IF(INDEX(baldyMountainHike,numericItinerary($A10))=\"\",\"\",getPeakScore(O$2))","v":""},{"$f":"IF(INDEX(mountPhillipsHike,numericItinerary($A10))=\"\",\"\",getPeakScore(P$2))","v":11.25},{"$f":"IF(INDEX(toothOfTimeHike,numericItinerary($A10))=\"\",\"\",getPeakScore(Q$2))","v":40.5},{"$f":"IF(INDEX(trailPeakHike,numericItinerary($A10))=\"\",\"\",getPeakScore(R$2))","v":0},{"$f":"IF(INDEX(mountaineeringHike,numericItinerary($A10))=\"\",\"\",getPeakScore(S$2))","v":""},{"$f":"IF(areaImportant<>\"y\",\"\",IF(Itineraries!P10<>\"Y\",\"\",getareascore(T$2)))","v":""},{"$f":"IF(areaImportant<>\"y\",\"\",IF(Itineraries!Q10<>\"Y\",\"\",getareascore(U$2)))","v":""},{"$f":"IF(areaImportant<>\"y\",\"\",IF(Itineraries!R10<>\"Y\",\"\",getareascore(V$2)))","v":""},{"$f":"IF(areaImportant<>\"y\",\"\",IF(Itineraries!S10<>\"Y\",\"\",getareascore(W$2)))","v":""},{"$f":"IF(ItineraryPrograms!B10=\"y\",getScoreFactor(\"Program\",X$2),\"\")","v":""},{"$f":"IF(ItineraryPrograms!C10=\"y\",getScoreFactor(\"Program\",Y$2),\"\")","v":""},{"$f":"IF(ItineraryPrograms!D10=\"y\",getScoreFactor(\"Program\",Z$2),\"\")","v":""},{"$f":"IF(ItineraryPrograms!E10=\"y\",getScoreFactor(\"Program\",AA$2),\"\")","v":""},{"$f":"IF(ItineraryPrograms!F10=\"y\",getScoreFactor(\"Program\",AB$2),\"\")","v":""},{"$f":"IF(ItineraryPrograms!G10=\"y\",getScoreFactor(\"Program\",AC$2),\"\")","v":""},{"$f":"IF(ItineraryPrograms!H10=\"y\",getScoreFactor(\"Program\",AD$2),\"\")","v":""},{"$f":"IF(ItineraryPrograms!I10=\"y\",getScoreFactor(\"Program\",AE$2),\"\")","v":""},{"$f":"IF(ItineraryPrograms!J10=\"y\",getScoreFactor(\"Program\",AF$2),\"\")","v":13.5},{"$f":"IF(ItineraryPrograms!K10=\"y\",getScoreFactor(\"Program\",AG$2),\"\")","v":""},{"$f":"IF(ItineraryPrograms!L10=\"y\",getScoreFactor(\"Program\",AH$2),\"\")","v":7.5},{"$f":"IF(ItineraryPrograms!M10=\"y\",getScoreFactor(\"Program\",AI$2),\"\")","v":15.75},{"$f":"IF(ItineraryPrograms!N10=\"y\",getScoreFactor(\"Program\",AJ$2),\"\")","v":""},{"$f":"IF(ItineraryPrograms!O10=\"y\",getScoreFactor(\"Program\",AK$2),\"\")","v":10.5},{"$f":"IF(ItineraryPrograms!P10=\"y\",getScoreFactor(\"Program\",AL$2),\"\")","v":""},{"$f":"IF(ItineraryPrograms!Q10=\"y\",getScoreFactor(\"Program\",AM$2),\"\")","v":""},{"$f":"IF(ItineraryPrograms!R10=\"y\",getScoreFactor(\"Program\",AN$2),\"\")","v":""},{"$f":"IF(ItineraryPrograms!S10=\"y\",getScoreFactor(\"Program\",AO$2),\"\")","v":15},{"$f":"IF(ItineraryPrograms!T10=\"y\",getScoreFactor(\"Program\",AP$2),\"\")","v":""},{"$f":"IF(ItineraryPrograms!U10=\"y\",getScoreFactor(\"Program\",AQ$2),\"\")","v":""},{"$f":"IF(ItineraryPrograms!V10=\"y\",getScoreFactor(\"Program\",AR$2),\"\")","v":6},{"$f":"IF(ItineraryPrograms!W10=\"y\",getScoreFactor(\"Program\",AS$2),\"\")","v":9.75},{"$f":"IF(ItineraryPrograms!X10=\"y\",getScoreFactor(\"Program\",AT$2),\"\")","v":""},{"$f":"IF(ItineraryPrograms!Y10=\"y\",getScoreFactor(\"Program\",AU$2),\"\")","v":22.5},{"$f":"IF(ItineraryPrograms!Z10=\"y\",getScoreFactor(\"Program\",AV$2),\"\")","v":""},{"$f":"IF(ItineraryPrograms!AA10=\"y\",getScoreFactor(\"Program\",AW$2),\"\")","v":""},{"$f":"IF(ItineraryPrograms!AB10=\"y\",getScoreFactor(\"Program\",AX$2),\"\")","v":""},{"$f":"IF(ItineraryPrograms!AC10=\"y\",getScoreFactor(\"Program\",AY$2),\"\")","v":""},{"$f":"IF(ItineraryPrograms!AD10=\"y\",getScoreFactor(\"Program\",AZ$2),\"\")","v":""},{"$f":"IF(ItineraryPrograms!AE10=\"y\",getScoreFactor(\"Program\",BA$2),\"\")","v":""},{"$f":"IF(ItineraryPrograms!AF10=\"y\",getScoreFactor(\"Program\",BB$2),\"\")","v":19.5},{"$f":"IF(ItineraryPrograms!AG10=\"y\",getScoreFactor(\"Program\",BC$2),\"\")","v":7.5},{"$f":"IF(ItineraryPrograms!AH10=\"y\",getScoreFactor(\"Program\",BD$2),\"\")","v":""},{"$f":"IF(ItineraryPrograms!AI10=\"y\",getScoreFactor(\"Program\",BE$2),\"\")","v":""},{"$f":"IF(ItineraryPrograms!AJ10=\"y\",getScoreFactor(\"Program\",BF$2),\"\")","v":21},{"$f":"IF(ItineraryPrograms!AK10=\"y\",getScoreFactor(\"Program\",BG$2),\"\")","v":""},{"$f":"IF(ItineraryPrograms!AL10=\"y\",getScoreFactor(\"Program\",BH$2),\"\")","v":""},{"$f":"IF(ItineraryPrograms!AM10=\"y\",getScoreFactor(\"Program\",BI$2),\"\")","v":""},{"$f":"IF(ItineraryPrograms!AN10=\"y\",getScoreFactor(\"Program\",BJ$2),\"\")","v":""},{"$f":"IF(ItineraryPrograms!AO10=\"y\",getScoreFactor(\"Program\",BK$2),\"\")","v":9},{"$f":"IF(ItineraryPrograms!AP10=\"y\",getScoreFactor(\"Program\",BL$2),\"\")","v":19.5},{"$f":"IF(ItineraryPrograms!AR10=\"y\",getScoreFactor(\"Program\",BM$2),\"\")","v":""},{"$f":"IF(ItineraryPrograms!AS10=\"y\",getScoreFactor(\"Program\",BN$2),\"\")","v":""},{"$f":"IF(ItineraryPrograms!AU10=\"y\",getScoreFactor(\"Program\",BO$2),\"\")","v":18},{"$f":"IF(ItineraryPrograms!AV10=\"y\",getScoreFactor(\"Program\",BP$2),\"\")","v":7.5},{"$f":"IF(ItineraryPrograms!AW10=\"y\",getScoreFactor(\"Program\",BQ$2),\"\")","v":24.75},{"$f":"IF(ItineraryPrograms!AX10=\"y\",getScoreFactor(\"Program\",BR$2),\"\")","v":15.75},{"$f":"IF(ItineraryPrograms!AY10=\"y\",getScoreFactor(\"Program\",BS$2),\"\")","v":27},{"$f":"IF(ItineraryPrograms!AZ10=\"y\",getScoreFactor(\"Program\",BT$2),\"\")","v":""},{"$f":"IF(ItineraryPrograms!BA10=\"y\",getScoreFactor(\"Program\",BU$2),\"\")","v":""}]
[{"$f":"Itineraries!A11","v":"12-9"},11191,{"$f":"getScoreFactor(C$2,itineraryCamps!C12)","v":4000},{"$f":"getScoreFactor(D$2,\"Miles\") *itineraryCamps!D12","v":5900},{"$f":"getScoreFactor(E$2,Itineraries!B11)","v":40},{"$f":"getScoreFactor(F$2,Itineraries!C11)","v":80},{"$f":"getScoreFactor(G$2,Itineraries!E11)","v":75},{"$f":"getScoreFactor(H$2,Itineraries!H11)","v":300},{"$f":"getScoreFactor(I$2,Itineraries!G11)","v":60},{"$f":"getScoreFactor(J$2,Itineraries!J11)","v":80},{"$f":"getScoreFactor(K$2,Itineraries!K11)","v":80},{"$f":"getScoreFactor(L$2,Itineraries!L11)","v":300},{"$f":"IF(INDEX(startingTA,numericItinerary($A11))=$M$2,getScoreFactor(M$2,\"y\"),getScoreFactor(M$2,\"n\"))","v":0},{"$f":"IF(INDEX(startingTA,numericItinerary($A11))=$M$2,getScoreFactor(N$2,\"y\"),getScoreFactor(N$2,\"n\"))","v":0},{"$f":"IF(INDEX(baldyMountainHike,numericItinerary($A11))=\"\",\"\",getPeakScore(O$2))","v":25.5},{"$f":"IF(INDEX(mountPhillipsHike,numericItinerary($A11))=\"\",\"\",getPeakScore(P$2))","v":""},{"$f":"IF(INDEX(toothOfTimeHike,numericItinerary($A11))=\"\",\"\",getPeakScore(Q$2))","v":""},{"$f":"IF(INDEX(trailPeakHike,numericItinerary($A11))=\"\",\"\",getPeakScore(R$2))","v":""},{"$f":"IF(INDEX(mountaineeringHike,numericItinerary($A11))=\"\",\"\",getPeakScore(S$2))","v":""},{"$f":"IF(areaImportant<>\"y\",\"\",IF(Itineraries!P11<>\"Y\",\"\",getareascore(T$2)))","v":""},{"$f":"IF(areaImportant<>\"y\",\"\",IF(Itineraries!Q11<>\"Y\",\"\",getareascore(U$2)))","v":""},{"$f":"IF(areaImportant<>\"y\",\"\",IF(Itineraries!R11<>\"Y\",\"\",getareascore(V$2)))","v":""},{"$f":"IF(areaImportant<>\"y\",\"\",IF(Itineraries!S11<>\"Y\",\"\",getareascore(W$2)))","v":""},{"$f":"IF(ItineraryPrograms!B11=\"y\",getScoreFactor(\"Program\",X$2),\"\")","v":""},{"$f":"IF(ItineraryPrograms!C11=\"y\",getScoreFactor(\"Program\",Y$2),\"\")","v":30},{"$f":"IF(ItineraryPrograms!D11=\"y\",getScoreFactor(\"Program\",Z$2),\"\")","v":""},{"$f":"IF(ItineraryPrograms!E11=\"y\",getScoreFactor(\"Program\",AA$2),\"\")","v":""},{"$f":"IF(ItineraryPrograms!F11=\"y\",getScoreFactor(\"Program\",AB$2),\"\")","v":12.75},{"$f":"IF(ItineraryPrograms!G11=\"y\",getScoreFactor(\"Program\",AC$2),\"\")","v":14.25},{"$f":"IF(ItineraryPrograms!H11=\"y\",getScoreFactor(\"Program\",AD$2),\"\")","v":""},{"$f":"IF(ItineraryPrograms!I11=\"y\",getScoreFactor(\"Program\",AE$2),\"\")","v":""},{"$f":"IF(ItineraryPrograms!J11=\"y\",getScoreFactor(\"Program\",AF$2),\"\")","v":13.5},{"$f":"IF(ItineraryPrograms!K11=\"y\",getScoreFactor(\"Program\",AG$2),\"\")","v":7.5},{"$f":"IF(ItineraryPrograms!L11=\"y\",getScoreFactor(\"Program\",AH$2),\"\")","v":7.5},{"$f":"IF(ItineraryPrograms!M11=\"y\",getScoreFactor(\"Program\",AI$2),\"\")","v":15.75},{"$f":"IF(ItineraryPrograms!N11=\"y\",getScoreFactor(\"Program\",AJ$2),\"\")","v":6},{"$f":"IF(ItineraryPrograms!O11=\"y\",getScoreFactor(\"Program\",AK$2),\"\")","v":""},{"$f":"IF(ItineraryPrograms!P11=\"y\",getScoreFactor(\"Program\",AL$2),\"\")","v":""},{"$f":"IF(ItineraryPrograms!Q11=\"y\",getScoreFactor(\"Program\",AM$2),\"\")","v":""},{"$f":"IF(ItineraryPrograms!R11=\"y\",getScoreFactor(\"Program\",AN$2),\"\")","v":6},{"$f":"IF(ItineraryPrograms!S11=\"y\",getScoreFactor(\"Program\",AO$2),\"\")","v":15},{"$f":"IF(ItineraryPrograms!T11=\"y\",getScoreFactor(\"Program\",AP$2),\"\")","v":""},{"$f":"IF(ItineraryPrograms!U11=\"y\",getScoreFactor(\"Program\",AQ$2),\"\")","v":""},{"$f":"IF(ItineraryPrograms!V11=\"y\",getScoreFactor(\"Program\",AR$2),\"\")","v":6},{"$f":"IF(ItineraryPrograms!W11=\"y\",getScoreFactor(\"Program\",AS$2),\"\")","v":9.75},{"$f":"IF(ItineraryPrograms!X11=\"y\",getScoreFactor(\"Program\",AT$2),\"\")","v":""},{"$f":"IF(ItineraryPrograms!Y11=\"y\",getScoreFactor(\"Program\",AU$2),\"\")","v":""},{"$f":"IF(ItineraryPrograms!Z11=\"y\",getScoreFactor(\"Program\",AV$2),\"\")","v":""},{"$f":"IF(ItineraryPrograms!AA11=\"y\",getScoreFactor(\"Program\",AW$2),\"\")","v":""},{"$f":"IF(ItineraryPrograms!AB11=\"y\",getScoreFactor(\"Program\",AX$2),\"\")","v":18},{"$f":"IF(ItineraryPrograms!AC11=\"y\",getScoreFactor(\"Program\",AY$2),\"\")","v":""},{"$f":"IF(ItineraryPrograms!AD11=\"y\",getScoreFactor(\"Program\",AZ$2),\"\")","v":""},{"$f":"IF(ItineraryPrograms!AE11=\"y\",getScoreFactor(\"Program\",BA$2),\"\")","v":""},{"$f":"IF(ItineraryPrograms!AF11=\"y\",getScoreFactor(\"Program\",BB$2),\"\")","v":""},{"$f":"IF(ItineraryPrograms!AG11=\"y\",getScoreFactor(\"Program\",BC$2),\"\")","v":""},{"$f":"IF(ItineraryPrograms!AH11=\"y\",getScoreFactor(\"Program\",BD$2),\"\")","v":""},{"$f":"IF(ItineraryPrograms!AI11=\"y\",getScoreFactor(\"Program\",BE$2),\"\")","v":""},{"$f":"IF(ItineraryPrograms!AJ11=\"y\",getScoreFactor(\"Program\",BF$2),\"\")","v":21},{"$f":"IF(ItineraryPrograms!AK11=\"y\",getScoreFactor(\"Program\",BG$2),\"\")","v":""},{"$f":"IF(ItineraryPrograms!AL11=\"y\",getScoreFactor(\"Program\",BH$2),\"\")","v":""},{"$f":"IF(ItineraryPrograms!AM11=\"y\",getScoreFactor(\"Program\",BI$2),\"\")","v":""},{"$f":"IF(ItineraryPrograms!AN11=\"y\",getScoreFactor(\"Program\",BJ$2),\"\")","v":15},{"$f":"IF(ItineraryPrograms!AO11=\"y\",getScoreFactor(\"Program\",BK$2),\"\")","v":""},{"$f":"IF(ItineraryPrograms!AP11=\"y\",getScoreFactor(\"Program\",BL$2),\"\")","v":""},{"$f":"IF(ItineraryPrograms!AR11=\"y\",getScoreFactor(\"Program\",BM$2),\"\")","v":""},{"$f":"IF(ItineraryPrograms!AS11=\"y\",getScoreFactor(\"Program\",BN$2),\"\")","v":""},{"$f":"IF(ItineraryPrograms!AU11=\"y\",getScoreFactor(\"Program\",BO$2),\"\")","v":18},{"$f":"IF(ItineraryPrograms!AV11=\"y\",getScoreFactor(\"Program\",BP$2),\"\")","v":7.5},{"$f":"IF(ItineraryPrograms!AW11=\"y\",getScoreFactor(\"Program\",BQ$2),\"\")","v":""},{"$f":"IF(ItineraryPrograms!AX11=\"y\",getScoreFactor(\"Program\",BR$2),\"\")","v":""},{"$f":"IF(ItineraryPrograms!AY11=\"y\",getScoreFactor(\"Program\",BS$2),\"\")","v":27},{"$f":"IF(ItineraryPrograms!AZ11=\"y\",getScoreFactor(\"Program\",BT$2),\"\")","v":""},{"$f":"IF(ItineraryPrograms!BA11=\"y\",getScoreFactor(\"Program\",BU$2),\"\")","v":""}]
[{"$f":"Itineraries!A12","v":"12-10"},10286.666666666666,{"$f":"getScoreFactor(C$2,itineraryCamps!C13)","v":3166.6666666666665},{"$f":"getScoreFactor(D$2,\"Miles\") *itineraryCamps!D13","v":6000},{"$f":"getScoreFactor(E$2,Itineraries!B12)","v":40},{"$f":"getScoreFactor(F$2,Itineraries!C12)","v":80},{"$f":"getScoreFactor(G$2,Itineraries!E12)","v":100},{"$f":"getScoreFactor(H$2,Itineraries!H12)","v":250},{"$f":"getScoreFactor(I$2,Itineraries!G12)","v":60},{"$f":"getScoreFactor(J$2,Itineraries!J12)","v":60},{"$f":"getScoreFactor(K$2,Itineraries!K12)","v":70},{"$f":"getScoreFactor(L$2,Itineraries!L12)","v":100},{"$f":"IF(INDEX(startingTA,numericItinerary($A12))=$M$2,getScoreFactor(M$2,\"y\"),getScoreFactor(M$2,\"n\"))","v":0},{"$f":"IF(INDEX(startingTA,numericItinerary($A12))=$M$2,getScoreFactor(N$2,\"y\"),getScoreFactor(N$2,\"n\"))","v":0},{"$f":"IF(INDEX(baldyMountainHike,numericItinerary($A12))=\"\",\"\",getPeakScore(O$2))","v":25.5},{"$f":"IF(INDEX(mountPhillipsHike,numericItinerary($A12))=\"\",\"\",getPeakScore(P$2))","v":""},{"$f":"IF(INDEX(toothOfTimeHike,numericItinerary($A12))=\"\",\"\",getPeakScore(Q$2))","v":""},{"$f":"IF(INDEX(trailPeakHike,numericItinerary($A12))=\"\",\"\",getPeakScore(R$2))","v":""},{"$f":"IF(INDEX(mountaineeringHike,numericItinerary($A12))=\"\",\"\",getPeakScore(S$2))","v":0},{"$f":"IF(areaImportant<>\"y\",\"\",IF(Itineraries!P12<>\"Y\",\"\",getareascore(T$2)))","v":""},{"$f":"IF(areaImportant<>\"y\",\"\",IF(Itineraries!Q12<>\"Y\",\"\",getareascore(U$2)))","v":""},{"$f":"IF(areaImportant<>\"y\",\"\",IF(Itineraries!R12<>\"Y\",\"\",getareascore(V$2)))","v":""},{"$f":"IF(areaImportant<>\"y\",\"\",IF(Itineraries!S12<>\"Y\",\"\",getareascore(W$2)))","v":""},{"$f":"IF(ItineraryPrograms!B12=\"y\",getScoreFactor(\"Program\",X$2),\"\")","v":22.5},{"$f":"IF(ItineraryPrograms!C12=\"y\",getScoreFactor(\"Program\",Y$2),\"\")","v":""},{"$f":"IF(ItineraryPrograms!D12=\"y\",getScoreFactor(\"Program\",Z$2),\"\")","v":""},{"$f":"IF(ItineraryPrograms!E12=\"y\",getScoreFactor(\"Program\",AA$2),\"\")","v":27},{"$f":"IF(ItineraryPrograms!F12=\"y\",getScoreFactor(\"Program\",AB$2),\"\")","v":12.75},{"$f":"IF(ItineraryPrograms!G12=\"y\",getScoreFactor(\"Program\",AC$2),\"\")","v":14.25},{"$f":"IF(ItineraryPrograms!H12=\"y\",getScoreFactor(\"Program\",AD$2),\"\")","v":14.25},{"$f":"IF(ItineraryPrograms!I12=\"y\",getScoreFactor(\"Program\",AE$2),\"\")","v":""},{"$f":"IF(ItineraryPrograms!J12=\"y\",getScoreFactor(\"Program\",AF$2),\"\")","v":13.5},{"$f":"IF(ItineraryPrograms!K12=\"y\",getScoreFactor(\"Program\",AG$2),\"\")","v":7.5},{"$f":"IF(ItineraryPrograms!L12=\"y\",getScoreFactor(\"Program\",AH$2),\"\")","v":7.5},{"$f":"IF(ItineraryPrograms!M12=\"y\",getScoreFactor(\"Program\",AI$2),\"\")","v":15.75},{"$f":"IF(ItineraryPrograms!N12=\"y\",getScoreFactor(\"Program\",AJ$2),\"\")","v":6},{"$f":"IF(ItineraryPrograms!O12=\"y\",getScoreFactor(\"Program\",AK$2),\"\")","v":""},{"$f":"IF(ItineraryPrograms!P12=\"y\",getScoreFactor(\"Program\",AL$2),\"\")","v":""},{"$f":"IF(ItineraryPrograms!Q12=\"y\",getScoreFactor(\"Program\",AM$2),\"\")","v":""},{"$f":"IF(ItineraryPrograms!R12=\"y\",getScoreFactor(\"Program\",AN$2),\"\")","v":6},{"$f":"IF(ItineraryPrograms!S12=\"y\",getScoreFactor(\"Program\",AO$2),\"\")","v":15},{"$f":"IF(ItineraryPrograms!T12=\"y\",getScoreFactor(\"Program\",AP$2),\"\")","v":""},{"$f":"IF(ItineraryPrograms!U12=\"y\",getScoreFactor(\"Program\",AQ$2),\"\")","v":15},{"$f":"IF(ItineraryPrograms!V12=\"y\",getScoreFactor(\"Program\",AR$2),\"\")","v":""},{"$f":"IF(ItineraryPrograms!W12=\"y\",getScoreFactor(\"Program\",AS$2),\"\")","v":""},{"$f":"IF(ItineraryPrograms!X12=\"y\",getScoreFactor(\"Program\",AT$2),\"\")","v":""},{"$f":"IF(ItineraryPrograms!Y12=\"y\",getScoreFactor(\"Program\",AU$2),\"\")","v":""},{"$f":"IF(ItineraryPrograms!Z12=\"y\",getScoreFactor(\"Program\",AV$2),\"\")","v":""},{"$f":"IF(ItineraryPrograms!AA12=\"y\",getScoreFactor(\"Program\",AW$2),\"\")","v":""},{"$f":"IF(ItineraryPrograms!AB12=\"y\",getScoreFactor(\"Program\",AX$2),\"\")","v":""},{"$f":"IF(ItineraryPrograms!AC12=\"y\",getScoreFactor(\"Program\",AY$2),\"\")","v":18},{"$f":"IF(ItineraryPrograms!AD12=\"y\",getScoreFactor(\"Program\",AZ$2),\"\")","v":""},{"$f":"IF(ItineraryPrograms!AE12=\"y\",getScoreFactor(\"Program\",BA$2),\"\")","v":""},{"$f":"IF(ItineraryPrograms!AF12=\"y\",getScoreFactor(\"Program\",BB$2),\"\")","v":19.5},{"$f":"IF(ItineraryPrograms!AG12=\"y\",getScoreFactor(\"Program\",BC$2),\"\")","v":""},{"$f":"IF(ItineraryPrograms!AH12=\"y\",getScoreFactor(\"Program\",BD$2),\"\")","v":18},{"$f":"IF(ItineraryPrograms!AI12=\"y\",getScoreFactor(\"Program\",BE$2),\"\")","v":18},{"$f":"IF(ItineraryPrograms!AJ12=\"y\",getScoreFactor(\"Program\",BF$2),\"\")","v":""},{"$f":"IF(ItineraryPrograms!AK12=\"y\",getScoreFactor(\"Program\",BG$2),\"\")","v":""},{"$f":"IF(ItineraryPrograms!AL12=\"y\",getScoreFactor(\"Program\",BH$2),\"\")","v":22.5},{"$f":"IF(ItineraryPrograms!AM12=\"y\",getScoreFactor(\"Program\",BI$2),\"\")","v":""},{"$f":"IF(ItineraryPrograms!AN12=\"y\",getScoreFactor(\"Program\",BJ$2),\"\")","v":""},{"$f":"IF(ItineraryPrograms!AO12=\"y\",getScoreFactor(\"Program\",BK$2),\"\")","v":9},{"$f":"IF(ItineraryPrograms!AP12=\"y\",getScoreFactor(\"Program\",BL$2),\"\")","v":""},{"$f":"IF(ItineraryPrograms!AR12=\"y\",getScoreFactor(\"Program\",BM$2),\"\")","v":""},{"$f":"IF(ItineraryPrograms!AS12=\"y\",getScoreFactor(\"Program\",BN$2),\"\")","v":""},{"$f":"IF(ItineraryPrograms!AU12=\"y\",getScoreFactor(\"Program\",BO$2),\"\")","v":18},{"$f":"IF(ItineraryPrograms!AV12=\"y\",getScoreFactor(\"Program\",BP$2),\"\")","v":7.5},{"$f":"IF(ItineraryPrograms!AW12=\"y\",getScoreFactor(\"Program\",BQ$2),\"\")","v":""},{"$f":"IF(ItineraryPrograms!AX12=\"y\",getScoreFactor(\"Program\",BR$2),\"\")","v":""},{"$f":"IF(ItineraryPrograms!AY12=\"y\",getScoreFactor(\"Program\",BS$2),\"\")","v":27},{"$f":"IF(ItineraryPrograms!AZ12=\"y\",getScoreFactor(\"Program\",BT$2),\"\")","v":""},{"$f":"IF(ItineraryPrograms!BA12=\"y\",getScoreFactor(\"Program\",BU$2),\"\")","v":""}]
[{"$f":"Itineraries!A13","v":"12-11"},10452.416666666666,{"$f":"getScoreFactor(C$2,itineraryCamps!C14)","v":3166.6666666666665},{"$f":"getScoreFactor(D$2,\"Miles\") *itineraryCamps!D14","v":6000},{"$f":"getScoreFactor(E$2,Itineraries!B13)","v":30},{"$f":"getScoreFactor(F$2,Itineraries!C13)","v":70},{"$f":"getScoreFactor(G$2,Itineraries!E13)","v":100},{"$f":"getScoreFactor(H$2,Itineraries!H13)","v":225},{"$f":"getScoreFactor(I$2,Itineraries!G13)","v":50},{"$f":"getScoreFactor(J$2,Itineraries!J13)","v":70},{"$f":"getScoreFactor(K$2,Itineraries!K13)","v":80},{"$f":"getScoreFactor(L$2,Itineraries!L13)","v":300},{"$f":"IF(INDEX(startingTA,numericItinerary($A13))=$M$2,getScoreFactor(M$2,\"y\"),getScoreFactor(M$2,\"n\"))","v":0},{"$f":"IF(INDEX(startingTA,numericItinerary($A13))=$M$2,getScoreFactor(N$2,\"y\"),getScoreFactor(N$2,\"n\"))","v":0},{"$f":"IF(INDEX(baldyMountainHike,numericItinerary($A13))=\"\",\"\",getPeakScore(O$2))","v":""},{"$f":"IF(INDEX(mountPhillipsHike,numericItinerary($A13))=\"\",\"\",getPeakScore(P$2))","v":11.25},{"$f":"IF(INDEX(toothOfTimeHike,numericItinerary($A13))=\"\",\"\",getPeakScore(Q$2))","v":40.5},{"$f":"IF(INDEX(trailPeakHike,numericItinerary($A13))=\"\",\"\",getPeakScore(R$2))","v":0},{"$f":"IF(INDEX(mountaineeringHike,numericItinerary($A13))=\"\",\"\",getPeakScore(S$2))","v":0},{"$f":"IF(areaImportant<>\"y\",\"\",IF(Itineraries!P13<>\"Y\",\"\",getareascore(T$2)))","v":""},{"$f":"IF(areaImportant<>\"y\",\"\",IF(Itineraries!Q13<>\"Y\",\"\",getareascore(U$2)))","v":""},{"$f":"IF(areaImportant<>\"y\",\"\",IF(Itineraries!R13<>\"Y\",\"\",getareascore(V$2)))","v":""},{"$f":"IF(areaImportant<>\"y\",\"\",IF(Itineraries!S13<>\"Y\",\"\",getareascore(W$2)))","v":""},{"$f":"IF(ItineraryPrograms!B13=\"y\",getScoreFactor(\"Program\",X$2),\"\")","v":""},{"$f":"IF(ItineraryPrograms!C13=\"y\",getScoreFactor(\"Program\",Y$2),\"\")","v":""},{"$f":"IF(ItineraryPrograms!D13=\"y\",getScoreFactor(\"Program\",Z$2),\"\")","v":""},{"$f":"IF(ItineraryPrograms!E13=\"y\",getScoreFactor(\"Program\",AA$2),\"\")","v":""},{"$f":"IF(ItineraryPrograms!F13=\"y\",getScoreFactor(\"Program\",AB$2),\"\")","v":""},{"$f":"IF(ItineraryPrograms!G13=\"y\",getScoreFactor(\"Program\",AC$2),\"\")","v":14.25},{"$f":"IF(ItineraryPrograms!H13=\"y\",getScoreFactor(\"Program\",AD$2),\"\")","v":""},{"$f":"IF(ItineraryPrograms!I13=\"y\",getScoreFactor(\"Program\",AE$2),\"\")","v":""},{"$f":"IF(ItineraryPrograms!J13=\"y\",getScoreFactor(\"Program\",AF$2),\"\")","v":13.5},{"$f":"IF(ItineraryPrograms!K13=\"y\",getScoreFactor(\"Program\",AG$2),\"\")","v":7.5},{"$f":"IF(ItineraryPrograms!L13=\"y\",getScoreFactor(\"Program\",AH$2),\"\")","v":""},{"$f":"IF(ItineraryPrograms!M13=\"y\",getScoreFactor(\"Program\",AI$2),\"\")","v":15.75},{"$f":"IF(ItineraryPrograms!N13=\"y\",getScoreFactor(\"Program\",AJ$2),\"\")","v":""},{"$f":"IF(ItineraryPrograms!O13=\"y\",getScoreFactor(\"Program\",AK$2),\"\")","v":10.5},{"$f":"IF(ItineraryPrograms!P13=\"y\",getScoreFactor(\"Program\",AL$2),\"\")","v":""},{"$f":"IF(ItineraryPrograms!Q13=\"y\",getScoreFactor(\"Program\",AM$2),\"\")","v":""},{"$f":"IF(ItineraryPrograms!R13=\"y\",getScoreFactor(\"Program\",AN$2),\"\")","v":""},{"$f":"IF(ItineraryPrograms!S13=\"y\",getScoreFactor(\"Program\",AO$2),\"\")","v":15},{"$f":"IF(ItineraryPrograms!T13=\"y\",getScoreFactor(\"Program\",AP$2),\"\")","v":""},{"$f":"IF(ItineraryPrograms!U13=\"y\",getScoreFactor(\"Program\",AQ$2),\"\")","v":""},{"$f":"IF(ItineraryPrograms!V13=\"y\",getScoreFactor(\"Program\",AR$2),\"\")","v":""},{"$f":"IF(ItineraryPrograms!W13=\"y\",getScoreFactor(\"Program\",AS$2),\"\")","v":""},{"$f":"IF(ItineraryPrograms!X13=\"y\",getScoreFactor(\"Program\",AT$2),\"\")","v":""},{"$f":"IF(ItineraryPrograms!Y13=\"y\",getScoreFactor(\"Program\",AU$2),\"\")","v":""},{"$f":"IF(ItineraryPrograms!Z13=\"y\",getScoreFactor(\"Program\",AV$2),\"\")","v":""},{"$f":"IF(ItineraryPrograms!AA13=\"y\",getScoreFactor(\"Program\",AW$2),\"\")","v":""},{"$f":"IF(ItineraryPrograms!AB13=\"y\",getScoreFactor(\"Program\",AX$2),\"\")","v":""},{"$f":"IF(ItineraryPrograms!AC13=\"y\",getScoreFactor(\"Program\",AY$2),\"\")","v":""},{"$f":"IF(ItineraryPrograms!AD13=\"y\",getScoreFactor(\"Program\",AZ$2),\"\")","v":""},{"$f":"IF(ItineraryPrograms!AE13=\"y\",getScoreFactor(\"Program\",BA$2),\"\")","v":18},{"$f":"IF(ItineraryPrograms!AF13=\"y\",getScoreFactor(\"Program\",BB$2),\"\")","v":19.5},{"$f":"IF(ItineraryPrograms!AG13=\"y\",getScoreFactor(\"Program\",BC$2),\"\")","v":7.5},{"$f":"IF(ItineraryPrograms!AH13=\"y\",getScoreFactor(\"Program\",BD$2),\"\")","v":""},{"$f":"IF(ItineraryPrograms!AI13=\"y\",getScoreFactor(\"Program\",BE$2),\"\")","v":18},{"$f":"IF(ItineraryPrograms!AJ13=\"y\",getScoreFactor(\"Program\",BF$2),\"\")","v":21},{"$f":"IF(ItineraryPrograms!AK13=\"y\",getScoreFactor(\"Program\",BG$2),\"\")","v":27},{"$f":"IF(ItineraryPrograms!AL13=\"y\",getScoreFactor(\"Program\",BH$2),\"\")","v":""},{"$f":"IF(ItineraryPrograms!AM13=\"y\",getScoreFactor(\"Program\",BI$2),\"\")","v":""},{"$f":"IF(ItineraryPrograms!AN13=\"y\",getScoreFactor(\"Program\",BJ$2),\"\")","v":""},{"$f":"IF(ItineraryPrograms!AO13=\"y\",getScoreFactor(\"Program\",BK$2),\"\")","v":9},{"$f":"IF(ItineraryPrograms!AP13=\"y\",getScoreFactor(\"Program\",BL$2),\"\")","v":19.5},{"$f":"IF(ItineraryPrograms!AR13=\"y\",getScoreFactor(\"Program\",BM$2),\"\")","v":""},{"$f":"IF(ItineraryPrograms!AS13=\"y\",getScoreFactor(\"Program\",BN$2),\"\")","v":""},{"$f":"IF(ItineraryPrograms!AU13=\"y\",getScoreFactor(\"Program\",BO$2),\"\")","v":18},{"$f":"IF(ItineraryPrograms!AV13=\"y\",getScoreFactor(\"Program\",BP$2),\"\")","v":7.5},{"$f":"IF(ItineraryPrograms!AW13=\"y\",getScoreFactor(\"Program\",BQ$2),\"\")","v":24.75},{"$f":"IF(ItineraryPrograms!AX13=\"y\",getScoreFactor(\"Program\",BR$2),\"\")","v":15.75},{"$f":"IF(ItineraryPrograms!AY13=\"y\",getScoreFactor(\"Program\",BS$2),\"\")","v":27},{"$f":"IF(ItineraryPrograms!AZ13=\"y\",getScoreFactor(\"Program\",BT$2),\"\")","v":""},{"$f":"IF(ItineraryPrograms!BA13=\"y\",getScoreFactor(\"Program\",BU$2),\"\")","v":""}]
[{"$f":"Itineraries!A14","v":"12-12"},10475.416666666666,{"$f":"getScoreFactor(C$2,itineraryCamps!C15)","v":3166.6666666666665},{"$f":"getScoreFactor(D$2,\"Miles\") *itineraryCamps!D15","v":6000},{"$f":"getScoreFactor(E$2,Itineraries!B14)","v":40},{"$f":"getScoreFactor(F$2,Itineraries!C14)","v":80},{"$f":"getScoreFactor(G$2,Itineraries!E14)","v":100},{"$f":"getScoreFactor(H$2,Itineraries!H14)","v":250},{"$f":"getScoreFactor(I$2,Itineraries!G14)","v":60},{"$f":"getScoreFactor(J$2,Itineraries!J14)","v":70},{"$f":"getScoreFactor(K$2,Itineraries!K14)","v":60},{"$f":"getScoreFactor(L$2,Itineraries!L14)","v":300},{"$f":"IF(INDEX(startingTA,numericItinerary($A14))=$M$2,getScoreFactor(M$2,\"y\"),getScoreFactor(M$2,\"n\"))","v":0},{"$f":"IF(INDEX(startingTA,numericItinerary($A14))=$M$2,getScoreFactor(N$2,\"y\"),getScoreFactor(N$2,\"n\"))","v":0},{"$f":"IF(INDEX(baldyMountainHike,numericItinerary($A14))=\"\",\"\",getPeakScore(O$2))","v":""},{"$f":"IF(INDEX(mountPhillipsHike,numericItinerary($A14))=\"\",\"\",getPeakScore(P$2))","v":11.25},{"$f":"IF(INDEX(toothOfTimeHike,numericItinerary($A14))=\"\",\"\",getPeakScore(Q$2))","v":40.5},{"$f":"IF(INDEX(trailPeakHike,numericItinerary($A14))=\"\",\"\",getPeakScore(R$2))","v":""},{"$f":"IF(INDEX(mountaineeringHike,numericItinerary($A14))=\"\",\"\",getPeakScore(S$2))","v":0},{"$f":"IF(areaImportant<>\"y\",\"\",IF(Itineraries!P14<>\"Y\",\"\",getareascore(T$2)))","v":""},{"$f":"IF(areaImportant<>\"y\",\"\",IF(Itineraries!Q14<>\"Y\",\"\",getareascore(U$2)))","v":""},{"$f":"IF(areaImportant<>\"y\",\"\",IF(Itineraries!R14<>\"Y\",\"\",getareascore(V$2)))","v":""},{"$f":"IF(areaImportant<>\"y\",\"\",IF(Itineraries!S14<>\"Y\",\"\",getareascore(W$2)))","v":""},{"$f":"IF(ItineraryPrograms!B14=\"y\",getScoreFactor(\"Program\",X$2),\"\")","v":""},{"$f":"IF(ItineraryPrograms!C14=\"y\",getScoreFactor(\"Program\",Y$2),\"\")","v":30},{"$f":"IF(ItineraryPrograms!D14=\"y\",getScoreFactor(\"Program\",Z$2),\"\")","v":""},{"$f":"IF(ItineraryPrograms!E14=\"y\",getScoreFactor(\"Program\",AA$2),\"\")","v":""},{"$f":"IF(ItineraryPrograms!F14=\"y\",getScoreFactor(\"Program\",AB$2),\"\")","v":""},{"$f":"IF(ItineraryPrograms!G14=\"y\",getScoreFactor(\"Program\",AC$2),\"\")","v":""},{"$f":"IF(ItineraryPrograms!H14=\"y\",getScoreFactor(\"Program\",AD$2),\"\")","v":""},{"$f":"IF(ItineraryPrograms!I14=\"y\",getScoreFactor(\"Program\",AE$2),\"\")","v":""},{"$f":"IF(ItineraryPrograms!J14=\"y\",getScoreFactor(\"Program\",AF$2),\"\")","v":13.5},{"$f":"IF(ItineraryPrograms!K14=\"y\",getScoreFactor(\"Program\",AG$2),\"\")","v":7.5},{"$f":"IF(ItineraryPrograms!L14=\"y\",getScoreFactor(\"Program\",AH$2),\"\")","v":""},{"$f":"IF(ItineraryPrograms!M14=\"y\",getScoreFactor(\"Program\",AI$2),\"\")","v":15.75},{"$f":"IF(ItineraryPrograms!N14=\"y\",getScoreFactor(\"Program\",AJ$2),\"\")","v":""},{"$f":"IF(ItineraryPrograms!O14=\"y\",getScoreFactor(\"Program\",AK$2),\"\")","v":""},{"$f":"IF(ItineraryPrograms!P14=\"y\",getScoreFactor(\"Program\",AL$2),\"\")","v":7.5},{"$f":"IF(ItineraryPrograms!Q14=\"y\",getScoreFactor(\"Program\",AM$2),\"\")","v":12},{"$f":"IF(ItineraryPrograms!R14=\"y\",getScoreFactor(\"Program\",AN$2),\"\")","v":""},{"$f":"IF(ItineraryPrograms!S14=\"y\",getScoreFactor(\"Program\",AO$2),\"\")","v":""},{"$f":"IF(ItineraryPrograms!T14=\"y\",getScoreFactor(\"Program\",AP$2),\"\")","v":""},{"$f":"IF(ItineraryPrograms!U14=\"y\",getScoreFactor(\"Program\",AQ$2),\"\")","v":""},{"$f":"IF(ItineraryPrograms!V14=\"y\",getScoreFactor(\"Program\",AR$2),\"\")","v":6},{"$f":"IF(ItineraryPrograms!W14=\"y\",getScoreFactor(\"Program\",AS$2),\"\")","v":9.75},{"$f":"IF(ItineraryPrograms!X14=\"y\",getScoreFactor(\"Program\",AT$2),\"\")","v":""},{"$f":"IF(ItineraryPrograms!Y14=\"y\",getScoreFactor(\"Program\",AU$2),\"\")","v":""},{"$f":"IF(ItineraryPrograms!Z14=\"y\",getScoreFactor(\"Program\",AV$2),\"\")","v":18.75},{"$f":"IF(ItineraryPrograms!AA14=\"y\",getScoreFactor(\"Program\",AW$2),\"\")","v":""},{"$f":"IF(ItineraryPrograms!AB14=\"y\",getScoreFactor(\"Program\",AX$2),\"\")","v":""},{"$f":"IF(ItineraryPrograms!AC14=\"y\",getScoreFactor(\"Program\",AY$2),\"\")","v":18},{"$f":"IF(ItineraryPrograms!AD14=\"y\",getScoreFactor(\"Program\",AZ$2),\"\")","v":""},{"$f":"IF(ItineraryPrograms!AE14=\"y\",getScoreFactor(\"Program\",BA$2),\"\")","v":""},{"$f":"IF(ItineraryPrograms!AF14=\"y\",getScoreFactor(\"Program\",BB$2),\"\")","v":""},{"$f":"IF(ItineraryPrograms!AG14=\"y\",getScoreFactor(\"Program\",BC$2),\"\")","v":7.5},{"$f":"IF(ItineraryPrograms!AH14=\"y\",getScoreFactor(\"Program\",BD$2),\"\")","v":""},{"$f":"IF(ItineraryPrograms!AI14=\"y\",getScoreFactor(\"Program\",BE$2),\"\")","v":18},{"$f":"IF(ItineraryPrograms!AJ14=\"y\",getScoreFactor(\"Program\",BF$2),\"\")","v":""},{"$f":"IF(ItineraryPrograms!AK14=\"y\",getScoreFactor(\"Program\",BG$2),\"\")","v":27},{"$f":"IF(ItineraryPrograms!AL14=\"y\",getScoreFactor(\"Program\",BH$2),\"\")","v":""},{"$f":"IF(ItineraryPrograms!AM14=\"y\",getScoreFactor(\"Program\",BI$2),\"\")","v":""},{"$f":"IF(ItineraryPrograms!AN14=\"y\",getScoreFactor(\"Program\",BJ$2),\"\")","v":""},{"$f":"IF(ItineraryPrograms!AO14=\"y\",getScoreFactor(\"Program\",BK$2),\"\")","v":9},{"$f":"IF(ItineraryPrograms!AP14=\"y\",getScoreFactor(\"Program\",BL$2),\"\")","v":19.5},{"$f":"IF(ItineraryPrograms!AR14=\"y\",getScoreFactor(\"Program\",BM$2),\"\")","v":""},{"$f":"IF(ItineraryPrograms!AS14=\"y\",getScoreFactor(\"Program\",BN$2),\"\")","v":""},{"$f":"IF(ItineraryPrograms!AU14=\"y\",getScoreFactor(\"Program\",BO$2),\"\")","v":18},{"$f":"IF(ItineraryPrograms!AV14=\"y\",getScoreFactor(\"Program\",BP$2),\"\")","v":7.5},{"$f":"IF(ItineraryPrograms!AW14=\"y\",getScoreFactor(\"Program\",BQ$2),\"\")","v":24.75},{"$f":"IF(ItineraryPrograms!AX14=\"y\",getScoreFactor(\"Program\",BR$2),\"\")","v":""},{"$f":"IF(ItineraryPrograms!AY14=\"y\",getScoreFactor(\"Program\",BS$2),\"\")","v":27},{"$f":"IF(ItineraryPrograms!AZ14=\"y\",getScoreFactor(\"Program\",BT$2),\"\")","v":""},{"$f":"IF(ItineraryPrograms!BA14=\"y\",getScoreFactor(\"Program\",BU$2),\"\")","v":""}]
[{"$f":"Itineraries!A15","v":"12-13"},10720.416666666666,{"$f":"getScoreFactor(C$2,itineraryCamps!C16)","v":3166.6666666666665},{"$f":"getScoreFactor(D$2,\"Miles\") *itineraryCamps!D16","v":6300},{"$f":"getScoreFactor(E$2,Itineraries!B15)","v":40},{"$f":"getScoreFactor(F$2,Itineraries!C15)","v":80},{"$f":"getScoreFactor(G$2,Itineraries!E15)","v":75},{"$f":"getScoreFactor(H$2,Itineraries!H15)","v":225},{"$f":"getScoreFactor(I$2,Itineraries!G15)","v":50},{"$f":"getScoreFactor(J$2,Itineraries!J15)","v":80},{"$f":"getScoreFactor(K$2,Itineraries!K15)","v":70},{"$f":"getScoreFactor(L$2,Itineraries!L15)","v":300},{"$f":"IF(INDEX(startingTA,numericItinerary($A15))=$M$2,getScoreFactor(M$2,\"y\"),getScoreFactor(M$2,\"n\"))","v":0},{"$f":"IF(INDEX(startingTA,numericItinerary($A15))=$M$2,getScoreFactor(N$2,\"y\"),getScoreFactor(N$2,\"n\"))","v":0},{"$f":"IF(INDEX(baldyMountainHike,numericItinerary($A15))=\"\",\"\",getPeakScore(O$2))","v":""},{"$f":"IF(INDEX(mountPhillipsHike,numericItinerary($A15))=\"\",\"\",getPeakScore(P$2))","v":11.25},{"$f":"IF(INDEX(toothOfTimeHike,numericItinerary($A15))=\"\",\"\",getPeakScore(Q$2))","v":40.5},{"$f":"IF(INDEX(trailPeakHike,numericItinerary($A15))=\"\",\"\",getPeakScore(R$2))","v":""},{"$f":"IF(INDEX(mountaineeringHike,numericItinerary($A15))=\"\",\"\",getPeakScore(S$2))","v":0},{"$f":"IF(areaImportant<>\"y\",\"\",IF(Itineraries!P15<>\"Y\",\"\",getareascore(T$2)))","v":""},{"$f":"IF(areaImportant<>\"y\",\"\",IF(Itineraries!Q15<>\"Y\",\"\",getareascore(U$2)))","v":""},{"$f":"IF(areaImportant<>\"y\",\"\",IF(Itineraries!R15<>\"Y\",\"\",getareascore(V$2)))","v":""},{"$f":"IF(areaImportant<>\"y\",\"\",IF(Itineraries!S15<>\"Y\",\"\",getareascore(W$2)))","v":""},{"$f":"IF(ItineraryPrograms!B15=\"y\",getScoreFactor(\"Program\",X$2),\"\")","v":""},{"$f":"IF(ItineraryPrograms!C15=\"y\",getScoreFactor(\"Program\",Y$2),\"\")","v":30},{"$f":"IF(ItineraryPrograms!D15=\"y\",getScoreFactor(\"Program\",Z$2),\"\")","v":""},{"$f":"IF(ItineraryPrograms!E15=\"y\",getScoreFactor(\"Program\",AA$2),\"\")","v":""},{"$f":"IF(ItineraryPrograms!F15=\"y\",getScoreFactor(\"Program\",AB$2),\"\")","v":""},{"$f":"IF(ItineraryPrograms!G15=\"y\",getScoreFactor(\"Program\",AC$2),\"\")","v":14.25},{"$f":"IF(ItineraryPrograms!H15=\"y\",getScoreFactor(\"Program\",AD$2),\"\")","v":""},{"$f":"IF(ItineraryPrograms!I15=\"y\",getScoreFactor(\"Program\",AE$2),\"\")","v":""},{"$f":"IF(ItineraryPrograms!J15=\"y\",getScoreFactor(\"Program\",AF$2),\"\")","v":13.5},{"$f":"IF(ItineraryPrograms!K15=\"y\",getScoreFactor(\"Program\",AG$2),\"\")","v":7.5},{"$f":"IF(ItineraryPrograms!L15=\"y\",getScoreFactor(\"Program\",AH$2),\"\")","v":""},{"$f":"IF(ItineraryPrograms!M15=\"y\",getScoreFactor(\"Program\",AI$2),\"\")","v":15.75},{"$f":"IF(ItineraryPrograms!N15=\"y\",getScoreFactor(\"Program\",AJ$2),\"\")","v":""},{"$f":"IF(ItineraryPrograms!O15=\"y\",getScoreFactor(\"Program\",AK$2),\"\")","v":""},{"$f":"IF(ItineraryPrograms!P15=\"y\",getScoreFactor(\"Program\",AL$2),\"\")","v":""},{"$f":"IF(ItineraryPrograms!Q15=\"y\",getScoreFactor(\"Program\",AM$2),\"\")","v":""},{"$f":"IF(ItineraryPrograms!R15=\"y\",getScoreFactor(\"Program\",AN$2),\"\")","v":""},{"$f":"IF(ItineraryPrograms!S15=\"y\",getScoreFactor(\"Program\",AO$2),\"\")","v":""},{"$f":"IF(ItineraryPrograms!T15=\"y\",getScoreFactor(\"Program\",AP$2),\"\")","v":6},{"$f":"IF(ItineraryPrograms!U15=\"y\",getScoreFactor(\"Program\",AQ$2),\"\")","v":""},{"$f":"IF(ItineraryPrograms!V15=\"y\",getScoreFactor(\"Program\",AR$2),\"\")","v":6},{"$f":"IF(ItineraryPrograms!W15=\"y\",getScoreFactor(\"Program\",AS$2),\"\")","v":""},{"$f":"IF(ItineraryPrograms!X15=\"y\",getScoreFactor(\"Program\",AT$2),\"\")","v":""},{"$f":"IF(ItineraryPrograms!Y15=\"y\",getScoreFactor(\"Program\",AU$2),\"\")","v":""},{"$f":"IF(ItineraryPrograms!Z15=\"y\",getScoreFactor(\"Program\",AV$2),\"\")","v":18.75},{"$f":"IF(ItineraryPrograms!AA15=\"y\",getScoreFactor(\"Program\",AW$2),\"\")","v":""},{"$f":"IF(ItineraryPrograms!AB15=\"y\",getScoreFactor(\"Program\",AX$2),\"\")","v":""},{"$f":"IF(ItineraryPrograms!AC15=\"y\",getScoreFactor(\"Program\",AY$2),\"\")","v":18},{"$f":"IF(ItineraryPrograms!AD15=\"y\",getScoreFactor(\"Program\",AZ$2),\"\")","v":""},{"$f":"IF(ItineraryPrograms!AE15=\"y\",getScoreFactor(\"Program\",BA$2),\"\")","v":""},{"$f":"IF(ItineraryPrograms!AF15=\"y\",getScoreFactor(\"Program\",BB$2),\"\")","v":""},{"$f":"IF(ItineraryPrograms!AG15=\"y\",getScoreFactor(\"Program\",BC$2),\"\")","v":7.5},{"$f":"IF(ItineraryPrograms!AH15=\"y\",getScoreFactor(\"Program\",BD$2),\"\")","v":""},{"$f":"IF(ItineraryPrograms!AI15=\"y\",getScoreFactor(\"Program\",BE$2),\"\")","v":18},{"$f":"IF(ItineraryPrograms!AJ15=\"y\",getScoreFactor(\"Program\",BF$2),\"\")","v":21},{"$f":"IF(ItineraryPrograms!AK15=\"y\",getScoreFactor(\"Program\",BG$2),\"\")","v":27},{"$f":"IF(ItineraryPrograms!AL15=\"y\",getScoreFactor(\"Program\",BH$2),\"\")","v":""},{"$f":"IF(ItineraryPrograms!AM15=\"y\",getScoreFactor(\"Program\",BI$2),\"\")","v":18},{"$f":"IF(ItineraryPrograms!AN15=\"y\",getScoreFactor(\"Program\",BJ$2),\"\")","v":""},{"$f":"IF(ItineraryPrograms!AO15=\"y\",getScoreFactor(\"Program\",BK$2),\"\")","v":9},{"$f":"IF(ItineraryPrograms!AP15=\"y\",getScoreFactor(\"Program\",BL$2),\"\")","v":""},{"$f":"IF(ItineraryPrograms!AR15=\"y\",getScoreFactor(\"Program\",BM$2),\"\")","v":""},{"$f":"IF(ItineraryPrograms!AS15=\"y\",getScoreFactor(\"Program\",BN$2),\"\")","v":""},{"$f":"IF(ItineraryPrograms!AU15=\"y\",getScoreFactor(\"Program\",BO$2),\"\")","v":""},{"$f":"IF(ItineraryPrograms!AV15=\"y\",getScoreFactor(\"Program\",BP$2),\"\")","v":""},{"$f":"IF(ItineraryPrograms!AW15=\"y\",getScoreFactor(\"Program\",BQ$2),\"\")","v":24.75},{"$f":"IF(ItineraryPrograms!AX15=\"y\",getScoreFactor(\"Program\",BR$2),\"\")","v":""},{"$f":"IF(ItineraryPrograms!AY15=\"y\",getScoreFactor(\"Program\",BS$2),\"\")","v":27},{"$f":"IF(ItineraryPrograms!AZ15=\"y\",getScoreFactor(\"Program\",BT$2),\"\")","v":""},{"$f":"IF(ItineraryPrograms!BA15=\"y\",getScoreFactor(\"Program\",BU$2),\"\")","v":""}]
[{"$f":"Itineraries!A16","v":"12-14"},10856.416666666666,{"$f":"getScoreFactor(C$2,itineraryCamps!C17)","v":3166.6666666666665},{"$f":"getScoreFactor(D$2,\"Miles\") *itineraryCamps!D17","v":6300},{"$f":"getScoreFactor(E$2,Itineraries!B16)","v":50},{"$f":"getScoreFactor(F$2,Itineraries!C16)","v":70},{"$f":"getScoreFactor(G$2,Itineraries!E16)","v":125},{"$f":"getScoreFactor(H$2,Itineraries!H16)","v":250},{"$f":"getScoreFactor(I$2,Itineraries!G16)","v":60},{"$f":"getScoreFactor(J$2,Itineraries!J16)","v":70},{"$f":"getScoreFactor(K$2,Itineraries!K16)","v":80},{"$f":"getScoreFactor(L$2,Itineraries!L16)","v":300},{"$f":"IF(INDEX(startingTA,numericItinerary($A16))=$M$2,getScoreFactor(M$2,\"y\"),getScoreFactor(M$2,\"n\"))","v":0},{"$f":"IF(INDEX(startingTA,numericItinerary($A16))=$M$2,getScoreFactor(N$2,\"y\"),getScoreFactor(N$2,\"n\"))","v":0},{"$f":"IF(INDEX(baldyMountainHike,numericItinerary($A16))=\"\",\"\",getPeakScore(O$2))","v":""},{"$f":"IF(INDEX(mountPhillipsHike,numericItinerary($A16))=\"\",\"\",getPeakScore(P$2))","v":11.25},{"$f":"IF(INDEX(toothOfTimeHike,numericItinerary($A16))=\"\",\"\",getPeakScore(Q$2))","v":40.5},{"$f":"IF(INDEX(trailPeakHike,numericItinerary($A16))=\"\",\"\",getPeakScore(R$2))","v":0},{"$f":"IF(INDEX(mountaineeringHike,numericItinerary($A16))=\"\",\"\",getPeakScore(S$2))","v":0},{"$f":"IF(areaImportant<>\"y\",\"\",IF(Itineraries!P16<>\"Y\",\"\",getareascore(T$2)))","v":""},{"$f":"IF(areaImportant<>\"y\",\"\",IF(Itineraries!Q16<>\"Y\",\"\",getareascore(U$2)))","v":""},{"$f":"IF(areaImportant<>\"y\",\"\",IF(Itineraries!R16<>\"Y\",\"\",getareascore(V$2)))","v":""},{"$f":"IF(areaImportant<>\"y\",\"\",IF(Itineraries!S16<>\"Y\",\"\",getareascore(W$2)))","v":""},{"$f":"IF(ItineraryPrograms!B16=\"y\",getScoreFactor(\"Program\",X$2),\"\")","v":""},{"$f":"IF(ItineraryPrograms!C16=\"y\",getScoreFactor(\"Program\",Y$2),\"\")","v":30},{"$f":"IF(ItineraryPrograms!D16=\"y\",getScoreFactor(\"Program\",Z$2),\"\")","v":""},{"$f":"IF(ItineraryPrograms!E16=\"y\",getScoreFactor(\"Program\",AA$2),\"\")","v":""},{"$f":"IF(ItineraryPrograms!F16=\"y\",getScoreFactor(\"Program\",AB$2),\"\")","v":""},{"$f":"IF(ItineraryPrograms!G16=\"y\",getScoreFactor(\"Program\",AC$2),\"\")","v":14.25},{"$f":"IF(ItineraryPrograms!H16=\"y\",getScoreFactor(\"Program\",AD$2),\"\")","v":""},{"$f":"IF(ItineraryPrograms!I16=\"y\",getScoreFactor(\"Program\",AE$2),\"\")","v":""},{"$f":"IF(ItineraryPrograms!J16=\"y\",getScoreFactor(\"Program\",AF$2),\"\")","v":13.5},{"$f":"IF(ItineraryPrograms!K16=\"y\",getScoreFactor(\"Program\",AG$2),\"\")","v":7.5},{"$f":"IF(ItineraryPrograms!L16=\"y\",getScoreFactor(\"Program\",AH$2),\"\")","v":""},{"$f":"IF(ItineraryPrograms!M16=\"y\",getScoreFactor(\"Program\",AI$2),\"\")","v":15.75},{"$f":"IF(ItineraryPrograms!N16=\"y\",getScoreFactor(\"Program\",AJ$2),\"\")","v":""},{"$f":"IF(ItineraryPrograms!O16=\"y\",getScoreFactor(\"Program\",AK$2),\"\")","v":10.5},{"$f":"IF(ItineraryPrograms!P30=\"y\",getScoreFactor(\"Program\",AL$2),\"\")","v":""},{"$f":"IF(ItineraryPrograms!Q16=\"y\",getScoreFactor(\"Program\",AM$2),\"\")","v":""},{"$f":"IF(ItineraryPrograms!R16=\"y\",getScoreFactor(\"Program\",AN$2),\"\")","v":""},{"$f":"IF(ItineraryPrograms!S16=\"y\",getScoreFactor(\"Program\",AO$2),\"\")","v":15},{"$f":"IF(ItineraryPrograms!T16=\"y\",getScoreFactor(\"Program\",AP$2),\"\")","v":""},{"$f":"IF(ItineraryPrograms!U16=\"y\",getScoreFactor(\"Program\",AQ$2),\"\")","v":""},{"$f":"IF(ItineraryPrograms!V16=\"y\",getScoreFactor(\"Program\",AR$2),\"\")","v":6},{"$f":"IF(ItineraryPrograms!W16=\"y\",getScoreFactor(\"Program\",AS$2),\"\")","v":9.75},{"$f":"IF(ItineraryPrograms!X16=\"y\",getScoreFactor(\"Program\",AT$2),\"\")","v":""},{"$f":"IF(ItineraryPrograms!Y16=\"y\",getScoreFactor(\"Program\",AU$2),\"\")","v":""},{"$f":"IF(ItineraryPrograms!Z16=\"y\",getScoreFactor(\"Program\",AV$2),\"\")","v":18.75},{"$f":"IF(ItineraryPrograms!AA16=\"y\",getScoreFactor(\"Program\",AW$2),\"\")","v":""},{"$f":"IF(ItineraryPrograms!AB16=\"y\",getScoreFactor(\"Program\",AX$2),\"\")","v":""},{"$f":"IF(ItineraryPrograms!AC16=\"y\",getScoreFactor(\"Program\",AY$2),\"\")","v":18},{"$f":"IF(ItineraryPrograms!AD16=\"y\",getScoreFactor(\"Program\",AZ$2),\"\")","v":""},{"$f":"IF(ItineraryPrograms!AE16=\"y\",getScoreFactor(\"Program\",BA$2),\"\")","v":""},{"$f":"IF(ItineraryPrograms!AF16=\"y\",getScoreFactor(\"Program\",BB$2),\"\")","v":""},{"$f":"IF(ItineraryPrograms!AG16=\"y\",getScoreFactor(\"Program\",BC$2),\"\")","v":7.5},{"$f":"IF(ItineraryPrograms!AH16=\"y\",getScoreFactor(\"Program\",BD$2),\"\")","v":""},{"$f":"IF(ItineraryPrograms!AI16=\"y\",getScoreFactor(\"Program\",BE$2),\"\")","v":18},{"$f":"IF(ItineraryPrograms!AJ16=\"y\",getScoreFactor(\"Program\",BF$2),\"\")","v":""},{"$f":"IF(ItineraryPrograms!AK16=\"y\",getScoreFactor(\"Program\",BG$2),\"\")","v":27},{"$f":"IF(ItineraryPrograms!AL16=\"y\",getScoreFactor(\"Program\",BH$2),\"\")","v":""},{"$f":"IF(ItineraryPrograms!AM16=\"y\",getScoreFactor(\"Program\",BI$2),\"\")","v":""},{"$f":"IF(ItineraryPrograms!AN16=\"y\",getScoreFactor(\"Program\",BJ$2),\"\")","v":""},{"$f":"IF(ItineraryPrograms!AO16=\"y\",getScoreFactor(\"Program\",BK$2),\"\")","v":9},{"$f":"IF(ItineraryPrograms!AP16=\"y\",getScoreFactor(\"Program\",BL$2),\"\")","v":19.5},{"$f":"IF(ItineraryPrograms!AR16=\"y\",getScoreFactor(\"Program\",BM$2),\"\")","v":""},{"$f":"IF(ItineraryPrograms!AS16=\"y\",getScoreFactor(\"Program\",BN$2),\"\")","v":""},{"$f":"IF(ItineraryPrograms!AU16=\"y\",getScoreFactor(\"Program\",BO$2),\"\")","v":18},{"$f":"IF(ItineraryPrograms!AV16=\"y\",getScoreFactor(\"Program\",BP$2),\"\")","v":7.5},{"$f":"IF(ItineraryPrograms!AW16=\"y\",getScoreFactor(\"Program\",BQ$2),\"\")","v":24.75},{"$f":"IF(ItineraryPrograms!AX16=\"y\",getScoreFactor(\"Program\",BR$2),\"\")","v":15.75},{"$f":"IF(ItineraryPrograms!AY16=\"y\",getScoreFactor(\"Program\",BS$2),\"\")","v":27},{"$f":"IF(ItineraryPrograms!AZ16=\"y\",getScoreFactor(\"Program\",BT$2),\"\")","v":""},{"$f":"IF(ItineraryPrograms!BA16=\"y\",getScoreFactor(\"Program\",BU$2),\"\")","v":""}]
[{"$f":"Itineraries!A17","v":"12-15"},10852.916666666666,{"$f":"getScoreFactor(C$2,itineraryCamps!C18)","v":3166.6666666666665},{"$f":"getScoreFactor(D$2,\"Miles\") *itineraryCamps!D18","v":6400},{"$f":"getScoreFactor(E$2,Itineraries!B17)","v":30},{"$f":"getScoreFactor(F$2,Itineraries!C17)","v":60},{"$f":"getScoreFactor(G$2,Itineraries!E17)","v":125},{"$f":"getScoreFactor(H$2,Itineraries!H17)","v":225},{"$f":"getScoreFactor(I$2,Itineraries!G17)","v":50},{"$f":"getScoreFactor(J$2,Itineraries!J17)","v":110},{"$f":"getScoreFactor(K$2,Itineraries!K17)","v":100},{"$f":"getScoreFactor(L$2,Itineraries!L17)","v":200},{"$f":"IF(INDEX(startingTA,numericItinerary($A17))=$M$2,getScoreFactor(M$2,\"y\"),getScoreFactor(M$2,\"n\"))","v":0},{"$f":"IF(INDEX(startingTA,numericItinerary($A17))=$M$2,getScoreFactor(N$2,\"y\"),getScoreFactor(N$2,\"n\"))","v":0},{"$f":"IF(INDEX(baldyMountainHike,numericItinerary($A17))=\"\",\"\",getPeakScore(O$2))","v":""},{"$f":"IF(INDEX(mountPhillipsHike,numericItinerary($A17))=\"\",\"\",getPeakScore(P$2))","v":11.25},{"$f":"IF(INDEX(toothOfTimeHike,numericItinerary($A17))=\"\",\"\",getPeakScore(Q$2))","v":40.5},{"$f":"IF(INDEX(trailPeakHike,numericItinerary($A17))=\"\",\"\",getPeakScore(R$2))","v":0},{"$f":"IF(INDEX(mountaineeringHike,numericItinerary($A17))=\"\",\"\",getPeakScore(S$2))","v":0},{"$f":"IF(areaImportant<>\"y\",\"\",IF(Itineraries!P17<>\"Y\",\"\",getareascore(T$2)))","v":""},{"$f":"IF(areaImportant<>\"y\",\"\",IF(Itineraries!Q17<>\"Y\",\"\",getareascore(U$2)))","v":""},{"$f":"IF(areaImportant<>\"y\",\"\",IF(Itineraries!R17<>\"Y\",\"\",getareascore(V$2)))","v":""},{"$f":"IF(areaImportant<>\"y\",\"\",IF(Itineraries!S17<>\"Y\",\"\",getareascore(W$2)))","v":""},{"$f":"IF(ItineraryPrograms!B17=\"y\",getScoreFactor(\"Program\",X$2),\"\")","v":""},{"$f":"IF(ItineraryPrograms!C17=\"y\",getScoreFactor(\"Program\",Y$2),\"\")","v":30},{"$f":"IF(ItineraryPrograms!D17=\"y\",getScoreFactor(\"Program\",Z$2),\"\")","v":""},{"$f":"IF(ItineraryPrograms!E17=\"y\",getScoreFactor(\"Program\",AA$2),\"\")","v":""},{"$f":"IF(ItineraryPrograms!F17=\"y\",getScoreFactor(\"Program\",AB$2),\"\")","v":""},{"$f":"IF(ItineraryPrograms!G17=\"y\",getScoreFactor(\"Program\",AC$2),\"\")","v":14.25},{"$f":"IF(ItineraryPrograms!H17=\"y\",getScoreFactor(\"Program\",AD$2),\"\")","v":""},{"$f":"IF(ItineraryPrograms!I17=\"y\",getScoreFactor(\"Program\",AE$2),\"\")","v":""},{"$f":"IF(ItineraryPrograms!J17=\"y\",getScoreFactor(\"Program\",AF$2),\"\")","v":13.5},{"$f":"IF(ItineraryPrograms!K17=\"y\",getScoreFactor(\"Program\",AG$2),\"\")","v":""},{"$f":"IF(ItineraryPrograms!L17=\"y\",getScoreFactor(\"Program\",AH$2),\"\")","v":""},{"$f":"IF(ItineraryPrograms!M17=\"y\",getScoreFactor(\"Program\",AI$2),\"\")","v":15.75},{"$f":"IF(ItineraryPrograms!N17=\"y\",getScoreFactor(\"Program\",AJ$2),\"\")","v":""},{"$f":"IF(ItineraryPrograms!O17=\"y\",getScoreFactor(\"Program\",AK$2),\"\")","v":10.5},{"$f":"IF(ItineraryPrograms!P17=\"y\",getScoreFactor(\"Program\",AL$2),\"\")","v":7.5},{"$f":"IF(ItineraryPrograms!Q17=\"y\",getScoreFactor(\"Program\",AM$2),\"\")","v":""},{"$f":"IF(ItineraryPrograms!R17=\"y\",getScoreFactor(\"Program\",AN$2),\"\")","v":""},{"$f":"IF(ItineraryPrograms!S17=\"y\",getScoreFactor(\"Program\",AO$2),\"\")","v":15},{"$f":"IF(ItineraryPrograms!T17=\"y\",getScoreFactor(\"Program\",AP$2),\"\")","v":""},{"$f":"IF(ItineraryPrograms!U17=\"y\",getScoreFactor(\"Program\",AQ$2),\"\")","v":""},{"$f":"IF(ItineraryPrograms!V17=\"y\",getScoreFactor(\"Program\",AR$2),\"\")","v":6},{"$f":"IF(ItineraryPrograms!W17=\"y\",getScoreFactor(\"Program\",AS$2),\"\")","v":9.75},{"$f":"IF(ItineraryPrograms!X17=\"y\",getScoreFactor(\"Program\",AT$2),\"\")","v":""},{"$f":"IF(ItineraryPrograms!Y17=\"y\",getScoreFactor(\"Program\",AU$2),\"\")","v":""},{"$f":"IF(ItineraryPrograms!Z17=\"y\",getScoreFactor(\"Program\",AV$2),\"\")","v":18.75},{"$f":"IF(ItineraryPrograms!AA17=\"y\",getScoreFactor(\"Program\",AW$2),\"\")","v":""},{"$f":"IF(ItineraryPrograms!AB17=\"y\",getScoreFactor(\"Program\",AX$2),\"\")","v":""},{"$f":"IF(ItineraryPrograms!AC17=\"y\",getScoreFactor(\"Program\",AY$2),\"\")","v":18},{"$f":"IF(ItineraryPrograms!AD17=\"y\",getScoreFactor(\"Program\",AZ$2),\"\")","v":18},{"$f":"IF(ItineraryPrograms!AE17=\"y\",getScoreFactor(\"Program\",BA$2),\"\")","v":""},{"$f":"IF(ItineraryPrograms!AF17=\"y\",getScoreFactor(\"Program\",BB$2),\"\")","v":19.5},{"$f":"IF(ItineraryPrograms!AG17=\"y\",getScoreFactor(\"Program\",BC$2),\"\")","v":7.5},{"$f":"IF(ItineraryPrograms!AH17=\"y\",getScoreFactor(\"Program\",BD$2),\"\")","v":""},{"$f":"IF(ItineraryPrograms!AI17=\"y\",getScoreFactor(\"Program\",BE$2),\"\")","v":18},{"$f":"IF(ItineraryPrograms!AJ17=\"y\",getScoreFactor(\"Program\",BF$2),\"\")","v":""},{"$f":"IF(ItineraryPrograms!AK17=\"y\",getScoreFactor(\"Program\",BG$2),\"\")","v":""},{"$f":"IF(ItineraryPrograms!AL17=\"y\",getScoreFactor(\"Program\",BH$2),\"\")","v":""},{"$f":"IF(ItineraryPrograms!AM17=\"y\",getScoreFactor(\"Program\",BI$2),\"\")","v":""},{"$f":"IF(ItineraryPrograms!AN17=\"y\",getScoreFactor(\"Program\",BJ$2),\"\")","v":""},{"$f":"IF(ItineraryPrograms!AO17=\"y\",getScoreFactor(\"Program\",BK$2),\"\")","v":""},{"$f":"IF(ItineraryPrograms!AP17=\"y\",getScoreFactor(\"Program\",BL$2),\"\")","v":19.5},{"$f":"IF(ItineraryPrograms!AR17=\"y\",getScoreFactor(\"Program\",BM$2),\"\")","v":""},{"$f":"IF(ItineraryPrograms!AS17=\"y\",getScoreFactor(\"Program\",BN$2),\"\")","v":""},{"$f":"IF(ItineraryPrograms!AU17=\"y\",getScoreFactor(\"Program\",BO$2),\"\")","v":18},{"$f":"IF(ItineraryPrograms!AV17=\"y\",getScoreFactor(\"Program\",BP$2),\"\")","v":7.5},{"$f":"IF(ItineraryPrograms!AW17=\"y\",getScoreFactor(\"Program\",BQ$2),\"\")","v":24.75},{"$f":"IF(ItineraryPrograms!AX17=\"y\",getScoreFactor(\"Program\",BR$2),\"\")","v":15.75},{"$f":"IF(ItineraryPrograms!AY17=\"y\",getScoreFactor(\"Program\",BS$2),\"\")","v":27},{"$f":"IF(ItineraryPrograms!AZ17=\"y\",getScoreFactor(\"Program\",BT$2),\"\")","v":""},{"$f":"IF(ItineraryPrograms!BA17=\"y\",getScoreFactor(\"Program\",BU$2),\"\")","v":""}]
[{"$f":"Itineraries!A18","v":"12-16"},11025.916666666666,{"$f":"getScoreFactor(C$2,itineraryCamps!C19)","v":3166.6666666666665},{"$f":"getScoreFactor(D$2,\"Miles\") *itineraryCamps!D19","v":6500},{"$f":"getScoreFactor(E$2,Itineraries!B18)","v":40},{"$f":"getScoreFactor(F$2,Itineraries!C18)","v":80},{"$f":"getScoreFactor(G$2,Itineraries!E18)","v":125},{"$f":"getScoreFactor(H$2,Itineraries!H18)","v":300},{"$f":"getScoreFactor(I$2,Itineraries!G18)","v":50},{"$f":"getScoreFactor(J$2,Itineraries!J18)","v":70},{"$f":"getScoreFactor(K$2,Itineraries!K18)","v":80},{"$f":"getScoreFactor(L$2,Itineraries!L18)","v":300},{"$f":"IF(INDEX(startingTA,numericItinerary($A18))=$M$2,getScoreFactor(M$2,\"y\"),getScoreFactor(M$2,\"n\"))","v":0},{"$f":"IF(INDEX(startingTA,numericItinerary($A18))=$M$2,getScoreFactor(N$2,\"y\"),getScoreFactor(N$2,\"n\"))","v":0},{"$f":"IF(INDEX(baldyMountainHike,numericItinerary($A18))=\"\",\"\",getPeakScore(O$2))","v":25.5},{"$f":"IF(INDEX(mountPhillipsHike,numericItinerary($A18))=\"\",\"\",getPeakScore(P$2))","v":""},{"$f":"IF(INDEX(toothOfTimeHike,numericItinerary($A18))=\"\",\"\",getPeakScore(Q$2))","v":""},{"$f":"IF(INDEX(trailPeakHike,numericItinerary($A18))=\"\",\"\",getPeakScore(R$2))","v":""},{"$f":"IF(INDEX(mountaineeringHike,numericItinerary($A18))=\"\",\"\",getPeakScore(S$2))","v":""},{"$f":"IF(areaImportant<>\"y\",\"\",IF(Itineraries!P18<>\"Y\",\"\",getareascore(T$2)))","v":""},{"$f":"IF(areaImportant<>\"y\",\"\",IF(Itineraries!Q18<>\"Y\",\"\",getareascore(U$2)))","v":""},{"$f":"IF(areaImportant<>\"y\",\"\",IF(Itineraries!R18<>\"Y\",\"\",getareascore(V$2)))","v":""},{"$f":"IF(areaImportant<>\"y\",\"\",IF(Itineraries!S18<>\"Y\",\"\",getareascore(W$2)))","v":""},{"$f":"IF(ItineraryPrograms!B18=\"y\",getScoreFactor(\"Program\",X$2),\"\")","v":22.5},{"$f":"IF(ItineraryPrograms!C18=\"y\",getScoreFactor(\"Program\",Y$2),\"\")","v":""},{"$f":"IF(ItineraryPrograms!D18=\"y\",getScoreFactor(\"Program\",Z$2),\"\")","v":10.5},{"$f":"IF(ItineraryPrograms!E18=\"y\",getScoreFactor(\"Program\",AA$2),\"\")","v":""},{"$f":"IF(ItineraryPrograms!F18=\"y\",getScoreFactor(\"Program\",AB$2),\"\")","v":12.75},{"$f":"IF(ItineraryPrograms!G18=\"y\",getScoreFactor(\"Program\",AC$2),\"\")","v":14.25},{"$f":"IF(ItineraryPrograms!H18=\"y\",getScoreFactor(\"Program\",AD$2),\"\")","v":""},{"$f":"IF(ItineraryPrograms!I18=\"y\",getScoreFactor(\"Program\",AE$2),\"\")","v":9},{"$f":"IF(ItineraryPrograms!J18=\"y\",getScoreFactor(\"Program\",AF$2),\"\")","v":13.5},{"$f":"IF(ItineraryPrograms!K18=\"y\",getScoreFactor(\"Program\",AG$2),\"\")","v":7.5},{"$f":"IF(ItineraryPrograms!L18=\"y\",getScoreFactor(\"Program\",AH$2),\"\")","v":7.5},{"$f":"IF(ItineraryPrograms!M18=\"y\",getScoreFactor(\"Program\",AI$2),\"\")","v":15.75},{"$f":"IF(ItineraryPrograms!N18=\"y\",getScoreFactor(\"Program\",AJ$2),\"\")","v":6},{"$f":"IF(ItineraryPrograms!O18=\"y\",getScoreFactor(\"Program\",AK$2),\"\")","v":""},{"$f":"IF(ItineraryPrograms!P18=\"y\",getScoreFactor(\"Program\",AL$2),\"\")","v":""},{"$f":"IF(ItineraryPrograms!Q18=\"y\",getScoreFactor(\"Program\",AM$2),\"\")","v":""},{"$f":"IF(ItineraryPrograms!R18=\"y\",getScoreFactor(\"Program\",AN$2),\"\")","v":6},{"$f":"IF(ItineraryPrograms!S18=\"y\",getScoreFactor(\"Program\",AO$2),\"\")","v":15},{"$f":"IF(ItineraryPrograms!T18=\"y\",getScoreFactor(\"Program\",AP$2),\"\")","v":""},{"$f":"IF(ItineraryPrograms!U18=\"y\",getScoreFactor(\"Program\",AQ$2),\"\")","v":""},{"$f":"IF(ItineraryPrograms!V18=\"y\",getScoreFactor(\"Program\",AR$2),\"\")","v":""},{"$f":"IF(ItineraryPrograms!W18=\"y\",getScoreFactor(\"Program\",AS$2),\"\")","v":""},{"$f":"IF(ItineraryPrograms!X18=\"y\",getScoreFactor(\"Program\",AT$2),\"\")","v":""},{"$f":"IF(ItineraryPrograms!Y18=\"y\",getScoreFactor(\"Program\",AU$2),\"\")","v":""},{"$f":"IF(ItineraryPrograms!Z18=\"y\",getScoreFactor(\"Program\",AV$2),\"\")","v":""},{"$f":"IF(ItineraryPrograms!AA18=\"y\",getScoreFactor(\"Program\",AW$2),\"\")","v":""},{"$f":"IF(ItineraryPrograms!AB18=\"y\",getScoreFactor(\"Program\",AX$2),\"\")","v":""},{"$f":"IF(ItineraryPrograms!AC18=\"y\",getScoreFactor(\"Program\",AY$2),\"\")","v":""},{"$f":"IF(ItineraryPrograms!AD18=\"y\",getScoreFactor(\"Program\",AZ$2),\"\")","v":18},{"$f":"IF(ItineraryPrograms!AE18=\"y\",getScoreFactor(\"Program\",BA$2),\"\")","v":""},{"$f":"IF(ItineraryPrograms!AF18=\"y\",getScoreFactor(\"Program\",BB$2),\"\")","v":19.5},{"$f":"IF(ItineraryPrograms!AG18=\"y\",getScoreFactor(\"Program\",BC$2),\"\")","v":""},{"$f":"IF(ItineraryPrograms!AH18=\"y\",getScoreFactor(\"Program\",BD$2),\"\")","v":""},{"$f":"IF(ItineraryPrograms!AI18=\"y\",getScoreFactor(\"Program\",BE$2),\"\")","v":""},{"$f":"IF(ItineraryPrograms!AJ18=\"y\",getScoreFactor(\"Program\",BF$2),\"\")","v":21},{"$f":"IF(ItineraryPrograms!AK18=\"y\",getScoreFactor(\"Program\",BG$2),\"\")","v":""},{"$f":"IF(ItineraryPrograms!AL18=\"y\",getScoreFactor(\"Program\",BH$2),\"\")","v":22.5},{"$f":"IF(ItineraryPrograms!AM18=\"y\",getScoreFactor(\"Program\",BI$2),\"\")","v":""},{"$f":"IF(ItineraryPrograms!AN18=\"y\",getScoreFactor(\"Program\",BJ$2),\"\")","v":15},{"$f":"IF(ItineraryPrograms!AO18=\"y\",getScoreFactor(\"Program\",BK$2),\"\")","v":""},{"$f":"IF(ItineraryPrograms!AP18=\"y\",getScoreFactor(\"Program\",BL$2),\"\")","v":""},{"$f":"IF(ItineraryPrograms!AR18=\"y\",getScoreFactor(\"Program\",BM$2),\"\")","v":""},{"$f":"IF(ItineraryPrograms!AS18=\"y\",getScoreFactor(\"Program\",BN$2),\"\")","v":""},{"$f":"IF(ItineraryPrograms!AU18=\"y\",getScoreFactor(\"Program\",BO$2),\"\")","v":18},{"$f":"IF(ItineraryPrograms!AV18=\"y\",getScoreFactor(\"Program\",BP$2),\"\")","v":7.5},{"$f":"IF(ItineraryPrograms!AW18=\"y\",getScoreFactor(\"Program\",BQ$2),\"\")","v":""},{"$f":"IF(ItineraryPrograms!AX18=\"y\",getScoreFactor(\"Program\",BR$2),\"\")","v":""},{"$f":"IF(ItineraryPrograms!AY18=\"y\",getScoreFactor(\"Program\",BS$2),\"\")","v":27},{"$f":"IF(ItineraryPrograms!AZ18=\"y\",getScoreFactor(\"Program\",BT$2),\"\")","v":""},{"$f":"IF(ItineraryPrograms!BA18=\"y\",getScoreFactor(\"Program\",BU$2),\"\")","v":""}]
[{"$f":"Itineraries!A19","v":"12-17"},11968.166666666666,{"$f":"getScoreFactor(C$2,itineraryCamps!C20)","v":3166.6666666666665},{"$f":"getScoreFactor(D$2,\"Miles\") *itineraryCamps!D20","v":6500},{"$f":"getScoreFactor(E$2,Itineraries!B19)","v":50},{"$f":"getScoreFactor(F$2,Itineraries!C19)","v":70},{"$f":"getScoreFactor(G$2,Itineraries!E19)","v":100},{"$f":"getScoreFactor(H$2,Itineraries!H19)","v":200},{"$f":"getScoreFactor(I$2,Itineraries!G19)","v":50},{"$f":"getScoreFactor(J$2,Itineraries!J19)","v":110},{"$f":"getScoreFactor(K$2,Itineraries!K19)","v":100},{"$f":"getScoreFactor(L$2,Itineraries!L19)","v":200},{"$f":"IF(INDEX(startingTA,numericItinerary($A19))=$M$2,getScoreFactor(M$2,\"y\"),getScoreFactor(M$2,\"n\"))","v":500},{"$f":"IF(INDEX(startingTA,numericItinerary($A19))=$M$2,getScoreFactor(N$2,\"y\"),getScoreFactor(N$2,\"n\"))","v":500},{"$f":"IF(INDEX(baldyMountainHike,numericItinerary($A19))=\"\",\"\",getPeakScore(O$2))","v":""},{"$f":"IF(INDEX(mountPhillipsHike,numericItinerary($A19))=\"\",\"\",getPeakScore(P$2))","v":11.25},{"$f":"IF(INDEX(toothOfTimeHike,numericItinerary($A19))=\"\",\"\",getPeakScore(Q$2))","v":40.5},{"$f":"IF(INDEX(trailPeakHike,numericItinerary($A19))=\"\",\"\",getPeakScore(R$2))","v":""},{"$f":"IF(INDEX(mountaineeringHike,numericItinerary($A19))=\"\",\"\",getPeakScore(S$2))","v":0},{"$f":"IF(areaImportant<>\"y\",\"\",IF(Itineraries!P19<>\"Y\",\"\",getareascore(T$2)))","v":""},{"$f":"IF(areaImportant<>\"y\",\"\",IF(Itineraries!Q19<>\"Y\",\"\",getareascore(U$2)))","v":""},{"$f":"IF(areaImportant<>\"y\",\"\",IF(Itineraries!R19<>\"Y\",\"\",getareascore(V$2)))","v":""},{"$f":"IF(areaImportant<>\"y\",\"\",IF(Itineraries!S19<>\"Y\",\"\",getareascore(W$2)))","v":""},{"$f":"IF(ItineraryPrograms!B19=\"y\",getScoreFactor(\"Program\",X$2),\"\")","v":""},{"$f":"IF(ItineraryPrograms!C19=\"y\",getScoreFactor(\"Program\",Y$2),\"\")","v":30},{"$f":"IF(ItineraryPrograms!D19=\"y\",getScoreFactor(\"Program\",Z$2),\"\")","v":""},{"$f":"IF(ItineraryPrograms!E19=\"y\",getScoreFactor(\"Program\",AA$2),\"\")","v":""},{"$f":"IF(ItineraryPrograms!F19=\"y\",getScoreFactor(\"Program\",AB$2),\"\")","v":""},{"$f":"IF(ItineraryPrograms!G19=\"y\",getScoreFactor(\"Program\",AC$2),\"\")","v":14.25},{"$f":"IF(ItineraryPrograms!H19=\"y\",getScoreFactor(\"Program\",AD$2),\"\")","v":""},{"$f":"IF(ItineraryPrograms!I19=\"y\",getScoreFactor(\"Program\",AE$2),\"\")","v":""},{"$f":"IF(ItineraryPrograms!J19=\"y\",getScoreFactor(\"Program\",AF$2),\"\")","v":13.5},{"$f":"IF(ItineraryPrograms!K19=\"y\",getScoreFactor(\"Program\",AG$2),\"\")","v":""},{"$f":"IF(ItineraryPrograms!L19=\"y\",getScoreFactor(\"Program\",AH$2),\"\")","v":7.5},{"$f":"IF(ItineraryPrograms!M19=\"y\",getScoreFactor(\"Program\",AI$2),\"\")","v":15.75},{"$f":"IF(ItineraryPrograms!N19=\"y\",getScoreFactor(\"Program\",AJ$2),\"\")","v":""},{"$f":"IF(ItineraryPrograms!O19=\"y\",getScoreFactor(\"Program\",AK$2),\"\")","v":10.5},{"$f":"IF(ItineraryPrograms!P19=\"y\",getScoreFactor(\"Program\",AL$2),\"\")","v":7.5},{"$f":"IF(ItineraryPrograms!Q19=\"y\",getScoreFactor(\"Program\",AM$2),\"\")","v":12},{"$f":"IF(ItineraryPrograms!R19=\"y\",getScoreFactor(\"Program\",AN$2),\"\")","v":""},{"$f":"IF(ItineraryPrograms!S19=\"y\",getScoreFactor(\"Program\",AO$2),\"\")","v":15},{"$f":"IF(ItineraryPrograms!T19=\"y\",getScoreFactor(\"Program\",AP$2),\"\")","v":""},{"$f":"IF(ItineraryPrograms!U19=\"y\",getScoreFactor(\"Program\",AQ$2),\"\")","v":""},{"$f":"IF(ItineraryPrograms!V19=\"y\",getScoreFactor(\"Program\",AR$2),\"\")","v":6},{"$f":"IF(ItineraryPrograms!W19=\"y\",getScoreFactor(\"Program\",AS$2),\"\")","v":9.75},{"$f":"IF(ItineraryPrograms!X19=\"y\",getScoreFactor(\"Program\",AT$2),\"\")","v":""},{"$f":"IF(ItineraryPrograms!Y19=\"y\",getScoreFactor(\"Program\",AU$2),\"\")","v":22.5},{"$f":"IF(ItineraryPrograms!Z19=\"y\",getScoreFactor(\"Program\",AV$2),\"\")","v":18.75},{"$f":"IF(ItineraryPrograms!AA19=\"y\",getScoreFactor(\"Program\",AW$2),\"\")","v":""},{"$f":"IF(ItineraryPrograms!AB19=\"y\",getScoreFactor(\"Program\",AX$2),\"\")","v":""},{"$f":"IF(ItineraryPrograms!AC19=\"y\",getScoreFactor(\"Program\",AY$2),\"\")","v":18},{"$f":"IF(ItineraryPrograms!AD19=\"y\",getScoreFactor(\"Program\",AZ$2),\"\")","v":""},{"$f":"IF(ItineraryPrograms!AE19=\"y\",getScoreFactor(\"Program\",BA$2),\"\")","v":""},{"$f":"IF(ItineraryPrograms!AF19=\"y\",getScoreFactor(\"Program\",BB$2),\"\")","v":19.5},{"$f":"IF(ItineraryPrograms!AG19=\"y\",getScoreFactor(\"Program\",BC$2),\"\")","v":7.5},{"$f":"IF(ItineraryPrograms!AH19=\"y\",getScoreFactor(\"Program\",BD$2),\"\")","v":""},{"$f":"IF(ItineraryPrograms!AI19=\"y\",getScoreFactor(\"Program\",BE$2),\"\")","v":18},{"$f":"IF(ItineraryPrograms!AJ19=\"y\",getScoreFactor(\"Program\",BF$2),\"\")","v":""},{"$f":"IF(ItineraryPrograms!AK19=\"y\",getScoreFactor(\"Program\",BG$2),\"\")","v":""},{"$f":"IF(ItineraryPrograms!AL19=\"y\",getScoreFactor(\"Program\",BH$2),\"\")","v":""},{"$f":"IF(ItineraryPrograms!AM19=\"y\",getScoreFactor(\"Program\",BI$2),\"\")","v":""},{"$f":"IF(ItineraryPrograms!AN19=\"y\",getScoreFactor(\"Program\",BJ$2),\"\")","v":""},{"$f":"IF(ItineraryPrograms!AO19=\"y\",getScoreFactor(\"Program\",BK$2),\"\")","v":9},{"$f":"IF(ItineraryPrograms!AP19=\"y\",getScoreFactor(\"Program\",BL$2),\"\")","v":19.5},{"$f":"IF(ItineraryPrograms!AR19=\"y\",getScoreFactor(\"Program\",BM$2),\"\")","v":18},{"$f":"IF(ItineraryPrograms!AS19=\"y\",getScoreFactor(\"Program\",BN$2),\"\")","v":""},{"$f":"IF(ItineraryPrograms!AU19=\"y\",getScoreFactor(\"Program\",BO$2),\"\")","v":18},{"$f":"IF(ItineraryPrograms!AV19=\"y\",getScoreFactor(\"Program\",BP$2),\"\")","v":7.5},{"$f":"IF(ItineraryPrograms!AW19=\"y\",getScoreFactor(\"Program\",BQ$2),\"\")","v":24.75},{"$f":"IF(ItineraryPrograms!AX19=\"y\",getScoreFactor(\"Program\",BR$2),\"\")","v":""},{"$f":"IF(ItineraryPrograms!AY19=\"y\",getScoreFactor(\"Program\",BS$2),\"\")","v":27},{"$f":"IF(ItineraryPrograms!AZ19=\"y\",getScoreFactor(\"Program\",BT$2),\"\")","v":""},{"$f":"IF(ItineraryPrograms!BA19=\"y\",getScoreFactor(\"Program\",BU$2),\"\")","v":""}]
[{"$f":"Itineraries!A20","v":"12-18"},10020.083333333332,{"$f":"getScoreFactor(C$2,itineraryCamps!C21)","v":2333.333333333333},{"$f":"getScoreFactor(D$2,\"Miles\") *itineraryCamps!D21","v":6600},{"$f":"getScoreFactor(E$2,Itineraries!B20)","v":50},{"$f":"getScoreFactor(F$2,Itineraries!C20)","v":70},{"$f":"getScoreFactor(G$2,Itineraries!E20)","v":75},{"$f":"getScoreFactor(H$2,Itineraries!H20)","v":300},{"$f":"getScoreFactor(I$2,Itineraries!G20)","v":60},{"$f":"getScoreFactor(J$2,Itineraries!J20)","v":50},{"$f":"getScoreFactor(K$2,Itineraries!K20)","v":60},{"$f":"getScoreFactor(L$2,Itineraries!L20)","v":100},{"$f":"IF(INDEX(startingTA,numericItinerary($A20))=$M$2,getScoreFactor(M$2,\"y\"),getScoreFactor(M$2,\"n\"))","v":0},{"$f":"IF(INDEX(startingTA,numericItinerary($A20))=$M$2,getScoreFactor(N$2,\"y\"),getScoreFactor(N$2,\"n\"))","v":0},{"$f":"IF(INDEX(baldyMountainHike,numericItinerary($A20))=\"\",\"\",getPeakScore(O$2))","v":25.5},{"$f":"IF(INDEX(mountPhillipsHike,numericItinerary($A20))=\"\",\"\",getPeakScore(P$2))","v":""},{"$f":"IF(INDEX(toothOfTimeHike,numericItinerary($A20))=\"\",\"\",getPeakScore(Q$2))","v":""},{"$f":"IF(INDEX(trailPeakHike,numericItinerary($A20))=\"\",\"\",getPeakScore(R$2))","v":""},{"$f":"IF(INDEX(mountaineeringHike,numericItinerary($A20))=\"\",\"\",getPeakScore(S$2))","v":""},{"$f":"IF(areaImportant<>\"y\",\"\",IF(Itineraries!P20<>\"Y\",\"\",getareascore(T$2)))","v":""},{"$f":"IF(areaImportant<>\"y\",\"\",IF(Itineraries!Q20<>\"Y\",\"\",getareascore(U$2)))","v":""},{"$f":"IF(areaImportant<>\"y\",\"\",IF(Itineraries!R20<>\"Y\",\"\",getareascore(V$2)))","v":""},{"$f":"IF(areaImportant<>\"y\",\"\",IF(Itineraries!S20<>\"Y\",\"\",getareascore(W$2)))","v":""},{"$f":"IF(ItineraryPrograms!B20=\"y\",getScoreFactor(\"Program\",X$2),\"\")","v":22.5},{"$f":"IF(ItineraryPrograms!C20=\"y\",getScoreFactor(\"Program\",Y$2),\"\")","v":""},{"$f":"IF(ItineraryPrograms!D20=\"y\",getScoreFactor(\"Program\",Z$2),\"\")","v":10.5},{"$f":"IF(ItineraryPrograms!E20=\"y\",getScoreFactor(\"Program\",AA$2),\"\")","v":27},{"$f":"IF(ItineraryPrograms!F20=\"y\",getScoreFactor(\"Program\",AB$2),\"\")","v":12.75},{"$f":"IF(ItineraryPrograms!G20=\"y\",getScoreFactor(\"Program\",AC$2),\"\")","v":14.25},{"$f":"IF(ItineraryPrograms!H20=\"y\",getScoreFactor(\"Program\",AD$2),\"\")","v":14.25},{"$f":"IF(ItineraryPrograms!I20=\"y\",getScoreFactor(\"Program\",AE$2),\"\")","v":""},{"$f":"IF(ItineraryPrograms!J20=\"y\",getScoreFactor(\"Program\",AF$2),\"\")","v":13.5},{"$f":"IF(ItineraryPrograms!K20=\"y\",getScoreFactor(\"Program\",AG$2),\"\")","v":""},{"$f":"IF(ItineraryPrograms!L20=\"y\",getScoreFactor(\"Program\",AH$2),\"\")","v":7.5},{"$f":"IF(ItineraryPrograms!M20=\"y\",getScoreFactor(\"Program\",AI$2),\"\")","v":""},{"$f":"IF(ItineraryPrograms!N20=\"y\",getScoreFactor(\"Program\",AJ$2),\"\")","v":""},{"$f":"IF(ItineraryPrograms!O20=\"y\",getScoreFactor(\"Program\",AK$2),\"\")","v":""},{"$f":"IF(ItineraryPrograms!P20=\"y\",getScoreFactor(\"Program\",AL$2),\"\")","v":""},{"$f":"IF(ItineraryPrograms!Q20=\"y\",getScoreFactor(\"Program\",AM$2),\"\")","v":""},{"$f":"IF(ItineraryPrograms!R20=\"y\",getScoreFactor(\"Program\",AN$2),\"\")","v":6},{"$f":"IF(ItineraryPrograms!S20=\"y\",getScoreFactor(\"Program\",AO$2),\"\")","v":15},{"$f":"IF(ItineraryPrograms!T20=\"y\",getScoreFactor(\"Program\",AP$2),\"\")","v":""},{"$f":"IF(ItineraryPrograms!U20=\"y\",getScoreFactor(\"Program\",AQ$2),\"\")","v":""},{"$f":"IF(ItineraryPrograms!V20=\"y\",getScoreFactor(\"Program\",AR$2),\"\")","v":6},{"$f":"IF(ItineraryPrograms!W20=\"y\",getScoreFactor(\"Program\",AS$2),\"\")","v":""},{"$f":"IF(ItineraryPrograms!X20=\"y\",getScoreFactor(\"Program\",AT$2),\"\")","v":""},{"$f":"IF(ItineraryPrograms!Y20=\"y\",getScoreFactor(\"Program\",AU$2),\"\")","v":""},{"$f":"IF(ItineraryPrograms!Z20=\"y\",getScoreFactor(\"Program\",AV$2),\"\")","v":""},{"$f":"IF(ItineraryPrograms!AA20=\"y\",getScoreFactor(\"Program\",AW$2),\"\")","v":""},{"$f":"IF(ItineraryPrograms!AB20=\"y\",getScoreFactor(\"Program\",AX$2),\"\")","v":""},{"$f":"IF(ItineraryPrograms!AC20=\"y\",getScoreFactor(\"Program\",AY$2),\"\")","v":18},{"$f":"IF(ItineraryPrograms!AD20=\"y\",getScoreFactor(\"Program\",AZ$2),\"\")","v":18},{"$f":"IF(ItineraryPrograms!AE20=\"y\",getScoreFactor(\"Program\",BA$2),\"\")","v":""},{"$f":"IF(ItineraryPrograms!AF20=\"y\",getScoreFactor(\"Program\",BB$2),\"\")","v":""},{"$f":"IF(ItineraryPrograms!AG20=\"y\",getScoreFactor(\"Program\",BC$2),\"\")","v":""},{"$f":"IF(ItineraryPrograms!AH20=\"y\",getScoreFactor(\"Program\",BD$2),\"\")","v":18},{"$f":"IF(ItineraryPrograms!AI20=\"y\",getScoreFactor(\"Program\",BE$2),\"\")","v":""},{"$f":"IF(ItineraryPrograms!AJ20=\"y\",getScoreFactor(\"Program\",BF$2),\"\")","v":21},{"$f":"IF(ItineraryPrograms!AK20=\"y\",getScoreFactor(\"Program\",BG$2),\"\")","v":""},{"$f":"IF(ItineraryPrograms!AL20=\"y\",getScoreFactor(\"Program\",BH$2),\"\")","v":22.5},{"$f":"IF(ItineraryPrograms!AM20=\"y\",getScoreFactor(\"Program\",BI$2),\"\")","v":""},{"$f":"IF(ItineraryPrograms!AN20=\"y\",getScoreFactor(\"Program\",BJ$2),\"\")","v":15},{"$f":"IF(ItineraryPrograms!AO20=\"y\",getScoreFactor(\"Program\",BK$2),\"\")","v":9},{"$f":"IF(ItineraryPrograms!AP20=\"y\",getScoreFactor(\"Program\",BL$2),\"\")","v":""},{"$f":"IF(ItineraryPrograms!AR20=\"y\",getScoreFactor(\"Program\",BM$2),\"\")","v":""},{"$f":"IF(ItineraryPrograms!AS20=\"y\",getScoreFactor(\"Program\",BN$2),\"\")","v":""},{"$f":"IF(ItineraryPrograms!AU20=\"y\",getScoreFactor(\"Program\",BO$2),\"\")","v":18},{"$f":"IF(ItineraryPrograms!AV20=\"y\",getScoreFactor(\"Program\",BP$2),\"\")","v":7.5},{"$f":"IF(ItineraryPrograms!AW20=\"y\",getScoreFactor(\"Program\",BQ$2),\"\")","v":""},{"$f":"IF(ItineraryPrograms!AX20=\"y\",getScoreFactor(\"Program\",BR$2),\"\")","v":""},{"$f":"IF(ItineraryPrograms!AY20=\"y\",getScoreFactor(\"Program\",BS$2),\"\")","v":""},{"$f":"IF(ItineraryPrograms!AZ20=\"y\",getScoreFactor(\"Program\",BT$2),\"\")","v":""},{"$f":"IF(ItineraryPrograms!BA20=\"y\",getScoreFactor(\"Program\",BU$2),\"\")","v":""}]
[{"$f":"Itineraries!A21","v":"12-19"},11139.833333333332,{"$f":"getScoreFactor(C$2,itineraryCamps!C22)","v":2333.333333333333},{"$f":"getScoreFactor(D$2,\"Miles\") *itineraryCamps!D22","v":6600},{"$f":"getScoreFactor(E$2,Itineraries!B21)","v":30},{"$f":"getScoreFactor(F$2,Itineraries!C21)","v":90},{"$f":"getScoreFactor(G$2,Itineraries!E21)","v":75},{"$f":"getScoreFactor(H$2,Itineraries!H21)","v":200},{"$f":"getScoreFactor(I$2,Itineraries!G21)","v":50},{"$f":"getScoreFactor(J$2,Itineraries!J21)","v":110},{"$f":"getScoreFactor(K$2,Itineraries!K21)","v":90},{"$f":"getScoreFactor(L$2,Itineraries!L21)","v":200},{"$f":"IF(INDEX(startingTA,numericItinerary($A21))=$M$2,getScoreFactor(M$2,\"y\"),getScoreFactor(M$2,\"n\"))","v":500},{"$f":"IF(INDEX(startingTA,numericItinerary($A21))=$M$2,getScoreFactor(N$2,\"y\"),getScoreFactor(N$2,\"n\"))","v":500},{"$f":"IF(INDEX(baldyMountainHike,numericItinerary($A21))=\"\",\"\",getPeakScore(O$2))","v":""},{"$f":"IF(INDEX(mountPhillipsHike,numericItinerary($A21))=\"\",\"\",getPeakScore(P$2))","v":11.25},{"$f":"IF(INDEX(toothOfTimeHike,numericItinerary($A21))=\"\",\"\",getPeakScore(Q$2))","v":40.5},{"$f":"IF(INDEX(trailPeakHike,numericItinerary($A21))=\"\",\"\",getPeakScore(R$2))","v":""},{"$f":"IF(INDEX(mountaineeringHike,numericItinerary($A21))=\"\",\"\",getPeakScore(S$2))","v":""},{"$f":"IF(areaImportant<>\"y\",\"\",IF(Itineraries!P21<>\"Y\",\"\",getareascore(T$2)))","v":""},{"$f":"IF(areaImportant<>\"y\",\"\",IF(Itineraries!Q21<>\"Y\",\"\",getareascore(U$2)))","v":""},{"$f":"IF(areaImportant<>\"y\",\"\",IF(Itineraries!R21<>\"Y\",\"\",getareascore(V$2)))","v":""},{"$f":"IF(areaImportant<>\"y\",\"\",IF(Itineraries!S21<>\"Y\",\"\",getareascore(W$2)))","v":""},{"$f":"IF(ItineraryPrograms!B21=\"y\",getScoreFactor(\"Program\",X$2),\"\")","v":""},{"$f":"IF(ItineraryPrograms!C21=\"y\",getScoreFactor(\"Program\",Y$2),\"\")","v":30},{"$f":"IF(ItineraryPrograms!D21=\"y\",getScoreFactor(\"Program\",Z$2),\"\")","v":""},{"$f":"IF(ItineraryPrograms!E21=\"y\",getScoreFactor(\"Program\",AA$2),\"\")","v":""},{"$f":"IF(ItineraryPrograms!F21=\"y\",getScoreFactor(\"Program\",AB$2),\"\")","v":""},{"$f":"IF(ItineraryPrograms!G21=\"y\",getScoreFactor(\"Program\",AC$2),\"\")","v":14.25},{"$f":"IF(ItineraryPrograms!H21=\"y\",getScoreFactor(\"Program\",AD$2),\"\")","v":""},{"$f":"IF(ItineraryPrograms!I21=\"y\",getScoreFactor(\"Program\",AE$2),\"\")","v":""},{"$f":"IF(ItineraryPrograms!J21=\"y\",getScoreFactor(\"Program\",AF$2),\"\")","v":13.5},{"$f":"IF(ItineraryPrograms!K21=\"y\",getScoreFactor(\"Program\",AG$2),\"\")","v":7.5},{"$f":"IF(ItineraryPrograms!L21=\"y\",getScoreFactor(\"Program\",AH$2),\"\")","v":7.5},{"$f":"IF(ItineraryPrograms!M21=\"y\",getScoreFactor(\"Program\",AI$2),\"\")","v":""},{"$f":"IF(ItineraryPrograms!N21=\"y\",getScoreFactor(\"Program\",AJ$2),\"\")","v":""},{"$f":"IF(ItineraryPrograms!O21=\"y\",getScoreFactor(\"Program\",AK$2),\"\")","v":10.5},{"$f":"IF(ItineraryPrograms!P21=\"y\",getScoreFactor(\"Program\",AL$2),\"\")","v":""},{"$f":"IF(ItineraryPrograms!Q21=\"y\",getScoreFactor(\"Program\",AM$2),\"\")","v":""},{"$f":"IF(ItineraryPrograms!R21=\"y\",getScoreFactor(\"Program\",AN$2),\"\")","v":""},{"$f":"IF(ItineraryPrograms!S21=\"y\",getScoreFactor(\"Program\",AO$2),\"\")","v":15},{"$f":"IF(ItineraryPrograms!T21=\"y\",getScoreFactor(\"Program\",AP$2),\"\")","v":6},{"$f":"IF(ItineraryPrograms!U21=\"y\",getScoreFactor(\"Program\",AQ$2),\"\")","v":""},{"$f":"IF(ItineraryPrograms!V21=\"y\",getScoreFactor(\"Program\",AR$2),\"\")","v":6},{"$f":"IF(ItineraryPrograms!W21=\"y\",getScoreFactor(\"Program\",AS$2),\"\")","v":""},{"$f":"IF(ItineraryPrograms!X21=\"y\",getScoreFactor(\"Program\",AT$2),\"\")","v":""},{"$f":"IF(ItineraryPrograms!Y21=\"y\",getScoreFactor(\"Program\",AU$2),\"\")","v":""},{"$f":"IF(ItineraryPrograms!Z21=\"y\",getScoreFactor(\"Program\",AV$2),\"\")","v":18.75},{"$f":"IF(ItineraryPrograms!AA21=\"y\",getScoreFactor(\"Program\",AW$2),\"\")","v":""},{"$f":"IF(ItineraryPrograms!AB21=\"y\",getScoreFactor(\"Program\",AX$2),\"\")","v":""},{"$f":"IF(ItineraryPrograms!AC21=\"y\",getScoreFactor(\"Program\",AY$2),\"\")","v":18},{"$f":"IF(ItineraryPrograms!AD21=\"y\",getScoreFactor(\"Program\",AZ$2),\"\")","v":""},{"$f":"IF(ItineraryPrograms!AE21=\"y\",getScoreFactor(\"Program\",BA$2),\"\")","v":""},{"$f":"IF(ItineraryPrograms!AF21=\"y\",getScoreFactor(\"Program\",BB$2),\"\")","v":19.5},{"$f":"IF(ItineraryPrograms!AG21=\"y\",getScoreFactor(\"Program\",BC$2),\"\")","v":7.5},{"$f":"IF(ItineraryPrograms!AH21=\"y\",getScoreFactor(\"Program\",BD$2),\"\")","v":""},{"$f":"IF(ItineraryPrograms!AI21=\"y\",getScoreFactor(\"Program\",BE$2),\"\")","v":""},{"$f":"IF(ItineraryPrograms!AJ21=\"y\",getScoreFactor(\"Program\",BF$2),\"\")","v":21},{"$f":"IF(ItineraryPrograms!AK21=\"y\",getScoreFactor(\"Program\",BG$2),\"\")","v":27},{"$f":"IF(ItineraryPrograms!AL21=\"y\",getScoreFactor(\"Program\",BH$2),\"\")","v":""},{"$f":"IF(ItineraryPrograms!AM21=\"y\",getScoreFactor(\"Program\",BI$2),\"\")","v":""},{"$f":"IF(ItineraryPrograms!AN21=\"y\",getScoreFactor(\"Program\",BJ$2),\"\")","v":""},{"$f":"IF(ItineraryPrograms!AO21=\"y\",getScoreFactor(\"Program\",BK$2),\"\")","v":9},{"$f":"IF(ItineraryPrograms!AP21=\"y\",getScoreFactor(\"Program\",BL$2),\"\")","v":19.5},{"$f":"IF(ItineraryPrograms!AR21=\"y\",getScoreFactor(\"Program\",BM$2),\"\")","v":""},{"$f":"IF(ItineraryPrograms!AS21=\"y\",getScoreFactor(\"Program\",BN$2),\"\")","v":""},{"$f":"IF(ItineraryPrograms!AU21=\"y\",getScoreFactor(\"Program\",BO$2),\"\")","v":""},{"$f":"IF(ItineraryPrograms!AV21=\"y\",getScoreFactor(\"Program\",BP$2),\"\")","v":7.5},{"$f":"IF(ItineraryPrograms!AW21=\"y\",getScoreFactor(\"Program\",BQ$2),\"\")","v":24.75},{"$f":"IF(ItineraryPrograms!AX21=\"y\",getScoreFactor(\"Program\",BR$2),\"\")","v":""},{"$f":"IF(ItineraryPrograms!AY21=\"y\",getScoreFactor(\"Program\",BS$2),\"\")","v":27},{"$f":"IF(ItineraryPrograms!AZ21=\"y\",getScoreFactor(\"Program\",BT$2),\"\")","v":""},{"$f":"IF(ItineraryPrograms!BA21=\"y\",getScoreFactor(\"Program\",BU$2),\"\")","v":""}]
[{"$f":"Itineraries!A22","v":"12-20"},10077.833333333332,{"$f":"getScoreFactor(C$2,itineraryCamps!C23)","v":2333.333333333333},{"$f":"getScoreFactor(D$2,\"Miles\") *itineraryCamps!D23","v":6600},{"$f":"getScoreFactor(E$2,Itineraries!B22)","v":20},{"$f":"getScoreFactor(F$2,Itineraries!C22)","v":80},{"$f":"getScoreFactor(G$2,Itineraries!E22)","v":75},{"$f":"getScoreFactor(H$2,Itineraries!H22)","v":225},{"$f":"getScoreFactor(I$2,Itineraries!G22)","v":60},{"$f":"getScoreFactor(J$2,Itineraries!J22)","v":50},{"$f":"getScoreFactor(K$2,Itineraries!K22)","v":60},{"$f":"getScoreFactor(L$2,Itineraries!L22)","v":300},{"$f":"IF(INDEX(startingTA,numericItinerary($A22))=$M$2,getScoreFactor(M$2,\"y\"),getScoreFactor(M$2,\"n\"))","v":0},{"$f":"IF(INDEX(startingTA,numericItinerary($A22))=$M$2,getScoreFactor(N$2,\"y\"),getScoreFactor(N$2,\"n\"))","v":0},{"$f":"IF(INDEX(baldyMountainHike,numericItinerary($A22))=\"\",\"\",getPeakScore(O$2))","v":25.5},{"$f":"IF(INDEX(mountPhillipsHike,numericItinerary($A22))=\"\",\"\",getPeakScore(P$2))","v":""},{"$f":"IF(INDEX(toothOfTimeHike,numericItinerary($A22))=\"\",\"\",getPeakScore(Q$2))","v":""},{"$f":"IF(INDEX(trailPeakHike,numericItinerary($A22))=\"\",\"\",getPeakScore(R$2))","v":""},{"$f":"IF(INDEX(mountaineeringHike,numericItinerary($A22))=\"\",\"\",getPeakScore(S$2))","v":""},{"$f":"IF(areaImportant<>\"y\",\"\",IF(Itineraries!P22<>\"Y\",\"\",getareascore(T$2)))","v":""},{"$f":"IF(areaImportant<>\"y\",\"\",IF(Itineraries!Q22<>\"Y\",\"\",getareascore(U$2)))","v":""},{"$f":"IF(areaImportant<>\"y\",\"\",IF(Itineraries!R22<>\"Y\",\"\",getareascore(V$2)))","v":""},{"$f":"IF(areaImportant<>\"y\",\"\",IF(Itineraries!S22<>\"Y\",\"\",getareascore(W$2)))","v":""},{"$f":"IF(ItineraryPrograms!B22=\"y\",getScoreFactor(\"Program\",X$2),\"\")","v":""},{"$f":"IF(ItineraryPrograms!C22=\"y\",getScoreFactor(\"Program\",Y$2),\"\")","v":30},{"$f":"IF(ItineraryPrograms!D22=\"y\",getScoreFactor(\"Program\",Z$2),\"\")","v":""},{"$f":"IF(ItineraryPrograms!E22=\"y\",getScoreFactor(\"Program\",AA$2),\"\")","v":""},{"$f":"IF(ItineraryPrograms!F22=\"y\",getScoreFactor(\"Program\",AB$2),\"\")","v":12.75},{"$f":"IF(ItineraryPrograms!G22=\"y\",getScoreFactor(\"Program\",AC$2),\"\")","v":14.25},{"$f":"IF(ItineraryPrograms!H22=\"y\",getScoreFactor(\"Program\",AD$2),\"\")","v":""},{"$f":"IF(ItineraryPrograms!I22=\"y\",getScoreFactor(\"Program\",AE$2),\"\")","v":""},{"$f":"IF(ItineraryPrograms!J22=\"y\",getScoreFactor(\"Program\",AF$2),\"\")","v":13.5},{"$f":"IF(ItineraryPrograms!K22=\"y\",getScoreFactor(\"Program\",AG$2),\"\")","v":7.5},{"$f":"IF(ItineraryPrograms!L22=\"y\",getScoreFactor(\"Program\",AH$2),\"\")","v":7.5},{"$f":"IF(ItineraryPrograms!M22=\"y\",getScoreFactor(\"Program\",AI$2),\"\")","v":15.75},{"$f":"IF(ItineraryPrograms!N22=\"y\",getScoreFactor(\"Program\",AJ$2),\"\")","v":""},{"$f":"IF(ItineraryPrograms!O22=\"y\",getScoreFactor(\"Program\",AK$2),\"\")","v":""},{"$f":"IF(ItineraryPrograms!P22=\"y\",getScoreFactor(\"Program\",AL$2),\"\")","v":""},{"$f":"IF(ItineraryPrograms!Q22=\"y\",getScoreFactor(\"Program\",AM$2),\"\")","v":""},{"$f":"IF(ItineraryPrograms!R22=\"y\",getScoreFactor(\"Program\",AN$2),\"\")","v":6},{"$f":"IF(ItineraryPrograms!S22=\"y\",getScoreFactor(\"Program\",AO$2),\"\")","v":15},{"$f":"IF(ItineraryPrograms!T22=\"y\",getScoreFactor(\"Program\",AP$2),\"\")","v":""},{"$f":"IF(ItineraryPrograms!U22=\"y\",getScoreFactor(\"Program\",AQ$2),\"\")","v":""},{"$f":"IF(ItineraryPrograms!V22=\"y\",getScoreFactor(\"Program\",AR$2),\"\")","v":""},{"$f":"IF(ItineraryPrograms!W22=\"y\",getScoreFactor(\"Program\",AS$2),\"\")","v":9.75},{"$f":"IF(ItineraryPrograms!X22=\"y\",getScoreFactor(\"Program\",AT$2),\"\")","v":""},{"$f":"IF(ItineraryPrograms!Y22=\"y\",getScoreFactor(\"Program\",AU$2),\"\")","v":""},{"$f":"IF(ItineraryPrograms!Z22=\"y\",getScoreFactor(\"Program\",AV$2),\"\")","v":""},{"$f":"IF(ItineraryPrograms!AA22=\"y\",getScoreFactor(\"Program\",AW$2),\"\")","v":""},{"$f":"IF(ItineraryPrograms!AB22=\"y\",getScoreFactor(\"Program\",AX$2),\"\")","v":18},{"$f":"IF(ItineraryPrograms!AC22=\"y\",getScoreFactor(\"Program\",AY$2),\"\")","v":""},{"$f":"IF(ItineraryPrograms!AD22=\"y\",getScoreFactor(\"Program\",AZ$2),\"\")","v":""},{"$f":"IF(ItineraryPrograms!AE22=\"y\",getScoreFactor(\"Program\",BA$2),\"\")","v":""},{"$f":"IF(ItineraryPrograms!AF22=\"y\",getScoreFactor(\"Program\",BB$2),\"\")","v":19.5},{"$f":"IF(ItineraryPrograms!AG22=\"y\",getScoreFactor(\"Program\",BC$2),\"\")","v":""},{"$f":"IF(ItineraryPrograms!AH22=\"y\",getScoreFactor(\"Program\",BD$2),\"\")","v":""},{"$f":"IF(ItineraryPrograms!AI22=\"y\",getScoreFactor(\"Program\",BE$2),\"\")","v":""},{"$f":"IF(ItineraryPrograms!AJ22=\"y\",getScoreFactor(\"Program\",BF$2),\"\")","v":""},{"$f":"IF(ItineraryPrograms!AK22=\"y\",getScoreFactor(\"Program\",BG$2),\"\")","v":""},{"$f":"IF(ItineraryPrograms!AL22=\"y\",getScoreFactor(\"Program\",BH$2),\"\")","v":""},{"$f":"IF(ItineraryPrograms!AM22=\"y\",getScoreFactor(\"Program\",BI$2),\"\")","v":""},{"$f":"IF(ItineraryPrograms!AN22=\"y\",getScoreFactor(\"Program\",BJ$2),\"\")","v":""},{"$f":"IF(ItineraryPrograms!AO22=\"y\",getScoreFactor(\"Program\",BK$2),\"\")","v":9},{"$f":"IF(ItineraryPrograms!AP22=\"y\",getScoreFactor(\"Program\",BL$2),\"\")","v":""},{"$f":"IF(ItineraryPrograms!AR22=\"y\",getScoreFactor(\"Program\",BM$2),\"\")","v":""},{"$f":"IF(ItineraryPrograms!AS22=\"y\",getScoreFactor(\"Program\",BN$2),\"\")","v":18},{"$f":"IF(ItineraryPrograms!AU22=\"y\",getScoreFactor(\"Program\",BO$2),\"\")","v":18},{"$f":"IF(ItineraryPrograms!AV22=\"y\",getScoreFactor(\"Program\",BP$2),\"\")","v":7.5},{"$f":"IF(ItineraryPrograms!AW22=\"y\",getScoreFactor(\"Program\",BQ$2),\"\")","v":""},{"$f":"IF(ItineraryPrograms!AX22=\"y\",getScoreFactor(\"Program\",BR$2),\"\")","v":""},{"$f":"IF(ItineraryPrograms!AY22=\"y\",getScoreFactor(\"Program\",BS$2),\"\")","v":27},{"$f":"IF(ItineraryPrograms!AZ22=\"y\",getScoreFactor(\"Program\",BT$2),\"\")","v":""},{"$f":"IF(ItineraryPrograms!BA22=\"y\",getScoreFactor(\"Program\",BU$2),\"\")","v":""}]
[{"$f":"Itineraries!A23","v":"12-21"},10391.833333333332,{"$f":"getScoreFactor(C$2,itineraryCamps!C24)","v":2333.333333333333},{"$f":"getScoreFactor(D$2,\"Miles\") *itineraryCamps!D24","v":6800},{"$f":"getScoreFactor(E$2,Itineraries!B23)","v":30},{"$f":"getScoreFactor(F$2,Itineraries!C23)","v":90},{"$f":"getScoreFactor(G$2,Itineraries!E23)","v":100},{"$f":"getScoreFactor(H$2,Itineraries!H23)","v":200},{"$f":"getScoreFactor(I$2,Itineraries!G23)","v":50},{"$f":"getScoreFactor(J$2,Itineraries!J23)","v":110},{"$f":"getScoreFactor(K$2,Itineraries!K23)","v":90},{"$f":"getScoreFactor(L$2,Itineraries!L23)","v":200},{"$f":"IF(INDEX(startingTA,numericItinerary($A23))=$M$2,getScoreFactor(M$2,\"y\"),getScoreFactor(M$2,\"n\"))","v":0},{"$f":"IF(INDEX(startingTA,numericItinerary($A23))=$M$2,getScoreFactor(N$2,\"y\"),getScoreFactor(N$2,\"n\"))","v":0},{"$f":"IF(INDEX(baldyMountainHike,numericItinerary($A23))=\"\",\"\",getPeakScore(O$2))","v":""},{"$f":"IF(INDEX(mountPhillipsHike,numericItinerary($A23))=\"\",\"\",getPeakScore(P$2))","v":11.25},{"$f":"IF(INDEX(toothOfTimeHike,numericItinerary($A23))=\"\",\"\",getPeakScore(Q$2))","v":40.5},{"$f":"IF(INDEX(trailPeakHike,numericItinerary($A23))=\"\",\"\",getPeakScore(R$2))","v":""},{"$f":"IF(INDEX(mountaineeringHike,numericItinerary($A23))=\"\",\"\",getPeakScore(S$2))","v":0},{"$f":"IF(areaImportant<>\"y\",\"\",IF(Itineraries!P23<>\"Y\",\"\",getareascore(T$2)))","v":""},{"$f":"IF(areaImportant<>\"y\",\"\",IF(Itineraries!Q23<>\"Y\",\"\",getareascore(U$2)))","v":""},{"$f":"IF(areaImportant<>\"y\",\"\",IF(Itineraries!R23<>\"Y\",\"\",getareascore(V$2)))","v":""},{"$f":"IF(areaImportant<>\"y\",\"\",IF(Itineraries!S23<>\"Y\",\"\",getareascore(W$2)))","v":""},{"$f":"IF(ItineraryPrograms!B23=\"y\",getScoreFactor(\"Program\",X$2),\"\")","v":""},{"$f":"IF(ItineraryPrograms!C23=\"y\",getScoreFactor(\"Program\",Y$2),\"\")","v":30},{"$f":"IF(ItineraryPrograms!D23=\"y\",getScoreFactor(\"Program\",Z$2),\"\")","v":""},{"$f":"IF(ItineraryPrograms!E23=\"y\",getScoreFactor(\"Program\",AA$2),\"\")","v":""},{"$f":"IF(ItineraryPrograms!F23=\"y\",getScoreFactor(\"Program\",AB$2),\"\")","v":""},{"$f":"IF(ItineraryPrograms!G23=\"y\",getScoreFactor(\"Program\",AC$2),\"\")","v":14.25},{"$f":"IF(ItineraryPrograms!H23=\"y\",getScoreFactor(\"Program\",AD$2),\"\")","v":""},{"$f":"IF(ItineraryPrograms!I23=\"y\",getScoreFactor(\"Program\",AE$2),\"\")","v":""},{"$f":"IF(ItineraryPrograms!J23=\"y\",getScoreFactor(\"Program\",AF$2),\"\")","v":13.5},{"$f":"IF(ItineraryPrograms!K23=\"y\",getScoreFactor(\"Program\",AG$2),\"\")","v":7.5},{"$f":"IF(ItineraryPrograms!L23=\"y\",getScoreFactor(\"Program\",AH$2),\"\")","v":""},{"$f":"IF(ItineraryPrograms!M23=\"y\",getScoreFactor(\"Program\",AI$2),\"\")","v":""},{"$f":"IF(ItineraryPrograms!N23=\"y\",getScoreFactor(\"Program\",AJ$2),\"\")","v":""},{"$f":"IF(ItineraryPrograms!O23=\"y\",getScoreFactor(\"Program\",AK$2),\"\")","v":10.5},{"$f":"IF(ItineraryPrograms!P23=\"y\",getScoreFactor(\"Program\",AL$2),\"\")","v":7.5},{"$f":"IF(ItineraryPrograms!Q23=\"y\",getScoreFactor(\"Program\",AM$2),\"\")","v":""},{"$f":"IF(ItineraryPrograms!R23=\"y\",getScoreFactor(\"Program\",AN$2),\"\")","v":""},{"$f":"IF(ItineraryPrograms!S23=\"y\",getScoreFactor(\"Program\",AO$2),\"\")","v":15},{"$f":"IF(ItineraryPrograms!T23=\"y\",getScoreFactor(\"Program\",AP$2),\"\")","v":""},{"$f":"IF(ItineraryPrograms!U23=\"y\",getScoreFactor(\"Program\",AQ$2),\"\")","v":""},{"$f":"IF(ItineraryPrograms!V23=\"y\",getScoreFactor(\"Program\",AR$2),\"\")","v":6},{"$f":"IF(ItineraryPrograms!W23=\"y\",getScoreFactor(\"Program\",AS$2),\"\")","v":""},{"$f":"IF(ItineraryPrograms!X23=\"y\",getScoreFactor(\"Program\",AT$2),\"\")","v":""},{"$f":"IF(ItineraryPrograms!Y23=\"y\",getScoreFactor(\"Program\",AU$2),\"\")","v":""},{"$f":"IF(ItineraryPrograms!Z23=\"y\",getScoreFactor(\"Program\",AV$2),\"\")","v":18.75},{"$f":"IF(ItineraryPrograms!AA23=\"y\",getScoreFactor(\"Program\",AW$2),\"\")","v":""},{"$f":"IF(ItineraryPrograms!AB23=\"y\",getScoreFactor(\"Program\",AX$2),\"\")","v":""},{"$f":"IF(ItineraryPrograms!AC23=\"y\",getScoreFactor(\"Program\",AY$2),\"\")","v":18},{"$f":"IF(ItineraryPrograms!AD23=\"y\",getScoreFactor(\"Program\",AZ$2),\"\")","v":""},{"$f":"IF(ItineraryPrograms!AE23=\"y\",getScoreFactor(\"Program\",BA$2),\"\")","v":18},{"$f":"IF(ItineraryPrograms!AF23=\"y\",getScoreFactor(\"Program\",BB$2),\"\")","v":19.5},{"$f":"IF(ItineraryPrograms!AG23=\"y\",getScoreFactor(\"Program\",BC$2),\"\")","v":7.5},{"$f":"IF(ItineraryPrograms!AH23=\"y\",getScoreFactor(\"Program\",BD$2),\"\")","v":""},{"$f":"IF(ItineraryPrograms!AI23=\"y\",getScoreFactor(\"Program\",BE$2),\"\")","v":18},{"$f":"IF(ItineraryPrograms!AJ23=\"y\",getScoreFactor(\"Program\",BF$2),\"\")","v":""},{"$f":"IF(ItineraryPrograms!AK23=\"y\",getScoreFactor(\"Program\",BG$2),\"\")","v":27},{"$f":"IF(ItineraryPrograms!AL23=\"y\",getScoreFactor(\"Program\",BH$2),\"\")","v":""},{"$f":"IF(ItineraryPrograms!AM23=\"y\",getScoreFactor(\"Program\",BI$2),\"\")","v":""},{"$f":"IF(ItineraryPrograms!AN23=\"y\",getScoreFactor(\"Program\",BJ$2),\"\")","v":""},{"$f":"IF(ItineraryPrograms!AO23=\"y\",getScoreFactor(\"Program\",BK$2),\"\")","v":9},{"$f":"IF(ItineraryPrograms!AP23=\"y\",getScoreFactor(\"Program\",BL$2),\"\")","v":19.5},{"$f":"IF(ItineraryPrograms!AR23=\"y\",getScoreFactor(\"Program\",BM$2),\"\")","v":""},{"$f":"IF(ItineraryPrograms!AS23=\"y\",getScoreFactor(\"Program\",BN$2),\"\")","v":""},{"$f":"IF(ItineraryPrograms!AU23=\"y\",getScoreFactor(\"Program\",BO$2),\"\")","v":18},{"$f":"IF(ItineraryPrograms!AV23=\"y\",getScoreFactor(\"Program\",BP$2),\"\")","v":7.5},{"$f":"IF(ItineraryPrograms!AW23=\"y\",getScoreFactor(\"Program\",BQ$2),\"\")","v":24.75},{"$f":"IF(ItineraryPrograms!AX23=\"y\",getScoreFactor(\"Program\",BR$2),\"\")","v":""},{"$f":"IF(ItineraryPrograms!AY23=\"y\",getScoreFactor(\"Program\",BS$2),\"\")","v":27},{"$f":"IF(ItineraryPrograms!AZ23=\"y\",getScoreFactor(\"Program\",BT$2),\"\")","v":""},{"$f":"IF(ItineraryPrograms!BA23=\"y\",getScoreFactor(\"Program\",BU$2),\"\")","v":""}]
[{"$f":"Itineraries!A24","v":"12-22"},11536.833333333332,{"$f":"getScoreFactor(C$2,itineraryCamps!C25)","v":2333.333333333333},{"$f":"getScoreFactor(D$2,\"Miles\") *itineraryCamps!D25","v":6800},{"$f":"getScoreFactor(E$2,Itineraries!B24)","v":40},{"$f":"getScoreFactor(F$2,Itineraries!C24)","v":80},{"$f":"getScoreFactor(G$2,Itineraries!E24)","v":100},{"$f":"getScoreFactor(H$2,Itineraries!H24)","v":200},{"$f":"getScoreFactor(I$2,Itineraries!G24)","v":50},{"$f":"getScoreFactor(J$2,Itineraries!J24)","v":110},{"$f":"getScoreFactor(K$2,Itineraries!K24)","v":90},{"$f":"getScoreFactor(L$2,Itineraries!L24)","v":300},{"$f":"IF(INDEX(startingTA,numericItinerary($A24))=$M$2,getScoreFactor(M$2,\"y\"),getScoreFactor(M$2,\"n\"))","v":500},{"$f":"IF(INDEX(startingTA,numericItinerary($A24))=$M$2,getScoreFactor(N$2,\"y\"),getScoreFactor(N$2,\"n\"))","v":500},{"$f":"IF(INDEX(baldyMountainHike,numericItinerary($A24))=\"\",\"\",getPeakScore(O$2))","v":""},{"$f":"IF(INDEX(mountPhillipsHike,numericItinerary($A24))=\"\",\"\",getPeakScore(P$2))","v":11.25},{"$f":"IF(INDEX(toothOfTimeHike,numericItinerary($A24))=\"\",\"\",getPeakScore(Q$2))","v":40.5},{"$f":"IF(INDEX(trailPeakHike,numericItinerary($A24))=\"\",\"\",getPeakScore(R$2))","v":""},{"$f":"IF(INDEX(mountaineeringHike,numericItinerary($A24))=\"\",\"\",getPeakScore(S$2))","v":0},{"$f":"IF(areaImportant<>\"y\",\"\",IF(Itineraries!P24<>\"Y\",\"\",getareascore(T$2)))","v":""},{"$f":"IF(areaImportant<>\"y\",\"\",IF(Itineraries!Q24<>\"Y\",\"\",getareascore(U$2)))","v":""},{"$f":"IF(areaImportant<>\"y\",\"\",IF(Itineraries!R24<>\"Y\",\"\",getareascore(V$2)))","v":""},{"$f":"IF(areaImportant<>\"y\",\"\",IF(Itineraries!S24<>\"Y\",\"\",getareascore(W$2)))","v":""},{"$f":"IF(ItineraryPrograms!B24=\"y\",getScoreFactor(\"Program\",X$2),\"\")","v":""},{"$f":"IF(ItineraryPrograms!C24=\"y\",getScoreFactor(\"Program\",Y$2),\"\")","v":30},{"$f":"IF(ItineraryPrograms!D24=\"y\",getScoreFactor(\"Program\",Z$2),\"\")","v":""},{"$f":"IF(ItineraryPrograms!E24=\"y\",getScoreFactor(\"Program\",AA$2),\"\")","v":""},{"$f":"IF(ItineraryPrograms!F24=\"y\",getScoreFactor(\"Program\",AB$2),\"\")","v":""},{"$f":"IF(ItineraryPrograms!G24=\"y\",getScoreFactor(\"Program\",AC$2),\"\")","v":14.25},{"$f":"IF(ItineraryPrograms!H24=\"y\",getScoreFactor(\"Program\",AD$2),\"\")","v":""},{"$f":"IF(ItineraryPrograms!I24=\"y\",getScoreFactor(\"Program\",AE$2),\"\")","v":""},{"$f":"IF(ItineraryPrograms!J24=\"y\",getScoreFactor(\"Program\",AF$2),\"\")","v":13.5},{"$f":"IF(ItineraryPrograms!K24=\"y\",getScoreFactor(\"Program\",AG$2),\"\")","v":7.5},{"$f":"IF(ItineraryPrograms!L24=\"y\",getScoreFactor(\"Program\",AH$2),\"\")","v":7.5},{"$f":"IF(ItineraryPrograms!M24=\"y\",getScoreFactor(\"Program\",AI$2),\"\")","v":15.75},{"$f":"IF(ItineraryPrograms!N24=\"y\",getScoreFactor(\"Program\",AJ$2),\"\")","v":""},{"$f":"IF(ItineraryPrograms!O24=\"y\",getScoreFactor(\"Program\",AK$2),\"\")","v":10.5},{"$f":"IF(ItineraryPrograms!P24=\"y\",getScoreFactor(\"Program\",AL$2),\"\")","v":7.5},{"$f":"IF(ItineraryPrograms!Q24=\"y\",getScoreFactor(\"Program\",AM$2),\"\")","v":12},{"$f":"IF(ItineraryPrograms!R24=\"y\",getScoreFactor(\"Program\",AN$2),\"\")","v":""},{"$f":"IF(ItineraryPrograms!S24=\"y\",getScoreFactor(\"Program\",AO$2),\"\")","v":15},{"$f":"IF(ItineraryPrograms!T24=\"y\",getScoreFactor(\"Program\",AP$2),\"\")","v":""},{"$f":"IF(ItineraryPrograms!U24=\"y\",getScoreFactor(\"Program\",AQ$2),\"\")","v":""},{"$f":"IF(ItineraryPrograms!V24=\"y\",getScoreFactor(\"Program\",AR$2),\"\")","v":6},{"$f":"IF(ItineraryPrograms!W24=\"y\",getScoreFactor(\"Program\",AS$2),\"\")","v":9.75},{"$f":"IF(ItineraryPrograms!X24=\"y\",getScoreFactor(\"Program\",AT$2),\"\")","v":""},{"$f":"IF(ItineraryPrograms!Y24=\"y\",getScoreFactor(\"Program\",AU$2),\"\")","v":""},{"$f":"IF(ItineraryPrograms!Z24=\"y\",getScoreFactor(\"Program\",AV$2),\"\")","v":18.75},{"$f":"IF(ItineraryPrograms!AA24=\"y\",getScoreFactor(\"Program\",AW$2),\"\")","v":""},{"$f":"IF(ItineraryPrograms!AB24=\"y\",getScoreFactor(\"Program\",AX$2),\"\")","v":""},{"$f":"IF(ItineraryPrograms!AC24=\"y\",getScoreFactor(\"Program\",AY$2),\"\")","v":18},{"$f":"IF(ItineraryPrograms!AD24=\"y\",getScoreFactor(\"Program\",AZ$2),\"\")","v":""},{"$f":"IF(ItineraryPrograms!AE24=\"y\",getScoreFactor(\"Program\",BA$2),\"\")","v":18},{"$f":"IF(ItineraryPrograms!AF24=\"y\",getScoreFactor(\"Program\",BB$2),\"\")","v":19.5},{"$f":"IF(ItineraryPrograms!AG24=\"y\",getScoreFactor(\"Program\",BC$2),\"\")","v":7.5},{"$f":"IF(ItineraryPrograms!AH24=\"y\",getScoreFactor(\"Program\",BD$2),\"\")","v":""},{"$f":"IF(ItineraryPrograms!AI24=\"y\",getScoreFactor(\"Program\",BE$2),\"\")","v":18},{"$f":"IF(ItineraryPrograms!AJ24=\"y\",getScoreFactor(\"Program\",BF$2),\"\")","v":""},{"$f":"IF(ItineraryPrograms!AK24=\"y\",getScoreFactor(\"Program\",BG$2),\"\")","v":27},{"$f":"IF(ItineraryPrograms!AL24=\"y\",getScoreFactor(\"Program\",BH$2),\"\")","v":""},{"$f":"IF(ItineraryPrograms!AM24=\"y\",getScoreFactor(\"Program\",BI$2),\"\")","v":""},{"$f":"IF(ItineraryPrograms!AN24=\"y\",getScoreFactor(\"Program\",BJ$2),\"\")","v":""},{"$f":"IF(ItineraryPrograms!AO24=\"y\",getScoreFactor(\"Program\",BK$2),\"\")","v":9},{"$f":"IF(ItineraryPrograms!AP24=\"y\",getScoreFactor(\"Program\",BL$2),\"\")","v":19.5},{"$f":"IF(ItineraryPrograms!AR24=\"y\",getScoreFactor(\"Program\",BM$2),\"\")","v":18},{"$f":"IF(ItineraryPrograms!AS24=\"y\",getScoreFactor(\"Program\",BN$2),\"\")","v":""},{"$f":"IF(ItineraryPrograms!AU24=\"y\",getScoreFactor(\"Program\",BO$2),\"\")","v":""},{"$f":"IF(ItineraryPrograms!AV24=\"y\",getScoreFactor(\"Program\",BP$2),\"\")","v":7.5},{"$f":"IF(ItineraryPrograms!AW24=\"y\",getScoreFactor(\"Program\",BQ$2),\"\")","v":24.75},{"$f":"IF(ItineraryPrograms!AX24=\"y\",getScoreFactor(\"Program\",BR$2),\"\")","v":""},{"$f":"IF(ItineraryPrograms!AY24=\"y\",getScoreFactor(\"Program\",BS$2),\"\")","v":27},{"$f":"IF(ItineraryPrograms!AZ24=\"y\",getScoreFactor(\"Program\",BT$2),\"\")","v":""},{"$f":"IF(ItineraryPrograms!BA24=\"y\",getScoreFactor(\"Program\",BU$2),\"\")","v":""}]
[{"$f":"Itineraries!A25","v":"12-23"},10530.583333333332,{"$f":"getScoreFactor(C$2,itineraryCamps!C26)","v":2333.333333333333},{"$f":"getScoreFactor(D$2,\"Miles\") *itineraryCamps!D26","v":6900},{"$f":"getScoreFactor(E$2,Itineraries!B25)","v":40},{"$f":"getScoreFactor(F$2,Itineraries!C25)","v":80},{"$f":"getScoreFactor(G$2,Itineraries!E25)","v":100},{"$f":"getScoreFactor(H$2,Itineraries!H25)","v":200},{"$f":"getScoreFactor(I$2,Itineraries!G25)","v":50},{"$f":"getScoreFactor(J$2,Itineraries!J25)","v":90},{"$f":"getScoreFactor(K$2,Itineraries!K25)","v":90},{"$f":"getScoreFactor(L$2,Itineraries!L25)","v":300},{"$f":"IF(INDEX(startingTA,numericItinerary($A25))=$M$2,getScoreFactor(M$2,\"y\"),getScoreFactor(M$2,\"n\"))","v":0},{"$f":"IF(INDEX(startingTA,numericItinerary($A25))=$M$2,getScoreFactor(N$2,\"y\"),getScoreFactor(N$2,\"n\"))","v":0},{"$f":"IF(INDEX(baldyMountainHike,numericItinerary($A25))=\"\",\"\",getPeakScore(O$2))","v":25.5},{"$f":"IF(INDEX(mountPhillipsHike,numericItinerary($A25))=\"\",\"\",getPeakScore(P$2))","v":""},{"$f":"IF(INDEX(toothOfTimeHike,numericItinerary($A25))=\"\",\"\",getPeakScore(Q$2))","v":""},{"$f":"IF(INDEX(trailPeakHike,numericItinerary($A25))=\"\",\"\",getPeakScore(R$2))","v":""},{"$f":"IF(INDEX(mountaineeringHike,numericItinerary($A25))=\"\",\"\",getPeakScore(S$2))","v":""},{"$f":"IF(areaImportant<>\"y\",\"\",IF(Itineraries!P25<>\"Y\",\"\",getareascore(T$2)))","v":""},{"$f":"IF(areaImportant<>\"y\",\"\",IF(Itineraries!Q25<>\"Y\",\"\",getareascore(U$2)))","v":""},{"$f":"IF(areaImportant<>\"y\",\"\",IF(Itineraries!R25<>\"Y\",\"\",getareascore(V$2)))","v":""},{"$f":"IF(areaImportant<>\"y\",\"\",IF(Itineraries!S25<>\"Y\",\"\",getareascore(W$2)))","v":""},{"$f":"IF(ItineraryPrograms!B25=\"y\",getScoreFactor(\"Program\",X$2),\"\")","v":22.5},{"$f":"IF(ItineraryPrograms!C25=\"y\",getScoreFactor(\"Program\",Y$2),\"\")","v":""},{"$f":"IF(ItineraryPrograms!D25=\"y\",getScoreFactor(\"Program\",Z$2),\"\")","v":10.5},{"$f":"IF(ItineraryPrograms!E25=\"y\",getScoreFactor(\"Program\",AA$2),\"\")","v":27},{"$f":"IF(ItineraryPrograms!F25=\"y\",getScoreFactor(\"Program\",AB$2),\"\")","v":12.75},{"$f":"IF(ItineraryPrograms!G25=\"y\",getScoreFactor(\"Program\",AC$2),\"\")","v":14.25},{"$f":"IF(ItineraryPrograms!H25=\"y\",getScoreFactor(\"Program\",AD$2),\"\")","v":14.25},{"$f":"IF(ItineraryPrograms!I25=\"y\",getScoreFactor(\"Program\",AE$2),\"\")","v":""},{"$f":"IF(ItineraryPrograms!J25=\"y\",getScoreFactor(\"Program\",AF$2),\"\")","v":13.5},{"$f":"IF(ItineraryPrograms!K25=\"y\",getScoreFactor(\"Program\",AG$2),\"\")","v":""},{"$f":"IF(ItineraryPrograms!L25=\"y\",getScoreFactor(\"Program\",AH$2),\"\")","v":7.5},{"$f":"IF(ItineraryPrograms!M25=\"y\",getScoreFactor(\"Program\",AI$2),\"\")","v":""},{"$f":"IF(ItineraryPrograms!N25=\"y\",getScoreFactor(\"Program\",AJ$2),\"\")","v":""},{"$f":"IF(ItineraryPrograms!O25=\"y\",getScoreFactor(\"Program\",AK$2),\"\")","v":""},{"$f":"IF(ItineraryPrograms!P25=\"y\",getScoreFactor(\"Program\",AL$2),\"\")","v":""},{"$f":"IF(ItineraryPrograms!Q25=\"y\",getScoreFactor(\"Program\",AM$2),\"\")","v":""},{"$f":"IF(ItineraryPrograms!R25=\"y\",getScoreFactor(\"Program\",AN$2),\"\")","v":6},{"$f":"IF(ItineraryPrograms!S25=\"y\",getScoreFactor(\"Program\",AO$2),\"\")","v":15},{"$f":"IF(ItineraryPrograms!T25=\"y\",getScoreFactor(\"Program\",AP$2),\"\")","v":""},{"$f":"IF(ItineraryPrograms!U25=\"y\",getScoreFactor(\"Program\",AQ$2),\"\")","v":15},{"$f":"IF(ItineraryPrograms!V25=\"y\",getScoreFactor(\"Program\",AR$2),\"\")","v":6},{"$f":"IF(ItineraryPrograms!W25=\"y\",getScoreFactor(\"Program\",AS$2),\"\")","v":""},{"$f":"IF(ItineraryPrograms!X25=\"y\",getScoreFactor(\"Program\",AT$2),\"\")","v":""},{"$f":"IF(ItineraryPrograms!Y25=\"y\",getScoreFactor(\"Program\",AU$2),\"\")","v":""},{"$f":"IF(ItineraryPrograms!Z25=\"y\",getScoreFactor(\"Program\",AV$2),\"\")","v":""},{"$f":"IF(ItineraryPrograms!AA25=\"y\",getScoreFactor(\"Program\",AW$2),\"\")","v":""},{"$f":"IF(ItineraryPrograms!AB25=\"y\",getScoreFactor(\"Program\",AX$2),\"\")","v":""},{"$f":"IF(ItineraryPrograms!AC25=\"y\",getScoreFactor(\"Program\",AY$2),\"\")","v":18},{"$f":"IF(ItineraryPrograms!AD25=\"y\",getScoreFactor(\"Program\",AZ$2),\"\")","v":18},{"$f":"IF(ItineraryPrograms!AE25=\"y\",getScoreFactor(\"Program\",BA$2),\"\")","v":""},{"$f":"IF(ItineraryPrograms!AF25=\"y\",getScoreFactor(\"Program\",BB$2),\"\")","v":19.5},{"$f":"IF(ItineraryPrograms!AG25=\"y\",getScoreFactor(\"Program\",BC$2),\"\")","v":""},{"$f":"IF(ItineraryPrograms!AH25=\"y\",getScoreFactor(\"Program\",BD$2),\"\")","v":18},{"$f":"IF(ItineraryPrograms!AI25=\"y\",getScoreFactor(\"Program\",BE$2),\"\")","v":""},{"$f":"IF(ItineraryPrograms!AJ25=\"y\",getScoreFactor(\"Program\",BF$2),\"\")","v":21},{"$f":"IF(ItineraryPrograms!AK25=\"y\",getScoreFactor(\"Program\",BG$2),\"\")","v":""},{"$f":"IF(ItineraryPrograms!AL25=\"y\",getScoreFactor(\"Program\",BH$2),\"\")","v":22.5},{"$f":"IF(ItineraryPrograms!AM25=\"y\",getScoreFactor(\"Program\",BI$2),\"\")","v":""},{"$f":"IF(ItineraryPrograms!AN25=\"y\",getScoreFactor(\"Program\",BJ$2),\"\")","v":15},{"$f":"IF(ItineraryPrograms!AO25=\"y\",getScoreFactor(\"Program\",BK$2),\"\")","v":""},{"$f":"IF(ItineraryPrograms!AP25=\"y\",getScoreFactor(\"Program\",BL$2),\"\")","v":""},{"$f":"IF(ItineraryPrograms!AR25=\"y\",getScoreFactor(\"Program\",BM$2),\"\")","v":""},{"$f":"IF(ItineraryPrograms!AS25=\"y\",getScoreFactor(\"Program\",BN$2),\"\")","v":""},{"$f":"IF(ItineraryPrograms!AU25=\"y\",getScoreFactor(\"Program\",BO$2),\"\")","v":18},{"$f":"IF(ItineraryPrograms!AV25=\"y\",getScoreFactor(\"Program\",BP$2),\"\")","v":7.5},{"$f":"IF(ItineraryPrograms!AW25=\"y\",getScoreFactor(\"Program\",BQ$2),\"\")","v":""},{"$f":"IF(ItineraryPrograms!AX25=\"y\",getScoreFactor(\"Program\",BR$2),\"\")","v":""},{"$f":"IF(ItineraryPrograms!AY25=\"y\",getScoreFactor(\"Program\",BS$2),\"\")","v":""},{"$f":"IF(ItineraryPrograms!AZ25=\"y\",getScoreFactor(\"Program\",BT$2),\"\")","v":""},{"$f":"IF(ItineraryPrograms!BA25=\"y\",getScoreFactor(\"Program\",BU$2),\"\")","v":""}]
[{"$f":"Itineraries!A26","v":"12-24"},11660.333333333332,{"$f":"getScoreFactor(C$2,itineraryCamps!C27)","v":2333.333333333333},{"$f":"getScoreFactor(D$2,\"Miles\") *itineraryCamps!D27","v":7000},{"$f":"getScoreFactor(E$2,Itineraries!B26)","v":40},{"$f":"getScoreFactor(F$2,Itineraries!C26)","v":80},{"$f":"getScoreFactor(G$2,Itineraries!E26)","v":100},{"$f":"getScoreFactor(H$2,Itineraries!H26)","v":225},{"$f":"getScoreFactor(I$2,Itineraries!G26)","v":50},{"$f":"getScoreFactor(J$2,Itineraries!J26)","v":80},{"$f":"getScoreFactor(K$2,Itineraries!K26)","v":80},{"$f":"getScoreFactor(L$2,Itineraries!L26)","v":300},{"$f":"IF(INDEX(startingTA,numericItinerary($A26))=$M$2,getScoreFactor(M$2,\"y\"),getScoreFactor(M$2,\"n\"))","v":500},{"$f":"IF(INDEX(startingTA,numericItinerary($A26))=$M$2,getScoreFactor(N$2,\"y\"),getScoreFactor(N$2,\"n\"))","v":500},{"$f":"IF(INDEX(baldyMountainHike,numericItinerary($A26))=\"\",\"\",getPeakScore(O$2))","v":""},{"$f":"IF(INDEX(mountPhillipsHike,numericItinerary($A26))=\"\",\"\",getPeakScore(P$2))","v":11.25},{"$f":"IF(INDEX(toothOfTimeHike,numericItinerary($A26))=\"\",\"\",getPeakScore(Q$2))","v":40.5},{"$f":"IF(INDEX(trailPeakHike,numericItinerary($A26))=\"\",\"\",getPeakScore(R$2))","v":""},{"$f":"IF(INDEX(mountaineeringHike,numericItinerary($A26))=\"\",\"\",getPeakScore(S$2))","v":""},{"$f":"IF(areaImportant<>\"y\",\"\",IF(Itineraries!P26<>\"Y\",\"\",getareascore(T$2)))","v":""},{"$f":"IF(areaImportant<>\"y\",\"\",IF(Itineraries!Q26<>\"Y\",\"\",getareascore(U$2)))","v":""},{"$f":"IF(areaImportant<>\"y\",\"\",IF(Itineraries!R26<>\"Y\",\"\",getareascore(V$2)))","v":""},{"$f":"IF(areaImportant<>\"y\",\"\",IF(Itineraries!S26<>\"Y\",\"\",getareascore(W$2)))","v":""},{"$f":"IF(ItineraryPrograms!B26=\"y\",getScoreFactor(\"Program\",X$2),\"\")","v":""},{"$f":"IF(ItineraryPrograms!C26=\"y\",getScoreFactor(\"Program\",Y$2),\"\")","v":""},{"$f":"IF(ItineraryPrograms!D26=\"y\",getScoreFactor(\"Program\",Z$2),\"\")","v":""},{"$f":"IF(ItineraryPrograms!E26=\"y\",getScoreFactor(\"Program\",AA$2),\"\")","v":""},{"$f":"IF(ItineraryPrograms!F26=\"y\",getScoreFactor(\"Program\",AB$2),\"\")","v":""},{"$f":"IF(ItineraryPrograms!G26=\"y\",getScoreFactor(\"Program\",AC$2),\"\")","v":14.25},{"$f":"IF(ItineraryPrograms!H26=\"y\",getScoreFactor(\"Program\",AD$2),\"\")","v":""},{"$f":"IF(ItineraryPrograms!I26=\"y\",getScoreFactor(\"Program\",AE$2),\"\")","v":""},{"$f":"IF(ItineraryPrograms!J26=\"y\",getScoreFactor(\"Program\",AF$2),\"\")","v":13.5},{"$f":"IF(ItineraryPrograms!K26=\"y\",getScoreFactor(\"Program\",AG$2),\"\")","v":7.5},{"$f":"IF(ItineraryPrograms!L26=\"y\",getScoreFactor(\"Program\",AH$2),\"\")","v":7.5},{"$f":"IF(ItineraryPrograms!M26=\"y\",getScoreFactor(\"Program\",AI$2),\"\")","v":15.75},{"$f":"IF(ItineraryPrograms!N26=\"y\",getScoreFactor(\"Program\",AJ$2),\"\")","v":""},{"$f":"IF(ItineraryPrograms!O26=\"y\",getScoreFactor(\"Program\",AK$2),\"\")","v":10.5},{"$f":"IF(ItineraryPrograms!P26=\"y\",getScoreFactor(\"Program\",AL$2),\"\")","v":""},{"$f":"IF(ItineraryPrograms!Q26=\"y\",getScoreFactor(\"Program\",AM$2),\"\")","v":""},{"$f":"IF(ItineraryPrograms!R26=\"y\",getScoreFactor(\"Program\",AN$2),\"\")","v":""},{"$f":"IF(ItineraryPrograms!S26=\"y\",getScoreFactor(\"Program\",AO$2),\"\")","v":15},{"$f":"IF(ItineraryPrograms!T26=\"y\",getScoreFactor(\"Program\",AP$2),\"\")","v":""},{"$f":"IF(ItineraryPrograms!U26=\"y\",getScoreFactor(\"Program\",AQ$2),\"\")","v":""},{"$f":"IF(ItineraryPrograms!V26=\"y\",getScoreFactor(\"Program\",AR$2),\"\")","v":6},{"$f":"IF(ItineraryPrograms!W26=\"y\",getScoreFactor(\"Program\",AS$2),\"\")","v":9.75},{"$f":"IF(ItineraryPrograms!X26=\"y\",getScoreFactor(\"Program\",AT$2),\"\")","v":""},{"$f":"IF(ItineraryPrograms!Y26=\"y\",getScoreFactor(\"Program\",AU$2),\"\")","v":22.5},{"$f":"IF(ItineraryPrograms!Z26=\"y\",getScoreFactor(\"Program\",AV$2),\"\")","v":18.75},{"$f":"IF(ItineraryPrograms!AA26=\"y\",getScoreFactor(\"Program\",AW$2),\"\")","v":""},{"$f":"IF(ItineraryPrograms!AB26=\"y\",getScoreFactor(\"Program\",AX$2),\"\")","v":""},{"$f":"IF(ItineraryPrograms!AC26=\"y\",getScoreFactor(\"Program\",AY$2),\"\")","v":""},{"$f":"IF(ItineraryPrograms!AD26=\"y\",getScoreFactor(\"Program\",AZ$2),\"\")","v":""},{"$f":"IF(ItineraryPrograms!AE26=\"y\",getScoreFactor(\"Program\",BA$2),\"\")","v":""},{"$f":"IF(ItineraryPrograms!AF26=\"y\",getScoreFactor(\"Program\",BB$2),\"\")","v":""},{"$f":"IF(ItineraryPrograms!AG26=\"y\",getScoreFactor(\"Program\",BC$2),\"\")","v":7.5},{"$f":"IF(ItineraryPrograms!AH26=\"y\",getScoreFactor(\"Program\",BD$2),\"\")","v":""},{"$f":"IF(ItineraryPrograms!AI26=\"y\",getScoreFactor(\"Program\",BE$2),\"\")","v":""},{"$f":"IF(ItineraryPrograms!AJ26=\"y\",getScoreFactor(\"Program\",BF$2),\"\")","v":21},{"$f":"IF(ItineraryPrograms!AK26=\"y\",getScoreFactor(\"Program\",BG$2),\"\")","v":27},{"$f":"IF(ItineraryPrograms!AL26=\"y\",getScoreFactor(\"Program\",BH$2),\"\")","v":""},{"$f":"IF(ItineraryPrograms!AM26=\"y\",getScoreFactor(\"Program\",BI$2),\"\")","v":18},{"$f":"IF(ItineraryPrograms!AN26=\"y\",getScoreFactor(\"Program\",BJ$2),\"\")","v":""},{"$f":"IF(ItineraryPrograms!AO26=\"y\",getScoreFactor(\"Program\",BK$2),\"\")","v":9},{"$f":"IF(ItineraryPrograms!AP26=\"y\",getScoreFactor(\"Program\",BL$2),\"\")","v":19.5},{"$f":"IF(ItineraryPrograms!AR26=\"y\",getScoreFactor(\"Program\",BM$2),\"\")","v":""},{"$f":"IF(ItineraryPrograms!AS26=\"y\",getScoreFactor(\"Program\",BN$2),\"\")","v":""},{"$f":"IF(ItineraryPrograms!AU26=\"y\",getScoreFactor(\"Program\",BO$2),\"\")","v":18},{"$f":"IF(ItineraryPrograms!AV26=\"y\",getScoreFactor(\"Program\",BP$2),\"\")","v":7.5},{"$f":"IF(ItineraryPrograms!AW26=\"y\",getScoreFactor(\"Program\",BQ$2),\"\")","v":24.75},{"$f":"IF(ItineraryPrograms!AX26=\"y\",getScoreFactor(\"Program\",BR$2),\"\")","v":""},{"$f":"IF(ItineraryPrograms!AY26=\"y\",getScoreFactor(\"Program\",BS$2),\"\")","v":27},{"$f":"IF(ItineraryPrograms!AZ26=\"y\",getScoreFactor(\"Program\",BT$2),\"\")","v":""},{"$f":"IF(ItineraryPrograms!BA26=\"y\",getScoreFactor(\"Program\",BU$2),\"\")","v":""}]
[{"$f":"Itineraries!A27","v":"12-25"},10725.833333333332,{"$f":"getScoreFactor(C$2,itineraryCamps!C28)","v":2333.333333333333},{"$f":"getScoreFactor(D$2,\"Miles\") *itineraryCamps!D28","v":7500},{"$f":"getScoreFactor(E$2,Itineraries!B27)","v":30},{"$f":"getScoreFactor(F$2,Itineraries!C27)","v":70},{"$f":"getScoreFactor(G$2,Itineraries!E27)","v":100},{"$f":"getScoreFactor(H$2,Itineraries!H27)","v":225},{"$f":"getScoreFactor(I$2,Itineraries!G27)","v":60},{"$f":"getScoreFactor(J$2,Itineraries!J27)","v":40},{"$f":"getScoreFactor(K$2,Itineraries!K27)","v":50},{"$f":"getScoreFactor(L$2,Itineraries!L27)","v":100},{"$f":"IF(INDEX(startingTA,numericItinerary($A27))=$M$2,getScoreFactor(M$2,\"y\"),getScoreFactor(M$2,\"n\"))","v":0},{"$f":"IF(INDEX(startingTA,numericItinerary($A27))=$M$2,getScoreFactor(N$2,\"y\"),getScoreFactor(N$2,\"n\"))","v":0},{"$f":"IF(INDEX(baldyMountainHike,numericItinerary($A27))=\"\",\"\",getPeakScore(O$2))","v":""},{"$f":"IF(INDEX(mountPhillipsHike,numericItinerary($A27))=\"\",\"\",getPeakScore(P$2))","v":""},{"$f":"IF(INDEX(toothOfTimeHike,numericItinerary($A27))=\"\",\"\",getPeakScore(Q$2))","v":""},{"$f":"IF(INDEX(trailPeakHike,numericItinerary($A27))=\"\",\"\",getPeakScore(R$2))","v":""},{"$f":"IF(INDEX(mountaineeringHike,numericItinerary($A27))=\"\",\"\",getPeakScore(S$2))","v":0},{"$f":"IF(areaImportant<>\"y\",\"\",IF(Itineraries!P27<>\"Y\",\"\",getareascore(T$2)))","v":""},{"$f":"IF(areaImportant<>\"y\",\"\",IF(Itineraries!Q27<>\"Y\",\"\",getareascore(U$2)))","v":""},{"$f":"IF(areaImportant<>\"y\",\"\",IF(Itineraries!R27<>\"Y\",\"\",getareascore(V$2)))","v":""},{"$f":"IF(areaImportant<>\"y\",\"\",IF(Itineraries!S27<>\"Y\",\"\",getareascore(W$2)))","v":""},{"$f":"IF(ItineraryPrograms!B27=\"y\",getScoreFactor(\"Program\",X$2),\"\")","v":""},{"$f":"IF(ItineraryPrograms!C27=\"y\",getScoreFactor(\"Program\",Y$2),\"\")","v":""},{"$f":"IF(ItineraryPrograms!D27=\"y\",getScoreFactor(\"Program\",Z$2),\"\")","v":10.5},{"$f":"IF(ItineraryPrograms!E27=\"y\",getScoreFactor(\"Program\",AA$2),\"\")","v":""},{"$f":"IF(ItineraryPrograms!F27=\"y\",getScoreFactor(\"Program\",AB$2),\"\")","v":""},{"$f":"IF(ItineraryPrograms!G27=\"y\",getScoreFactor(\"Program\",AC$2),\"\")","v":14.25},{"$f":"IF(ItineraryPrograms!H27=\"y\",getScoreFactor(\"Program\",AD$2),\"\")","v":14.25},{"$f":"IF(ItineraryPrograms!I27=\"y\",getScoreFactor(\"Program\",AE$2),\"\")","v":""},{"$f":"IF(ItineraryPrograms!J27=\"y\",getScoreFactor(\"Program\",AF$2),\"\")","v":13.5},{"$f":"IF(ItineraryPrograms!K27=\"y\",getScoreFactor(\"Program\",AG$2),\"\")","v":""},{"$f":"IF(ItineraryPrograms!L27=\"y\",getScoreFactor(\"Program\",AH$2),\"\")","v":7.5},{"$f":"IF(ItineraryPrograms!M27=\"y\",getScoreFactor(\"Program\",AI$2),\"\")","v":""},{"$f":"IF(ItineraryPrograms!N27=\"y\",getScoreFactor(\"Program\",AJ$2),\"\")","v":""},{"$f":"IF(ItineraryPrograms!O27=\"y\",getScoreFactor(\"Program\",AK$2),\"\")","v":""},{"$f":"IF(ItineraryPrograms!P27=\"y\",getScoreFactor(\"Program\",AL$2),\"\")","v":""},{"$f":"IF(ItineraryPrograms!Q27=\"y\",getScoreFactor(\"Program\",AM$2),\"\")","v":""},{"$f":"IF(ItineraryPrograms!R27=\"y\",getScoreFactor(\"Program\",AN$2),\"\")","v":""},{"$f":"IF(ItineraryPrograms!S27=\"y\",getScoreFactor(\"Program\",AO$2),\"\")","v":""},{"$f":"IF(ItineraryPrograms!T27=\"y\",getScoreFactor(\"Program\",AP$2),\"\")","v":""},{"$f":"IF(ItineraryPrograms!U27=\"y\",getScoreFactor(\"Program\",AQ$2),\"\")","v":15},{"$f":"IF(ItineraryPrograms!V27=\"y\",getScoreFactor(\"Program\",AR$2),\"\")","v":6},{"$f":"IF(ItineraryPrograms!W27=\"y\",getScoreFactor(\"Program\",AS$2),\"\")","v":""},{"$f":"IF(ItineraryPrograms!X27=\"y\",getScoreFactor(\"Program\",AT$2),\"\")","v":""},{"$f":"IF(ItineraryPrograms!Y27=\"y\",getScoreFactor(\"Program\",AU$2),\"\")","v":""},{"$f":"IF(ItineraryPrograms!Z27=\"y\",getScoreFactor(\"Program\",AV$2),\"\")","v":""},{"$f":"IF(ItineraryPrograms!AA27=\"y\",getScoreFactor(\"Program\",AW$2),\"\")","v":""},{"$f":"IF(ItineraryPrograms!AB27=\"y\",getScoreFactor(\"Program\",AX$2),\"\")","v":""},{"$f":"IF(ItineraryPrograms!AC27=\"y\",getScoreFactor(\"Program\",AY$2),\"\")","v":18},{"$f":"IF(ItineraryPrograms!AD27=\"y\",getScoreFactor(\"Program\",AZ$2),\"\")","v":18},{"$f":"IF(ItineraryPrograms!AE27=\"y\",getScoreFactor(\"Program\",BA$2),\"\")","v":""},{"$f":"IF(ItineraryPrograms!AF27=\"y\",getScoreFactor(\"Program\",BB$2),\"\")","v":""},{"$f":"IF(ItineraryPrograms!AG27=\"y\",getScoreFactor(\"Program\",BC$2),\"\")","v":""},{"$f":"IF(ItineraryPrograms!AH27=\"y\",getScoreFactor(\"Program\",BD$2),\"\")","v":18},{"$f":"IF(ItineraryPrograms!AI27=\"y\",getScoreFactor(\"Program\",BE$2),\"\")","v":18},{"$f":"IF(ItineraryPrograms!AJ27=\"y\",getScoreFactor(\"Program\",BF$2),\"\")","v":""},{"$f":"IF(ItineraryPrograms!AK27=\"y\",getScoreFactor(\"Program\",BG$2),\"\")","v":""},{"$f":"IF(ItineraryPrograms!AL27=\"y\",getScoreFactor(\"Program\",BH$2),\"\")","v":22.5},{"$f":"IF(ItineraryPrograms!AM27=\"y\",getScoreFactor(\"Program\",BI$2),\"\")","v":""},{"$f":"IF(ItineraryPrograms!AN27=\"y\",getScoreFactor(\"Program\",BJ$2),\"\")","v":15},{"$f":"IF(ItineraryPrograms!AO27=\"y\",getScoreFactor(\"Program\",BK$2),\"\")","v":9},{"$f":"IF(ItineraryPrograms!AP27=\"y\",getScoreFactor(\"Program\",BL$2),\"\")","v":""},{"$f":"IF(ItineraryPrograms!AR27=\"y\",getScoreFactor(\"Program\",BM$2),\"\")","v":""},{"$f":"IF(ItineraryPrograms!AS27=\"y\",getScoreFactor(\"Program\",BN$2),\"\")","v":""},{"$f":"IF(ItineraryPrograms!AU27=\"y\",getScoreFactor(\"Program\",BO$2),\"\")","v":18},{"$f":"IF(ItineraryPrograms!AV27=\"y\",getScoreFactor(\"Program\",BP$2),\"\")","v":""},{"$f":"IF(ItineraryPrograms!AW27=\"y\",getScoreFactor(\"Program\",BQ$2),\"\")","v":""},{"$f":"IF(ItineraryPrograms!AX27=\"y\",getScoreFactor(\"Program\",BR$2),\"\")","v":""},{"$f":"IF(ItineraryPrograms!AY27=\"y\",getScoreFactor(\"Program\",BS$2),\"\")","v":""},{"$f":"IF(ItineraryPrograms!AZ27=\"y\",getScoreFactor(\"Program\",BT$2),\"\")","v":""},{"$f":"IF(ItineraryPrograms!BA27=\"y\",getScoreFactor(\"Program\",BU$2),\"\")","v":""}]
[{"$f":"Itineraries!A28","v":"12-26"},10931.833333333332,{"$f":"getScoreFactor(C$2,itineraryCamps!C29)","v":2333.333333333333},{"$f":"getScoreFactor(D$2,\"Miles\") *itineraryCamps!D29","v":7500},{"$f":"getScoreFactor(E$2,Itineraries!B28)","v":40},{"$f":"getScoreFactor(F$2,Itineraries!C28)","v":80},{"$f":"getScoreFactor(G$2,Itineraries!E28)","v":75},{"$f":"getScoreFactor(H$2,Itineraries!H28)","v":200},{"$f":"getScoreFactor(I$2,Itineraries!G28)","v":50},{"$f":"getScoreFactor(J$2,Itineraries!J28)","v":80},{"$f":"getScoreFactor(K$2,Itineraries!K28)","v":80},{"$f":"getScoreFactor(L$2,Itineraries!L28)","v":300},{"$f":"IF(INDEX(startingTA,numericItinerary($A28))=$M$2,getScoreFactor(M$2,\"y\"),getScoreFactor(M$2,\"n\"))","v":0},{"$f":"IF(INDEX(startingTA,numericItinerary($A28))=$M$2,getScoreFactor(N$2,\"y\"),getScoreFactor(N$2,\"n\"))","v":0},{"$f":"IF(INDEX(baldyMountainHike,numericItinerary($A28))=\"\",\"\",getPeakScore(O$2))","v":25.5},{"$f":"IF(INDEX(mountPhillipsHike,numericItinerary($A28))=\"\",\"\",getPeakScore(P$2))","v":""},{"$f":"IF(INDEX(toothOfTimeHike,numericItinerary($A28))=\"\",\"\",getPeakScore(Q$2))","v":""},{"$f":"IF(INDEX(trailPeakHike,numericItinerary($A28))=\"\",\"\",getPeakScore(R$2))","v":""},{"$f":"IF(INDEX(mountaineeringHike,numericItinerary($A28))=\"\",\"\",getPeakScore(S$2))","v":""},{"$f":"IF(areaImportant<>\"y\",\"\",IF(Itineraries!P28<>\"Y\",\"\",getareascore(T$2)))","v":""},{"$f":"IF(areaImportant<>\"y\",\"\",IF(Itineraries!Q28<>\"Y\",\"\",getareascore(U$2)))","v":""},{"$f":"IF(areaImportant<>\"y\",\"\",IF(Itineraries!R28<>\"Y\",\"\",getareascore(V$2)))","v":""},{"$f":"IF(areaImportant<>\"y\",\"\",IF(Itineraries!S28<>\"Y\",\"\",getareascore(W$2)))","v":""},{"$f":"IF(ItineraryPrograms!B28=\"y\",getScoreFactor(\"Program\",X$2),\"\")","v":""},{"$f":"IF(ItineraryPrograms!C28=\"y\",getScoreFactor(\"Program\",Y$2),\"\")","v":""},{"$f":"IF(ItineraryPrograms!D28=\"y\",getScoreFactor(\"Program\",Z$2),\"\")","v":10.5},{"$f":"IF(ItineraryPrograms!E28=\"y\",getScoreFactor(\"Program\",AA$2),\"\")","v":""},{"$f":"IF(ItineraryPrograms!F28=\"y\",getScoreFactor(\"Program\",AB$2),\"\")","v":12.75},{"$f":"IF(ItineraryPrograms!G28=\"y\",getScoreFactor(\"Program\",AC$2),\"\")","v":""},{"$f":"IF(ItineraryPrograms!H28=\"y\",getScoreFactor(\"Program\",AD$2),\"\")","v":""},{"$f":"IF(ItineraryPrograms!I28=\"y\",getScoreFactor(\"Program\",AE$2),\"\")","v":""},{"$f":"IF(ItineraryPrograms!J28=\"y\",getScoreFactor(\"Program\",AF$2),\"\")","v":13.5},{"$f":"IF(ItineraryPrograms!K28=\"y\",getScoreFactor(\"Program\",AG$2),\"\")","v":7.5},{"$f":"IF(ItineraryPrograms!L28=\"y\",getScoreFactor(\"Program\",AH$2),\"\")","v":""},{"$f":"IF(ItineraryPrograms!M28=\"y\",getScoreFactor(\"Program\",AI$2),\"\")","v":15.75},{"$f":"IF(ItineraryPrograms!N28=\"y\",getScoreFactor(\"Program\",AJ$2),\"\")","v":6},{"$f":"IF(ItineraryPrograms!O28=\"y\",getScoreFactor(\"Program\",AK$2),\"\")","v":""},{"$f":"IF(ItineraryPrograms!P28=\"y\",getScoreFactor(\"Program\",AL$2),\"\")","v":""},{"$f":"IF(ItineraryPrograms!Q28=\"y\",getScoreFactor(\"Program\",AM$2),\"\")","v":""},{"$f":"IF(ItineraryPrograms!R28=\"y\",getScoreFactor(\"Program\",AN$2),\"\")","v":""},{"$f":"IF(ItineraryPrograms!S28=\"y\",getScoreFactor(\"Program\",AO$2),\"\")","v":15},{"$f":"IF(ItineraryPrograms!T28=\"y\",getScoreFactor(\"Program\",AP$2),\"\")","v":""},{"$f":"IF(ItineraryPrograms!U28=\"y\",getScoreFactor(\"Program\",AQ$2),\"\")","v":""},{"$f":"IF(ItineraryPrograms!V28=\"y\",getScoreFactor(\"Program\",AR$2),\"\")","v":6},{"$f":"IF(ItineraryPrograms!W28=\"y\",getScoreFactor(\"Program\",AS$2),\"\")","v":""},{"$f":"IF(ItineraryPrograms!X28=\"y\",getScoreFactor(\"Program\",AT$2),\"\")","v":""},{"$f":"IF(ItineraryPrograms!Y28=\"y\",getScoreFactor(\"Program\",AU$2),\"\")","v":""},{"$f":"IF(ItineraryPrograms!Z28=\"y\",getScoreFactor(\"Program\",AV$2),\"\")","v":""},{"$f":"IF(ItineraryPrograms!AA28=\"y\",getScoreFactor(\"Program\",AW$2),\"\")","v":""},{"$f":"IF(ItineraryPrograms!AB28=\"y\",getScoreFactor(\"Program\",AX$2),\"\")","v":""},{"$f":"IF(ItineraryPrograms!AC28=\"y\",getScoreFactor(\"Program\",AY$2),\"\")","v":""},{"$f":"IF(ItineraryPrograms!AD28=\"y\",getScoreFactor(\"Program\",AZ$2),\"\")","v":18},{"$f":"IF(ItineraryPrograms!AE28=\"y\",getScoreFactor(\"Program\",BA$2),\"\")","v":""},{"$f":"IF(ItineraryPrograms!AF28=\"y\",getScoreFactor(\"Program\",BB$2),\"\")","v":""},{"$f":"IF(ItineraryPrograms!AG28=\"y\",getScoreFactor(\"Program\",BC$2),\"\")","v":""},{"$f":"IF(ItineraryPrograms!AH28=\"y\",getScoreFactor(\"Program\",BD$2),\"\")","v":18},{"$f":"IF(ItineraryPrograms!AI28=\"y\",getScoreFactor(\"Program\",BE$2),\"\")","v":""},{"$f":"IF(ItineraryPrograms!AJ28=\"y\",getScoreFactor(\"Program\",BF$2),\"\")","v":""},{"$f":"IF(ItineraryPrograms!AK28=\"y\",getScoreFactor(\"Program\",BG$2),\"\")","v":""},{"$f":"IF(ItineraryPrograms!AL28=\"y\",getScoreFactor(\"Program\",BH$2),\"\")","v":""},{"$f":"IF(ItineraryPrograms!AM28=\"y\",getScoreFactor(\"Program\",BI$2),\"\")","v":""},{"$f":"IF(ItineraryPrograms!AN28=\"y\",getScoreFactor(\"Program\",BJ$2),\"\")","v":""},{"$f":"IF(ItineraryPrograms!AO28=\"y\",getScoreFactor(\"Program\",BK$2),\"\")","v":""},{"$f":"IF(ItineraryPrograms!AP28=\"y\",getScoreFactor(\"Program\",BL$2),\"\")","v":""},{"$f":"IF(ItineraryPrograms!AR28=\"y\",getScoreFactor(\"Program\",BM$2),\"\")","v":""},{"$f":"IF(ItineraryPrograms!AS28=\"y\",getScoreFactor(\"Program\",BN$2),\"\")","v":""},{"$f":"IF(ItineraryPrograms!AU28=\"y\",getScoreFactor(\"Program\",BO$2),\"\")","v":18},{"$f":"IF(ItineraryPrograms!AV28=\"y\",getScoreFactor(\"Program\",BP$2),\"\")","v":""},{"$f":"IF(ItineraryPrograms!AW28=\"y\",getScoreFactor(\"Program\",BQ$2),\"\")","v":""},{"$f":"IF(ItineraryPrograms!AX28=\"y\",getScoreFactor(\"Program\",BR$2),\"\")","v":""},{"$f":"IF(ItineraryPrograms!AY28=\"y\",getScoreFactor(\"Program\",BS$2),\"\")","v":27},{"$f":"IF(ItineraryPrograms!AZ28=\"y\",getScoreFactor(\"Program\",BT$2),\"\")","v":""},{"$f":"IF(ItineraryPrograms!BA28=\"y\",getScoreFactor(\"Program\",BU$2),\"\")","v":""}]
[{"$f":"Itineraries!A29","v":"12-27"},11268.833333333332,{"$f":"getScoreFactor(C$2,itineraryCamps!C30)","v":2333.333333333333},{"$f":"getScoreFactor(D$2,\"Miles\") *itineraryCamps!D30","v":7600},{"$f":"getScoreFactor(E$2,Itineraries!B29)","v":50},{"$f":"getScoreFactor(F$2,Itineraries!C29)","v":70},{"$f":"getScoreFactor(G$2,Itineraries!E29)","v":75},{"$f":"getScoreFactor(H$2,Itineraries!H29)","v":225},{"$f":"getScoreFactor(I$2,Itineraries!G29)","v":50},{"$f":"getScoreFactor(J$2,Itineraries!J29)","v":90},{"$f":"getScoreFactor(K$2,Itineraries!K29)","v":90},{"$f":"getScoreFactor(L$2,Itineraries!L29)","v":300},{"$f":"IF(INDEX(startingTA,numericItinerary($A29))=$M$2,getScoreFactor(M$2,\"y\"),getScoreFactor(M$2,\"n\"))","v":0},{"$f":"IF(INDEX(startingTA,numericItinerary($A29))=$M$2,getScoreFactor(N$2,\"y\"),getScoreFactor(N$2,\"n\"))","v":0},{"$f":"IF(INDEX(baldyMountainHike,numericItinerary($A29))=\"\",\"\",getPeakScore(O$2))","v":25.5},{"$f":"IF(INDEX(mountPhillipsHike,numericItinerary($A29))=\"\",\"\",getPeakScore(P$2))","v":""},{"$f":"IF(INDEX(toothOfTimeHike,numericItinerary($A29))=\"\",\"\",getPeakScore(Q$2))","v":""},{"$f":"IF(INDEX(trailPeakHike,numericItinerary($A29))=\"\",\"\",getPeakScore(R$2))","v":""},{"$f":"IF(INDEX(mountaineeringHike,numericItinerary($A29))=\"\",\"\",getPeakScore(S$2))","v":""},{"$f":"IF(areaImportant<>\"y\",\"\",IF(Itineraries!P29<>\"Y\",\"\",getareascore(T$2)))","v":""},{"$f":"IF(areaImportant<>\"y\",\"\",IF(Itineraries!Q29<>\"Y\",\"\",getareascore(U$2)))","v":""},{"$f":"IF(areaImportant<>\"y\",\"\",IF(Itineraries!R29<>\"Y\",\"\",getareascore(V$2)))","v":""},{"$f":"IF(areaImportant<>\"y\",\"\",IF(Itineraries!S29<>\"Y\",\"\",getareascore(W$2)))","v":""},{"$f":"IF(ItineraryPrograms!B29=\"y\",getScoreFactor(\"Program\",X$2),\"\")","v":22.5},{"$f":"IF(ItineraryPrograms!C29=\"y\",getScoreFactor(\"Program\",Y$2),\"\")","v":""},{"$f":"IF(ItineraryPrograms!D29=\"y\",getScoreFactor(\"Program\",Z$2),\"\")","v":10.5},{"$f":"IF(ItineraryPrograms!E29=\"y\",getScoreFactor(\"Program\",AA$2),\"\")","v":27},{"$f":"IF(ItineraryPrograms!F29=\"y\",getScoreFactor(\"Program\",AB$2),\"\")","v":12.75},{"$f":"IF(ItineraryPrograms!G29=\"y\",getScoreFactor(\"Program\",AC$2),\"\")","v":""},{"$f":"IF(ItineraryPrograms!H29=\"y\",getScoreFactor(\"Program\",AD$2),\"\")","v":14.25},{"$f":"IF(ItineraryPrograms!I29=\"y\",getScoreFactor(\"Program\",AE$2),\"\")","v":9},{"$f":"IF(ItineraryPrograms!J29=\"y\",getScoreFactor(\"Program\",AF$2),\"\")","v":13.5},{"$f":"IF(ItineraryPrograms!K29=\"y\",getScoreFactor(\"Program\",AG$2),\"\")","v":7.5},{"$f":"IF(ItineraryPrograms!L29=\"y\",getScoreFactor(\"Program\",AH$2),\"\")","v":7.5},{"$f":"IF(ItineraryPrograms!M29=\"y\",getScoreFactor(\"Program\",AI$2),\"\")","v":15.75},{"$f":"IF(ItineraryPrograms!N29=\"y\",getScoreFactor(\"Program\",AJ$2),\"\")","v":""},{"$f":"IF(ItineraryPrograms!O29=\"y\",getScoreFactor(\"Program\",AK$2),\"\")","v":""},{"$f":"IF(ItineraryPrograms!P29=\"y\",getScoreFactor(\"Program\",AL$2),\"\")","v":""},{"$f":"IF(ItineraryPrograms!Q29=\"y\",getScoreFactor(\"Program\",AM$2),\"\")","v":""},{"$f":"IF(ItineraryPrograms!R29=\"y\",getScoreFactor(\"Program\",AN$2),\"\")","v":6},{"$f":"IF(ItineraryPrograms!S29=\"y\",getScoreFactor(\"Program\",AO$2),\"\")","v":15},{"$f":"IF(ItineraryPrograms!T29=\"y\",getScoreFactor(\"Program\",AP$2),\"\")","v":""},{"$f":"IF(ItineraryPrograms!U29=\"y\",getScoreFactor(\"Program\",AQ$2),\"\")","v":15},{"$f":"IF(ItineraryPrograms!V29=\"y\",getScoreFactor(\"Program\",AR$2),\"\")","v":""},{"$f":"IF(ItineraryPrograms!W29=\"y\",getScoreFactor(\"Program\",AS$2),\"\")","v":9.75},{"$f":"IF(ItineraryPrograms!X29=\"y\",getScoreFactor(\"Program\",AT$2),\"\")","v":""},{"$f":"IF(ItineraryPrograms!Y29=\"y\",getScoreFactor(\"Program\",AU$2),\"\")","v":""},{"$f":"IF(ItineraryPrograms!Z29=\"y\",getScoreFactor(\"Program\",AV$2),\"\")","v":""},{"$f":"IF(ItineraryPrograms!AA29=\"y\",getScoreFactor(\"Program\",AW$2),\"\")","v":""},{"$f":"IF(ItineraryPrograms!AB29=\"y\",getScoreFactor(\"Program\",AX$2),\"\")","v":""},{"$f":"IF(ItineraryPrograms!AC29=\"y\",getScoreFactor(\"Program\",AY$2),\"\")","v":18},{"$f":"IF(ItineraryPrograms!AD29=\"y\",getScoreFactor(\"Program\",AZ$2),\"\")","v":18},{"$f":"IF(ItineraryPrograms!AE29=\"y\",getScoreFactor(\"Program\",BA$2),\"\")","v":""},{"$f":"IF(ItineraryPrograms!AF29=\"y\",getScoreFactor(\"Program\",BB$2),\"\")","v":""},{"$f":"IF(ItineraryPrograms!AG29=\"y\",getScoreFactor(\"Program\",BC$2),\"\")","v":""},{"$f":"IF(ItineraryPrograms!AH29=\"y\",getScoreFactor(\"Program\",BD$2),\"\")","v":18},{"$f":"IF(ItineraryPrograms!AI29=\"y\",getScoreFactor(\"Program\",BE$2),\"\")","v":""},{"$f":"IF(ItineraryPrograms!AJ29=\"y\",getScoreFactor(\"Program\",BF$2),\"\")","v":21},{"$f":"IF(ItineraryPrograms!AK29=\"y\",getScoreFactor(\"Program\",BG$2),\"\")","v":""},{"$f":"IF(ItineraryPrograms!AL29=\"y\",getScoreFactor(\"Program\",BH$2),\"\")","v":22.5},{"$f":"IF(ItineraryPrograms!AM29=\"y\",getScoreFactor(\"Program\",BI$2),\"\")","v":""},{"$f":"IF(ItineraryPrograms!AN29=\"y\",getScoreFactor(\"Program\",BJ$2),\"\")","v":15},{"$f":"IF(ItineraryPrograms!AO29=\"y\",getScoreFactor(\"Program\",BK$2),\"\")","v":9},{"$f":"IF(ItineraryPrograms!AP29=\"y\",getScoreFactor(\"Program\",BL$2),\"\")","v":""},{"$f":"IF(ItineraryPrograms!AR29=\"y\",getScoreFactor(\"Program\",BM$2),\"\")","v":""},{"$f":"IF(ItineraryPrograms!AS29=\"y\",getScoreFactor(\"Program\",BN$2),\"\")","v":""},{"$f":"IF(ItineraryPrograms!AU29=\"y\",getScoreFactor(\"Program\",BO$2),\"\")","v":18},{"$f":"IF(ItineraryPrograms!AV29=\"y\",getScoreFactor(\"Program\",BP$2),\"\")","v":7.5},{"$f":"IF(ItineraryPrograms!AW29=\"y\",getScoreFactor(\"Program\",BQ$2),\"\")","v":""},{"$f":"IF(ItineraryPrograms!AX29=\"y\",getScoreFactor(\"Program\",BR$2),\"\")","v":""},{"$f":"IF(ItineraryPrograms!AY29=\"y\",getScoreFactor(\"Program\",BS$2),\"\")","v":27},{"$f":"IF(ItineraryPrograms!AZ29=\"y\",getScoreFactor(\"Program\",BT$2),\"\")","v":""},{"$f":"IF(ItineraryPrograms!BA29=\"y\",getScoreFactor(\"Program\",BU$2),\"\")","v":""}]
[{"$f":"Itineraries!A30","v":"12-28"},10858,{"$f":"getScoreFactor(C$2,itineraryCamps!C31)","v":1500},{"$f":"getScoreFactor(D$2,\"Miles\") *itineraryCamps!D31","v":8000},{"$f":"getScoreFactor(E$2,Itineraries!B30)","v":40},{"$f":"getScoreFactor(F$2,Itineraries!C30)","v":80},{"$f":"getScoreFactor(G$2,Itineraries!E30)","v":100},{"$f":"getScoreFactor(H$2,Itineraries!H30)","v":200},{"$f":"getScoreFactor(I$2,Itineraries!G30)","v":50},{"$f":"getScoreFactor(J$2,Itineraries!J30)","v":110},{"$f":"getScoreFactor(K$2,Itineraries!K30)","v":100},{"$f":"getScoreFactor(L$2,Itineraries!L30)","v":300},{"$f":"IF(INDEX(startingTA,numericItinerary($A30))=$M$2,getScoreFactor(M$2,\"y\"),getScoreFactor(M$2,\"n\"))","v":0},{"$f":"IF(INDEX(startingTA,numericItinerary($A30))=$M$2,getScoreFactor(N$2,\"y\"),getScoreFactor(N$2,\"n\"))","v":0},{"$f":"IF(INDEX(baldyMountainHike,numericItinerary($A30))=\"\",\"\",getPeakScore(O$2))","v":""},{"$f":"IF(INDEX(mountPhillipsHike,numericItinerary($A30))=\"\",\"\",getPeakScore(P$2))","v":""},{"$f":"IF(INDEX(toothOfTimeHike,numericItinerary($A30))=\"\",\"\",getPeakScore(Q$2))","v":40.5},{"$f":"IF(INDEX(trailPeakHike,numericItinerary($A30))=\"\",\"\",getPeakScore(R$2))","v":""},{"$f":"IF(INDEX(mountaineeringHike,numericItinerary($A30))=\"\",\"\",getPeakScore(S$2))","v":0},{"$f":"IF(areaImportant<>\"y\",\"\",IF(Itineraries!P30<>\"Y\",\"\",getareascore(T$2)))","v":""},{"$f":"IF(areaImportant<>\"y\",\"\",IF(Itineraries!Q30<>\"Y\",\"\",getareascore(U$2)))","v":""},{"$f":"IF(areaImportant<>\"y\",\"\",IF(Itineraries!R30<>\"Y\",\"\",getareascore(V$2)))","v":""},{"$f":"IF(areaImportant<>\"y\",\"\",IF(Itineraries!S30<>\"Y\",\"\",getareascore(W$2)))","v":""},{"$f":"IF(ItineraryPrograms!B30=\"y\",getScoreFactor(\"Program\",X$2),\"\")","v":22.5},{"$f":"IF(ItineraryPrograms!C30=\"y\",getScoreFactor(\"Program\",Y$2),\"\")","v":""},{"$f":"IF(ItineraryPrograms!D30=\"y\",getScoreFactor(\"Program\",Z$2),\"\")","v":""},{"$f":"IF(ItineraryPrograms!E30=\"y\",getScoreFactor(\"Program\",AA$2),\"\")","v":27},{"$f":"IF(ItineraryPrograms!F30=\"y\",getScoreFactor(\"Program\",AB$2),\"\")","v":""},{"$f":"IF(ItineraryPrograms!G30=\"y\",getScoreFactor(\"Program\",AC$2),\"\")","v":""},{"$f":"IF(ItineraryPrograms!H30=\"y\",getScoreFactor(\"Program\",AD$2),\"\")","v":14.25},{"$f":"IF(ItineraryPrograms!I30=\"y\",getScoreFactor(\"Program\",AE$2),\"\")","v":""},{"$f":"IF(ItineraryPrograms!J30=\"y\",getScoreFactor(\"Program\",AF$2),\"\")","v":13.5},{"$f":"IF(ItineraryPrograms!K30=\"y\",getScoreFactor(\"Program\",AG$2),\"\")","v":7.5},{"$f":"IF(ItineraryPrograms!L30=\"y\",getScoreFactor(\"Program\",AH$2),\"\")","v":""},{"$f":"IF(ItineraryPrograms!M30=\"y\",getScoreFactor(\"Program\",AI$2),\"\")","v":15.75},{"$f":"IF(ItineraryPrograms!N30=\"y\",getScoreFactor(\"Program\",AJ$2),\"\")","v":""},{"$f":"IF(ItineraryPrograms!O30=\"y\",getScoreFactor(\"Program\",AK$2),\"\")","v":10.5},{"$f":"IF(ItineraryPrograms!P30=\"y\",getScoreFactor(\"Program\",AL$2),\"\")","v":""},{"$f":"IF(ItineraryPrograms!Q30=\"y\",getScoreFactor(\"Program\",AM$2),\"\")","v":""},{"$f":"IF(ItineraryPrograms!R30=\"y\",getScoreFactor(\"Program\",AN$2),\"\")","v":""},{"$f":"IF(ItineraryPrograms!S30=\"y\",getScoreFactor(\"Program\",AO$2),\"\")","v":15},{"$f":"IF(ItineraryPrograms!T30=\"y\",getScoreFactor(\"Program\",AP$2),\"\")","v":""},{"$f":"IF(ItineraryPrograms!U30=\"y\",getScoreFactor(\"Program\",AQ$2),\"\")","v":15},{"$f":"IF(ItineraryPrograms!V30=\"y\",getScoreFactor(\"Program\",AR$2),\"\")","v":""},{"$f":"IF(ItineraryPrograms!W30=\"y\",getScoreFactor(\"Program\",AS$2),\"\")","v":9.75},{"$f":"IF(ItineraryPrograms!X30=\"y\",getScoreFactor(\"Program\",AT$2),\"\")","v":""},{"$f":"IF(ItineraryPrograms!Y30=\"y\",getScoreFactor(\"Program\",AU$2),\"\")","v":""},{"$f":"IF(ItineraryPrograms!Z30=\"y\",getScoreFactor(\"Program\",AV$2),\"\")","v":""},{"$f":"IF(ItineraryPrograms!AA30=\"y\",getScoreFactor(\"Program\",AW$2),\"\")","v":""},{"$f":"IF(ItineraryPrograms!AB30=\"y\",getScoreFactor(\"Program\",AX$2),\"\")","v":""},{"$f":"IF(ItineraryPrograms!AC30=\"y\",getScoreFactor(\"Program\",AY$2),\"\")","v":18},{"$f":"IF(ItineraryPrograms!AD30=\"y\",getScoreFactor(\"Program\",AZ$2),\"\")","v":""},{"$f":"IF(ItineraryPrograms!AE30=\"y\",getScoreFactor(\"Program\",BA$2),\"\")","v":""},{"$f":"IF(ItineraryPrograms!AF30=\"y\",getScoreFactor(\"Program\",BB$2),\"\")","v":19.5},{"$f":"IF(ItineraryPrograms!AG30=\"y\",getScoreFactor(\"Program\",BC$2),\"\")","v":""},{"$f":"IF(ItineraryPrograms!AH30=\"y\",getScoreFactor(\"Program\",BD$2),\"\")","v":""},{"$f":"IF(ItineraryPrograms!AI30=\"y\",getScoreFactor(\"Program\",BE$2),\"\")","v":18},{"$f":"IF(ItineraryPrograms!AJ30=\"y\",getScoreFactor(\"Program\",BF$2),\"\")","v":21},{"$f":"IF(ItineraryPrograms!AK30=\"y\",getScoreFactor(\"Program\",BG$2),\"\")","v":""},{"$f":"IF(ItineraryPrograms!AL30=\"y\",getScoreFactor(\"Program\",BH$2),\"\")","v":22.5},{"$f":"IF(ItineraryPrograms!AM30=\"y\",getScoreFactor(\"Program\",BI$2),\"\")","v":""},{"$f":"IF(ItineraryPrograms!AN30=\"y\",getScoreFactor(\"Program\",BJ$2),\"\")","v":""},{"$f":"IF(ItineraryPrograms!AO30=\"y\",getScoreFactor(\"Program\",BK$2),\"\")","v":""},{"$f":"IF(ItineraryPrograms!AP30=\"y\",getScoreFactor(\"Program\",BL$2),\"\")","v":""},{"$f":"IF(ItineraryPrograms!AR30=\"y\",getScoreFactor(\"Program\",BM$2),\"\")","v":18},{"$f":"IF(ItineraryPrograms!AS30=\"y\",getScoreFactor(\"Program\",BN$2),\"\")","v":18},{"$f":"IF(ItineraryPrograms!AU30=\"y\",getScoreFactor(\"Program\",BO$2),\"\")","v":""},{"$f":"IF(ItineraryPrograms!AV30=\"y\",getScoreFactor(\"Program\",BP$2),\"\")","v":""},{"$f":"IF(ItineraryPrograms!AW30=\"y\",getScoreFactor(\"Program\",BQ$2),\"\")","v":24.75},{"$f":"IF(ItineraryPrograms!AX30=\"y\",getScoreFactor(\"Program\",BR$2),\"\")","v":""},{"$f":"IF(ItineraryPrograms!AY30=\"y\",getScoreFactor(\"Program\",BS$2),\"\")","v":27},{"$f":"IF(ItineraryPrograms!AZ30=\"y\",getScoreFactor(\"Program\",BT$2),\"\")","v":""},{"$f":"IF(ItineraryPrograms!BA30=\"y\",getScoreFactor(\"Program\",BU$2),\"\")","v":""}]
[{"$f":"Itineraries!A31","v":"12-29"},10967,{"$f":"getScoreFactor(C$2,itineraryCamps!C32)","v":1500},{"$f":"getScoreFactor(D$2,\"Miles\") *itineraryCamps!D32","v":8300},{"$f":"getScoreFactor(E$2,Itineraries!B31)","v":40},{"$f":"getScoreFactor(F$2,Itineraries!C31)","v":80},{"$f":"getScoreFactor(G$2,Itineraries!E31)","v":75},{"$f":"getScoreFactor(H$2,Itineraries!H31)","v":200},{"$f":"getScoreFactor(I$2,Itineraries!G31)","v":60},{"$f":"getScoreFactor(J$2,Itineraries!J31)","v":70},{"$f":"getScoreFactor(K$2,Itineraries!K31)","v":70},{"$f":"getScoreFactor(L$2,Itineraries!L31)","v":200},{"$f":"IF(INDEX(startingTA,numericItinerary($A31))=$M$2,getScoreFactor(M$2,\"y\"),getScoreFactor(M$2,\"n\"))","v":0},{"$f":"IF(INDEX(startingTA,numericItinerary($A31))=$M$2,getScoreFactor(N$2,\"y\"),getScoreFactor(N$2,\"n\"))","v":0},{"$f":"IF(INDEX(baldyMountainHike,numericItinerary($A31))=\"\",\"\",getPeakScore(O$2))","v":25.5},{"$f":"IF(INDEX(mountPhillipsHike,numericItinerary($A31))=\"\",\"\",getPeakScore(P$2))","v":11.25},{"$f":"IF(INDEX(toothOfTimeHike,numericItinerary($A31))=\"\",\"\",getPeakScore(Q$2))","v":40.5},{"$f":"IF(INDEX(trailPeakHike,numericItinerary($A31))=\"\",\"\",getPeakScore(R$2))","v":""},{"$f":"IF(INDEX(mountaineeringHike,numericItinerary($A31))=\"\",\"\",getPeakScore(S$2))","v":0},{"$f":"IF(areaImportant<>\"y\",\"\",IF(Itineraries!P31<>\"Y\",\"\",getareascore(T$2)))","v":""},{"$f":"IF(areaImportant<>\"y\",\"\",IF(Itineraries!Q31<>\"Y\",\"\",getareascore(U$2)))","v":""},{"$f":"IF(areaImportant<>\"y\",\"\",IF(Itineraries!R31<>\"Y\",\"\",getareascore(V$2)))","v":""},{"$f":"IF(areaImportant<>\"y\",\"\",IF(Itineraries!S31<>\"Y\",\"\",getareascore(W$2)))","v":""},{"$f":"IF(ItineraryPrograms!B31=\"y\",getScoreFactor(\"Program\",X$2),\"\")","v":""},{"$f":"IF(ItineraryPrograms!C31=\"y\",getScoreFactor(\"Program\",Y$2),\"\")","v":30},{"$f":"IF(ItineraryPrograms!D31=\"y\",getScoreFactor(\"Program\",Z$2),\"\")","v":""},{"$f":"IF(ItineraryPrograms!E31=\"y\",getScoreFactor(\"Program\",AA$2),\"\")","v":""},{"$f":"IF(ItineraryPrograms!F31=\"y\",getScoreFactor(\"Program\",AB$2),\"\")","v":12.75},{"$f":"IF(ItineraryPrograms!G31=\"y\",getScoreFactor(\"Program\",AC$2),\"\")","v":14.25},{"$f":"IF(ItineraryPrograms!H31=\"y\",getScoreFactor(\"Program\",AD$2),\"\")","v":""},{"$f":"IF(ItineraryPrograms!I31=\"y\",getScoreFactor(\"Program\",AE$2),\"\")","v":""},{"$f":"IF(ItineraryPrograms!J31=\"y\",getScoreFactor(\"Program\",AF$2),\"\")","v":13.5},{"$f":"IF(ItineraryPrograms!K31=\"y\",getScoreFactor(\"Program\",AG$2),\"\")","v":7.5},{"$f":"IF(ItineraryPrograms!L31=\"y\",getScoreFactor(\"Program\",AH$2),\"\")","v":7.5},{"$f":"IF(ItineraryPrograms!M31=\"y\",getScoreFactor(\"Program\",AI$2),\"\")","v":15.75},{"$f":"IF(ItineraryPrograms!N31=\"y\",getScoreFactor(\"Program\",AJ$2),\"\")","v":""},{"$f":"IF(ItineraryPrograms!O31=\"y\",getScoreFactor(\"Program\",AK$2),\"\")","v":""},{"$f":"IF(ItineraryPrograms!P31=\"y\",getScoreFactor(\"Program\",AL$2),\"\")","v":""},{"$f":"IF(ItineraryPrograms!Q31=\"y\",getScoreFactor(\"Program\",AM$2),\"\")","v":""},{"$f":"IF(ItineraryPrograms!R31=\"y\",getScoreFactor(\"Program\",AN$2),\"\")","v":""},{"$f":"IF(ItineraryPrograms!S31=\"y\",getScoreFactor(\"Program\",AO$2),\"\")","v":15},{"$f":"IF(ItineraryPrograms!T31=\"y\",getScoreFactor(\"Program\",AP$2),\"\")","v":""},{"$f":"IF(ItineraryPrograms!U31=\"y\",getScoreFactor(\"Program\",AQ$2),\"\")","v":""},{"$f":"IF(ItineraryPrograms!V31=\"y\",getScoreFactor(\"Program\",AR$2),\"\")","v":""},{"$f":"IF(ItineraryPrograms!W31=\"y\",getScoreFactor(\"Program\",AS$2),\"\")","v":""},{"$f":"IF(ItineraryPrograms!X31=\"y\",getScoreFactor(\"Program\",AT$2),\"\")","v":9.75},{"$f":"IF(ItineraryPrograms!Y31=\"y\",getScoreFactor(\"Program\",AU$2),\"\")","v":""},{"$f":"IF(ItineraryPrograms!Z31=\"y\",getScoreFactor(\"Program\",AV$2),\"\")","v":""},{"$f":"IF(ItineraryPrograms!AA31=\"y\",getScoreFactor(\"Program\",AW$2),\"\")","v":""},{"$f":"IF(ItineraryPrograms!AB31=\"y\",getScoreFactor(\"Program\",AX$2),\"\")","v":18},{"$f":"IF(ItineraryPrograms!AC31=\"y\",getScoreFactor(\"Program\",AY$2),\"\")","v":""},{"$f":"IF(ItineraryPrograms!AD31=\"y\",getScoreFactor(\"Program\",AZ$2),\"\")","v":""},{"$f":"IF(ItineraryPrograms!AE31=\"y\",getScoreFactor(\"Program\",BA$2),\"\")","v":""},{"$f":"IF(ItineraryPrograms!AF31=\"y\",getScoreFactor(\"Program\",BB$2),\"\")","v":19.5},{"$f":"IF(ItineraryPrograms!AG31=\"y\",getScoreFactor(\"Program\",BC$2),\"\")","v":7.5},{"$f":"IF(ItineraryPrograms!AH31=\"y\",getScoreFactor(\"Program\",BD$2),\"\")","v":""},{"$f":"IF(ItineraryPrograms!AI31=\"y\",getScoreFactor(\"Program\",BE$2),\"\")","v":18},{"$f":"IF(ItineraryPrograms!AJ31=\"y\",getScoreFactor(\"Program\",BF$2),\"\")","v":""},{"$f":"IF(ItineraryPrograms!AK31=\"y\",getScoreFactor(\"Program\",BG$2),\"\")","v":""},{"$f":"IF(ItineraryPrograms!AL31=\"y\",getScoreFactor(\"Program\",BH$2),\"\")","v":""},{"$f":"IF(ItineraryPrograms!AM31=\"y\",getScoreFactor(\"Program\",BI$2),\"\")","v":18},{"$f":"IF(ItineraryPrograms!AN31=\"y\",getScoreFactor(\"Program\",BJ$2),\"\")","v":""},{"$f":"IF(ItineraryPrograms!AO31=\"y\",getScoreFactor(\"Program\",BK$2),\"\")","v":""},{"$f":"IF(ItineraryPrograms!AP31=\"y\",getScoreFactor(\"Program\",BL$2),\"\")","v":""},{"$f":"IF(ItineraryPrograms!AR31=\"y\",getScoreFactor(\"Program\",BM$2),\"\")","v":18},{"$f":"IF(ItineraryPrograms!AS31=\"y\",getScoreFactor(\"Program\",BN$2),\"\")","v":""},{"$f":"IF(ItineraryPrograms!AU31=\"y\",getScoreFactor(\"Program\",BO$2),\"\")","v":18},{"$f":"IF(ItineraryPrograms!AV31=\"y\",getScoreFactor(\"Program\",BP$2),\"\")","v":""},{"$f":"IF(ItineraryPrograms!AW31=\"y\",getScoreFactor(\"Program\",BQ$2),\"\")","v":24.75},{"$f":"IF(ItineraryPrograms!AX31=\"y\",getScoreFactor(\"Program\",BR$2),\"\")","v":""},{"$f":"IF(ItineraryPrograms!AY31=\"y\",getScoreFactor(\"Program\",BS$2),\"\")","v":27},{"$f":"IF(ItineraryPrograms!AZ31=\"y\",getScoreFactor(\"Program\",BT$2),\"\")","v":""},{"$f":"IF(ItineraryPrograms!BA31=\"y\",getScoreFactor(\"Program\",BU$2),\"\")","v":""}]
[{"$f":"Itineraries!A32","v":"12-30"},11018.75,{"$f":"getScoreFactor(C$2,itineraryCamps!C33)","v":1500},{"$f":"getScoreFactor(D$2,\"Miles\") *itineraryCamps!D33","v":8400},{"$f":"getScoreFactor(E$2,Itineraries!B32)","v":30},{"$f":"getScoreFactor(F$2,Itineraries!C32)","v":70},{"$f":"getScoreFactor(G$2,Itineraries!E32)","v":75},{"$f":"getScoreFactor(H$2,Itineraries!H32)","v":225},{"$f":"getScoreFactor(I$2,Itineraries!G32)","v":60},{"$f":"getScoreFactor(J$2,Itineraries!J32)","v":90},{"$f":"getScoreFactor(K$2,Itineraries!K32)","v":80},{"$f":"getScoreFactor(L$2,Itineraries!L32)","v":200},{"$f":"IF(INDEX(startingTA,numericItinerary($A32))=$M$2,getScoreFactor(M$2,\"y\"),getScoreFactor(M$2,\"n\"))","v":0},{"$f":"IF(INDEX(startingTA,numericItinerary($A32))=$M$2,getScoreFactor(N$2,\"y\"),getScoreFactor(N$2,\"n\"))","v":0},{"$f":"IF(INDEX(baldyMountainHike,numericItinerary($A32))=\"\",\"\",getPeakScore(O$2))","v":25.5},{"$f":"IF(INDEX(mountPhillipsHike,numericItinerary($A32))=\"\",\"\",getPeakScore(P$2))","v":""},{"$f":"IF(INDEX(toothOfTimeHike,numericItinerary($A32))=\"\",\"\",getPeakScore(Q$2))","v":""},{"$f":"IF(INDEX(trailPeakHike,numericItinerary($A32))=\"\",\"\",getPeakScore(R$2))","v":""},{"$f":"IF(INDEX(mountaineeringHike,numericItinerary($A32))=\"\",\"\",getPeakScore(S$2))","v":0},{"$f":"IF(areaImportant<>\"y\",\"\",IF(Itineraries!P32<>\"Y\",\"\",getareascore(T$2)))","v":""},{"$f":"IF(areaImportant<>\"y\",\"\",IF(Itineraries!Q32<>\"Y\",\"\",getareascore(U$2)))","v":""},{"$f":"IF(areaImportant<>\"y\",\"\",IF(Itineraries!R32<>\"Y\",\"\",getareascore(V$2)))","v":""},{"$f":"IF(areaImportant<>\"y\",\"\",IF(Itineraries!S32<>\"Y\",\"\",getareascore(W$2)))","v":""},{"$f":"IF(ItineraryPrograms!B32=\"y\",getScoreFactor(\"Program\",X$2),\"\")","v":22.5},{"$f":"IF(ItineraryPrograms!C32=\"y\",getScoreFactor(\"Program\",Y$2),\"\")","v":""},{"$f":"IF(ItineraryPrograms!D32=\"y\",getScoreFactor(\"Program\",Z$2),\"\")","v":10.5},{"$f":"IF(ItineraryPrograms!E32=\"y\",getScoreFactor(\"Program\",AA$2),\"\")","v":""},{"$f":"IF(ItineraryPrograms!F32=\"y\",getScoreFactor(\"Program\",AB$2),\"\")","v":12.75},{"$f":"IF(ItineraryPrograms!G32=\"y\",getScoreFactor(\"Program\",AC$2),\"\")","v":14.25},{"$f":"IF(ItineraryPrograms!H32=\"y\",getScoreFactor(\"Program\",AD$2),\"\")","v":14.25},{"$f":"IF(ItineraryPrograms!I32=\"y\",getScoreFactor(\"Program\",AE$2),\"\")","v":""},{"$f":"IF(ItineraryPrograms!J32=\"y\",getScoreFactor(\"Program\",AF$2),\"\")","v":13.5},{"$f":"IF(ItineraryPrograms!K32=\"y\",getScoreFactor(\"Program\",AG$2),\"\")","v":""},{"$f":"IF(ItineraryPrograms!L32=\"y\",getScoreFactor(\"Program\",AH$2),\"\")","v":7.5},{"$f":"IF(ItineraryPrograms!M32=\"y\",getScoreFactor(\"Program\",AI$2),\"\")","v":""},{"$f":"IF(ItineraryPrograms!N32=\"y\",getScoreFactor(\"Program\",AJ$2),\"\")","v":""},{"$f":"IF(ItineraryPrograms!O32=\"y\",getScoreFactor(\"Program\",AK$2),\"\")","v":""},{"$f":"IF(ItineraryPrograms!P32=\"y\",getScoreFactor(\"Program\",AL$2),\"\")","v":""},{"$f":"IF(ItineraryPrograms!Q32=\"y\",getScoreFactor(\"Program\",AM$2),\"\")","v":""},{"$f":"IF(ItineraryPrograms!R32=\"y\",getScoreFactor(\"Program\",AN$2),\"\")","v":""},{"$f":"IF(ItineraryPrograms!S32=\"y\",getScoreFactor(\"Program\",AO$2),\"\")","v":15},{"$f":"IF(ItineraryPrograms!T32=\"y\",getScoreFactor(\"Program\",AP$2),\"\")","v":""},{"$f":"IF(ItineraryPrograms!U32=\"y\",getScoreFactor(\"Program\",AQ$2),\"\")","v":15},{"$f":"IF(ItineraryPrograms!V32=\"y\",getScoreFactor(\"Program\",AR$2),\"\")","v":""},{"$f":"IF(ItineraryPrograms!W32=\"y\",getScoreFactor(\"Program\",AS$2),\"\")","v":""},{"$f":"IF(ItineraryPrograms!X32=\"y\",getScoreFactor(\"Program\",AT$2),\"\")","v":""},{"$f":"IF(ItineraryPrograms!Y32=\"y\",getScoreFactor(\"Program\",AU$2),\"\")","v":""},{"$f":"IF(ItineraryPrograms!Z32=\"y\",getScoreFactor(\"Program\",AV$2),\"\")","v":""},{"$f":"IF(ItineraryPrograms!AA32=\"y\",getScoreFactor(\"Program\",AW$2),\"\")","v":""},{"$f":"IF(ItineraryPrograms!AB32=\"y\",getScoreFactor(\"Program\",AX$2),\"\")","v":""},{"$f":"IF(ItineraryPrograms!AC32=\"y\",getScoreFactor(\"Program\",AY$2),\"\")","v":18},{"$f":"IF(ItineraryPrograms!AD32=\"y\",getScoreFactor(\"Program\",AZ$2),\"\")","v":18},{"$f":"IF(ItineraryPrograms!AE32=\"y\",getScoreFactor(\"Program\",BA$2),\"\")","v":""},{"$f":"IF(ItineraryPrograms!AF32=\"y\",getScoreFactor(\"Program\",BB$2),\"\")","v":19.5},{"$f":"IF(ItineraryPrograms!AG32=\"y\",getScoreFactor(\"Program\",BC$2),\"\")","v":""},{"$f":"IF(ItineraryPrograms!AH32=\"y\",getScoreFactor(\"Program\",BD$2),\"\")","v":18},{"$f":"IF(ItineraryPrograms!AI32=\"y\",getScoreFactor(\"Program\",BE$2),\"\")","v":18},{"$f":"IF(ItineraryPrograms!AJ32=\"y\",getScoreFactor(\"Program\",BF$2),\"\")","v":""},{"$f":"IF(ItineraryPrograms!AK32=\"y\",getScoreFactor(\"Program\",BG$2),\"\")","v":""},{"$f":"IF(ItineraryPrograms!AL32=\"y\",getScoreFactor(\"Program\",BH$2),\"\")","v":22.5},{"$f":"IF(ItineraryPrograms!AM32=\"y\",getScoreFactor(\"Program\",BI$2),\"\")","v":""},{"$f":"IF(ItineraryPrograms!AN32=\"y\",getScoreFactor(\"Program\",BJ$2),\"\")","v":15},{"$f":"IF(ItineraryPrograms!AO32=\"y\",getScoreFactor(\"Program\",BK$2),\"\")","v":9},{"$f":"IF(ItineraryPrograms!AP32=\"y\",getScoreFactor(\"Program\",BL$2),\"\")","v":""},{"$f":"IF(ItineraryPrograms!AR32=\"y\",getScoreFactor(\"Program\",BM$2),\"\")","v":""},{"$f":"IF(ItineraryPrograms!AS32=\"y\",getScoreFactor(\"Program\",BN$2),\"\")","v":""},{"$f":"IF(ItineraryPrograms!AU32=\"y\",getScoreFactor(\"Program\",BO$2),\"\")","v":""},{"$f":"IF(ItineraryPrograms!AV32=\"y\",getScoreFactor(\"Program\",BP$2),\"\")","v":""},{"$f":"IF(ItineraryPrograms!AW32=\"y\",getScoreFactor(\"Program\",BQ$2),\"\")","v":""},{"$f":"IF(ItineraryPrograms!AX32=\"y\",getScoreFactor(\"Program\",BR$2),\"\")","v":""},{"$f":"IF(ItineraryPrograms!AY32=\"y\",getScoreFactor(\"Program\",BS$2),\"\")","v":""},{"$f":"IF(ItineraryPrograms!AZ32=\"y\",getScoreFactor(\"Program\",BT$2),\"\")","v":""},{"$f":"IF(ItineraryPrograms!BA32=\"y\",getScoreFactor(\"Program\",BU$2),\"\")","v":""}]
[{"$f":"Itineraries!A33","v":"12-31"},12136.75,{"$f":"getScoreFactor(C$2,itineraryCamps!C34)","v":1500},{"$f":"getScoreFactor(D$2,\"Miles\") *itineraryCamps!D34","v":8400},{"$f":"getScoreFactor(E$2,Itineraries!B33)","v":40},{"$f":"getScoreFactor(F$2,Itineraries!C33)","v":80},{"$f":"getScoreFactor(G$2,Itineraries!E33)","v":75},{"$f":"getScoreFactor(H$2,Itineraries!H33)","v":250},{"$f":"getScoreFactor(I$2,Itineraries!G33)","v":75},{"$f":"getScoreFactor(J$2,Itineraries!J33)","v":50},{"$f":"getScoreFactor(K$2,Itineraries!K33)","v":60},{"$f":"getScoreFactor(L$2,Itineraries!L33)","v":300},{"$f":"IF(INDEX(startingTA,numericItinerary($A33))=$M$2,getScoreFactor(M$2,\"y\"),getScoreFactor(M$2,\"n\"))","v":500},{"$f":"IF(INDEX(startingTA,numericItinerary($A33))=$M$2,getScoreFactor(N$2,\"y\"),getScoreFactor(N$2,\"n\"))","v":500},{"$f":"IF(INDEX(baldyMountainHike,numericItinerary($A33))=\"\",\"\",getPeakScore(O$2))","v":25.5},{"$f":"IF(INDEX(mountPhillipsHike,numericItinerary($A33))=\"\",\"\",getPeakScore(P$2))","v":""},{"$f":"IF(INDEX(toothOfTimeHike,numericItinerary($A33))=\"\",\"\",getPeakScore(Q$2))","v":40.5},{"$f":"IF(INDEX(trailPeakHike,numericItinerary($A33))=\"\",\"\",getPeakScore(R$2))","v":""},{"$f":"IF(INDEX(mountaineeringHike,numericItinerary($A33))=\"\",\"\",getPeakScore(S$2))","v":0},{"$f":"IF(areaImportant<>\"y\",\"\",IF(Itineraries!P33<>\"Y\",\"\",getareascore(T$2)))","v":""},{"$f":"IF(areaImportant<>\"y\",\"\",IF(Itineraries!Q33<>\"Y\",\"\",getareascore(U$2)))","v":""},{"$f":"IF(areaImportant<>\"y\",\"\",IF(Itineraries!R33<>\"Y\",\"\",getareascore(V$2)))","v":""},{"$f":"IF(areaImportant<>\"y\",\"\",IF(Itineraries!S33<>\"Y\",\"\",getareascore(W$2)))","v":""},{"$f":"IF(ItineraryPrograms!B33=\"y\",getScoreFactor(\"Program\",X$2),\"\")","v":""},{"$f":"IF(ItineraryPrograms!C33=\"y\",getScoreFactor(\"Program\",Y$2),\"\")","v":30},{"$f":"IF(ItineraryPrograms!D33=\"y\",getScoreFactor(\"Program\",Z$2),\"\")","v":""},{"$f":"IF(ItineraryPrograms!E33=\"y\",getScoreFactor(\"Program\",AA$2),\"\")","v":""},{"$f":"IF(ItineraryPrograms!F33=\"y\",getScoreFactor(\"Program\",AB$2),\"\")","v":12.75},{"$f":"IF(ItineraryPrograms!G33=\"y\",getScoreFactor(\"Program\",AC$2),\"\")","v":""},{"$f":"IF(ItineraryPrograms!H33=\"y\",getScoreFactor(\"Program\",AD$2),\"\")","v":""},{"$f":"IF(ItineraryPrograms!I33=\"y\",getScoreFactor(\"Program\",AE$2),\"\")","v":""},{"$f":"IF(ItineraryPrograms!J33=\"y\",getScoreFactor(\"Program\",AF$2),\"\")","v":13.5},{"$f":"IF(ItineraryPrograms!K33=\"y\",getScoreFactor(\"Program\",AG$2),\"\")","v":""},{"$f":"IF(ItineraryPrograms!L33=\"y\",getScoreFactor(\"Program\",AH$2),\"\")","v":7.5},{"$f":"IF(ItineraryPrograms!M33=\"y\",getScoreFactor(\"Program\",AI$2),\"\")","v":15.75},{"$f":"IF(ItineraryPrograms!N33=\"y\",getScoreFactor(\"Program\",AJ$2),\"\")","v":""},{"$f":"IF(ItineraryPrograms!O33=\"y\",getScoreFactor(\"Program\",AK$2),\"\")","v":""},{"$f":"IF(ItineraryPrograms!P33=\"y\",getScoreFactor(\"Program\",AL$2),\"\")","v":""},{"$f":"IF(ItineraryPrograms!Q33=\"y\",getScoreFactor(\"Program\",AM$2),\"\")","v":""},{"$f":"IF(ItineraryPrograms!R33=\"y\",getScoreFactor(\"Program\",AN$2),\"\")","v":""},{"$f":"IF(ItineraryPrograms!S33=\"y\",getScoreFactor(\"Program\",AO$2),\"\")","v":15},{"$f":"IF(ItineraryPrograms!T33=\"y\",getScoreFactor(\"Program\",AP$2),\"\")","v":""},{"$f":"IF(ItineraryPrograms!U33=\"y\",getScoreFactor(\"Program\",AQ$2),\"\")","v":""},{"$f":"IF(ItineraryPrograms!V33=\"y\",getScoreFactor(\"Program\",AR$2),\"\")","v":""},{"$f":"IF(ItineraryPrograms!W33=\"y\",getScoreFactor(\"Program\",AS$2),\"\")","v":9.75},{"$f":"IF(ItineraryPrograms!X33=\"y\",getScoreFactor(\"Program\",AT$2),\"\")","v":9.75},{"$f":"IF(ItineraryPrograms!Y33=\"y\",getScoreFactor(\"Program\",AU$2),\"\")","v":""},{"$f":"IF(ItineraryPrograms!Z33=\"y\",getScoreFactor(\"Program\",AV$2),\"\")","v":""},{"$f":"IF(ItineraryPrograms!AA33=\"y\",getScoreFactor(\"Program\",AW$2),\"\")","v":""},{"$f":"IF(ItineraryPrograms!AB33=\"y\",getScoreFactor(\"Program\",AX$2),\"\")","v":18},{"$f":"IF(ItineraryPrograms!AC33=\"y\",getScoreFactor(\"Program\",AY$2),\"\")","v":""},{"$f":"IF(ItineraryPrograms!AD33=\"y\",getScoreFactor(\"Program\",AZ$2),\"\")","v":""},{"$f":"IF(ItineraryPrograms!AE33=\"y\",getScoreFactor(\"Program\",BA$2),\"\")","v":""},{"$f":"IF(ItineraryPrograms!AF33=\"y\",getScoreFactor(\"Program\",BB$2),\"\")","v":""},{"$f":"IF(ItineraryPrograms!AG33=\"y\",getScoreFactor(\"Program\",BC$2),\"\")","v":""},{"$f":"IF(ItineraryPrograms!AH33=\"y\",getScoreFactor(\"Program\",BD$2),\"\")","v":""},{"$f":"IF(ItineraryPrograms!AI33=\"y\",getScoreFactor(\"Program\",BE$2),\"\")","v":18},{"$f":"IF(ItineraryPrograms!AJ33=\"y\",getScoreFactor(\"Program\",BF$2),\"\")","v":21},{"$f":"IF(ItineraryPrograms!AK33=\"y\",getScoreFactor(\"Program\",BG$2),\"\")","v":""},{"$f":"IF(ItineraryPrograms!AL33=\"y\",getScoreFactor(\"Program\",BH$2),\"\")","v":""},{"$f":"IF(ItineraryPrograms!AM33=\"y\",getScoreFactor(\"Program\",BI$2),\"\")","v":""},{"$f":"IF(ItineraryPrograms!AN33=\"y\",getScoreFactor(\"Program\",BJ$2),\"\")","v":""},{"$f":"IF(ItineraryPrograms!AO33=\"y\",getScoreFactor(\"Program\",BK$2),\"\")","v":""},{"$f":"IF(ItineraryPrograms!AP33=\"y\",getScoreFactor(\"Program\",BL$2),\"\")","v":""},{"$f":"IF(ItineraryPrograms!AR33=\"y\",getScoreFactor(\"Program\",BM$2),\"\")","v":18},{"$f":"IF(ItineraryPrograms!AS33=\"y\",getScoreFactor(\"Program\",BN$2),\"\")","v":""},{"$f":"IF(ItineraryPrograms!AU33=\"y\",getScoreFactor(\"Program\",BO$2),\"\")","v":""},{"$f":"IF(ItineraryPrograms!AV33=\"y\",getScoreFactor(\"Program\",BP$2),\"\")","v":""},{"$f":"IF(ItineraryPrograms!AW33=\"y\",getScoreFactor(\"Program\",BQ$2),\"\")","v":24.75},{"$f":"IF(ItineraryPrograms!AX33=\"y\",getScoreFactor(\"Program\",BR$2),\"\")","v":""},{"$f":"IF(ItineraryPrograms!AY33=\"y\",getScoreFactor(\"Program\",BS$2),\"\")","v":27},{"$f":"IF(ItineraryPrograms!AZ33=\"y\",getScoreFactor(\"Program\",BT$2),\"\")","v":""},{"$f":"IF(ItineraryPrograms!BA33=\"y\",getScoreFactor(\"Program\",BU$2),\"\")","v":""}]
[{"$f":"Itineraries!A34","v":"12-32"},11183.25,{"$f":"getScoreFactor(C$2,itineraryCamps!C35)","v":1500},{"$f":"getScoreFactor(D$2,\"Miles\") *itineraryCamps!D35","v":8700},{"$f":"getScoreFactor(E$2,Itineraries!B34)","v":30},{"$f":"getScoreFactor(F$2,Itineraries!C34)","v":90},{"$f":"getScoreFactor(G$2,Itineraries!E34)","v":50},{"$f":"getScoreFactor(H$2,Itineraries!H34)","v":225},{"$f":"getScoreFactor(I$2,Itineraries!G34)","v":60},{"$f":"getScoreFactor(J$2,Itineraries!J34)","v":20},{"$f":"getScoreFactor(K$2,Itineraries!K34)","v":40},{"$f":"getScoreFactor(L$2,Itineraries!L34)","v":100},{"$f":"IF(INDEX(startingTA,numericItinerary($A34))=$M$2,getScoreFactor(M$2,\"y\"),getScoreFactor(M$2,\"n\"))","v":0},{"$f":"IF(INDEX(startingTA,numericItinerary($A34))=$M$2,getScoreFactor(N$2,\"y\"),getScoreFactor(N$2,\"n\"))","v":0},{"$f":"IF(INDEX(baldyMountainHike,numericItinerary($A34))=\"\",\"\",getPeakScore(O$2))","v":25.5},{"$f":"IF(INDEX(mountPhillipsHike,numericItinerary($A34))=\"\",\"\",getPeakScore(P$2))","v":""},{"$f":"IF(INDEX(toothOfTimeHike,numericItinerary($A34))=\"\",\"\",getPeakScore(Q$2))","v":40.5},{"$f":"IF(INDEX(trailPeakHike,numericItinerary($A34))=\"\",\"\",getPeakScore(R$2))","v":""},{"$f":"IF(INDEX(mountaineeringHike,numericItinerary($A34))=\"\",\"\",getPeakScore(S$2))","v":0},{"$f":"IF(areaImportant<>\"y\",\"\",IF(Itineraries!P34<>\"Y\",\"\",getareascore(T$2)))","v":""},{"$f":"IF(areaImportant<>\"y\",\"\",IF(Itineraries!Q34<>\"Y\",\"\",getareascore(U$2)))","v":""},{"$f":"IF(areaImportant<>\"y\",\"\",IF(Itineraries!R34<>\"Y\",\"\",getareascore(V$2)))","v":""},{"$f":"IF(areaImportant<>\"y\",\"\",IF(Itineraries!S34<>\"Y\",\"\",getareascore(W$2)))","v":""},{"$f":"IF(ItineraryPrograms!B34=\"y\",getScoreFactor(\"Program\",X$2),\"\")","v":""},{"$f":"IF(ItineraryPrograms!C34=\"y\",getScoreFactor(\"Program\",Y$2),\"\")","v":""},{"$f":"IF(ItineraryPrograms!D34=\"y\",getScoreFactor(\"Program\",Z$2),\"\")","v":""},{"$f":"IF(ItineraryPrograms!E34=\"y\",getScoreFactor(\"Program\",AA$2),\"\")","v":""},{"$f":"IF(ItineraryPrograms!F34=\"y\",getScoreFactor(\"Program\",AB$2),\"\")","v":12.75},{"$f":"IF(ItineraryPrograms!G34=\"y\",getScoreFactor(\"Program\",AC$2),\"\")","v":14.25},{"$f":"IF(ItineraryPrograms!H34=\"y\",getScoreFactor(\"Program\",AD$2),\"\")","v":""},{"$f":"IF(ItineraryPrograms!I34=\"y\",getScoreFactor(\"Program\",AE$2),\"\")","v":9},{"$f":"IF(ItineraryPrograms!J34=\"y\",getScoreFactor(\"Program\",AF$2),\"\")","v":13.5},{"$f":"IF(ItineraryPrograms!K34=\"y\",getScoreFactor(\"Program\",AG$2),\"\")","v":7.5},{"$f":"IF(ItineraryPrograms!L34=\"y\",getScoreFactor(\"Program\",AH$2),\"\")","v":7.5},{"$f":"IF(ItineraryPrograms!M34=\"y\",getScoreFactor(\"Program\",AI$2),\"\")","v":15.75},{"$f":"IF(ItineraryPrograms!N34=\"y\",getScoreFactor(\"Program\",AJ$2),\"\")","v":""},{"$f":"IF(ItineraryPrograms!O34=\"y\",getScoreFactor(\"Program\",AK$2),\"\")","v":10.5},{"$f":"IF(ItineraryPrograms!P34=\"y\",getScoreFactor(\"Program\",AL$2),\"\")","v":""},{"$f":"IF(ItineraryPrograms!Q34=\"y\",getScoreFactor(\"Program\",AM$2),\"\")","v":""},{"$f":"IF(ItineraryPrograms!R34=\"y\",getScoreFactor(\"Program\",AN$2),\"\")","v":6},{"$f":"IF(ItineraryPrograms!S34=\"y\",getScoreFactor(\"Program\",AO$2),\"\")","v":15},{"$f":"IF(ItineraryPrograms!T34=\"y\",getScoreFactor(\"Program\",AP$2),\"\")","v":""},{"$f":"IF(ItineraryPrograms!U34=\"y\",getScoreFactor(\"Program\",AQ$2),\"\")","v":""},{"$f":"IF(ItineraryPrograms!V34=\"y\",getScoreFactor(\"Program\",AR$2),\"\")","v":""},{"$f":"IF(ItineraryPrograms!W34=\"y\",getScoreFactor(\"Program\",AS$2),\"\")","v":9.75},{"$f":"IF(ItineraryPrograms!X34=\"y\",getScoreFactor(\"Program\",AT$2),\"\")","v":""},{"$f":"IF(ItineraryPrograms!Y34=\"y\",getScoreFactor(\"Program\",AU$2),\"\")","v":""},{"$f":"IF(ItineraryPrograms!Z34=\"y\",getScoreFactor(\"Program\",AV$2),\"\")","v":""},{"$f":"IF(ItineraryPrograms!AA34=\"y\",getScoreFactor(\"Program\",AW$2),\"\")","v":""},{"$f":"IF(ItineraryPrograms!AB34=\"y\",getScoreFactor(\"Program\",AX$2),\"\")","v":""},{"$f":"IF(ItineraryPrograms!AC34=\"y\",getScoreFactor(\"Program\",AY$2),\"\")","v":""},{"$f":"IF(ItineraryPrograms!AD34=\"y\",getScoreFactor(\"Program\",AZ$2),\"\")","v":""},{"$f":"IF(ItineraryPrograms!AE34=\"y\",getScoreFactor(\"Program\",BA$2),\"\")","v":""},{"$f":"IF(ItineraryPrograms!AF34=\"y\",getScoreFactor(\"Program\",BB$2),\"\")","v":""},{"$f":"IF(ItineraryPrograms!AG34=\"y\",getScoreFactor(\"Program\",BC$2),\"\")","v":""},{"$f":"IF(ItineraryPrograms!AH34=\"y\",getScoreFactor(\"Program\",BD$2),\"\")","v":""},{"$f":"IF(ItineraryPrograms!AI34=\"y\",getScoreFactor(\"Program\",BE$2),\"\")","v":18},{"$f":"IF(ItineraryPrograms!AJ34=\"y\",getScoreFactor(\"Program\",BF$2),\"\")","v":21},{"$f":"IF(ItineraryPrograms!AK34=\"y\",getScoreFactor(\"Program\",BG$2),\"\")","v":""},{"$f":"IF(ItineraryPrograms!AL34=\"y\",getScoreFactor(\"Program\",BH$2),\"\")","v":22.5},{"$f":"IF(ItineraryPrograms!AM34=\"y\",getScoreFactor(\"Program\",BI$2),\"\")","v":""},{"$f":"IF(ItineraryPrograms!AN34=\"y\",getScoreFactor(\"Program\",BJ$2),\"\")","v":15},{"$f":"IF(ItineraryPrograms!AO34=\"y\",getScoreFactor(\"Program\",BK$2),\"\")","v":9},{"$f":"IF(ItineraryPrograms!AP34=\"y\",getScoreFactor(\"Program\",BL$2),\"\")","v":""},{"$f":"IF(ItineraryPrograms!AR34=\"y\",getScoreFactor(\"Program\",BM$2),\"\")","v":""},{"$f":"IF(ItineraryPrograms!AS34=\"y\",getScoreFactor(\"Program\",BN$2),\"\")","v":18},{"$f":"IF(ItineraryPrograms!AU34=\"y\",getScoreFactor(\"Program\",BO$2),\"\")","v":18},{"$f":"IF(ItineraryPrograms!AV34=\"y\",getScoreFactor(\"Program\",BP$2),\"\")","v":7.5},{"$f":"IF(ItineraryPrograms!AW34=\"y\",getScoreFactor(\"Program\",BQ$2),\"\")","v":24.75},{"$f":"IF(ItineraryPrograms!AX34=\"y\",getScoreFactor(\"Program\",BR$2),\"\")","v":""},{"$f":"IF(ItineraryPrograms!AY34=\"y\",getScoreFactor(\"Program\",BS$2),\"\")","v":27},{"$f":"IF(ItineraryPrograms!AZ34=\"y\",getScoreFactor(\"Program\",BT$2),\"\")","v":""},{"$f":"IF(ItineraryPrograms!BA34=\"y\",getScoreFactor(\"Program\",BU$2),\"\")","v":""}]
[{"$f":"Itineraries!A35","v":"12-33"},11344.5,{"$f":"getScoreFactor(C$2,itineraryCamps!C36)","v":1500},{"$f":"getScoreFactor(D$2,\"Miles\") *itineraryCamps!D36","v":8800},{"$f":"getScoreFactor(E$2,Itineraries!B35)","v":40},{"$f":"getScoreFactor(F$2,Itineraries!C35)","v":80},{"$f":"getScoreFactor(G$2,Itineraries!E35)","v":75},{"$f":"getScoreFactor(H$2,Itineraries!H35)","v":250},{"$f":"getScoreFactor(I$2,Itineraries!G35)","v":60},{"$f":"getScoreFactor(J$2,Itineraries!J35)","v":80},{"$f":"getScoreFactor(K$2,Itineraries!K35)","v":80},{"$f":"getScoreFactor(L$2,Itineraries!L35)","v":0},{"$f":"IF(INDEX(startingTA,numericItinerary($A35))=$M$2,getScoreFactor(M$2,\"y\"),getScoreFactor(M$2,\"n\"))","v":0},{"$f":"IF(INDEX(startingTA,numericItinerary($A35))=$M$2,getScoreFactor(N$2,\"y\"),getScoreFactor(N$2,\"n\"))","v":0},{"$f":"IF(INDEX(baldyMountainHike,numericItinerary($A35))=\"\",\"\",getPeakScore(O$2))","v":25.5},{"$f":"IF(INDEX(mountPhillipsHike,numericItinerary($A35))=\"\",\"\",getPeakScore(P$2))","v":""},{"$f":"IF(INDEX(toothOfTimeHike,numericItinerary($A35))=\"\",\"\",getPeakScore(Q$2))","v":40.5},{"$f":"IF(INDEX(trailPeakHike,numericItinerary($A35))=\"\",\"\",getPeakScore(R$2))","v":""},{"$f":"IF(INDEX(mountaineeringHike,numericItinerary($A35))=\"\",\"\",getPeakScore(S$2))","v":0},{"$f":"IF(areaImportant<>\"y\",\"\",IF(Itineraries!P35<>\"Y\",\"\",getareascore(T$2)))","v":""},{"$f":"IF(areaImportant<>\"y\",\"\",IF(Itineraries!Q35<>\"Y\",\"\",getareascore(U$2)))","v":""},{"$f":"IF(areaImportant<>\"y\",\"\",IF(Itineraries!R35<>\"Y\",\"\",getareascore(V$2)))","v":""},{"$f":"IF(areaImportant<>\"y\",\"\",IF(Itineraries!S35<>\"Y\",\"\",getareascore(W$2)))","v":""},{"$f":"IF(ItineraryPrograms!B35=\"y\",getScoreFactor(\"Program\",X$2),\"\")","v":""},{"$f":"IF(ItineraryPrograms!C35=\"y\",getScoreFactor(\"Program\",Y$2),\"\")","v":30},{"$f":"IF(ItineraryPrograms!D35=\"y\",getScoreFactor(\"Program\",Z$2),\"\")","v":""},{"$f":"IF(ItineraryPrograms!E35=\"y\",getScoreFactor(\"Program\",AA$2),\"\")","v":""},{"$f":"IF(ItineraryPrograms!F35=\"y\",getScoreFactor(\"Program\",AB$2),\"\")","v":12.75},{"$f":"IF(ItineraryPrograms!G35=\"y\",getScoreFactor(\"Program\",AC$2),\"\")","v":14.25},{"$f":"IF(ItineraryPrograms!H35=\"y\",getScoreFactor(\"Program\",AD$2),\"\")","v":""},{"$f":"IF(ItineraryPrograms!I35=\"y\",getScoreFactor(\"Program\",AE$2),\"\")","v":""},{"$f":"IF(ItineraryPrograms!J35=\"y\",getScoreFactor(\"Program\",AF$2),\"\")","v":13.5},{"$f":"IF(ItineraryPrograms!K35=\"y\",getScoreFactor(\"Program\",AG$2),\"\")","v":""},{"$f":"IF(ItineraryPrograms!L35=\"y\",getScoreFactor(\"Program\",AH$2),\"\")","v":7.5},{"$f":"IF(ItineraryPrograms!M35=\"y\",getScoreFactor(\"Program\",AI$2),\"\")","v":""},{"$f":"IF(ItineraryPrograms!N35=\"y\",getScoreFactor(\"Program\",AJ$2),\"\")","v":""},{"$f":"IF(ItineraryPrograms!O35=\"y\",getScoreFactor(\"Program\",AK$2),\"\")","v":10.5},{"$f":"IF(ItineraryPrograms!P35=\"y\",getScoreFactor(\"Program\",AL$2),\"\")","v":""},{"$f":"IF(ItineraryPrograms!Q35=\"y\",getScoreFactor(\"Program\",AM$2),\"\")","v":""},{"$f":"IF(ItineraryPrograms!R35=\"y\",getScoreFactor(\"Program\",AN$2),\"\")","v":6},{"$f":"IF(ItineraryPrograms!S35=\"y\",getScoreFactor(\"Program\",AO$2),\"\")","v":15},{"$f":"IF(ItineraryPrograms!T35=\"y\",getScoreFactor(\"Program\",AP$2),\"\")","v":""},{"$f":"IF(ItineraryPrograms!U35=\"y\",getScoreFactor(\"Program\",AQ$2),\"\")","v":""},{"$f":"IF(ItineraryPrograms!V35=\"y\",getScoreFactor(\"Program\",AR$2),\"\")","v":6},{"$f":"IF(ItineraryPrograms!W35=\"y\",getScoreFactor(\"Program\",AS$2),\"\")","v":9.75},{"$f":"IF(ItineraryPrograms!X35=\"y\",getScoreFactor(\"Program\",AT$2),\"\")","v":""},{"$f":"IF(ItineraryPrograms!Y35=\"y\",getScoreFactor(\"Program\",AU$2),\"\")","v":""},{"$f":"IF(ItineraryPrograms!Z35=\"y\",getScoreFactor(\"Program\",AV$2),\"\")","v":""},{"$f":"IF(ItineraryPrograms!AA35=\"y\",getScoreFactor(\"Program\",AW$2),\"\")","v":""},{"$f":"IF(ItineraryPrograms!AB35=\"y\",getScoreFactor(\"Program\",AX$2),\"\")","v":18},{"$f":"IF(ItineraryPrograms!AC35=\"y\",getScoreFactor(\"Program\",AY$2),\"\")","v":18},{"$f":"IF(ItineraryPrograms!AD35=\"y\",getScoreFactor(\"Program\",AZ$2),\"\")","v":18},{"$f":"IF(ItineraryPrograms!AE35=\"y\",getScoreFactor(\"Program\",BA$2),\"\")","v":""},{"$f":"IF(ItineraryPrograms!AF35=\"y\",getScoreFactor(\"Program\",BB$2),\"\")","v":19.5},{"$f":"IF(ItineraryPrograms!AG35=\"y\",getScoreFactor(\"Program\",BC$2),\"\")","v":""},{"$f":"IF(ItineraryPrograms!AH35=\"y\",getScoreFactor(\"Program\",BD$2),\"\")","v":""},{"$f":"IF(ItineraryPrograms!AI35=\"y\",getScoreFactor(\"Program\",BE$2),\"\")","v":18},{"$f":"IF(ItineraryPrograms!AJ35=\"y\",getScoreFactor(\"Program\",BF$2),\"\")","v":""},{"$f":"IF(ItineraryPrograms!AK35=\"y\",getScoreFactor(\"Program\",BG$2),\"\")","v":""},{"$f":"IF(ItineraryPrograms!AL35=\"y\",getScoreFactor(\"Program\",BH$2),\"\")","v":""},{"$f":"IF(ItineraryPrograms!AM35=\"y\",getScoreFactor(\"Program\",BI$2),\"\")","v":""},{"$f":"IF(ItineraryPrograms!AN35=\"y\",getScoreFactor(\"Program\",BJ$2),\"\")","v":""},{"$f":"IF(ItineraryPrograms!AO35=\"y\",getScoreFactor(\"Program\",BK$2),\"\")","v":9},{"$f":"IF(ItineraryPrograms!AP35=\"y\",getScoreFactor(\"Program\",BL$2),\"\")","v":""},{"$f":"IF(ItineraryPrograms!AR35=\"y\",getScoreFactor(\"Program\",BM$2),\"\")","v":18},{"$f":"IF(ItineraryPrograms!AS35=\"y\",getScoreFactor(\"Program\",BN$2),\"\")","v":""},{"$f":"IF(ItineraryPrograms!AU35=\"y\",getScoreFactor(\"Program\",BO$2),\"\")","v":18},{"$f":"IF(ItineraryPrograms!AV35=\"y\",getScoreFactor(\"Program\",BP$2),\"\")","v":""},{"$f":"IF(ItineraryPrograms!AW35=\"y\",getScoreFactor(\"Program\",BQ$2),\"\")","v":24.75},{"$f":"IF(ItineraryPrograms!AX35=\"y\",getScoreFactor(\"Program\",BR$2),\"\")","v":""},{"$f":"IF(ItineraryPrograms!AY35=\"y\",getScoreFactor(\"Program\",BS$2),\"\")","v":27},{"$f":"IF(ItineraryPrograms!AZ35=\"y\",getScoreFactor(\"Program\",BT$2),\"\")","v":""},{"$f":"IF(ItineraryPrograms!BA35=\"y\",getScoreFactor(\"Program\",BU$2),\"\")","v":""}]
[{"$f":"Itineraries!A36","v":"12-34"},11783.25,{"$f":"getScoreFactor(C$2,itineraryCamps!C37)","v":1500},{"$f":"getScoreFactor(D$2,\"Miles\") *itineraryCamps!D37","v":9000},{"$f":"getScoreFactor(E$2,Itineraries!B36)","v":30},{"$f":"getScoreFactor(F$2,Itineraries!C36)","v":70},{"$f":"getScoreFactor(G$2,Itineraries!E36)","v":125},{"$f":"getScoreFactor(H$2,Itineraries!H36)","v":250},{"$f":"getScoreFactor(I$2,Itineraries!G36)","v":50},{"$f":"getScoreFactor(J$2,Itineraries!J36)","v":70},{"$f":"getScoreFactor(K$2,Itineraries!K36)","v":80},{"$f":"getScoreFactor(L$2,Itineraries!L36)","v":300},{"$f":"IF(INDEX(startingTA,numericItinerary($A36))=$M$2,getScoreFactor(M$2,\"y\"),getScoreFactor(M$2,\"n\"))","v":0},{"$f":"IF(INDEX(startingTA,numericItinerary($A36))=$M$2,getScoreFactor(N$2,\"y\"),getScoreFactor(N$2,\"n\"))","v":0},{"$f":"IF(INDEX(baldyMountainHike,numericItinerary($A36))=\"\",\"\",getPeakScore(O$2))","v":25.5},{"$f":"IF(INDEX(mountPhillipsHike,numericItinerary($A36))=\"\",\"\",getPeakScore(P$2))","v":""},{"$f":"IF(INDEX(toothOfTimeHike,numericItinerary($A36))=\"\",\"\",getPeakScore(Q$2))","v":40.5},{"$f":"IF(INDEX(trailPeakHike,numericItinerary($A36))=\"\",\"\",getPeakScore(R$2))","v":""},{"$f":"IF(INDEX(mountaineeringHike,numericItinerary($A36))=\"\",\"\",getPeakScore(S$2))","v":""},{"$f":"IF(areaImportant<>\"y\",\"\",IF(Itineraries!P36<>\"Y\",\"\",getareascore(T$2)))","v":""},{"$f":"IF(areaImportant<>\"y\",\"\",IF(Itineraries!Q36<>\"Y\",\"\",getareascore(U$2)))","v":""},{"$f":"IF(areaImportant<>\"y\",\"\",IF(Itineraries!R36<>\"Y\",\"\",getareascore(V$2)))","v":""},{"$f":"IF(areaImportant<>\"y\",\"\",IF(Itineraries!S36<>\"Y\",\"\",getareascore(W$2)))","v":""},{"$f":"IF(ItineraryPrograms!B36=\"y\",getScoreFactor(\"Program\",X$2),\"\")","v":""},{"$f":"IF(ItineraryPrograms!C36=\"y\",getScoreFactor(\"Program\",Y$2),\"\")","v":""},{"$f":"IF(ItineraryPrograms!D36=\"y\",getScoreFactor(\"Program\",Z$2),\"\")","v":""},{"$f":"IF(ItineraryPrograms!E36=\"y\",getScoreFactor(\"Program\",AA$2),\"\")","v":""},{"$f":"IF(ItineraryPrograms!F36=\"y\",getScoreFactor(\"Program\",AB$2),\"\")","v":12.75},{"$f":"IF(ItineraryPrograms!G36=\"y\",getScoreFactor(\"Program\",AC$2),\"\")","v":14.25},{"$f":"IF(ItineraryPrograms!H36=\"y\",getScoreFactor(\"Program\",AD$2),\"\")","v":""},{"$f":"IF(ItineraryPrograms!I36=\"y\",getScoreFactor(\"Program\",AE$2),\"\")","v":""},{"$f":"IF(ItineraryPrograms!J36=\"y\",getScoreFactor(\"Program\",AF$2),\"\")","v":13.5},{"$f":"IF(ItineraryPrograms!K36=\"y\",getScoreFactor(\"Program\",AG$2),\"\")","v":""},{"$f":"IF(ItineraryPrograms!L36=\"y\",getScoreFactor(\"Program\",AH$2),\"\")","v":7.5},{"$f":"IF(ItineraryPrograms!M36=\"y\",getScoreFactor(\"Program\",AI$2),\"\")","v":15.75},{"$f":"IF(ItineraryPrograms!N36=\"y\",getScoreFactor(\"Program\",AJ$2),\"\")","v":""},{"$f":"IF(ItineraryPrograms!O36=\"y\",getScoreFactor(\"Program\",AK$2),\"\")","v":10.5},{"$f":"IF(ItineraryPrograms!P36=\"y\",getScoreFactor(\"Program\",AL$2),\"\")","v":""},{"$f":"IF(ItineraryPrograms!Q36=\"y\",getScoreFactor(\"Program\",AM$2),\"\")","v":""},{"$f":"IF(ItineraryPrograms!R36=\"y\",getScoreFactor(\"Program\",AN$2),\"\")","v":""},{"$f":"IF(ItineraryPrograms!S36=\"y\",getScoreFactor(\"Program\",AO$2),\"\")","v":""},{"$f":"IF(ItineraryPrograms!T36=\"y\",getScoreFactor(\"Program\",AP$2),\"\")","v":""},{"$f":"IF(ItineraryPrograms!U36=\"y\",getScoreFactor(\"Program\",AQ$2),\"\")","v":""},{"$f":"IF(ItineraryPrograms!V36=\"y\",getScoreFactor(\"Program\",AR$2),\"\")","v":6},{"$f":"IF(ItineraryPrograms!W36=\"y\",getScoreFactor(\"Program\",AS$2),\"\")","v":9.75},{"$f":"IF(ItineraryPrograms!X36=\"y\",getScoreFactor(\"Program\",AT$2),\"\")","v":""},{"$f":"IF(ItineraryPrograms!Y36=\"y\",getScoreFactor(\"Program\",AU$2),\"\")","v":""},{"$f":"IF(ItineraryPrograms!Z36=\"y\",getScoreFactor(\"Program\",AV$2),\"\")","v":""},{"$f":"IF(ItineraryPrograms!AA36=\"y\",getScoreFactor(\"Program\",AW$2),\"\")","v":""},{"$f":"IF(ItineraryPrograms!AB36=\"y\",getScoreFactor(\"Program\",AX$2),\"\")","v":""},{"$f":"IF(ItineraryPrograms!AC36=\"y\",getScoreFactor(\"Program\",AY$2),\"\")","v":18},{"$f":"IF(ItineraryPrograms!AD36=\"y\",getScoreFactor(\"Program\",AZ$2),\"\")","v":18},{"$f":"IF(ItineraryPrograms!AE36=\"y\",getScoreFactor(\"Program\",BA$2),\"\")","v":""},{"$f":"IF(ItineraryPrograms!AF36=\"y\",getScoreFactor(\"Program\",BB$2),\"\")","v":19.5},{"$f":"IF(ItineraryPrograms!AG36=\"y\",getScoreFactor(\"Program\",BC$2),\"\")","v":""},{"$f":"IF(ItineraryPrograms!AH36=\"y\",getScoreFactor(\"Program\",BD$2),\"\")","v":""},{"$f":"IF(ItineraryPrograms!AI36=\"y\",getScoreFactor(\"Program\",BE$2),\"\")","v":""},{"$f":"IF(ItineraryPrograms!AJ36=\"y\",getScoreFactor(\"Program\",BF$2),\"\")","v":""},{"$f":"IF(ItineraryPrograms!AK36=\"y\",getScoreFactor(\"Program\",BG$2),\"\")","v":""},{"$f":"IF(ItineraryPrograms!AL36=\"y\",getScoreFactor(\"Program\",BH$2),\"\")","v":""},{"$f":"IF(ItineraryPrograms!AM36=\"y\",getScoreFactor(\"Program\",BI$2),\"\")","v":""},{"$f":"IF(ItineraryPrograms!AN36=\"y\",getScoreFactor(\"Program\",BJ$2),\"\")","v":""},{"$f":"IF(ItineraryPrograms!AO36=\"y\",getScoreFactor(\"Program\",BK$2),\"\")","v":9},{"$f":"IF(ItineraryPrograms!AP36=\"y\",getScoreFactor(\"Program\",BL$2),\"\")","v":""},{"$f":"IF(ItineraryPrograms!AR36=\"y\",getScoreFactor(\"Program\",BM$2),\"\")","v":""},{"$f":"IF(ItineraryPrograms!AS36=\"y\",getScoreFactor(\"Program\",BN$2),\"\")","v":18},{"$f":"IF(ItineraryPrograms!AU36=\"y\",getScoreFactor(\"Program\",BO$2),\"\")","v":18},{"$f":"IF(ItineraryPrograms!AV36=\"y\",getScoreFactor(\"Program\",BP$2),\"\")","v":""},{"$f":"IF(ItineraryPrograms!AW36=\"y\",getScoreFactor(\"Program\",BQ$2),\"\")","v":24.75},{"$f":"IF(ItineraryPrograms!AX36=\"y\",getScoreFactor(\"Program\",BR$2),\"\")","v":""},{"$f":"IF(ItineraryPrograms!AY36=\"y\",getScoreFactor(\"Program\",BS$2),\"\")","v":27},{"$f":"IF(ItineraryPrograms!AZ36=\"y\",getScoreFactor(\"Program\",BT$2),\"\")","v":""},{"$f":"IF(ItineraryPrograms!BA36=\"y\",getScoreFactor(\"Program\",BU$2),\"\")","v":""}]
[]
[null,null,{"$f":"\"Distances \"  & MAX(D3:D36)/mileageFactor & \" to \" & MIN(D3:D36)/mileageFactor& \" miles\"","v":"Distances 90 to 50 miles"}]
[]
["Custom Properties"]
["revision","2024_2-0"]
["trekYear","2024"]
["nDays",12]
["nItineraries",34]
["itineraryNoPrefix","12-"]

{"sheet":"Itineraries","index":14,"n_rows":39,"n_cols":19,"rows_kept":39,"cut":false,"hidden":true,"merged":[[0,12,0,14],[0,15,0,18],[37,0,38,0]]}
[null,null,null,null,null,null,null,null,null,null,null,null,"Maps",null,null,"Region"]
["Itinerary","Days Food from Base","Max Days Food","Staffed Camps","Trail Camps","Layovers","Total Camps","Dry Camps","Min Altitude","Max Altitude","Total Gain","Average Daily Change","South","North","Valle Vidal","South","Central","North","Valle Vidal"]
[{"$f":"itineraryCamps!A4","v":"12-1"},{"$f":"itineraryCamps!DL4","v":3},{"$f":"itineraryCamps!DM4","v":3},{"$f":"countcamps(itineraryStaff,numericItinerary($A3))","v":5},{"$f":"countcamps(itineraryTrail,numericItinerary($A3))","v":5},{"$f":"countcamps(itineraryLayover,numericItinerary($A3))","v":0},{"$f":"D3+E3-F3","v":10},{"$f":"countcamps(itineraryDry,numericItinerary($A3))","v":2},{"$f":"MIN(itineraryCamps!AK4:AT4)","v":7519},{"$f":"MAX(itineraryCamps!AK4:AT4)","v":10509},{"$f":"J3-I3","v":2990},{"$f":"AVERAGE(itineraryCamps!AU4:BC4)","v":575.88888888888891},{"$f":"contains(M$2,numericItinerary($A3),itineraryMaps)","v":"Y"},{"$f":"contains(N$2,numericItinerary($A3),itineraryMaps)","v":""},{"$f":"contains(O$2,numericItinerary($A3),itineraryMaps)","v":""},{"$f":"contains(P$2,numericItinerary($A3),itineraryCountry)","v":"Y"},{"$f":"contains(Q$2,numericItinerary($A3),itineraryCountry)","v":"Y"},{"$f":"contains(R$2,numericItinerary($A3),itineraryCountry)","v":""},{"$f":"contains(S$2,numericItinerary($A3),itineraryCountry)","v":""}]
[{"$f":"itineraryCamps!A5","v":"12-2"},{"$f":"itineraryCamps!DL5","v":1},{"$f":"itineraryCamps!DM5","v":3},{"$f":"countcamps(itineraryStaff,numericItinerary($A4))","v":4},{"$f":"countcamps(itineraryTrail,numericItinerary($A4))","v":6},{"$f":"countcamps(itineraryLayover,numericItinerary($A4))","v":0},{"$f":"D4+E4-F4","v":10},{"$f":"countcamps(itineraryDry,numericItinerary($A4))","v":1},{"$f":"MIN(itineraryCamps!AK5:AT5)","v":7469},{"$f":"MAX(itineraryCamps!AK5:AT5)","v":11650},{"$f":"J4-I4","v":4181},{"$f":"AVERAGE(itineraryCamps!AU5:BC5)","v":924},{"$f":"contains(M$2,numericItinerary($A4),itineraryMaps)","v":"Y"},{"$f":"contains(N$2,numericItinerary($A4),itineraryMaps)","v":""},{"$f":"contains(O$2,numericItinerary($A4),itineraryMaps)","v":""},{"$f":"contains(P$2,numericItinerary($A4),itineraryCountry)","v":"Y"},{"$f":"contains(Q$2,numericItinerary($A4),itineraryCountry)","v":"Y"},{"$f":"contains(R$2,numericItinerary($A4),itineraryCountry)","v":""},{"$f":"contains(S$2,numericItinerary($A4),itineraryCountry)","v":""}]
[{"$f":"itineraryCamps!A6","v":"12-3"},{"$f":"itineraryCamps!DL6","v":3},{"$f":"itineraryCamps!DM6","v":3},{"$f":"countcamps(itineraryStaff,numericItinerary($A5))","v":6},{"$f":"countcamps(itineraryTrail,numericItinerary($A5))","v":4},{"$f":"countcamps(itineraryLayover,numericItinerary($A5))","v":1},9,{"$f":"countcamps(itineraryDry,numericItinerary($A5))","v":2},{"$f":"MIN(itineraryCamps!AK6:AT6)","v":7519},{"$f":"MAX(itineraryCamps!AK6:AT6)","v":10509},2990,{"$f":"AVERAGE(itineraryCamps!AU6:BC6)","v":656.55555555555554},{"$f":"contains(M$2,numericItinerary($A5),itineraryMaps)","v":"Y"},{"$f":"contains(N$2,numericItinerary($A5),itineraryMaps)","v":""},{"$f":"contains(O$2,numericItinerary($A5),itineraryMaps)","v":""},{"$f":"contains(P$2,numericItinerary($A5),itineraryCountry)","v":"Y"},{"$f":"contains(Q$2,numericItinerary($A5),itineraryCountry)","v":"Y"},{"$f":"contains(R$2,numericItinerary($A5),itineraryCountry)","v":""},{"$f":"contains(S$2,numericItinerary($A5),itineraryCountry)","v":""}]
[{"$f":"itineraryCamps!A7","v":"12-4"},{"$f":"itineraryCamps!DL7","v":1},{"$f":"itineraryCamps!DM7","v":3},{"$f":"countcamps(itineraryStaff,numericItinerary($A6))","v":6},{"$f":"countcamps(itineraryTrail,numericItinerary($A6))","v":4},{"$f":"countcamps(itineraryLayover,numericItinerary($A6))","v":1},9,{"$f":"countcamps(itineraryDry,numericItinerary($A6))","v":2},{"$f":"MIN(itineraryCamps!AK7:AT7)","v":7469},{"$f":"MAX(itineraryCamps!AK7:AT7)","v":11070},3601,{"$f":"AVERAGE(itineraryCamps!AU7:BC7)","v":815.44444444444446},{"$f":"contains(M$2,numericItinerary($A6),itineraryMaps)","v":"Y"},{"$f":"contains(N$2,numericItinerary($A6),itineraryMaps)","v":""},{"$f":"contains(O$2,numericItinerary($A6),itineraryMaps)","v":""},{"$f":"contains(P$2,numericItinerary($A6),itineraryCountry)","v":"Y"},{"$f":"contains(Q$2,numericItinerary($A6),itineraryCountry)","v":"Y"},{"$f":"contains(R$2,numericItinerary($A6),itineraryCountry)","v":""},{"$f":"contains(S$2,numericItinerary($A6),itineraryCountry)","v":""}]
[{"$f":"itineraryCamps!A8","v":"12-5"},{"$f":"itineraryCamps!DL8","v":3},{"$f":"itineraryCamps!DM8","v":3},{"$f":"countcamps(itineraryStaff,numericItinerary($A7))","v":5},{"$f":"countcamps(itineraryTrail,numericItinerary($A7))","v":5},{"$f":"countcamps(itineraryLayover,numericItinerary($A7))","v":1},9,{"$f":"countcamps(itineraryDry,numericItinerary($A7))","v":0},{"$f":"MIN(itineraryCamps!AK8:AT8)","v":6979},{"$f":"MAX(itineraryCamps!AK8:AT8)","v":9619},2640,{"$f":"AVERAGE(itineraryCamps!AU8:BC8)","v":780},{"$f":"contains(M$2,numericItinerary($A7),itineraryMaps)","v":"Y"},{"$f":"contains(N$2,numericItinerary($A7),itineraryMaps)","v":"Y"},{"$f":"contains(O$2,numericItinerary($A7),itineraryMaps)","v":""},{"$f":"contains(P$2,numericItinerary($A7),itineraryCountry)","v":""},{"$f":"contains(Q$2,numericItinerary($A7),itineraryCountry)","v":"Y"},{"$f":"contains(R$2,numericItinerary($A7),itineraryCountry)","v":"Y"},{"$f":"contains(S$2,numericItinerary($A7),itineraryCountry)","v":""}]
[{"$f":"itineraryCamps!A9","v":"12-6"},{"$f":"itineraryCamps!DL9","v":3},{"$f":"itineraryCamps!DM9","v":3},{"$f":"countcamps(itineraryStaff,numericItinerary($A8))","v":5},{"$f":"countcamps(itineraryTrail,numericItinerary($A8))","v":5},{"$f":"countcamps(itineraryLayover,numericItinerary($A8))","v":1},9,{"$f":"countcamps(itineraryDry,numericItinerary($A8))","v":2},{"$f":"MIN(itineraryCamps!AK9:AT9)","v":7359},{"$f":"MAX(itineraryCamps!AK9:AT9)","v":10280},2921,{"$f":"AVERAGE(itineraryCamps!AU9:BC9)","v":642.22222222222217},{"$f":"contains(M$2,numericItinerary($A8),itineraryMaps)","v":"Y"},{"$f":"contains(N$2,numericItinerary($A8),itineraryMaps)","v":""},{"$f":"contains(O$2,numericItinerary($A8),itineraryMaps)","v":""},{"$f":"contains(P$2,numericItinerary($A8),itineraryCountry)","v":"Y"},{"$f":"contains(Q$2,numericItinerary($A8),itineraryCountry)","v":""},{"$f":"contains(R$2,numericItinerary($A8),itineraryCountry)","v":""},{"$f":"contains(S$2,numericItinerary($A8),itineraryCountry)","v":""}]
[{"$f":"itineraryCamps!A10","v":"12-7"},{"$f":"itineraryCamps!DL10","v":2},{"$f":"itineraryCamps!DM10","v":2},{"$f":"countcamps(itineraryStaff,numericItinerary($A9))","v":4},{"$f":"countcamps(itineraryTrail,numericItinerary($A9))","v":6},{"$f":"countcamps(itineraryLayover,numericItinerary($A9))","v":1},9,{"$f":"countcamps(itineraryDry,numericItinerary($A9))","v":2},{"$f":"MIN(itineraryCamps!AK10:AT10)","v":7359},{"$f":"MAX(itineraryCamps!AK10:AT10)","v":10420},3061,{"$f":"AVERAGE(itineraryCamps!AU10:BC10)","v":694.55555555555554},{"$f":"contains(M$2,numericItinerary($A9),itineraryMaps)","v":"Y"},{"$f":"contains(N$2,numericItinerary($A9),itineraryMaps)","v":""},{"$f":"contains(O$2,numericItinerary($A9),itineraryMaps)","v":""},{"$f":"contains(P$2,numericItinerary($A9),itineraryCountry)","v":"Y"},{"$f":"contains(Q$2,numericItinerary($A9),itineraryCountry)","v":"Y"},{"$f":"contains(R$2,numericItinerary($A9),itineraryCountry)","v":""},{"$f":"contains(S$2,numericItinerary($A9),itineraryCountry)","v":""}]
[{"$f":"itineraryCamps!A11","v":"12-8"},{"$f":"itineraryCamps!DL11","v":1},{"$f":"itineraryCamps!DM11","v":4},{"$f":"countcamps(itineraryStaff,numericItinerary($A10))","v":5},{"$f":"countcamps(itineraryTrail,numericItinerary($A10))","v":5},{"$f":"countcamps(itineraryLayover,numericItinerary($A10))","v":1},9,{"$f":"countcamps(itineraryDry,numericItinerary($A10))","v":3},{"$f":"MIN(itineraryCamps!AK11:AT11)","v":7085},{"$f":"MAX(itineraryCamps!AK11:AT11)","v":10490},3405,{"$f":"AVERAGE(itineraryCamps!AU11:BC11)","v":728.33333333333337},{"$f":"contains(M$2,numericItinerary($A10),itineraryMaps)","v":"Y"},{"$f":"contains(N$2,numericItinerary($A10),itineraryMaps)","v":""},{"$f":"contains(O$2,numericItinerary($A10),itineraryMaps)","v":""},{"$f":"contains(P$2,numericItinerary($A10),itineraryCountry)","v":"Y"},{"$f":"contains(Q$2,numericItinerary($A10),itineraryCountry)","v":"Y"},{"$f":"contains(R$2,numericItinerary($A10),itineraryCountry)","v":""},{"$f":"contains(S$2,numericItinerary($A10),itineraryCountry)","v":""}]
[{"$f":"itineraryCamps!A12","v":"12-9"},{"$f":"itineraryCamps!DL12","v":3},{"$f":"itineraryCamps!DM12","v":3},{"$f":"countcamps(itineraryStaff,numericItinerary($A11))","v":4},{"$f":"countcamps(itineraryTrail,numericItinerary($A11))","v":6},{"$f":"countcamps(itineraryLayover,numericItinerary($A11))","v":1},9,{"$f":"countcamps(itineraryDry,numericItinerary($A11))","v":0},{"$f":"MIN(itineraryCamps!AK12:AT12)","v":7150},{"$f":"MAX(itineraryCamps!AK12:AT12)","v":10530},3380,{"$f":"AVERAGE(itineraryCamps!AU12:BC12)","v":841.33333333333337},{"$f":"contains(M$2,numericItinerary($A11),itineraryMaps)","v":"Y"},{"$f":"contains(N$2,numericItinerary($A11),itineraryMaps)","v":"Y"},{"$f":"contains(O$2,numericItinerary($A11),itineraryMaps)","v":""},{"$f":"contains(P$2,numericItinerary($A11),itineraryCountry)","v":""},{"$f":"contains(Q$2,numericItinerary($A11),itineraryCountry)","v":""},{"$f":"contains(R$2,numericItinerary($A11),itineraryCountry)","v":"Y"},{"$f":"contains(S$2,numericItinerary($A11),itineraryCountry)","v":""}]
[{"$f":"itineraryCamps!A13","v":"12-10"},{"$f":"itineraryCamps!DL13","v":3},{"$f":"itineraryCamps!DM13","v":3},{"$f":"countcamps(itineraryStaff,numericItinerary($A12))","v":5},{"$f":"countcamps(itineraryTrail,numericItinerary($A12))","v":5},{"$f":"countcamps(itineraryLayover,numericItinerary($A12))","v":1},9,{"$f":"countcamps(itineraryDry,numericItinerary($A12))","v":1},{"$f":"MIN(itineraryCamps!AK13:AT13)","v":6979},{"$f":"MAX(itineraryCamps!AK13:AT13)","v":9851},2872,{"$f":"AVERAGE(itineraryCamps!AU13:BC13)","v":578.44444444444446},{"$f":"contains(M$2,numericItinerary($A12),itineraryMaps)","v":""},{"$f":"contains(N$2,numericItinerary($A12),itineraryMaps)","v":"Y"},{"$f":"contains(O$2,numericItinerary($A12),itineraryMaps)","v":""},{"$f":"contains(P$2,numericItinerary($A12),itineraryCountry)","v":""},{"$f":"contains(Q$2,numericItinerary($A12),itineraryCountry)","v":""},{"$f":"contains(R$2,numericItinerary($A12),itineraryCountry)","v":"Y"},{"$f":"contains(S$2,numericItinerary($A12),itineraryCountry)","v":""}]
[{"$f":"itineraryCamps!A14","v":"12-11"},{"$f":"itineraryCamps!DL14","v":2},{"$f":"itineraryCamps!DM14","v":4},{"$f":"countcamps(itineraryStaff,numericItinerary($A13))","v":5},{"$f":"countcamps(itineraryTrail,numericItinerary($A13))","v":5},{"$f":"countcamps(itineraryLayover,numericItinerary($A13))","v":0},10,{"$f":"countcamps(itineraryDry,numericItinerary($A13))","v":2},{"$f":"MIN(itineraryCamps!AK14:AT14)","v":7217},{"$f":"MAX(itineraryCamps!AK14:AT14)","v":10240},3023,{"$f":"AVERAGE(itineraryCamps!AU14:BC14)","v":837.11111111111109},{"$f":"contains(M$2,numericItinerary($A13),itineraryMaps)","v":"Y"},{"$f":"contains(N$2,numericItinerary($A13),itineraryMaps)","v":""},{"$f":"contains(O$2,numericItinerary($A13),itineraryMaps)","v":""},{"$f":"contains(P$2,numericItinerary($A13),itineraryCountry)","v":"Y"},{"$f":"contains(Q$2,numericItinerary($A13),itineraryCountry)","v":"Y"},{"$f":"contains(R$2,numericItinerary($A13),itineraryCountry)","v":""},{"$f":"contains(S$2,numericItinerary($A13),itineraryCountry)","v":""}]
[{"$f":"itineraryCamps!A15","v":"12-12"},{"$f":"itineraryCamps!DL15","v":3},{"$f":"itineraryCamps!DM15","v":3},{"$f":"countcamps(itineraryStaff,numericItinerary($A14))","v":5},{"$f":"countcamps(itineraryTrail,numericItinerary($A14))","v":5},{"$f":"countcamps(itineraryLayover,numericItinerary($A14))","v":1},9,{"$f":"countcamps(itineraryDry,numericItinerary($A14))","v":1},{"$f":"MIN(itineraryCamps!AK15:AT15)","v":7977},{"$f":"MAX(itineraryCamps!AK15:AT15)","v":10280},2303,{"$f":"AVERAGE(itineraryCamps!AU15:BC15)","v":613},{"$f":"contains(M$2,numericItinerary($A14),itineraryMaps)","v":"Y"},{"$f":"contains(N$2,numericItinerary($A14),itineraryMaps)","v":""},{"$f":"contains(O$2,numericItinerary($A14),itineraryMaps)","v":""},{"$f":"contains(P$2,numericItinerary($A14),itineraryCountry)","v":"Y"},{"$f":"contains(Q$2,numericItinerary($A14),itineraryCountry)","v":"Y"},{"$f":"contains(R$2,numericItinerary($A14),itineraryCountry)","v":""},{"$f":"contains(S$2,numericItinerary($A14),itineraryCountry)","v":""}]
[{"$f":"itineraryCamps!A16","v":"12-13"},{"$f":"itineraryCamps!DL16","v":3},{"$f":"itineraryCamps!DM16","v":3},{"$f":"countcamps(itineraryStaff,numericItinerary($A15))","v":4},{"$f":"countcamps(itineraryTrail,numericItinerary($A15))","v":6},{"$f":"countcamps(itineraryLayover,numericItinerary($A15))","v":0},10,{"$f":"countcamps(itineraryDry,numericItinerary($A15))","v":2},{"$f":"MIN(itineraryCamps!AK16:AT16)","v":7519},{"$f":"MAX(itineraryCamps!AK16:AT16)","v":10509},2990,{"$f":"AVERAGE(itineraryCamps!AU16:BC16)","v":702.77777777777783},{"$f":"contains(M$2,numericItinerary($A15),itineraryMaps)","v":"Y"},{"$f":"contains(N$2,numericItinerary($A15),itineraryMaps)","v":""},{"$f":"contains(O$2,numericItinerary($A15),itineraryMaps)","v":""},{"$f":"contains(P$2,numericItinerary($A15),itineraryCountry)","v":"Y"},{"$f":"contains(Q$2,numericItinerary($A15),itineraryCountry)","v":""},{"$f":"contains(R$2,numericItinerary($A15),itineraryCountry)","v":""},{"$f":"contains(S$2,numericItinerary($A15),itineraryCountry)","v":""}]
[{"$f":"itineraryCamps!A17","v":"12-14"},{"$f":"itineraryCamps!DL17","v":4},{"$f":"itineraryCamps!DM17","v":4},{"$f":"countcamps(itineraryStaff,numericItinerary($A16))","v":6},{"$f":"countcamps(itineraryTrail,numericItinerary($A16))","v":4},{"$f":"countcamps(itineraryLayover,numericItinerary($A16))","v":1},9,{"$f":"countcamps(itineraryDry,numericItinerary($A16))","v":1},{"$f":"MIN(itineraryCamps!AK17:AT17)","v":7217},{"$f":"MAX(itineraryCamps!AK17:AT17)","v":10280},3063,{"$f":"AVERAGE(itineraryCamps!AU17:BC17)","v":737.44444444444446},{"$f":"contains(M$2,numericItinerary($A16),itineraryMaps)","v":"Y"},{"$f":"contains(N$2,numericItinerary($A16),itineraryMaps)","v":""},{"$f":"contains(O$2,numericItinerary($A16),itineraryMaps)","v":""},{"$f":"contains(P$2,numericItinerary($A16),itineraryCountry)","v":"Y"},{"$f":"contains(Q$2,numericItinerary($A16),itineraryCountry)","v":"Y"},{"$f":"contains(R$2,numericItinerary($A16),itineraryCountry)","v":""},{"$f":"contains(S$2,numericItinerary($A16),itineraryCountry)","v":""}]
[{"$f":"itineraryCamps!A18","v":"12-15"},{"$f":"itineraryCamps!DL18","v":2},{"$f":"itineraryCamps!DM18","v":5},{"$f":"countcamps(itineraryStaff,numericItinerary($A17))","v":6},{"$f":"countcamps(itineraryTrail,numericItinerary($A17))","v":4},{"$f":"countcamps(itineraryLayover,numericItinerary($A17))","v":0},10,{"$f":"countcamps(itineraryDry,numericItinerary($A17))","v":2},{"$f":"MIN(itineraryCamps!AK18:AT18)","v":7515},{"$f":"MAX(itineraryCamps!AK18:AT18)","v":11650},4135,{"$f":"AVERAGE(itineraryCamps!AU18:BC18)","v":933.66666666666663},{"$f":"contains(M$2,numericItinerary($A17),itineraryMaps)","v":"Y"},{"$f":"contains(N$2,numericItinerary($A17),itineraryMaps)","v":""},{"$f":"contains(O$2,numericItinerary($A17),itineraryMaps)","v":""},{"$f":"contains(P$2,numericItinerary($A17),itineraryCountry)","v":"Y"},{"$f":"contains(Q$2,numericItinerary($A17),itineraryCountry)","v":"Y"},{"$f":"contains(R$2,numericItinerary($A17),itineraryCountry)","v":""},{"$f":"contains(S$2,numericItinerary($A17),itineraryCountry)","v":""}]
[{"$f":"itineraryCamps!A19","v":"12-16"},{"$f":"itineraryCamps!DL19","v":3},{"$f":"itineraryCamps!DM19","v":3},{"$f":"countcamps(itineraryStaff,numericItinerary($A18))","v":6},{"$f":"countcamps(itineraryTrail,numericItinerary($A18))","v":4},{"$f":"countcamps(itineraryLayover,numericItinerary($A18))","v":0},10,{"$f":"countcamps(itineraryDry,numericItinerary($A18))","v":0},{"$f":"MIN(itineraryCamps!AK19:AT19)","v":7150},{"$f":"MAX(itineraryCamps!AK19:AT19)","v":10262.665999999999},3112.6659999999993,{"$f":"AVERAGE(itineraryCamps!AU19:BC19)","v":838.59244444444425},{"$f":"contains(M$2,numericItinerary($A18),itineraryMaps)","v":""},{"$f":"contains(N$2,numericItinerary($A18),itineraryMaps)","v":"Y"},{"$f":"contains(O$2,numericItinerary($A18),itineraryMaps)","v":""},{"$f":"contains(P$2,numericItinerary($A18),itineraryCountry)","v":""},{"$f":"contains(Q$2,numericItinerary($A18),itineraryCountry)","v":""},{"$f":"contains(R$2,numericItinerary($A18),itineraryCountry)","v":"Y"},{"$f":"contains(S$2,numericItinerary($A18),itineraryCountry)","v":"Y"}]
[{"$f":"itineraryCamps!A20","v":"12-17"},{"$f":"itineraryCamps!DL20","v":4},{"$f":"itineraryCamps!DM20","v":4},{"$f":"countcamps(itineraryStaff,numericItinerary($A19))","v":5},{"$f":"countcamps(itineraryTrail,numericItinerary($A19))","v":5},{"$f":"countcamps(itineraryLayover,numericItinerary($A19))","v":0},10,{"$f":"countcamps(itineraryDry,numericItinerary($A19))","v":3},{"$f":"MIN(itineraryCamps!AK20:AT20)","v":7385},{"$f":"MAX(itineraryCamps!AK20:AT20)","v":11650},4265,{"$f":"AVERAGE(itineraryCamps!AU20:BC20)","v":1091.8888888888889},{"$f":"contains(M$2,numericItinerary($A19),itineraryMaps)","v":"Y"},{"$f":"contains(N$2,numericItinerary($A19),itineraryMaps)","v":""},{"$f":"contains(O$2,numericItinerary($A19),itineraryMaps)","v":""},{"$f":"contains(P$2,numericItinerary($A19),itineraryCountry)","v":"Y"},{"$f":"contains(Q$2,numericItinerary($A19),itineraryCountry)","v":"Y"},{"$f":"contains(R$2,numericItinerary($A19),itineraryCountry)","v":""},{"$f":"contains(S$2,numericItinerary($A19),itineraryCountry)","v":""}]
[{"$f":"itineraryCamps!A21","v":"12-18"},{"$f":"itineraryCamps!DL21","v":4},{"$f":"itineraryCamps!DM21","v":4},{"$f":"countcamps(itineraryStaff,numericItinerary($A20))","v":4},{"$f":"countcamps(itineraryTrail,numericItinerary($A20))","v":6},{"$f":"countcamps(itineraryLayover,numericItinerary($A20))","v":1},9,{"$f":"countcamps(itineraryDry,numericItinerary($A20))","v":0},{"$f":"MIN(itineraryCamps!AK21:AT21)","v":7157},{"$f":"MAX(itineraryCamps!AK21:AT21)","v":9373},2216,{"$f":"AVERAGE(itineraryCamps!AU21:BC21)","v":530.77777777777783},{"$f":"contains(M$2,numericItinerary($A20),itineraryMaps)","v":""},{"$f":"contains(N$2,numericItinerary($A20),itineraryMaps)","v":"Y"},{"$f":"contains(O$2,numericItinerary($A20),itineraryMaps)","v":""},{"$f":"contains(P$2,numericItinerary($A20),itineraryCountry)","v":""},{"$f":"contains(Q$2,numericItinerary($A20),itineraryCountry)","v":""},{"$f":"contains(R$2,numericItinerary($A20),itineraryCountry)","v":"Y"},{"$f":"contains(S$2,numericItinerary($A20),itineraryCountry)","v":"Y"}]
[{"$f":"itineraryCamps!A22","v":"12-19"},{"$f":"itineraryCamps!DL22","v":2},{"$f":"itineraryCamps!DM22","v":2},{"$f":"countcamps(itineraryStaff,numericItinerary($A21))","v":4},{"$f":"countcamps(itineraryTrail,numericItinerary($A21))","v":6},{"$f":"countcamps(itineraryLayover,numericItinerary($A21))","v":0},10,{"$f":"countcamps(itineraryDry,numericItinerary($A21))","v":3},{"$f":"MIN(itineraryCamps!AK22:AT22)","v":7085},{"$f":"MAX(itineraryCamps!AK22:AT22)","v":11650},4565,{"$f":"AVERAGE(itineraryCamps!AU22:BC22)","v":966.22222222222217},{"$f":"contains(M$2,numericItinerary($A21),itineraryMaps)","v":"Y"},{"$f":"contains(N$2,numericItinerary($A21),itineraryMaps)","v":""},{"$f":"contains(O$2,numericItinerary($A21),itineraryMaps)","v":""},{"$f":"contains(P$2,numericItinerary($A21),itineraryCountry)","v":"Y"},{"$f":"contains(Q$2,numericItinerary($A21),itineraryCountry)","v":"Y"},{"$f":"contains(R$2,numericItinerary($A21),itineraryCountry)","v":""},{"$f":"contains(S$2,numericItinerary($A21),itineraryCountry)","v":""}]
[{"$f":"itineraryCamps!A23","v":"12-20"},{"$f":"itineraryCamps!DL23","v":1},{"$f":"itineraryCamps!DM23","v":3},{"$f":"countcamps(itineraryStaff,numericItinerary($A22))","v":4},{"$f":"countcamps(itineraryTrail,numericItinerary($A22))","v":6},{"$f":"countcamps(itineraryLayover,numericItinerary($A22))","v":1},9,{"$f":"countcamps(itineraryDry,numericItinerary($A22))","v":2},{"$f":"MIN(itineraryCamps!AK23:AT23)","v":7150},{"$f":"MAX(itineraryCamps!AK23:AT23)","v":9483.43},2333.4300000000003,{"$f":"AVERAGE(itineraryCamps!AU23:BC23)","v":787.76222222222225},{"$f":"contains(M$2,numericItinerary($A22),itineraryMaps)","v":"Y"},{"$f":"contains(N$2,numericItinerary($A22),itineraryMaps)","v":"Y"},{"$f":"contains(O$2,numericItinerary($A22),itineraryMaps)","v":""},{"$f":"contains(P$2,numericItinerary($A22),itineraryCountry)","v":"Y"},{"$f":"contains(Q$2,numericItinerary($A22),itineraryCountry)","v":"Y"},{"$f":"contains(R$2,numericItinerary($A22),itineraryCountry)","v":"Y"},{"$f":"contains(S$2,numericItinerary($A22),itineraryCountry)","v":""}]
[{"$f":"itineraryCamps!A24","v":"12-21"},{"$f":"itineraryCamps!DL24","v":2},{"$f":"itineraryCamps!DM24","v":2},{"$f":"countcamps(itineraryStaff,numericItinerary($A23))","v":5},{"$f":"countcamps(itineraryTrail,numericItinerary($A23))","v":5},{"$f":"countcamps(itineraryLayover,numericItinerary($A23))","v":0},10,{"$f":"countcamps(itineraryDry,numericItinerary($A23))","v":3},{"$f":"MIN(itineraryCamps!AK24:AT24)","v":7217},{"$f":"MAX(itineraryCamps!AK24:AT24)","v":11070},3853,{"$f":"AVERAGE(itineraryCamps!AU24:BC24)","v":1021.5555555555555},{"$f":"contains(M$2,numericItinerary($A23),itineraryMaps)","v":"Y"},{"$f":"contains(N$2,numericItinerary($A23),itineraryMaps)","v":""},{"$f":"contains(O$2,numericItinerary($A23),itineraryMaps)","v":""},{"$f":"contains(P$2,numericItinerary($A23),itineraryCountry)","v":"Y"},{"$f":"contains(Q$2,numericItinerary($A23),itineraryCountry)","v":"Y"},{"$f":"contains(R$2,numericItinerary($A23),itineraryCountry)","v":""},{"$f":"contains(S$2,numericItinerary($A23),itineraryCountry)","v":""}]
[{"$f":"itineraryCamps!A25","v":"12-22"},{"$f":"itineraryCamps!DL25","v":3},{"$f":"itineraryCamps!DM25","v":3},{"$f":"countcamps(itineraryStaff,numericItinerary($A24))","v":5},{"$f":"countcamps(itineraryTrail,numericItinerary($A24))","v":5},{"$f":"countcamps(itineraryLayover,numericItinerary($A24))","v":0},10,{"$f":"countcamps(itineraryDry,numericItinerary($A24))","v":3},{"$f":"MIN(itineraryCamps!AK25:AT25)","v":7217},{"$f":"MAX(itineraryCamps!AK25:AT25)","v":11070},3853,{"$f":"AVERAGE(itineraryCamps!AU25:BC25)","v":811.66666666666663},{"$f":"contains(M$2,numericItinerary($A24),itineraryMaps)","v":"Y"},{"$f":"contains(N$2,numericItinerary($A24),itineraryMaps)","v":""},{"$f":"contains(O$2,numericItinerary($A24),itineraryMaps)","v":""},{"$f":"contains(P$2,numericItinerary($A24),itineraryCountry)","v":"Y"},{"$f":"contains(Q$2,numericItinerary($A24),itineraryCountry)","v":"Y"},{"$f":"contains(R$2,numericItinerary($A24),itineraryCountry)","v":""},{"$f":"contains(S$2,numericItinerary($A24),itineraryCountry)","v":""}]
[{"$f":"itineraryCamps!A26","v":"12-23"},{"$f":"itineraryCamps!DL26","v":3},{"$f":"itineraryCamps!DM26","v":3},{"$f":"countcamps(itineraryStaff,numericItinerary($A25))","v":5},{"$f":"countcamps(itineraryTrail,numericItinerary($A25))","v":5},{"$f":"countcamps(itineraryLayover,numericItinerary($A25))","v":0},10,{"$f":"countcamps(itineraryDry,numericItinerary($A25))","v":3},{"$f":"MIN(itineraryCamps!AK26:AT26)","v":6979},{"$f":"MAX(itineraryCamps!AK26:AT26)","v":10750},3771,{"$f":"AVERAGE(itineraryCamps!AU26:BC26)","v":846.10722699999997},{"$f":"contains(M$2,numericItinerary($A25),itineraryMaps)","v":""},{"$f":"contains(N$2,numericItinerary($A25),itineraryMaps)","v":"Y"},{"$f":"contains(O$2,numericItinerary($A25),itineraryMaps)","v":""},{"$f":"contains(P$2,numericItinerary($A25),itineraryCountry)","v":""},{"$f":"contains(Q$2,numericItinerary($A25),itineraryCountry)","v":""},{"$f":"contains(R$2,numericItinerary($A25),itineraryCountry)","v":"Y"},{"$f":"contains(S$2,numericItinerary($A25),itineraryCountry)","v":"Y"}]
[{"$f":"itineraryCamps!A27","v":"12-24"},{"$f":"itineraryCamps!DL27","v":3},{"$f":"itineraryCamps!DM27","v":3},{"$f":"countcamps(itineraryStaff,numericItinerary($A26))","v":5},{"$f":"countcamps(itineraryTrail,numericItinerary($A26))","v":5},{"$f":"countcamps(itineraryLayover,numericItinerary($A26))","v":0},10,{"$f":"countcamps(itineraryDry,numericItinerary($A26))","v":2},{"$f":"MIN(itineraryCamps!AK27:AT27)","v":7385},{"$f":"MAX(itineraryCamps!AK27:AT27)","v":10509},3124,{"$f":"AVERAGE(itineraryCamps!AU27:BC27)","v":747.55555555555554},{"$f":"contains(M$2,numericItinerary($A26),itineraryMaps)","v":"Y"},{"$f":"contains(N$2,numericItinerary($A26),itineraryMaps)","v":""},{"$f":"contains(O$2,numericItinerary($A26),itineraryMaps)","v":""},{"$f":"contains(P$2,numericItinerary($A26),itineraryCountry)","v":"Y"},{"$f":"contains(Q$2,numericItinerary($A26),itineraryCountry)","v":"Y"},{"$f":"contains(R$2,numericItinerary($A26),itineraryCountry)","v":""},{"$f":"contains(S$2,numericItinerary($A26),itineraryCountry)","v":""}]
[{"$f":"itineraryCamps!A28","v":"12-25"},{"$f":"itineraryCamps!DL28","v":2},{"$f":"itineraryCamps!DM28","v":4},{"$f":"countcamps(itineraryStaff,numericItinerary($A27))","v":5},{"$f":"countcamps(itineraryTrail,numericItinerary($A27))","v":5},{"$f":"countcamps(itineraryLayover,numericItinerary($A27))","v":1},9,{"$f":"countcamps(itineraryDry,numericItinerary($A27))","v":2},{"$f":"MIN(itineraryCamps!AK28:AT28)","v":7177},{"$f":"MAX(itineraryCamps!AK28:AT28)","v":9118},1941,{"$f":"AVERAGE(itineraryCamps!AU28:BC28)","v":458.47955555555563},{"$f":"contains(M$2,numericItinerary($A27),itineraryMaps)","v":""},{"$f":"contains(N$2,numericItinerary($A27),itineraryMaps)","v":"Y"},{"$f":"contains(O$2,numericItinerary($A27),itineraryMaps)","v":""},{"$f":"contains(P$2,numericItinerary($A27),itineraryCountry)","v":""},{"$f":"contains(Q$2,numericItinerary($A27),itineraryCountry)","v":""},{"$f":"contains(R$2,numericItinerary($A27),itineraryCountry)","v":"Y"},{"$f":"contains(S$2,numericItinerary($A27),itineraryCountry)","v":"Y"}]
[{"$f":"itineraryCamps!A29","v":"12-26"},{"$f":"itineraryCamps!DL29","v":3},{"$f":"itineraryCamps!DM29","v":3},{"$f":"countcamps(itineraryStaff,numericItinerary($A28))","v":4},{"$f":"countcamps(itineraryTrail,numericItinerary($A28))","v":6},{"$f":"countcamps(itineraryLayover,numericItinerary($A28))","v":0},10,{"$f":"countcamps(itineraryDry,numericItinerary($A28))","v":3},{"$f":"MIN(itineraryCamps!AK29:AT29)","v":7070},{"$f":"MAX(itineraryCamps!AK29:AT29)","v":10530},3460,{"$f":"AVERAGE(itineraryCamps!AU29:BC29)","v":777.14622222222226},{"$f":"contains(M$2,numericItinerary($A28),itineraryMaps)","v":""},{"$f":"contains(N$2,numericItinerary($A28),itineraryMaps)","v":"Y"},{"$f":"contains(O$2,numericItinerary($A28),itineraryMaps)","v":""},{"$f":"contains(P$2,numericItinerary($A28),itineraryCountry)","v":""},{"$f":"contains(Q$2,numericItinerary($A28),itineraryCountry)","v":""},{"$f":"contains(R$2,numericItinerary($A28),itineraryCountry)","v":"Y"},{"$f":"contains(S$2,numericItinerary($A28),itineraryCountry)","v":"Y"}]
[{"$f":"itineraryCamps!A30","v":"12-27"},{"$f":"itineraryCamps!DL30","v":4},{"$f":"itineraryCamps!DM30","v":4},{"$f":"countcamps(itineraryStaff,numericItinerary($A29))","v":4},{"$f":"countcamps(itineraryTrail,numericItinerary($A29))","v":6},{"$f":"countcamps(itineraryLayover,numericItinerary($A29))","v":0},10,{"$f":"countcamps(itineraryDry,numericItinerary($A29))","v":2},{"$f":"MIN(itineraryCamps!AK30:AT30)","v":6837},{"$f":"MAX(itineraryCamps!AK30:AT30)","v":10640},3803,{"$f":"AVERAGE(itineraryCamps!AU30:BC30)","v":784.55555555555554},{"$f":"contains(M$2,numericItinerary($A29),itineraryMaps)","v":""},{"$f":"contains(N$2,numericItinerary($A29),itineraryMaps)","v":"Y"},{"$f":"contains(O$2,numericItinerary($A29),itineraryMaps)","v":""},{"$f":"contains(P$2,numericItinerary($A29),itineraryCountry)","v":""},{"$f":"contains(Q$2,numericItinerary($A29),itineraryCountry)","v":""},{"$f":"contains(R$2,numericItinerary($A29),itineraryCountry)","v":"Y"},{"$f":"contains(S$2,numericItinerary($A29),itineraryCountry)","v":"Y"}]
[{"$f":"itineraryCamps!A31","v":"12-28"},{"$f":"itineraryCamps!DL31","v":3},{"$f":"itineraryCamps!DM31","v":3},{"$f":"countcamps(itineraryStaff,numericItinerary($A30))","v":5},{"$f":"countcamps(itineraryTrail,numericItinerary($A30))","v":5},{"$f":"countcamps(itineraryLayover,numericItinerary($A30))","v":0},10,{"$f":"countcamps(itineraryDry,numericItinerary($A30))","v":3},{"$f":"MIN(itineraryCamps!AK31:AT31)","v":6837},{"$f":"MAX(itineraryCamps!AK31:AT31)","v":11070},4233,{"$f":"AVERAGE(itineraryCamps!AU31:BC31)","v":887.88888888888891},{"$f":"contains(M$2,numericItinerary($A30),itineraryMaps)","v":"Y"},{"$f":"contains(N$2,numericItinerary($A30),itineraryMaps)","v":"Y"},{"$f":"contains(O$2,numericItinerary($A30),itineraryMaps)","v":""},{"$f":"contains(P$2,numericItinerary($A30),itineraryCountry)","v":""},{"$f":"contains(Q$2,numericItinerary($A30),itineraryCountry)","v":"Y"},{"$f":"contains(R$2,numericItinerary($A30),itineraryCountry)","v":"Y"},{"$f":"contains(S$2,numericItinerary($A30),itineraryCountry)","v":""}]
[{"$f":"itineraryCamps!A32","v":"12-29"},{"$f":"itineraryCamps!DL32","v":3},{"$f":"itineraryCamps!DM32","v":3},{"$f":"countcamps(itineraryStaff,numericItinerary($A31))","v":4},{"$f":"countcamps(itineraryTrail,numericItinerary($A31))","v":6},{"$f":"countcamps(itineraryLayover,numericItinerary($A31))","v":1},9,{"$f":"countcamps(itineraryDry,numericItinerary($A31))","v":3},{"$f":"MIN(itineraryCamps!AK32:AT32)","v":7373},{"$f":"MAX(itineraryCamps!AK32:AT32)","v":10280},2907,{"$f":"AVERAGE(itineraryCamps!AU32:BC32)","v":1033},{"$f":"contains(M$2,numericItinerary($A31),itineraryMaps)","v":"Y"},{"$f":"contains(N$2,numericItinerary($A31),itineraryMaps)","v":"Y"},{"$f":"contains(O$2,numericItinerary($A31),itineraryMaps)","v":""},{"$f":"contains(P$2,numericItinerary($A31),itineraryCountry)","v":"Y"},{"$f":"contains(Q$2,numericItinerary($A31),itineraryCountry)","v":"Y"},{"$f":"contains(R$2,numericItinerary($A31),itineraryCountry)","v":"Y"},{"$f":"contains(S$2,numericItinerary($A31),itineraryCountry)","v":""}]
[{"$f":"itineraryCamps!A33","v":"12-30"},{"$f":"itineraryCamps!DL33","v":2},{"$f":"itineraryCamps!DM33","v":4},{"$f":"countcamps(itineraryStaff,numericItinerary($A32))","v":4},{"$f":"countcamps(itineraryTrail,numericItinerary($A32))","v":6},{"$f":"countcamps(itineraryLayover,numericItinerary($A32))","v":1},9,{"$f":"countcamps(itineraryDry,numericItinerary($A32))","v":2},{"$f":"MIN(itineraryCamps!AK33:AT33)","v":7177},{"$f":"MAX(itineraryCamps!AK33:AT33)","v":10640},3463,{"$f":"AVERAGE(itineraryCamps!AU33:BC33)","v":1156.597777777778},{"$f":"contains(M$2,numericItinerary($A32),itineraryMaps)","v":""},{"$f":"contains(N$2,numericItinerary($A32),itineraryMaps)","v":"Y"},{"$f":"contains(O$2,numericItinerary($A32),itineraryMaps)","v":""},{"$f":"contains(P$2,numericItinerary($A32),itineraryCountry)","v":""},{"$f":"contains(Q$2,numericItinerary($A32),itineraryCountry)","v":""},{"$f":"contains(R$2,numericItinerary($A32),itineraryCountry)","v":"Y"},{"$f":"contains(S$2,numericItinerary($A32),itineraryCountry)","v":"Y"}]
[{"$f":"itineraryCamps!A34","v":"12-31"},{"$f":"itineraryCamps!DL34","v":3},{"$f":"itineraryCamps!DM34","v":3},{"$f":"countcamps(itineraryStaff,numericItinerary($A33))","v":4},{"$f":"countcamps(itineraryTrail,numericItinerary($A33))","v":6},{"$f":"countcamps(itineraryLayover,numericItinerary($A33))","v":2},8,{"$f":"countcamps(itineraryDry,numericItinerary($A33))","v":1},{"$f":"MIN(itineraryCamps!AK34:AT34)","v":7085},{"$f":"MAX(itineraryCamps!AK34:AT34)","v":9373},2288,{"$f":"AVERAGE(itineraryCamps!AU34:BC34)","v":755.88888888888891},{"$f":"contains(M$2,numericItinerary($A33),itineraryMaps)","v":"Y"},{"$f":"contains(N$2,numericItinerary($A33),itineraryMaps)","v":"Y"},{"$f":"contains(O$2,numericItinerary($A33),itineraryMaps)","v":""},{"$f":"contains(P$2,numericItinerary($A33),itineraryCountry)","v":""},{"$f":"contains(Q$2,numericItinerary($A33),itineraryCountry)","v":"Y"},{"$f":"contains(R$2,numericItinerary($A33),itineraryCountry)","v":"Y"},{"$f":"contains(S$2,numericItinerary($A33),itineraryCountry)","v":""}]
[{"$f":"itineraryCamps!A35","v":"12-32"},{"$f":"itineraryCamps!DL35","v":2},{"$f":"itineraryCamps!DM35","v":2},{"$f":"countcamps(itineraryStaff,numericItinerary($A34))","v":3},{"$f":"countcamps(itineraryTrail,numericItinerary($A34))","v":7},{"$f":"countcamps(itineraryLayover,numericItinerary($A34))","v":1},9,{"$f":"countcamps(itineraryDry,numericItinerary($A34))","v":2},{"$f":"MIN(itineraryCamps!AK35:AT35)","v":7105},{"$f":"MAX(itineraryCamps!AK35:AT35)","v":8498},1393,{"$f":"AVERAGE(itineraryCamps!AU35:BC35)","v":310.55555555555554},{"$f":"contains(M$2,numericItinerary($A34),itineraryMaps)","v":"Y"},{"$f":"contains(N$2,numericItinerary($A34),itineraryMaps)","v":"Y"},{"$f":"contains(O$2,numericItinerary($A34),itineraryMaps)","v":""},{"$f":"contains(P$2,numericItinerary($A34),itineraryCountry)","v":""},{"$f":"contains(Q$2,numericItinerary($A34),itineraryCountry)","v":"Y"},{"$f":"contains(R$2,numericItinerary($A34),itineraryCountry)","v":"Y"},{"$f":"contains(S$2,numericItinerary($A34),itineraryCountry)","v":""}]
[{"$f":"itineraryCamps!A36","v":"12-33"},{"$f":"itineraryCamps!DL36","v":3},{"$f":"itineraryCamps!DM36","v":3},{"$f":"countcamps(itineraryStaff,numericItinerary($A35))","v":4},{"$f":"countcamps(itineraryTrail,numericItinerary($A35))","v":6},{"$f":"countcamps(itineraryLayover,numericItinerary($A35))","v":1},9,{"$f":"countcamps(itineraryDry,numericItinerary($A35))","v":1},{"$f":"MIN(itineraryCamps!AK36:AT36)","v":7373},{"$f":"MAX(itineraryCamps!AK36:AT36)","v":10530},3157,{"$f":"AVERAGE(itineraryCamps!AU36:BC36)","v":1225.7777777777778},{"$f":"contains(M$2,numericItinerary($A35),itineraryMaps)","v":"Y"},{"$f":"contains(N$2,numericItinerary($A35),itineraryMaps)","v":"Y"},{"$f":"contains(O$2,numericItinerary($A35),itineraryMaps)","v":""},{"$f":"contains(P$2,numericItinerary($A35),itineraryCountry)","v":""},{"$f":"contains(Q$2,numericItinerary($A35),itineraryCountry)","v":"Y"},{"$f":"contains(R$2,numericItinerary($A35),itineraryCountry)","v":"Y"},{"$f":"contains(S$2,numericItinerary($A35),itineraryCountry)","v":"Y"}]
[{"$f":"itineraryCamps!A37","v":"12-34"},{"$f":"itineraryCamps!DL37","v":2},{"$f":"itineraryCamps!DM37","v":4},{"$f":"countcamps(itineraryStaff,numericItinerary($A36))","v":6},{"$f":"countcamps(itineraryTrail,numericItinerary($A36))","v":4},{"$f":"countcamps(itineraryLayover,numericItinerary($A36))","v":0},10,{"$f":"countcamps(itineraryDry,numericItinerary($A36))","v":1},{"$f":"MIN(itineraryCamps!AK37:AT37)","v":7232},{"$f":"MAX(itineraryCamps!AK37:AT37)","v":10262.665999999999},3030.6659999999993,{"$f":"AVERAGE(itineraryCamps!AU37:BC37)","v":895.70355555555534},{"$f":"contains(M$2,numericItinerary($A36),itineraryMaps)","v":"Y"},{"$f":"contains(N$2,numericItinerary($A36),itineraryMaps)","v":"Y"},{"$f":"contains(O$2,numericItinerary($A36),itineraryMaps)","v":""},{"$f":"contains(P$2,numericItinerary($A36),itineraryCountry)","v":""},{"$f":"contains(Q$2,numericItinerary($A36),itineraryCountry)","v":"Y"},{"$f":"contains(R$2,numericItinerary($A36),itineraryCountry)","v":"Y"},{"$f":"contains(S$2,numericItinerary($A36),itineraryCountry)","v":"Y"}]
[]
["Min/Max nCamps",{"$f":"MIN(B3:B36)","v":1},2,3,4,0,8,0]
[null,{"$f":"MAX(B3:B36)","v":4},5,6,7,2,10,3]

{"sheet":"Programs","index":15,"n_rows":51,"n_cols":5,"rows_kept":51,"cut":false,"hidden":true,"merged":[]}
["#","Programs",null,"nPrograms",{"$f":"MAX(A:A)","v":50}]
[1,"Archaeology"]
[{"$f":"A2+1","v":2},"Archery - 3 Dimensional"]
[{"$f":"A3+1","v":3},"Astronomy"]
[4,"Atlatl (Dart-throwing)"]
[5,"Baldy Mountain"]
[6,"Blacksmithing"]
[7,"Bouldering"]
[8,"Burro Packing"]
[9,"Campfire (evening)"]
[10,"Cantina"]
[11,"Challenge Events"]
[12,"Chuckwagon Dinner"]
[13,"Cowboy Action Shooting"]
[14,"Demonstration Forest"]
[15,"Fishing"]
[16,"Fly Tying"]
[17,"Fur Trapper Rendezvous"]
[18,"Gold Mining & Panning"]
[19,"High Ropes & Climbing Tower"]
[20,"Historic Chase Ranch"]
[21,"Homesteading"]
[22,"Horse Rides"]
[23,"Hunter Safety"]
[24,"Inspiration Point Hike"]
[25,"Jicarilla Apache Life"]
[26,"Kit Carson/Rayado Rancho"]
[27,"Laser Shot Shooting Range"]
[28,"Lodge/Cabin Tours"]
[29,"Low Impact Camping"]
[30,"Mexican Dinner"]
[31,"Mine Tour"]
[32,"Mount Phillips"]
[33,"Mountain Biking"]
[34,"Mountaineering"]
[35,"Muzzle Loading Rifle"]
[36,"New Mexico Homestead"]
[37,"Petroglyph Tour"]
[38,"Post Civil War Encampment"]
[39,"Railroading"]
[40,"Rock Climbing & Rappelling"]
[41,"Rocky Mountain Fur Co."]
[42,"Search & Rescue/Wild. Medicine"]
[43,"Shooting/Reloading - .30-06"]
[44,"Shotgun Shooting/Reloading - 12 Gauge"]
[45,"Spar Pole Climbing"]
[46,"Tie Making & Crosscut Saws"]
[47,"Tomahawk Throwing"]
[48,"Tooth of Time"]
[49,"Trail Peak"]
[50,"Western Lore/Branding"]

{"sheet":"Camp Programs","index":16,"n_rows":53,"n_cols":52,"rows_kept":53,"cut":false,"hidden":true,"merged":[[0,0,1,0],[0,1,1,1]]}
["These are the programs available at camps.  Used to create the default programs for itineraries in itineraryPrograms worksheet.\n\n\nStaffed Camp","# Programs",1,{"$f":"C1+1","v":2},{"$f":"D1+1","v":3},4,5,6,7,8,9,10,11,12,13,14,15,16,17,18,19,20,21,22,23,24,25,26,27,28,29,30,31,32,33,{"$f":"AI1+1","v":34},35,36,37,38,39,40,41,42,43,{"$f":"AS1+1","v":44},45,{"$f":"AU1+1","v":46},{"$f":"AV1+1","v":47},{"$f":"AW1+1","v":48},{"$f":"AX1+1","v":49},50]
[null,null,{"$f":"INDEX(program_table,C1)","v":"Archaeology"},{"$f":"INDEX(program_table,D1)","v":"Archery - 3 Dimensional"},{"$f":"INDEX(program_table,E1)","v":"Astronomy"},{"$f":"INDEX(program_table,F1)","v":"Atlatl (Dart-throwing)"},{"$f":"INDEX(program_table,G1)","v":"Baldy Mountain"},{"$f":"INDEX(program_table,H1)","v":"Blacksmithing"},{"$f":"INDEX(program_table,I1)","v":"Bouldering"},{"$f":"INDEX(program_table,J1)","v":"Burro Packing"},{"$f":"INDEX(program_table,K1)","v":"Campfire (evening)"},{"$f":"INDEX(program_table,L1)","v":"Cantina"},{"$f":"INDEX(program_table,M1)","v":"Challenge Events"},{"$f":"INDEX(program_table,N1)","v":"Chuckwagon Dinner"},{"$f":"INDEX(program_table,O1)","v":"Cowboy Action Shooting"},{"$f":"INDEX(program_table,P1)","v":"Demonstration Forest"},{"$f":"INDEX(program_table,Q1)","v":"Fishing"},{"$f":"INDEX(program_table,R1)","v":"Fly Tying"},{"$f":"INDEX(program_table,S1)","v":"Fur Trapper Rendezvous"},{"$f":"INDEX(program_table,T1)","v":"Gold Mining & Panning"},{"$f":"INDEX(program_table,U1)","v":"High Ropes & Climbing Tower"},{"$f":"INDEX(program_table,V1)","v":"Historic Chase Ranch"},{"$f":"INDEX(program_table,W1)","v":"Homesteading"},{"$f":"INDEX(program_table,X1)","v":"Horse Rides"},{"$f":"INDEX(program_table,Y1)","v":"Hunter Safety"},{"$f":"INDEX(program_table,Z1)","v":"Inspiration Point Hike"},{"$f":"INDEX(program_table,AA1)","v":"Jicarilla Apache Life"},{"$f":"INDEX(program_table,AB1)","v":"Kit Carson/Rayado Rancho"},{"$f":"INDEX(program_table,AC1)","v":"Laser Shot Shooting Range"},{"$f":"INDEX(program_table,AD1)","v":"Lodge/Cabin Tours"},{"$f":"INDEX(program_table,AE1)","v":"Low Impact Camping"},{"$f":"INDEX(program_table,AF1)","v":"Mexican Dinner"},{"$f":"INDEX(program_table,AG1)","v":"Mine Tour"},{"$f":"INDEX(program_table,AH1)","v":"Mount Phillips"},{"$f":"INDEX(program_table,AI1)","v":"Mountain Biking"},{"$f":"INDEX(program_table,AJ1)","v":"Mountaineering"},{"$f":"INDEX(program_table,AK1)","v":"Muzzle Loading Rifle"},{"$f":"INDEX(program_table,AL1)","v":"New Mexico Homestead"},{"$f":"INDEX(program_table,AM1)","v":"Petroglyph Tour"},{"$f":"INDEX(program_table,AN1)","v":"Post Civil War Encampment"},{"$f":"INDEX(program_table,AO1)","v":"Railroading"},{"$f":"INDEX(program_table,AP1)","v":"Rock Climbing & Rappelling"},{"$f":"INDEX(program_table,AQ1)","v":"Rocky Mountain Fur Co."},{"$f":"INDEX(program_table,AR1)","v":"Search & Rescue/Wild. Medicine"},{"$f":"INDEX(program_table,AS1)","v":"Shooting/Reloading - .30-06"},{"$f":"INDEX(program_table,AT1)","v":"Shotgun Shooting/Reloading - 12 Gauge"},{"$f":"INDEX(program_table,AU1)","v":"Spar Pole Climbing"},{"$f":"INDEX(program_table,AV1)","v":"Tie Making & Crosscut Saws"},{"$f":"INDEX(program_table,AW1)","v":"Tomahawk Throwing"},{"$f":"INDEX(program_table,AX1)","v":"Tooth of Time"},{"$f":"INDEX(program_table,AY1)","v":"Trail Peak"},{"$f":"INDEX(program_table,AZ1)","v":"Western Lore/Branding"}]
["Abreu",{"$f":"COUNTIF(C3:AZ3,\"y\")","v":4},null,null,null,null,null,null,null,null,null,"y",null,null,null,null,null,null,null,null,null,null,null,null,null,null,null,null,null,"y",null,"y",null,null,null,null,null,"y"]
["Anasazi",0]
["Apache Springs",2,null,"y",null,null,null,null,null,null,null,null,null,null,null,null,null,null,null,null,null,null,null,null,null,null,"y"]
["Baldy Town",0]
["Beaubien",4,null,null,null,null,null,null,null,null,"y",null,null,"y",null,null,null,null,null,null,null,null,null,"y",null,null,null,null,null,null,null,null,null,null,null,null,null,null,null,null,null,null,null,null,null,null,null,null,null,null,null,"y"]
["Beatty Lakes",1,null,null,null,null,null,null,null,null,null,null,null,null,null,null,null,null,null,null,null,null,null,null,null,null,null,null,null,null,"y"]
["Black Mountain",3,null,null,null,null,null,"y",null,null,null,null,null,null,null,null,null,null,null,null,null,null,null,null,null,null,null,null,null,null,null,null,null,null,null,null,"y",null,null,"y"]
["Carson Meadows",2,null,null,null,null,null,null,null,null,null,null,null,null,null,null,null,null,"y",null,null,null,null,null,null,null,null,null,null,null,null,null,null,null,null,null,null,null,null,null,null,null,null,"y"]
["Chase Cow",2,null,null,null,null,null,null,"y",null,null,null,null,null,null,null,null,null,null,null,null,null,null,null,null,null,null,null,null,null,null,null,null,null,null,null,null,null,null,null,null,"y"]
["Chase Ranch",1,null,null,null,null,null,null,null,null,null,null,null,null,null,null,null,null,null,null,null,"y"]
["Cimarroncita",3,null,"y",null,null,null,null,null,null,null,null,null,null,null,null,null,null,null,null,null,null,null,null,"y",null,null,null,"y"]
["Cimarroncito",1,null,null,null,null,null,null,null,null,null,null,null,null,null,null,null,null,null,null,null,null,null,null,null,null,null,null,null,null,null,null,null,null,null,null,null,null,null,null,null,"y"]
["Clarks Fork",4,null,null,null,null,null,null,null,null,"y",null,null,"y",null,null,null,null,null,null,null,null,null,"y",null,null,null,null,null,null,null,null,null,null,null,null,null,null,null,null,null,null,null,null,null,null,null,null,null,null,null,"y"]
["Clear Creek",3,null,null,null,null,null,null,null,null,null,null,null,null,null,null,null,null,null,null,null,null,null,null,null,null,null,null,null,null,null,null,null,null,null,null,"y",null,null,null,null,null,"y",null,null,null,null,null,"y"]
["COPE Course",1,null,null,null,null,null,null,null,null,null,null,null,null,null,null,null,null,null,null,"y"]
["Crater Lake",3,null,null,null,null,null,null,null,null,"y",null,null,null,null,null,null,null,null,null,null,null,null,null,null,null,null,null,null,null,null,null,null,null,null,null,null,null,null,null,null,null,null,null,null,null,"y","y"]
["Crooked Creek",2,null,null,null,null,null,null,null,null,null,null,null,null,null,null,null,null,null,null,null,null,"y",null,null,null,null,null,null,"y"]
["Cyphers Mine",4,null,null,null,null,null,"y",null,null,"y",null,null,null,null,null,null,null,null,"y",null,null,null,null,null,null,null,null,null,null,null,null,"y"]
["Dan Beard",1,null,null,null,null,null,null,null,null,null,null,"y"]
["Dean Cow",0]
["Demonstration Forest",1,null,null,null,null,null,null,null,null,null,null,null,null,null,"y"]
["Fish Camp",3,null,null,null,null,null,null,null,null,null,null,null,null,null,null,"y","y",null,null,null,null,null,null,null,null,null,null,null,"y"]
["French Henry",3,null,null,null,null,null,"y",null,null,null,null,null,null,null,null,null,null,null,"y",null,null,null,null,null,null,null,null,null,null,null,null,"y"]
["Garcia Cow",0]
["Greenwood Canyon",1,null,null,null,null,null,null,null,null,null,null,null,null,null,null,null,null,null,null,null,null,null,null,null,null,null,null,null,null,"y"]
["Harlan",1,null,null,null,null,null,null,null,null,null,null,null,null,null,null,null,null,null,null,null,null,null,null,null,null,null,null,null,null,null,null,null,null,null,null,null,null,null,null,null,null,null,null,null,"y"]
["Head of Dean",1,null,null,null,null,null,null,null,null,null,null,"y"]
["Hunting Lodge",2,null,null,null,null,null,null,null,null,null,null,null,null,null,null,"y",null,null,null,null,null,null,null,null,null,null,null,null,"y"]
["Indian Writings",3,"y",null,null,"y",null,null,null,null,null,null,null,null,null,null,null,null,null,null,null,null,null,null,null,null,null,null,null,null,null,null,null,null,null,null,null,null,"y"]
["Iris Park",1,null,null,null,null,null,null,null,null,null,null,null,null,null,null,null,null,null,null,null,null,null,null,null,null,null,null,null,null,"y"]
["Kit Carson",0]
["Little Costilla",1,null,null,null,null,null,null,null,null,null,null,null,null,null,null,null,null,null,null,null,null,null,null,null,null,null,null,null,null,"y"]
["Miners Park",{"$f":"COUNTIF(C35:AZ35,\"y\")","v":1},null,null,null,null,null,null,null,null,null,null,null,null,null,null,null,null,null,null,null,null,null,null,null,null,null,null,null,null,null,null,null,null,null,null,null,null,null,null,null,"y"]
["Metcalf Station",3,null,null,null,null,null,"y",null,null,"y",null,null,null,null,null,null,null,null,null,null,null,null,null,null,null,null,null,null,null,null,null,null,null,null,null,null,null,null,null,"y"]
["Middle Ponil",1,null,null,null,null,null,null,null,null,null,null,null,null,null,null,null,null,null,null,null,null,null,null,null,null,null,null,null,null,"y"]
["Miranda",3,null,null,null,null,null,null,null,"y",null,null,null,null,null,null,null,null,null,null,null,null,null,null,null,null,null,null,null,null,null,null,null,null,null,null,"y",null,null,null,null,null,null,null,null,null,null,null,"y"]
["Phillips Junction",1,null,null,null,null,null,null,null,null,null,null,null,null,null,null,null,null,null,null,null,null,null,null,null,null,null,null,null,null,"y"]
["Ponil",7,null,null,null,null,null,null,null,"y","y","y",null,"y","y",null,null,null,null,null,null,null,null,"y",null,null,null,null,null,null,null,null,null,null,null,null,null,null,null,null,null,null,null,null,null,null,null,null,null,null,null,"y"]
["Pueblano",3,null,null,null,null,null,null,null,null,"y",null,null,null,null,null,null,null,null,null,null,null,null,null,null,null,null,null,null,null,null,null,null,null,null,null,null,null,null,null,null,null,null,null,null,null,"y","y"]
["Rayado",3,null,null,null,null,null,"y",null,null,null,null,null,null,null,null,null,null,null,null,null,null,null,null,null,null,null,"y",null,null,null,null,null,null,null,null,null,null,null,null,null,null,null,null,null,null,null,null,"y"]
["Rich Cabins",4,null,null,null,null,null,null,null,null,"y",null,null,null,null,null,null,null,null,null,null,null,"y",null,null,null,null,null,null,"y","y"]
["Ring Place",3,null,null,"y",null,null,null,null,null,null,null,null,null,null,null,null,null,null,null,null,null,null,null,null,null,null,null,null,null,"y",null,null,null,"y"]
["Santa Claus",0]
["Sawmill",1,null,null,null,null,null,null,null,null,null,null,null,null,null,null,null,null,null,null,null,null,null,null,null,null,null,null,null,null,null,null,null,null,null,null,null,null,null,null,null,null,null,null,"y"]
["Seally Canyon",0]
["Upper Greenwood",1,null,null,null,null,null,null,null,null,null,null,null,null,null,null,null,null,null,null,null,null,null,null,null,null,null,null,null,null,"y"]
["Urraca",3,null,null,null,null,null,null,null,null,"y",null,"y",null,null,null,null,null,null,null,null,null,null,null,null,"y"]
["Ute Gulch",0]
["Whiteman Vega",0]
["Zastrow",0]
[null,null,{"$f":"COUNTIF(C3:C52,\"y\")","v":1},{"$f":"COUNTIF(D3:D52,\"y\")","v":2},1,1,0,5,1,2,9,2,3,3,1,1,2,1,1,2,1,1,2,3,1,1,1,1,1,5,9,1,2,0,1,0,3,1,1,1,1,3,1,1,1,1,2,2,3,0,0,3]

{"sheet":"Camp Elevations","index":17,"n_rows":171,"n_cols":14,"rows_kept":171,"cut":false,"hidden":true,"merged":[[170,3,170,12],[103,13,104,13]]}
["Added","CAMP NAME","Country","Easting","Northing","ELEVATION ","Commissary","Trading Post","Staffed","Trail Camp","Dry Camp","Showers","campMap"]
[null,"Abreu","South",498586,4025999,7217,"","","Y","","","Y","South"]
[null,"Agua Fria","South",488935,4026589,8726,"","","","Y","","","South"]
[null,"Aguila","South",497862,4028279,8282,"","","","Y","","","South"]
[2019,"American Creek","South",481557.83,4035889.24,9815,null,null,"","Y","",null,"South"]
[null,"Anasazi","North",501736,4051171,6911,"","","","Y","","","North"]
[null,"Apache Springs","South",487072,4026937,9409,"Y","","Y","","","","South"]
[2019,"Arrowhead","South",496899.66,4035172.06,7644,null,null,"","Y","Y",null,"South"]
[null,"Aspen Springs","Central",494588,4039845,7912,"","","","Y","","","South"]
[2021,"Azurite","North",482386.37579999998,4054351.6874000002,10640,null,null,"","Y","Y",null,"North"]
[null,"Backache Springs","South",502047,4027556,7688,"","","","Y","","","South"]
[null,"Baldy Skyline","North",487283.46,4052136.12,9140,"","","","Y","","","North"]
[null,"Baldy Town","North",482894,4053456,9851,"Y","Y","Y","","","Y","North"]
[null,"Base","Central",503848,4034364,6696,"","","","Y","","","South"]
[null,"Bear Canyon","South",487881,4028169,9288,"","","","Y","","","South"]
[null,"Bear Caves","South",496976,4028855,8423,"","","","Y","","","South"]
[2021,"Bear Creek",{"$f":"C15","v":"South"},{"$f":"D15","v":487881},4028169,9288,"","","","Y","","","South","Renamed from Bear Canyon"]
[null,"Beatty Lakes","Valle Vidal",489314.61,4064668.2415999998,8178.6580000000004,"","","","Y","Y","","North"]
[null,"Beaubien","South",490738,4030941,9330,"","","Y","","","Y","South"]
[null,"Bent","North",494100,4054501,7319,"","","","Y","","","North"]
[null,"Black Horse","North",483104,4051686,9619,"","","","Y","","","North"]
[2021,"Black Horse Creek",{"$f":"C21","v":"North"},{"$f":"D21","v":483104},4051686,9619,"","","","Y","","","North","Renamed from Black Horse"]
[2021,"Black Horse Mine","North",482367.65720000002,4052309.574,10750,null,null,"","Y","Y",null,"North"]
[null,"Black Jacks","North",496177,4047265,8211,"","","","Y","","","North"]
[null,"Black Mountain","South",491634,4033045,8991,"","","Y","","","","South"]
[2022,"Bluestem","North",495101.6764,4051329.0962,7495,null,null,"","Y","Y",null,"North"]
[null,"Bonita Cow","South",null,null,9120,"","","","Y","","","South"]
[null,"Buck Creek","South",488296,4029577,9131,"","","","Y","","","South"]
[null,"Camping HQ",{"$f":"C14","v":"Central"},{"$f":"D14","v":503848},4034364,6696,"","","","Y","","","South","Same as BASE"]
[null,"Campos Heck","North",502454,4047467,7081,"","","","Y","","","North"]
[null,"Carson Meadows","South",497851,4024826,7758,"","","Y","","","","South"]
[null,"Cathedral Rock","Central",495619,4037883,7550,"","","","Y","","","South"]
[null,"Chase Canyon","North",503643,4053267,7192,"","","","Y","","","North"]
[2019,"Chase Cow","North",504488.58,4052426.91,7177,null,null,"Y","","",null,"North"]
[null,"Chase Ranch","North",506771,4045397,6552,"","","Y","","Y","","North"]
[null,"Cimarron River","Central",494007,4046488,7282,"","","","Y","","","South"]
[2021,"Cimarroncita","Central",492337.15110000002,4045746.6666999999,7373,null,null,"Y","","",null,"North & South"]
[null,"Cimarroncito","Central",494139,4039271,8137,"","","Y","","","Y","South"]
[null,"Clarks Fork","Central",495699,4035985.55,7515,"","","Y","","","Y","South"]
[null,"Clear Creek","Central",483477,4036332,10240,"","","Y","","","","South"]
[null,"Comanche Creek","South",485656.75,4033365.26,9600,"","","","Y","","","South"]
[null,"Comanche Peak","Central",487608,4037237,11070,"","","","Y","Y","","South"]
[null,"Cook Canyon","North",494194,4058460,7731,"","","","Y","","","North"]
[null,"Copper Park","North",481903,4055101,10530,"","","","Y","","","North"]
[null,"Cottonwood","North",500105,4056884,7373,"","","","Y","","","North"]
[2023,"Coyote Howl","North",500561.82,4054185.0869999998,7560.52,"","","","Y","","","North"]
[null,"Crags","South",494334,4024631,8058,"","","","Y","","","South"]
[null,"Crater Lake","South",495609,4028935,8398,"","","Y","","","","South"]
[null,"Crooked Creek","South",486794,4031067,9360,"","","Y","","","","South"]
[null,"Cyphers Mine","Central",489568,4037662,9302,"","","Y","","","Y","South"]
[null,"Dan Beard","North",492056,4059215,7896,"","","Y","","","","North"]
[2019,"Daves Lake","South",491347.09,4025665.43,9453,null,null,"","Y","",null,"South"]
[null,"Dean Cow","North",500102,4046769,7232,"","","Y","","","Y","North"]
[null,"Dean Cutoff","North",495546.39,4052340.91,7320,"","","","Y","","","North"]
[null,"Dean Heck","North",504413,4044305,6758,"","","","Y","","","North"]
[2019,"Dean Skyline","North",495667.97,4051680.85,7967,null,null,"","Y","Y",null,"North"]
[null,"Deer Lake","Central",497685,4040333,8280,"","","","Y","","","South"]
[null,"Deer Lake Mesa","Central",495433,4042810,8324,"","","","Y","","","South"]
[null,"Demonstration Forest","South",494670,4037285,7720,"","","","Y","Y","","South"]
[null,"Devil's Wash Basin","Central",494932,4042281,8515,"","","","Y","Y","","South"]
[2020,"Divide","South",488258.43,4036088.88,10509,null,null,"","Y","Y",null,"South"]
[null,"Elkhorn","North",492424,4051874,8496,"","","","Y","","","North"]
[null,"Ewells Park","North",484643,4053169,9373,"","","","Y","","","North"]
[null,"Fish Camp","South",490787,4026964,8564,"","","Y","","","","South"]
[null,"Flume Canyon","North",492186,4053281,7715,"","","","Y","","","North"]
[null,"French Henry","North",483471,4054519,9635,"","","Y","","","","North"]
[2019,"Garcia Cow","South",483495.8,4027944.67,9855,null,null,"Y","","",null,"South"]
[null,"Greenwood Canyon","Valle Vidal",483891.64,4061375.92,8300,"","","","Y","","","North"]
[null,"Harlan","Central",498402,4041184,7550,"","","Y","","","","South"]
[null,"Hawkeye","Central",494791,4046280,7586,"","","","Y","Y","","South"]
[null,"Head of Dean","North",489268,4051641,8754,"","","Y","","","","North"]
[2021,"Heck Meadow","South",498379.26270000002,4035918.4079,7085,null,null,"","Y","Y",null,"South"]
[null,"Hells Fire Canyon","North",506048,4049722,6837,"","","","Y","","","North"]
[2020,"Herradura","South",498970.27,4030120,7465,"","","","Y","Y","","South"]
[null,"Horse Canyon","North",494604,4057016,8128,"","","","Y","","","North"]
[null,"House Canyon","North",502969,4051149,7157,"","","","Y","","","North"]
[null,"Hunting Lodge","Central",494338,4037841,7776,"","","N","y","","","South"]
[null,"Indian Writings","North",500421,4053139,6979,"","","Y","","","Y","North"]
[null,"Iris Park","Valle Vidal",486124,4064630,8571,"","","","Y","","","North"]
[null,"Kit Carson","South",506169.3798,4024627.3322999999,6466,"","","Y","","","","South"]
[null,"Lamberts Mine","Central",490260,4037034,8957,"","","","Y","","","South"]
[2021,"Line",{"$f":"C83","v":"South"},{"$f":"D83","v":498199.67},4023525.53,8125,"","","","Y","","","South","Renamed from Line Camp"]
[null,"Line Camp","South",498199.67,4023525.53,8125,"","","","Y","","","South"]
[null,"Little Costilla","Valle Vidal",480285.29,4072995.57,10200.69,"","","","Y","","","North"]
[2019,"Little Twin","North",505391.65330000001,4049985.7826999999,7258.9650430000002,null,null,"","Y","Y",null,"North"]
[null,"Lookout Meadow","South",493728,4026401,9419,"","","","Y","","","South"]
[null,"Lost Cabins","South",487827,4026491,9205,"","","","Y","","","South"]
[null,"Lost Gap","Central",496635,4040475,8413,"","","","Y","Y","","South"]
[2019,"Lovato","South",487595.97,4023654.22,9523,null,null,"","Y","",null,"South"]
[null,"Lovers Leap","South",498474,4030533,7469,"","","","Y","","","South"]
[null,"Lower Bonito","South",493583,4027520,8962,"","","","Y","","","South"]
[null,"Lower Sawmill","Central",493143,4041628,8308,"","","","Y","","","South"]
[2021,"Magpie","South",501032.30530000001,4031514.3975,7385,null,null,"","Y","Y",null,"South"]
[null,"Martinez Springs","Central",496880,4043340,7494,"","","","Y","","","South"]
[null,"Maxwell","North",486238,4050954,8498,"","","","Y","","","North"]
[null,"McBride Canyon","North",500499,4050410,7105,"","","","Y","Y","","North"]
[null,"McCrystal Creek","Valle Vidal",486857.99619999999,4073297.6935000001,8538,"","","","Y","","","North"]
[null,"Metcalf Station","North",497635,4057295,7220,"","","Y","","","","North"]
[null,"Middle Ponil","Valle Vidal",482410,4068284,9118,"","","","Y","","","North"]
[null,"Miners Park","South",496250,4030958,7977,"Y","","Y","","","Y","South"]
[null,"Minnette Meadows","Central",492417.2,4044351,7703,"","","","Y","Y","","South"]
[null,"Miranda","North",484666,4051561,8898,"","","Y","","","","North"]
[2021,"Mistletoe","Central",493459.07990000001,4048688.4183999998,8295,null,null,"","Y","Y",null,"North & South"]
[null,"Mount Phillips","Central",486031.29960000003,4036786.3292,11650,"","","","Y","Y","","South","2023 Different spellings for same camp"]
[null,"Mt Phillips","Central",486031.29960000003,4036786.3292,11650,"","","","Y","Y","","South"]
[null,"New Dean","North",495733,4049734,7724,"","","","Y","","","North"]
[null,"North Fork Urraca","South",496228,4032333,7961,"","","","Y","","","South"]
[2019,"North Ponil","North",495945.07,4058676.11,7706,null,null,"","Y","",null,"North"]
[null,"Old Abreu","South",497636,4025768,7375,"","","","Y","","","South"]
[null,"Old Camp","Valle Vidal",null,null,null,"","","","Y","","","North"]
[null,"Olympia","South",502788,4025183,6731,"","","","Y","","","South"]
[null,"Phillips Junction","South",489389,4030051,8921,"Y","Y","Y","","","Y","South"]
[null,"Pinyon Flats","South",501236,4024353,6924,"","","","Y","","","South"]
[2023,"Placer","North",4836526.0779999997,4052601.3470000001,9483.43,"","","","Y","","","North"]
[null,"Ponderosa Park","Central",495827,4034966,8004,"","","","Y","Y","","South"]
[null,"Ponil","North",496696.54700000002,4053001.2755,7150,"Y","Y","Y","","","Y","North"]
[null,"Porcupine","South",488353,4030881,9152,"","","","Y","","","South"]
[null,"Pueblano","North",489738,4053274,8069,"","","Y","","","","North"]
[null,"Pueblano Ruins","North",487758,4053694,8359,"","","","Y","","","North"]
[2020,"Rabbit Ear","North",492496.72,4059396.86,8115,null,null,"","Y","Y",null,"North"]
[null,"Rayado","South",506169.3798,4024627.3322999999,6518,"","","","Y","","","South"]
[null,"Rayado Ridge","South",505371,4024604,6655,"","","","Y","","Y","South"]
[null,"Rayado River","South",499286,4025697,7079,"","","","Y","","","South"]
[null,"Red Hills","South",487476,4035642,10280,"","","","Y","","","South"]
[null,"Rich Cabins","Valle Vidal",489694,4058261,7728,"Y","","Y","","","","North"]
[null,"Rimrock Park","South",498366,4025625,7359,"","","","Y","Y","","South"]
[null,"Ring Place","Valle Vidal",489152,4069608,8124,"Y","","Y","","","","North"]
[2021,"Ringtail","North",487012.16409999999,4051328.0446000001,8600,null,null,"","Y","Y",null,"North"]
[null,"RMSC","South",500770,4032043,7080,"","","","Y","","","South"]
[null,"Rock Springs","Central",496880,4043340,7491,"","","","Y","","","South"]
[2019,"Saladon","South",482203.13,4032785.4142999998,9874.788998,null,null,"","Y","",null,"South"]
[null,"Santa Claus","North",491849,4049566,8438,"","","Y","","","","North"]
[null,"Sawmill","Central",490259,4041146,9193,"","","Y","","","Y","South"]
[null,"Seally Canyon","Valle Vidal",490997,4067420,8037,"","","","Y","Y","","North"]
[null,"Shaefers Pass","Central",495940,4033735,8724,"","","","Y","Y","","South"]
[null,"Shuree Cabin","Valle Vidal",480498,4070514,9647,"","","","Y","","","North"]
[null,"Shuree Lodge","Valle Vidal",482669,4069480,9277,"","","","Y","","","North"]
[null,"Sioux","North",495001,4053225,7382,"","","","Y","","","North"]
[null,"Six Mile Gate","North",503191.76,4049062.91,6710,"","","","Y","","","North"]
[null,"Slate Hill Heck","North",502409,4043124,7722,"","","","Y","Y","","North"]
[null,"Stockade","South",500015,4032275,7254,"","","","Y","","","South"]
[null,"Stockade Ridge","South",499296,4032487,7519,"","","","Y","Y","","South"]
[null,"Thunder Ridge","Central",488492.89939999999,4038824.1444999999,10490,"","","","Y","Y","","South"]
[2019,"Tolby Headwaters","South",480146.81,4038306.99,9219,null,null,"","Y","",null,"South"]
[null,"Tooth Ridge","Central",500029.67,4033924.75,8240,"","","","Y","Y","","South"]
[null,"Toothache Springs","South",500750,4028216,7870,"","","","Y","","","South"]
[2021,"Touch-Me-Not Creek","North",484936.67660000001,4050860.9983999999,8855,null,null,"","Y","",null,"North"]
[null,"Trail Canyon","North",499226,4049865,7070,"","","","Y","","","North"]
[null,"Turkey Creek","North",498097,4046582,7569,"","","","Y","","","North"]
[null,"Upper Bench","Central",494832,4043955,8161,"","","","Y","Y","","South"]
[null,"Upper Clarks Fork","Central",495583,4034947,7902,"","","","Y","Y","","South"]
[null,"Upper Dean Cow","North",492036,4050785,8254,"","","","Y","","","North"]
[null,"Upper Greenwood","Valle Vidal",479874.12530000001,4056510.7667999999,10262.665999999999,"","","","Y","","","North"]
[null,"Upper Sawmill","Central",491866.71,4041590,8611,"","","","Y","","","South"]
[2022,"Upper Webster Park","Central",492935.53470000002,4039576.3048999999,8764,null,null,"","Y","",null,"South","2023 Combined Upper & Lower Webster Parks"]
[null,"Urraca","South",500851,4029314,7968,"","","Y","","","","South"]
[null,"Ute Gulch","Central",494653,4041249,7866,"Y","Y","Y","","","","South"]
[null,"Ute Meadows","North",483892,4052643,9164,"","","","Y","","","North"]
[null,"Ute Park Pass","Central",493784,4042291,8258,"","","","Y","","","South"]
[null,"Ute Springs","Central",495177,4040114,7689,"","","","Y","","","South"]
[null,"Vaca","Central",499148,4041252,7415,"","","","Y","","","South"]
[null,"Visto Grande","Central",493983,4045668,7782,"","","","Y","","","South"]
[null,"Webster Lake","Central",497835,4037406,7122,"","","","Y","","","South"]
[null,"Webster Parks","Central",492939.82,4039509.952,8611.1200000000008,"","","","Y","Y","","South","2023 Combined Upper & Lower Webster Parks"]
[null,"Whistle Punk","Central",489586.4,4039243.3,10052,"","","","Y","","","South"]
[null,"Whiteman Vega","Valle Vidal",490820,4072011,8061,"","","Y","","","","North"]
[null,"Wild Horse","South",484174,4032864,10420,"","","","Y","","","South"]
[2019,"Wild Horse Park","South",481273.93,4030849.05,9883,null,null,"","Y","",null,"North"]
[null,"Window Rock","Central",null,null,8312,"","","","Y","Y","","South"]
[null,"Zastrow","South",500378,4025857,6946,"Y","","Y","","","Y","South"]
[null,null,null,"NOTE:  Coordinates/elevations  from 2017 Philmont's 2017 UTM.xlsm file.  These do not agree with Philmont's .kmz Google Earth file."]

{"sheet":"UteParkPassAlternatives","index":18,"n_rows":40,"n_cols":9,"rows_kept":40,"cut":false,"hidden":true,"merged":[[1,6,13,6],[14,6,26,6],[27,6,39,6]]}
["Itinerary","Day","Plan A\n(Original Itinerary)","Plan B\n(Delay)","Plan C\n(Change Direction)","Plan D\n(Alternate Itinerary)",null,null,"Note:  Line Return will be removed for uppPlans form selection"]
["12-29",1,"BASE","BASE","BASE","BASE","Southbound"]
["12-29",2,{"$f":"INDEX(campsByItinerary,RIGHT($A3,LEN($A3)-3),$B3-1)","v":"Bluestem"},"Bluestem","Bluestem","Bluestem"]
["12-29",3,{"$f":"INDEX(campsByItinerary,RIGHT($A4,LEN($A4)-3),$B4-1)","v":"Pueblano Ruins"},"Pueblano Ruins","Pueblano Ruins","Pueblano Ruins"]
["12-29",4,{"$f":"INDEX(campsByItinerary,RIGHT($A5,LEN($A5)-3),$B5-1)","v":"Baldy Town"},"Baldy Town","Baldy Town","Baldy Town"]
["12-29",5,{"$f":"INDEX(campsByItinerary,RIGHT($A6,LEN($A6)-3),$B6-1)","v":"Baldy Town"},"Baldy Town","Baldy Town","Baldy Town"]
["12-29",6,{"$f":"INDEX(campsByItinerary,RIGHT($A7,LEN($A7)-3),$B7-1)","v":"Mistletoe"},"Mistletoe","Mistletoe","Mistletoe"]
["12-29",7,{"$f":"INDEX(campsByItinerary,RIGHT($A8,LEN($A8)-3),$B8-1)","v":"Cimarroncita"},"Cimarroncita","Cimarroncita","Cimarroncita"]
["12-29",8,{"$f":"INDEX(campsByItinerary,RIGHT($A9,LEN($A9)-3),$B9-1)","v":"Whistle Punk"},"Cimarroncita","Cimarroncita","New Dean"]
["12-29",9,{"$f":"INDEX(campsByItinerary,RIGHT($A10,LEN($A10)-3),$B10-1)","v":"Red Hills"},"Sawmill","Upper Dean Cow","Pueblano"]
["12-29",10,{"$f":"INDEX(campsByItinerary,RIGHT($A11,LEN($A11)-3),$B11-1)","v":"Beaubien"},"Lamberts Mine","Rich Cabins","Rich Cabins"]
["12-29",11,{"$f":"INDEX(campsByItinerary,RIGHT($A12,LEN($A12)-3),$B12-1)","v":"Shaefers Pass"},"Shaefers Pass","Ponil","Ponil"]
["12-29",12,"BASE","BASE","BASE","BASE"]
["12-29","Return","Hike In","Hike In","Hike In","Hike In"]
["12-30",1,"BASE","BASE","BASE","BASE","Northbound"]
["12-30",2,{"$f":"INDEX(campsByItinerary,RIGHT($A16,LEN($A16)-3),$B16-1)","v":"Bluestem"},"Heck Meadow","Heck Meadow","Heck Meadow"]
["12-30",3,{"$f":"INDEX(campsByItinerary,RIGHT($A17,LEN($A17)-3),$B17-1)","v":"Pueblano"},"Clarks Fork","Clarks Fork","Clarks Fork"]
["12-30",4,{"$f":"INDEX(campsByItinerary,RIGHT($A18,LEN($A18)-3),$B18-1)","v":"Azurite"},"Clarks Fork","Clarks Fork","Clarks Fork"]
["12-30",5,{"$f":"INDEX(campsByItinerary,RIGHT($A19,LEN($A19)-3),$B19-1)","v":"Greenwood Canyon"},"Lamberts Mine","Lamberts Mine","Lamberts Mine"]
["12-30",6,{"$f":"INDEX(campsByItinerary,RIGHT($A20,LEN($A20)-3),$B20-1)","v":"Little Costilla"},"Sawmill","Sawmill","Sawmill"]
["12-30",7,{"$f":"INDEX(campsByItinerary,RIGHT($A21,LEN($A21)-3),$B21-1)","v":"Little Costilla"},"Sawmill","Sawmill","Mt Phillips"]
["12-30",8,{"$f":"INDEX(campsByItinerary,RIGHT($A22,LEN($A22)-3),$B22-1)","v":"Ring Place"},"Cimarroncita","Mt Phillips","Crooked Creek"]
["12-30",9,{"$f":"INDEX(campsByItinerary,RIGHT($A23,LEN($A23)-3),$B23-1)","v":"Dan Beard"},"Santa Claus","Fish Camp","Fish Camp"]
["12-30",10,{"$f":"INDEX(campsByItinerary,RIGHT($A24,LEN($A24)-3),$B24-1)","v":"Coyote Howl"},"Ewells Park","Crater Lake","Crater Lake"]
["12-30",11,{"$f":"INDEX(campsByItinerary,RIGHT($A25,LEN($A25)-3),$B25-1)","v":"Chase Cow"},"Ewells Park","Rimrock Park","Rimrock Park"]
["12-30",12,"BASE","BASE","BASE","BASE"]
["12-30","Return","Hike In","Hike In","Hike In","Hike In"]
["12-32",1,"BASE","BASE","BASE","BASE","Southbound"]
["12-32",2,{"$f":"INDEX(campsByItinerary,RIGHT($A29,LEN($A29)-3),$B29-1)","v":"McBride Canyon"},"Sioux","Sioux","Sioux"]
["12-32",3,{"$f":"INDEX(campsByItinerary,RIGHT($A30,LEN($A30)-3),$B30-1)","v":"Metcalf Station"},"Rich Cabins","Rich Cabins","Rich Cabins"]
["12-32",4,{"$f":"INDEX(campsByItinerary,RIGHT($A31,LEN($A31)-3),$B31-1)","v":"Sioux"},"Head of Dean","Head of Dean","Head of Dean"]
["12-32",5,{"$f":"INDEX(campsByItinerary,RIGHT($A32,LEN($A32)-3),$B32-1)","v":"Pueblano"},"Copper Park","Copper Park","Copper Park"]
["12-32",6,{"$f":"INDEX(campsByItinerary,RIGHT($A33,LEN($A33)-3),$B33-1)","v":"Maxwell"},"Copper Park","Copper Park","Copper Park"]
["12-32",7,{"$f":"INDEX(campsByItinerary,RIGHT($A34,LEN($A34)-3),$B34-1)","v":"Maxwell"},"Santa Claus","Santa Claus","Santa Claus"]
["12-32",8,{"$f":"INDEX(campsByItinerary,RIGHT($A35,LEN($A35)-3),$B35-1)","v":"Black Jacks"},"Cimarroncita","Cimarroncita","Cimarroncita"]
["12-32",9,{"$f":"INDEX(campsByItinerary,RIGHT($A36,LEN($A36)-3),$B36-1)","v":"Harlan"},"Cimarroncita","Cimarroncita","Santa Claus"]
["12-32",10,{"$f":"INDEX(campsByItinerary,RIGHT($A37,LEN($A37)-3),$B37-1)","v":"Hunting Lodge"},"Cimarroncito","Miranda","Miranda"]
["12-32",11,{"$f":"INDEX(campsByItinerary,RIGHT($A38,LEN($A38)-3),$B38-1)","v":"Ponderosa Park"},"Clarks Fork","Miranda","Miranda"]
["12-32",12,"BASE","BASE","BASE","BASE"]
["12-32","Return","Ponil","Ponil","Ponil","Ponil"]